{"text_format":"1","workbook":"xlsx","n_sheets":7,"sheets":["Introduction","Design Inputs","Design","Gran","ATB","CTB","AC"],"not_rendered":{"charts":0,"images":2,"macros":1,"external_links":0,"defined_names":33,"comments":0,"pivot_tables":0},"unopened":[],"bounds":{"document_bytes":16777216,"sheet_cells":100000,"rows_first":2000,"rows_last":500,"rows_between":2000,"halvings":0,"cell_chars":16384,"cell_head_chars":4096},"cells_cut":0,"cells_raw":0,"read":"whole","date_system":"1900"}

{"sheet":"Introduction","index":0,"n_rows":21,"n_cols":1,"rows_kept":21,"cut":false,"hidden":false,"merged":[[5,0,5,6],[6,0,6,6],[10,0,10,6],[16,0,16,6],[20,0,20,6]]}
[]
[]
[]
[]
[]
["Interlocking Concrete Pavement Design Chart"]
["2011-02-11"]
[]
["Purpose:"]
[]
["The purpose of this worksheet is to estimate the adequate pavement design structures.  Designs are based on factors such as traffic, subgrade, relaibility, and service life expectations.  This spreadsheet is designed to work with ASCE 58-10:  Structural Design of Interlocking Concrete Pavement for Municipal Streets and Roadways."]
["www.asce.org"]
["ASCE 58-10: Structural Design of Interlocking Concrete Pavement for Municipal Streets and Roadways"]
[]
["Use of Macros:"]
[]
["This spreadsheet uses embedded macros to help solve iterative design equations.  If prompted, it is necessary to enable the macros within this spreadsheet."]
[]
["License Information:"]
[]
["All software and computer program specifications, documentation, procedure manuals,\ndisks and tapes utilized, processed or developed by ARA in connection with this Agreement\nshall be and remain the exclusive and confidential property of ARA, or of third parties\nfrom whom ARA has secured the right to use.\n\nARA grants Licencee a nonexclusive, nontransferable Licence to use the software contained\nin this package.  Licencee owns the media on which the software is loaded, but ARA retains\ntitle to the software and related documentation.\n\nFrom the date of receipt, Licencee agrees to use its best efforts to protect the Software\nand Related Materials from unauthorized use, reproduction, distribution, or publication."]

{"sheet":"Design Inputs","index":1,"n_rows":37,"n_cols":9,"rows_kept":37,"cut":false,"hidden":false,"merged":[[27,4,27,6],[7,0,7,1],[2,0,2,1],[3,0,3,1],[4,0,4,1],[5,0,5,1],[6,0,6,1],[27,2,28,2],[27,3,28,3],[9,0,9,1],[10,0,13,0],[14,0,14,1],[27,0,28,0],[27,1,28,1]]}
["Design Information"]
[null,null,null,null,null,"Design Assistant"]
["Design Life (years)",null,20]
["Initial Serviceability",null,4.2,null,null,"ESALs",5000000]
["Terminal Serviceability",null,2.5,null,null,"Subgrade Classification","GM, SM",{"$f":"VLOOKUP(G5,$B$30:$H$37,7,FALSE)","v":4}]
["Reliability",null,0.75,null,null,"Subgrade Conditions","Fair"]
["ZR",null,{"$f":"-NORMSINV(C6)","v":-0.67448975019608193},null,null,null,{"$f":"IF(G8=B11,\"Gran\",IF(G8=B12,\"ATB\",IF(G8=B13,\"CTB\",IF(G8=B14,\"AC\",\"Error\"))))","v":"Gran"},"Subgrade Type","Traffic"]
["Standard Deviation",null,0.45,null,null,"Base Type","Unbound Dense Graded Base",{"$f":"CONCATENATE(G7,\"!$A$6:$A$\",IF(OR(G8=B11,G8=B14),77,101))","v":"Gran!$A$6:$A$77"},{"$f":"CONCATENATE(G7,\"!\",\"$F$3:$O$3\")","v":"Gran!$F$3:$O$3"}]
[null,null,"Layer Coefficient","Thickness (in)"]
["Pavers and Bedding",null,0.44,4.125,null,"Recommended Design"]
["Base","Unbound Dense Graded Base",0.14000000000000001,6]
[null,"Asphalt Treated Base",0.28000000000000003,4,null,"Pavers and Bedding",{"$f":"SUM(IF(F12=OFFSET(INDIRECT($H$8),0,4),IF('Design Inputs'!$G$6=OFFSET(INDIRECT($H$8),0,1),IF('Design Inputs'!$H$5=INDIRECT($H$8),IF('Design Inputs'!$G$4=INDIRECT($I$8),OFFSET(INDIRECT($H$8),0,5,,10))))))","v":4.125}]
[null,"Cement Treated Base",0.2,4,null,{"$f":"G8","v":"Unbound Dense Graded Base"},{"$f":"SUM(IF(F13=OFFSET(INDIRECT($H$8),0,4),IF('Design Inputs'!$G$6=OFFSET(INDIRECT($H$8),0,1),IF('Design Inputs'!$H$5=INDIRECT($H$8),IF('Design Inputs'!$G$4=INDIRECT($I$8),OFFSET(INDIRECT($H$8),0,5,,10))))))","v":6}]
[null,"Asphalt Concrete Base",0.42,2,null,{"$f":"IF(OR($G$8=$B$12,$G$8=$B$13),B11,IF(G8=B14,B11,A15))","v":"Unbound Dense Graded Subbase"},{"$f":"SUM(IF(F14=OFFSET(INDIRECT($H$8),0,4),IF('Design Inputs'!$G$6=OFFSET(INDIRECT($H$8),0,1),IF('Design Inputs'!$H$5=INDIRECT($H$8),IF('Design Inputs'!$G$4=INDIRECT($I$8),OFFSET(INDIRECT($H$8),0,5,,10))))))","v":23}]
["Unbound Dense Graded Subbase",null,0.09,null,null,{"$f":"IF(OR($G$8=$B$12,$G$8=$B$13),$A$15,\"\")","v":""},{"$f":"SUM(IF(F15=OFFSET(INDIRECT($H$8),0,4),IF('Design Inputs'!$G$6=OFFSET(INDIRECT($H$8),0,1),IF('Design Inputs'!$H$5=INDIRECT($H$8),IF('Design Inputs'!$G$4=INDIRECT($I$8),OFFSET(INDIRECT($H$8),0,5,,10))))))","v":0}]
[]
["Traffic Estimates"]
["AADT","Functional Category","Percent Commercial","# Lanes","Estimated ESALs","Total ESALs"]
[500,"Local",5.0000000000000001E-3,2,{"$f":"182.5*A19*C19*1.15*(1.57-0.083*LOG(A19/2))","v":719.33133569109089},{"$f":"E19*$C$3","v":14386.626713821817}]
[1000,"Local",0.01,2,2824.8870463821818,{"$f":"E20*$C$3","v":56497.740927643637}]
[5000,"Local",0.01,2,13515.645463821818,270312.90927643637]
[10000,"Minor Arterial/Collector",0.03,2,79520.723891465444,1590414.4778293089]
[15000,"Major Arterial/Collector",0.05,2,196501.22695476777,3930024.5390953552]
[20000,"Principal Arterial",0.05,2,259825.24999999997,5196504.9999999991]
[40000,"Principal Arterial",0.05,2,509162.84072356363,10183256.814471273]
[]
["Subgrade Support"]
["Category No.","Classification","Drainage Characteristics","Susceptibility to Frost Action","Resilient Modulus (MR) for Typical Subgrade Conditions (psi)"]
[null,null,null,null,"Good","Fair","Poor"]
[1,"Boulders/coubbles","Excellent","None",12000,11000,10000,1]
[2,"GW, SW","Excellent","Negligible",11000,10000,7000,2]
[3,"GP, SP","Excellent to fair","Negligible to slight",10000,8000,5000,3]
[4,"GM, SM","Fair to semi-impervious","Slight to moderate",8000,5000,4500,4]
[5,"GC, SC","Practically impervious","Negligible to slight",6000,4500,3500,5]
[6,"ML, MI","Typically poor","Severe",5000,3500,2500,6]
[7,"CL, MH","Practically impervious","Slight to severe",4000,3000,2000,7]
[8,"CI, CH","Semi-impervious to impervious","Negligible to severe",3500,3000,2000,8]

{"sheet":"Design","index":2,"n_rows":117,"n_cols":104,"rows_kept":117,"cut":false,"hidden":false,"merged":[[91,0,92,0],[91,1,92,1],[91,2,92,2],[31,0,32,0],[31,1,32,1],[31,2,32,2],[61,0,62,0],[61,1,62,1],[61,2,62,2],[1,1,2,1],[1,0,2,0],[1,2,2,2],[1,13,1,22],[1,3,1,12],[1,23,1,32],[1,33,1,42],[1,43,1,52],[1,53,1,62],[91,3,91,12],[31,3,31,12],[61,3,61,12],[91,53,91,62],[91,33,91,42],[61,33,61,42],[61,43,61,52],[61,53,61,62],[91,43,91,52],[91,23,91,32],[61,23,61,32],[31,13,31,22],[61,13,61,22],[91,13,91,22],[31,23,31,32],[31,73,31,82],[61,63,61,72],[61,73,61,82],[31,33,31,42],[31,43,31,52],[31,63,31,72],[31,53,31,62]]}
["Granular Base"]
["Subgrade Category","Drainage","Mr (psi)","Design SN (in)",null,null,null,null,null,null,null,null,null,"Paver Thickness (in)",null,null,null,null,null,null,null,null,null,"SN Remaining (Excluding Pavers)",null,null,null,null,null,null,null,null,null,"Unbound Dense Graded Base Thickness (in)",null,null,null,null,null,null,null,null,null,"SN Remaining (excluding Pavers and Base)",null,null,null,null,null,null,null,null,null,"Unbound Dense Graded Subbase Thickness (in)"]
[null,null,null,10000,20000,50000,100000,200000,500000,1000000,2000000,5000000,10000000,10000,20000,50000,100000,200000,500000,1000000,2000000,5000000,10000000,10000,20000,50000,100000,200000,500000,1000000,2000000,5000000,10000000,10000,20000,50000,100000,200000,500000,1000000,2000000,5000000,10000000,10000,20000,50000,100000,200000,500000,1000000,2000000,5000000,10000000,10000,20000,50000,100000,200000,500000,1000000,2000000,5000000,10000000]
[1,"Good",{"$f":"SUM(IF($A4='Design Inputs'!$A$30:$A$37,IF(Design!$B4=SubgradeConditions,'Design Inputs'!$E$30:$G$37)))","v":12000},{"$f":"snreq(D$3,Reliability,S0,$C4,PSIi-PSIt)","v":1.1541380000000001},1.3222959999999999,1.566929,1.7715179999999999,1.995749,2.3284400000000001,2.6132810000000002,2.932134,3.411794,3.8182109999999998,{"$f":"ThickPaver","v":4.125},4.125,4.125,4.125,4.125,4.125,4.125,4.125,4.125,4.125,{"$f":"MAX(0,D4-N4*Apaver)","v":0},{"$f":"MAX(0,E4-O4*Apaver)","v":0},{"$f":"MAX(0,F4-P4*Apaver)","v":0},{"$f":"MAX(0,G4-Q4*Apaver)","v":0},{"$f":"MAX(0,H4-R4*Apaver)","v":0.18074900000000005},{"$f":"MAX(0,I4-S4*Apaver)","v":0.51344000000000012},{"$f":"MAX(0,J4-T4*Apaver)","v":0.79828100000000024},{"$f":"MAX(0,K4-U4*Apaver)","v":1.1171340000000001},{"$f":"MAX(0,L4-V4*Apaver)","v":1.596794},{"$f":"MAX(0,M4-W4*Apaver)","v":2.0032109999999999},4,4,4,4,4,{"$f":"IF(AC4<6*Agran,6,IF(AC4>8*Agran,6,ROUNDUP(AC4/Agran/1,0)*1))","v":6},{"$f":"IF(AD4<6*Agran,6,IF(AD4>8*Agran,6,ROUNDUP(AD4/Agran/1,0)*1))","v":6},{"$f":"IF(AE4<6*Agran,6,IF(AE4>8*Agran,6,ROUNDUP(AE4/Agran/1,0)*1))","v":8},{"$f":"IF(AF4<6*Agran,6,IF(AF4>8*Agran,6,ROUNDUP(AF4/Agran/1,0)*1))","v":6},{"$f":"IF(AG4<6*Agran,6,IF(AG4>8*Agran,6,ROUNDUP(AG4/Agran/1,0)*1))","v":6},{"$f":"MAX(0,X4-AH4*Agran)","v":0},{"$f":"MAX(0,Y4-AI4*Agran)","v":0},{"$f":"MAX(0,Z4-AJ4*Agran)","v":0},{"$f":"MAX(0,AA4-AK4*Agran)","v":0},{"$f":"MAX(0,AB4-AL4*Agran)","v":0},{"$f":"MAX(0,AC4-AM4*Agran)","v":0},{"$f":"MAX(0,AD4-AN4*Agran)","v":0},{"$f":"MAX(0,AE4-AO4*Agran)","v":0},{"$f":"MAX(0,AF4-AP4*Agran)","v":0.75679399999999997},{"$f":"MAX(0,AG4-AQ4*Agran)","v":1.1632109999999998},{"$f":"IF(AR4<=0,0,MAX(6,ROUNDUP(AR4/Asubbase/1,0)*1))","v":0},{"$f":"IF(AS4<=0,0,MAX(6,ROUNDUP(AS4/Asubbase/1,0)*1))","v":0},{"$f":"IF(AT4<=0,0,MAX(6,ROUNDUP(AT4/Asubbase/1,0)*1))","v":0},{"$f":"IF(AU4<=0,0,MAX(6,ROUNDUP(AU4/Asubbase/1,0)*1))","v":0},{"$f":"IF(AV4<=0,0,MAX(6,ROUNDUP(AV4/Asubbase/1,0)*1))","v":0},{"$f":"IF(AW4<=0,0,MAX(6,ROUNDUP(AW4/Asubbase/1,0)*1))","v":0},{"$f":"IF(AX4<=0,0,MAX(6,ROUNDUP(AX4/Asubbase/1,0)*1))","v":0},{"$f":"IF(AY4<=0,0,MAX(6,ROUNDUP(AY4/Asubbase/1,0)*1))","v":0},{"$f":"IF(AZ4<=0,0,MAX(6,ROUNDUP(AZ4/Asubbase/1,0)*1))","v":9},{"$f":"IF(BA4<=0,0,MAX(6,ROUNDUP(BA4/Asubbase/1,0)*1))","v":13},null,null,null,null,null,null,null,null,null,null,null,null,null,null,null,null,null,null,null,null,null,{"$f":"N4*Apaver+AH4*Agran+BB4*Asubbase","v":2.375},{"$f":"O4*Apaver+AI4*Agran+BC4*Asubbase","v":2.375},{"$f":"P4*Apaver+AJ4*Agran+BD4*Asubbase","v":2.375},{"$f":"Q4*Apaver+AK4*Agran+BE4*Asubbase","v":2.375},{"$f":"R4*Apaver+AL4*Agran+BF4*Asubbase","v":2.375},{"$f":"S4*Apaver+AM4*Agran+BG4*Asubbase","v":2.6550000000000002},{"$f":"T4*Apaver+AN4*Agran+BH4*Asubbase","v":2.6550000000000002},{"$f":"U4*Apaver+AO4*Agran+BI4*Asubbase","v":2.9350000000000001},{"$f":"V4*Apaver+AP4*Agran+BJ4*Asubbase","v":3.4650000000000003},{"$f":"W4*Apaver+AQ4*Agran+BK4*Asubbase","v":3.8250000000000002},{"$f":"(CG4)/D4","v":2.0578128438713565},{"$f":"(CH4)/E4","v":1.796118267014345},{"$f":"(CI4)/F4","v":1.5157036470701608},{"$f":"(CJ4)/G4","v":1.3406581248398266},{"$f":"(CK4)/H4","v":1.1900294075056532},{"$f":"(CL4)/I4","v":1.1402484066585354},{"$f":"(CM4)/J4","v":1.0159642227529302},{"$f":"(CN4)/K4","v":1.0009774450963018},{"$f":"(CO4)/L4","v":1.0155947281694031},{"$f":"(CP4)/M4","v":1.0017780578391295}]
[1,"Fair",{"$f":"SUM(IF($A5='Design Inputs'!$A$30:$A$37,IF(Design!$B5=SubgradeConditions,'Design Inputs'!$E$30:$G$37)))","v":11000},1.201722,1.3738710000000001,1.6246499999999999,1.834625,2.065242,2.408172,2.7024409999999999,3.0320149999999999,3.5264509999999998,3.9429789999999998,4.125,4.125,4.125,4.125,4.125,4.125,4.125,4.125,4.125,4.125,0,0,0,1.9625000000000004E-2,0.25024200000000008,0.59317200000000003,0.88744099999999992,1.217015,1.7114509999999998,2.1279789999999998,4,4,4,4,4,6,7,6,6,6,0,0,0,0,0,0,0,0.37701499999999988,0.87145099999999975,1.2879789999999998,0,0,0,0,0,0,0,6,10,15,null,null,null,null,null,null,null,null,null,null,null,null,null,null,null,null,null,null,null,null,null,2.375,2.375,2.375,2.375,2.375,2.6550000000000002,2.7949999999999999,3.1950000000000003,3.5550000000000002,4.0049999999999999,{"$f":"(CG5)/D5","v":1.9763306322094463},1.7286921406740516,1.461853322254024,1.2945424814335356,1.1499862970053873,1.1024960011161995,1.03425014644168,1.0537546812928038,1.0080956746598777,1.0157294776360717]
[1,"Poor",{"$f":"SUM(IF($A6='Design Inputs'!$A$30:$A$37,IF(Design!$B6=SubgradeConditions,'Design Inputs'!$E$30:$G$37)))","v":10000},1.255134,1.431845,1.689594,1.905778,2.143707,2.4984730000000002,2.8035380000000001,3.1451500000000001,3.6556039999999999,4.0826750000000001,4.125,4.125,4.125,4.125,4.125,4.125,4.125,4.125,4.125,4.125,0,0,0,9.0778000000000025E-2,0.32870700000000008,0.68347300000000022,0.98853800000000014,1.3301500000000002,1.8406039999999999,2.2676750000000001,4,4,4,4,4,6,8,6,6,6,0,0,0,0,0,0,0,0.49015000000000009,1.0006039999999998,1.427675,0,0,0,0,0,0,0,6,12,16,null,null,null,null,null,null,null,null,null,null,null,null,null,null,null,null,null,null,null,null,null,2.375,2.375,2.375,2.375,2.375,2.6550000000000002,2.9350000000000001,3.1950000000000003,3.7350000000000003,4.0950000000000006,1.8922282401719657,1.658699091032898,1.40566313564087,1.2462102091639216,1.1078939425957,1.0626490660495431,1.0468914635721007,1.0158498004864633,1.0217189826906854,1.0030188540601446]
[2,"Good",{"$f":"SUM(IF($A7='Design Inputs'!$A$30:$A$37,IF(Design!$B7=SubgradeConditions,'Design Inputs'!$E$30:$G$37)))","v":11000},1.201722,1.3738710000000001,1.6246499999999999,1.834625,2.065242,2.408172,2.7024409999999999,3.0320149999999999,3.5264509999999998,3.9429789999999998,4.125,4.125,4.125,4.125,4.125,4.125,4.125,4.125,4.125,4.125,0,0,0,1.9625000000000004E-2,0.25024200000000008,0.59317200000000003,0.88744099999999992,1.217015,1.7114509999999998,2.1279789999999998,4,4,4,4,4,6,7,6,6,6,0,0,0,0,0,0,0,0.37701499999999988,0.87145099999999975,1.2879789999999998,0,0,0,0,0,0,0,6,10,15,null,null,null,null,null,null,null,null,null,null,null,null,null,null,null,null,null,null,null,null,null,2.375,2.375,2.375,2.375,2.375,2.6550000000000002,2.7949999999999999,3.1950000000000003,3.5550000000000002,4.0049999999999999,1.9763306322094463,1.7286921406740516,1.461853322254024,1.2945424814335356,1.1499862970053873,1.1024960011161995,1.03425014644168,1.0537546812928038,1.0080956746598777,1.0157294776360717]
[2,"Fair",{"$f":"SUM(IF($A8='Design Inputs'!$A$30:$A$37,IF(Design!$B8=SubgradeConditions,'Design Inputs'!$E$30:$G$37)))","v":10000},1.255134,1.431845,1.689594,1.905778,2.143707,2.4984730000000002,2.8035380000000001,3.1451500000000001,3.6556039999999999,4.0826750000000001,4.125,4.125,4.125,4.125,4.125,4.125,4.125,4.125,4.125,4.125,0,0,0,9.0778000000000025E-2,0.32870700000000008,0.68347300000000022,0.98853800000000014,1.3301500000000002,1.8406039999999999,2.2676750000000001,4,4,4,4,4,6,8,6,6,6,0,0,0,0,0,0,0,0.49015000000000009,1.0006039999999998,1.427675,0,0,0,0,0,0,0,6,12,16,null,null,null,null,null,null,null,null,null,null,null,null,null,null,null,null,null,null,null,null,null,2.375,2.375,2.375,2.375,2.375,2.6550000000000002,2.9350000000000001,3.1950000000000003,3.7350000000000003,4.0950000000000006,1.8922282401719657,1.658699091032898,1.40566313564087,1.2462102091639216,1.1078939425957,1.0626490660495431,1.0468914635721007,1.0158498004864633,1.0217189826906854,1.0030188540601446]
[2,"Poor",{"$f":"SUM(IF($A9='Design Inputs'!$A$30:$A$37,IF(Design!$B9=SubgradeConditions,'Design Inputs'!$E$30:$G$37)))","v":7000},1.4678340000000001,1.6632990000000001,1.950105,2.192672,2.4618250000000002,2.8667720000000001,3.2158350000000002,3.603294,4.169022,4.631094,4.125,4.125,4.125,4.125,4.125,4.125,4.125,4.125,4.125,4.125,0,0,0.13510500000000003,0.37767200000000001,0.64682500000000021,1.0517720000000002,1.4008350000000003,1.7882940000000001,2.3540220000000001,2.8160940000000001,4,4,4,4,4,8,6,6,6,6,0,0,0,0,8.6825000000000152E-2,0,0.56083500000000019,0.94829399999999997,1.514022,1.976094,0,0,0,0,6,0,7,11,17,22,null,null,null,null,null,null,null,null,null,null,null,null,null,null,null,null,null,null,null,null,null,2.375,2.375,2.375,2.375,2.915,2.9350000000000001,3.2850000000000001,3.6450000000000005,4.1850000000000005,4.6349999999999998,1.6180303767319737,1.4278851848044158,1.217883139625815,1.0831533398520161,1.1840809155809207,1.0237995906196935,1.0215076333207393,1.0115744094153851,1.0038325535341384,1.0008434292199639]
[3,"Good",{"$f":"SUM(IF($A10='Design Inputs'!$A$30:$A$37,IF(Design!$B10=SubgradeConditions,'Design Inputs'!$E$30:$G$37)))","v":10000},1.255134,1.431845,1.689594,1.905778,2.143707,2.4984730000000002,2.8035380000000001,3.1451500000000001,3.6556039999999999,4.0826750000000001,4.125,4.125,4.125,4.125,4.125,4.125,4.125,4.125,4.125,4.125,0,0,0,9.0778000000000025E-2,0.32870700000000008,0.68347300000000022,0.98853800000000014,1.3301500000000002,1.8406039999999999,2.2676750000000001,4,4,4,4,4,6,8,6,6,6,0,0,0,0,0,0,0,0.49015000000000009,1.0006039999999998,1.427675,0,0,0,0,0,0,0,6,12,16,null,null,null,null,null,null,null,null,null,null,null,null,null,null,null,null,null,null,null,null,null,2.375,2.375,2.375,2.375,2.375,2.6550000000000002,2.9350000000000001,3.1950000000000003,3.7350000000000003,4.0950000000000006,1.8922282401719657,1.658699091032898,1.40566313564087,1.2462102091639216,1.1078939425957,1.0626490660495431,1.0468914635721007,1.0158498004864633,1.0217189826906854,1.0030188540601446]
[3,"Fair",{"$f":"SUM(IF($A11='Design Inputs'!$A$30:$A$37,IF(Design!$B11=SubgradeConditions,'Design Inputs'!$E$30:$G$37)))","v":8000},1.3857189999999999,1.5738350000000001,1.8491340000000001,2.0812339999999998,2.3379439999999998,2.7230210000000001,3.0550519999999999,3.4254799999999999,3.9715669999999998,4.421246,4.125,4.125,4.125,4.125,4.125,4.125,4.125,4.125,4.125,4.125,0,0,3.4134000000000109E-2,0.26623399999999986,0.52294399999999985,0.90802100000000019,1.2400519999999999,1.6104799999999999,2.1565669999999999,2.6062460000000001,4,4,4,4,4,7,6,6,6,6,0,0,0,0,0,0,0.40005199999999985,0.77047999999999983,1.3165669999999998,1.766246,0,0,0,0,0,0,6,9,15,20,null,null,null,null,null,null,null,null,null,null,null,null,null,null,null,null,null,null,null,null,null,2.375,2.375,2.375,2.375,2.375,2.7949999999999999,3.1950000000000003,3.4650000000000003,4.0049999999999999,4.4550000000000001,1.7139116949395947,1.509052727890789,1.284385014823155,1.1411499139452845,1.0158498236056981,1.0264335089593506,1.0458087129122517,1.0115370692574472,1.0084180878731241,1.0076344994148709]
[3,"Poor",{"$f":"SUM(IF($A12='Design Inputs'!$A$30:$A$37,IF(Design!$B12=SubgradeConditions,'Design Inputs'!$E$30:$G$37)))","v":5000},1.6892130000000001,1.9053340000000001,2.2250619999999999,2.4979399999999998,2.802905,3.262645,3.6548180000000001,4.0818139999999996,4.6912859999999998,5.1829850000000004,4.125,4.125,4.125,4.125,4.125,4.125,4.125,4.125,4.125,4.125,0,9.0334000000000136E-2,0.41006199999999993,0.68293999999999988,0.98790500000000003,1.4476450000000001,1.8398180000000002,2.2668139999999997,2.8762859999999999,3.3679850000000005,4,4,4,4,4,6,6,6,6,6,0,0,0,0.12293999999999983,0.42790499999999998,0.60764499999999999,0.9998180000000001,1.4268139999999996,2.0362859999999996,2.5279850000000001,0,0,0,6,6,7,12,16,23,29,null,null,null,null,null,null,null,null,null,null,null,null,null,null,null,null,null,null,null,null,null,2.375,2.375,2.375,2.915,2.915,3.2850000000000001,3.7350000000000003,4.0950000000000006,4.7249999999999996,5.2650000000000006,1.4059801813033643,1.2465006135407231,1.067385987446642,1.1669615763389034,1.0399924364186441,1.0068518027551265,1.0219387121328614,1.0032304264721521,1.0071865155950841,1.015823892988307]
[4,"Good",{"$f":"SUM(IF($A13='Design Inputs'!$A$30:$A$37,IF(Design!$B13=SubgradeConditions,'Design Inputs'!$E$30:$G$37)))","v":8000},1.3857189999999999,1.5738350000000001,1.8491340000000001,2.0812339999999998,2.3379439999999998,2.7230210000000001,3.0550519999999999,3.4254799999999999,3.9715669999999998,4.421246,4.125,4.125,4.125,4.125,4.125,4.125,4.125,4.125,4.125,4.125,0,0,3.4134000000000109E-2,0.26623399999999986,0.52294399999999985,0.90802100000000019,1.2400519999999999,1.6104799999999999,2.1565669999999999,2.6062460000000001,4,4,4,4,4,7,6,6,6,6,0,0,0,0,0,0,0.40005199999999985,0.77047999999999983,1.3165669999999998,1.766246,0,0,0,0,0,0,6,9,15,20,null,null,null,null,null,null,null,null,null,null,null,null,null,null,null,null,null,null,null,null,null,2.375,2.375,2.375,2.375,2.375,2.7949999999999999,3.1950000000000003,3.4650000000000003,4.0049999999999999,4.4550000000000001,1.7139116949395947,1.509052727890789,1.284385014823155,1.1411499139452845,1.0158498236056981,1.0264335089593506,1.0458087129122517,1.0115370692574472,1.0084180878731241,1.0076344994148709]
[4,"Fair",{"$f":"SUM(IF($A14='Design Inputs'!$A$30:$A$37,IF(Design!$B14=SubgradeConditions,'Design Inputs'!$E$30:$G$37)))","v":5000},{"$f":"snreq(D$3,Reliability,S0,$C14,PSIi-PSIt)","v":1.6892130000000001},1.9053340000000001,2.2250619999999999,2.4979399999999998,2.802905,3.262645,3.6548180000000001,4.0818139999999996,4.6912859999999998,5.1829850000000004,{"$f":"ThickPaver","v":4.125},4.125,4.125,4.125,4.125,4.125,4.125,4.125,4.125,4.125,0,9.0334000000000136E-2,0.41006199999999993,0.68293999999999988,0.98790500000000003,1.4476450000000001,1.8398180000000002,2.2668139999999997,2.8762859999999999,3.3679850000000005,4,4,4,4,4,6,6,6,6,6,0,0,0,0.12293999999999983,0.42790499999999998,0.60764499999999999,0.9998180000000001,1.4268139999999996,2.0362859999999996,2.5279850000000001,0,0,0,6,6,7,12,16,23,29,null,null,null,null,null,null,null,null,null,null,null,null,null,null,null,null,null,null,null,null,null,2.375,2.375,2.375,2.915,2.915,3.2850000000000001,3.7350000000000003,4.0950000000000006,4.7249999999999996,5.2650000000000006,1.4059801813033643,1.2465006135407231,1.067385987446642,1.1669615763389034,1.0399924364186441,1.0068518027551265,1.0219387121328614,1.0032304264721521,1.0071865155950841,1.015823892988307]
[4,"Poor",{"$f":"SUM(IF($A15='Design Inputs'!$A$30:$A$37,IF(Design!$B15=SubgradeConditions,'Design Inputs'!$E$30:$G$37)))","v":4500},1.763155,1.986575,2.3179470000000002,2.6015470000000001,2.919006,3.3966639999999999,3.8016869999999998,4.2397320000000001,4.8616989999999998,5.3627500000000001,4.125,4.125,4.125,4.125,4.125,4.125,4.125,4.125,4.125,4.125,0,0.17157500000000003,0.50294700000000025,0.78654700000000011,1.104006,1.581664,1.9866869999999999,2.4247320000000001,3.0466989999999998,3.5477500000000002,4,4,4,4,4,6,6,6,6,6,0,0,0,0.22654700000000005,0.54400599999999999,0.74166399999999988,1.1466869999999998,1.584732,2.2066989999999995,2.7077499999999999,0,0,0,6,7,9,13,18,25,31,null,null,null,null,null,null,null,null,null,null,null,null,null,null,null,null,null,null,null,null,null,2.375,2.375,2.375,2.915,3.0049999999999999,3.4650000000000003,3.8250000000000002,4.2750000000000004,4.9050000000000002,5.4450000000000003,1.3470171368938069,1.1955249613027448,1.0246135912512235,1.1204871562958501,1.0294600285165567,1.0201185633904326,1.0061322775915009,1.0083184503171427,1.0089065571521396,1.0153372803132721]
[5,"Good",{"$f":"SUM(IF($A16='Design Inputs'!$A$30:$A$37,IF(Design!$B16=SubgradeConditions,'Design Inputs'!$E$30:$G$37)))","v":6000},1.5665480000000001,1.771075,2.0722119999999999,2.3279079999999999,2.612698,3.0420509999999998,3.4110589999999998,3.8174000000000001,4.4040629999999998,4.8798199999999996,4.125,4.125,4.125,4.125,4.125,4.125,4.125,4.125,4.125,4.125,0,0,0.257212,0.51290799999999992,0.79769800000000002,1.2270509999999999,1.5960589999999999,2.0024000000000002,2.5890629999999999,3.0648199999999997,4,4,4,4,4,6,6,6,6,6,0,0,0,0,0.23769799999999996,0.38705099999999981,0.75605899999999981,1.1624000000000001,1.7490629999999998,2.2248199999999994,0,0,0,0,6,6,9,13,20,25,null,null,null,null,null,null,null,null,null,null,null,null,null,null,null,null,null,null,null,null,null,2.375,2.375,2.375,2.375,2.915,3.1950000000000003,3.4650000000000003,3.8250000000000002,4.4550000000000001,4.9050000000000002,1.5160722812195988,1.3409934644213262,1.1461182543098873,1.0202293217773211,1.1157049149959162,1.050278249772933,1.0158135640573793,1.001990883847645,1.0115659108418749,1.0051600263944163]
[5,"Fair",{"$f":"SUM(IF($A17='Design Inputs'!$A$30:$A$37,IF(Design!$B17=SubgradeConditions,'Design Inputs'!$E$30:$G$37)))","v":4500},1.763155,1.986575,2.3179470000000002,2.6015470000000001,2.919006,3.3966639999999999,3.8016869999999998,4.2397320000000001,4.8616989999999998,5.3627500000000001,4.125,4.125,4.125,4.125,4.125,4.125,4.125,4.125,4.125,4.125,0,0.17157500000000003,0.50294700000000025,0.78654700000000011,1.104006,1.581664,1.9866869999999999,2.4247320000000001,3.0466989999999998,3.5477500000000002,4,4,4,4,4,6,6,6,6,6,0,0,0,0.22654700000000005,0.54400599999999999,0.74166399999999988,1.1466869999999998,1.584732,2.2066989999999995,2.7077499999999999,0,0,0,6,7,9,13,18,25,31,null,null,null,null,null,null,null,null,null,null,null,null,null,null,null,null,null,null,null,null,null,2.375,2.375,2.375,2.915,3.0049999999999999,3.4650000000000003,3.8250000000000002,4.2750000000000004,4.9050000000000002,5.4450000000000003,1.3470171368938069,1.1955249613027448,1.0246135912512235,1.1204871562958501,1.0294600285165567,1.0201185633904326,1.0061322775915009,1.0083184503171427,1.0089065571521396,1.0153372803132721]
[5,"Poor",{"$f":"SUM(IF($A18='Design Inputs'!$A$30:$A$37,IF(Design!$B18=SubgradeConditions,'Design Inputs'!$E$30:$G$37)))","v":3500},1.949648,2.1921650000000001,2.5543819999999999,2.8661379999999999,3.215125,3.7350059999999998,4.1681609999999996,4.6301819999999996,5.281345,5.8057889999999999,4.125,4.125,4.125,4.125,4.125,4.125,4.125,4.125,4.125,4.125,0.1346480000000001,0.37716500000000019,0.73938199999999998,1.0511379999999999,1.4001250000000001,1.9200059999999999,2.3531609999999996,2.8151819999999996,3.466345,3.9907889999999999,4,4,4,4,4,6,6,6,6,6,0,0,0.17938199999999993,0.49113799999999985,0.84012500000000001,1.0800059999999998,1.5131609999999995,1.9751819999999995,2.6263449999999997,3.1507889999999996,0,0,6,6,10,13,17,22,30,36,null,null,null,null,null,null,null,null,null,null,null,null,null,null,null,null,null,null,null,null,null,2.375,2.375,2.915,2.915,3.2749999999999999,3.8250000000000002,4.1850000000000005,4.6349999999999998,5.3550000000000004,5.8949999999999996,1.2181686130009108,1.0834038496189839,1.141176221880674,1.0170480276944098,1.0186229151277166,1.0240947404100558,1.0040399111262739,1.0010405638482462,1.01394625800814,1.0153658701685506]
[6,"Good",{"$f":"SUM(IF($A19='Design Inputs'!$A$30:$A$37,IF(Design!$B19=SubgradeConditions,'Design Inputs'!$E$30:$G$37)))","v":5000},1.6892130000000001,1.9053340000000001,2.2250619999999999,2.4979399999999998,2.802905,3.262645,3.6548180000000001,4.0818139999999996,4.6912859999999998,5.1829850000000004,4.125,4.125,4.125,4.125,4.125,4.125,4.125,4.125,4.125,4.125,0,9.0334000000000136E-2,0.41006199999999993,0.68293999999999988,0.98790500000000003,1.4476450000000001,1.8398180000000002,2.2668139999999997,2.8762859999999999,3.3679850000000005,4,4,4,4,4,6,6,6,6,6,0,0,0,0.12293999999999983,0.42790499999999998,0.60764499999999999,0.9998180000000001,1.4268139999999996,2.0362859999999996,2.5279850000000001,0,0,0,6,6,7,12,16,23,29,null,null,null,null,null,null,null,null,null,null,null,null,null,null,null,null,null,null,null,null,null,2.375,2.375,2.375,2.915,2.915,3.2850000000000001,3.7350000000000003,4.0950000000000006,4.7249999999999996,5.2650000000000006,1.4059801813033643,1.2465006135407231,1.067385987446642,1.1669615763389034,1.0399924364186441,1.0068518027551265,1.0219387121328614,1.0032304264721521,1.0071865155950841,1.015823892988307]
[6,"Fair",{"$f":"SUM(IF($A20='Design Inputs'!$A$30:$A$37,IF(Design!$B20=SubgradeConditions,'Design Inputs'!$E$30:$G$37)))","v":3500},1.949648,2.1921650000000001,2.5543819999999999,2.8661379999999999,3.215125,3.7350059999999998,4.1681609999999996,4.6301819999999996,5.281345,5.8057889999999999,4.125,4.125,4.125,4.125,4.125,4.125,4.125,4.125,4.125,4.125,0.1346480000000001,0.37716500000000019,0.73938199999999998,1.0511379999999999,1.4001250000000001,1.9200059999999999,2.3531609999999996,2.8151819999999996,3.466345,3.9907889999999999,4,4,4,4,4,6,6,6,6,6,0,0,0.17938199999999993,0.49113799999999985,0.84012500000000001,1.0800059999999998,1.5131609999999995,1.9751819999999995,2.6263449999999997,3.1507889999999996,0,0,6,6,10,13,17,22,30,36,null,null,null,null,null,null,null,null,null,null,null,null,null,null,null,null,null,null,null,null,null,2.375,2.375,2.915,2.915,3.2749999999999999,3.8250000000000002,4.1850000000000005,4.6349999999999998,5.3550000000000004,5.8949999999999996,1.2181686130009108,1.0834038496189839,1.141176221880674,1.0170480276944098,1.0186229151277166,1.0240947404100558,1.0040399111262739,1.0010405638482462,1.01394625800814,1.0153658701685506]
[6,"Poor",{"$f":"SUM(IF($A21='Design Inputs'!$A$30:$A$37,IF(Design!$B21=SubgradeConditions,'Design Inputs'!$E$30:$G$37)))","v":2500},2.2245550000000001,2.4973830000000001,2.9080569999999999,3.2619099999999999,3.6540319999999999,4.2249569999999999,4.6903740000000003,5.1820219999999999,5.8740649999999999,6.4335339999999999,4.125,4.125,4.125,4.125,4.125,4.125,4.125,4.125,4.125,4.125,0.40955500000000011,0.68238300000000018,1.0930569999999999,1.4469099999999999,1.839032,2.4099569999999999,2.8753740000000003,3.367022,4.0590650000000004,4.6185340000000004,4,4,4,4,4,6,6,6,6,6,0,0.12238300000000013,0.53305699999999989,0.88690999999999987,1.2790319999999999,1.5699569999999998,2.035374,2.5270219999999997,3.2190650000000005,3.7785340000000005,0,6,6,10,15,18,23,29,36,42,null,null,null,null,null,null,null,null,null,null,null,null,null,null,null,null,null,null,null,null,null,2.375,2.915,2.915,3.2749999999999999,3.7249999999999996,4.2750000000000004,4.7249999999999996,5.2650000000000006,5.8949999999999996,6.4350000000000005,1.0676292561883163,1.1672218478303087,1.0023875047841222,1.0040129862565184,1.019421833196863,1.011844617590191,1.00738235373128,1.0160126684139899,1.003563971457585,1.0002278685400592]
[7,"Good",{"$f":"SUM(IF($A22='Design Inputs'!$A$30:$A$37,IF(Design!$B22=SubgradeConditions,'Design Inputs'!$E$30:$G$37)))","v":4000},1.848754,2.0807530000000001,2.4260139999999999,2.7224119999999998,3.0543680000000002,3.5520480000000001,3.9707309999999998,4.4203590000000004,5.0560369999999999,5.5678089999999996,4.125,4.125,4.125,4.125,4.125,4.125,4.125,4.125,4.125,4.125,3.3754000000000062E-2,0.26575300000000013,0.61101399999999995,0.90741199999999989,1.2393680000000002,1.7370480000000001,2.1557309999999998,2.6053590000000004,3.2410369999999999,3.7528089999999996,4,4,4,4,4,6,6,6,6,6,0,0,5.1013999999999893E-2,0.34741199999999983,0.67936800000000019,0.89704800000000007,1.3157309999999998,1.7653590000000003,2.4010369999999996,2.9128089999999993,0,0,6,6,8,10,15,20,27,33,null,null,null,null,null,null,null,null,null,null,null,null,null,null,null,null,null,null,null,null,null,2.375,2.375,2.915,2.915,3.0949999999999998,3.5550000000000002,4.0049999999999999,4.4550000000000001,5.085,5.625,1.2846490122536585,1.1414137093638697,1.2015594304072441,1.070741680539169,1.0133029156931972,1.0008310698504075,1.0086304008002558,1.0078366938069963,1.0057283995350508,1.0102717244790547]
[7,"Fair",{"$f":"SUM(IF($A23='Design Inputs'!$A$30:$A$37,IF(Design!$B23=SubgradeConditions,'Design Inputs'!$E$30:$G$37)))","v":3000},2.0717300000000001,2.3274010000000001,2.7108050000000001,3.0413670000000002,3.4102990000000002,3.954612,4.4031760000000002,4.8788830000000001,5.5483190000000002,6.0881970000000001,4.125,4.125,4.125,4.125,4.125,4.125,4.125,4.125,4.125,4.125,0.25673000000000012,0.51240100000000011,0.89580500000000018,1.2263670000000002,1.5952990000000002,2.1396120000000001,2.5881760000000003,3.0638830000000001,3.7333190000000003,4.2731969999999997,4,4,4,4,4,6,6,6,6,6,0,0,0.33580500000000013,0.66636700000000015,1.0352990000000002,1.299612,1.7481760000000002,2.2238829999999998,2.893319,3.4331969999999998,0,0,6,8,12,15,20,25,33,39,null,null,null,null,null,null,null,null,null,null,null,null,null,null,null,null,null,null,null,null,null,2.375,2.375,2.915,3.0949999999999998,3.4550000000000001,4.0049999999999999,4.4550000000000001,4.9050000000000002,5.625,6.165,1.1463849053689428,1.0204515680795874,1.0753263329527576,1.017634504484332,1.0131076483323016,1.0127415786934344,1.0117696862446561,1.0053530695448119,1.013820582414241,1.0126150648541761]
[7,"Poor",{"$f":"SUM(IF($A24='Design Inputs'!$A$30:$A$37,IF(Design!$B24=SubgradeConditions,'Design Inputs'!$E$30:$G$37)))","v":2000},2.4254820000000001,2.7218040000000001,3.168669,3.551288,3.9698950000000002,4.5700659999999997,5.0550740000000003,5.5667949999999999,6.2887440000000003,6.8742660000000004,4.125,4.125,4.125,4.125,4.125,4.125,4.125,4.125,4.125,4.125,0.61048200000000019,0.90680400000000017,1.353669,1.7362880000000001,2.1548950000000002,2.7550659999999998,3.2400740000000003,3.751795,4.4737439999999999,5.0592660000000009,4,4,4,4,4,6,6,6,6,6,5.0482000000000138E-2,0.34680400000000011,0.79366899999999996,1.176288,1.5948950000000002,1.9150659999999997,2.400074,2.9117949999999997,3.6337440000000001,4.2192660000000011,6,6,9,14,18,22,27,33,41,47,null,null,null,null,null,null,null,null,null,null,null,null,null,null,null,null,null,null,null,null,null,2.915,2.915,3.1850000000000001,3.6349999999999998,3.9950000000000001,4.6349999999999998,5.085,5.625,6.3450000000000006,6.8849999999999998,1.2018229778658427,1.0709808641621512,1.00515389900302,1.0235722926442461,1.006323844837206,1.0142085475351996,1.0059199924669746,1.0104557469782882,1.0089455064477104,1.0015614757997435]
[8,"Good",{"$f":"SUM(IF($A25='Design Inputs'!$A$30:$A$37,IF(Design!$B25=SubgradeConditions,'Design Inputs'!$E$30:$G$37)))","v":3500},1.949648,2.1921650000000001,2.5543819999999999,2.8661379999999999,3.215125,3.7350059999999998,4.1681609999999996,4.6301819999999996,5.281345,5.8057889999999999,4.125,4.125,4.125,4.125,4.125,4.125,4.125,4.125,4.125,4.125,0.1346480000000001,0.37716500000000019,0.73938199999999998,1.0511379999999999,1.4001250000000001,1.9200059999999999,2.3531609999999996,2.8151819999999996,3.466345,3.9907889999999999,4,4,4,4,4,6,6,6,6,6,0,0,0.17938199999999993,0.49113799999999985,0.84012500000000001,1.0800059999999998,1.5131609999999995,1.9751819999999995,2.6263449999999997,3.1507889999999996,0,0,6,6,10,13,17,22,30,36,null,null,null,null,null,null,null,null,null,null,null,null,null,null,null,null,null,null,null,null,null,2.375,2.375,2.915,2.915,3.2749999999999999,3.8250000000000002,4.1850000000000005,4.6349999999999998,5.3550000000000004,5.8949999999999996,1.2181686130009108,1.0834038496189839,1.141176221880674,1.0170480276944098,1.0186229151277166,1.0240947404100558,1.0040399111262739,1.0010405638482462,1.01394625800814,1.0153658701685506]
[8,"Fair",{"$f":"SUM(IF($A26='Design Inputs'!$A$30:$A$37,IF(Design!$B26=SubgradeConditions,'Design Inputs'!$E$30:$G$37)))","v":3000},2.0717300000000001,2.3274010000000001,2.7108050000000001,3.0413670000000002,3.4102990000000002,3.954612,4.4031760000000002,4.8788830000000001,5.5483190000000002,6.0881970000000001,4.125,4.125,4.125,4.125,4.125,4.125,4.125,4.125,4.125,4.125,0.25673000000000012,0.51240100000000011,0.89580500000000018,1.2263670000000002,1.5952990000000002,2.1396120000000001,2.5881760000000003,3.0638830000000001,3.7333190000000003,4.2731969999999997,4,4,4,4,4,6,6,6,6,6,0,0,0.33580500000000013,0.66636700000000015,1.0352990000000002,1.299612,1.7481760000000002,2.2238829999999998,2.893319,3.4331969999999998,0,0,6,8,12,15,20,25,33,39,null,null,null,null,null,null,null,null,null,null,null,null,null,null,null,null,null,null,null,null,null,2.375,2.375,2.915,3.0949999999999998,3.4550000000000001,4.0049999999999999,4.4550000000000001,4.9050000000000002,5.625,6.165,1.1463849053689428,1.0204515680795874,1.0753263329527576,1.017634504484332,1.0131076483323016,1.0127415786934344,1.0117696862446561,1.0053530695448119,1.013820582414241,1.0126150648541761]
[8,"Poor",{"$f":"SUM(IF($A27='Design Inputs'!$A$30:$A$37,IF(Design!$B27=SubgradeConditions,'Design Inputs'!$E$30:$G$37)))","v":2000},2.4254820000000001,2.7218040000000001,3.168669,3.551288,3.9698950000000002,4.5700659999999997,5.0550740000000003,5.5667949999999999,6.2887440000000003,6.8742660000000004,4.125,4.125,4.125,4.125,4.125,4.125,4.125,4.125,4.125,4.125,0.61048200000000019,0.90680400000000017,1.353669,1.7362880000000001,2.1548950000000002,2.7550659999999998,3.2400740000000003,3.751795,4.4737439999999999,5.0592660000000009,4,4,4,4,4,6,6,6,6,6,5.0482000000000138E-2,0.34680400000000011,0.79366899999999996,1.176288,1.5948950000000002,1.9150659999999997,2.400074,2.9117949999999997,3.6337440000000001,4.2192660000000011,6,6,9,14,18,22,27,33,41,47,null,null,null,null,null,null,null,null,null,null,null,null,null,null,null,null,null,null,null,null,null,2.915,2.915,3.1850000000000001,3.6349999999999998,3.9950000000000001,4.6349999999999998,5.085,5.625,6.3450000000000006,6.8849999999999998,1.2018229778658427,1.0709808641621512,1.00515389900302,1.0235722926442461,1.006323844837206,1.0142085475351996,1.0059199924669746,1.0104557469782882,1.0089455064477104,1.0015614757997435]
[]
[]
[]
["Asphalt Treated Base"]
["Subgrade Category","Drainage","Mr (psi)","Design SN (in)",null,null,null,null,null,null,null,null,null,"Paver Thickness (in)",null,null,null,null,null,null,null,null,null,"SN Remaining (Excluding Pavers)",null,null,null,null,null,null,null,null,null,"Asphalt Treated Base Thickness (in)",null,null,null,null,null,null,null,null,null,"SN Remaining (excluding Pavers and Base)",null,null,null,null,null,null,null,null,null,"Unbound Dense Graded Base Thickness (in)",null,null,null,null,null,null,null,null,null,"SN Remaining (excluding Pavers and Base and Untreated Granular Base)",null,null,null,null,null,null,null,null,null,"Unbound Dense Graded Subbase Thickness (in)"]
[null,null,null,10000,20000,50000,100000,200000,500000,1000000,2000000,5000000,10000000,10000,20000,50000,100000,200000,500000,1000000,2000000,5000000,10000000,10000,20000,50000,100000,200000,500000,1000000,2000000,5000000,10000000,10000,20000,50000,100000,200000,500000,1000000,2000000,5000000,10000000,10000,20000,50000,100000,200000,500000,1000000,2000000,5000000,10000000,10000,20000,50000,100000,200000,500000,1000000,2000000,5000000,10000000,10000,20000,50000,100000,200000,500000,1000000,2000000,5000000,10000000,10000,20000,50000,100000,200000,500000,1000000,2000000,5000000,10000000]
[1,"Good",{"$f":"C4","v":12000},{"$f":"D4","v":1.1541380000000001},{"$f":"E4","v":1.3222959999999999},1.566929,1.7715179999999999,1.995749,2.3284400000000001,2.6132810000000002,2.932134,3.411794,3.8182109999999998,{"$f":"ThickPaver","v":4.125},4.125,4.125,4.125,4.125,4.125,4.125,4.125,4.125,4.125,{"$f":"MAX(0,D34-N34*Apaver)","v":0},{"$f":"MAX(0,E34-O34*Apaver)","v":0},{"$f":"MAX(0,F34-P34*Apaver)","v":0},{"$f":"MAX(0,G34-Q34*Apaver)","v":0},{"$f":"MAX(0,H34-R34*Apaver)","v":0.18074900000000005},{"$f":"MAX(0,I34-S34*Apaver)","v":0.51344000000000012},{"$f":"MAX(0,J34-T34*Apaver)","v":0.79828100000000024},{"$f":"MAX(0,K34-U34*Apaver)","v":1.1171340000000001},{"$f":"MAX(0,L34-V34*Apaver)","v":1.596794},{"$f":"MAX(0,M34-W34*Apaver)","v":2.0032109999999999},{"$f":"ThickATB","v":4},4,4,4,4,4,4,4,4,4,{"$f":"MAX(0,X34-AH34*Aatb)","v":0},{"$f":"MAX(0,Y34-AI34*Aatb)","v":0},{"$f":"MAX(0,Z34-AJ34*Aatb)","v":0},{"$f":"MAX(0,AA34-AK34*Aatb)","v":0},{"$f":"MAX(0,AB34-AL34*Aatb)","v":0},{"$f":"MAX(0,AC34-AM34*Aatb)","v":0},{"$f":"MAX(0,AD34-AN34*Aatb)","v":0},{"$f":"MAX(0,AE34-AO34*Aatb)","v":0},{"$f":"MAX(0,AF34-AP34*Aatb)","v":0.47679399999999994},{"$f":"MAX(0,AG34-AQ34*Aatb)","v":0.88321099999999975},{"$f":"IF(AR34<4*Agran,4,IF(AR34>8*Agran,4,ROUNDUP(AR34/Agran/1,0)*1))","v":4},{"$f":"IF(AS34<4*Agran,4,IF(AS34>8*Agran,4,ROUNDUP(AS34/Agran/1,0)*1))","v":4},{"$f":"IF(AT34<4*Agran,4,IF(AT34>8*Agran,4,ROUNDUP(AT34/Agran/1,0)*1))","v":4},{"$f":"IF(AU34<4*Agran,4,IF(AU34>8*Agran,4,ROUNDUP(AU34/Agran/1,0)*1))","v":4},{"$f":"IF(AV34<4*Agran,4,IF(AV34>8*Agran,4,ROUNDUP(AV34/Agran/1,0)*1))","v":4},{"$f":"IF(AW34<6*Agran,6,IF(AW34>8*Agran,6,ROUNDUP(AW34/Agran/1,0)*1))","v":6},{"$f":"IF(AX34<6*Agran,6,IF(AX34>8*Agran,6,ROUNDUP(AX34/Agran/1,0)*1))","v":6},{"$f":"IF(AY34<6*Agran,6,IF(AY34>8*Agran,6,ROUNDUP(AY34/Agran/1,0)*1))","v":6},{"$f":"IF(AZ34<6*Agran,6,IF(AZ34>8*Agran,6,ROUNDUP(AZ34/Agran/1,0)*1))","v":6},{"$f":"IF(BA34<6*Agran,6,IF(BA34>8*Agran,6,ROUNDUP(BA34/Agran/1,0)*1))","v":7},{"$f":"MAX(0,AR34-BB34*Agran)","v":0},{"$f":"MAX(0,AS34-BC34*Agran)","v":0},{"$f":"MAX(0,AT34-BD34*Agran)","v":0},{"$f":"MAX(0,AU34-BE34*Agran)","v":0},{"$f":"MAX(0,AV34-BF34*Agran)","v":0},{"$f":"MAX(0,AW34-BG34*Agran)","v":0},{"$f":"MAX(0,AX34-BH34*Agran)","v":0},{"$f":"MAX(0,AY34-BI34*Agran)","v":0},{"$f":"MAX(0,AZ34-BJ34*Agran)","v":0},{"$f":"MAX(0,BA34-BK34*Agran)","v":0},{"$f":"IF(BL34<=0,0,MAX(6,ROUNDUP(BL34/Asubbase/1,0)*1))","v":0},{"$f":"IF(BM34<=0,0,MAX(6,ROUNDUP(BM34/Asubbase/1,0)*1))","v":0},{"$f":"IF(BN34<=0,0,MAX(6,ROUNDUP(BN34/Asubbase/1,0)*1))","v":0},{"$f":"IF(BO34<=0,0,MAX(6,ROUNDUP(BO34/Asubbase/1,0)*1))","v":0},{"$f":"IF(BP34<=0,0,MAX(6,ROUNDUP(BP34/Asubbase/1,0)*1))","v":0},{"$f":"IF(BQ34<=0,0,MAX(6,ROUNDUP(BQ34/Asubbase/1,0)*1))","v":0},{"$f":"IF(BR34<=0,0,MAX(6,ROUNDUP(BR34/Asubbase/1,0)*1))","v":0},{"$f":"IF(BS34<=0,0,MAX(6,ROUNDUP(BS34/Asubbase/1,0)*1))","v":0},{"$f":"IF(BT34<=0,0,MAX(6,ROUNDUP(BT34/Asubbase/1,0)*1))","v":0},{"$f":"IF(BU34<=0,0,MAX(6,ROUNDUP(BU34/Asubbase/1,0)*1))","v":0},null,{"$f":"N34*Apaver+AH34*Aatb+BB34*Agran+BV34*Asubbase","v":3.4950000000000001},{"$f":"O34*Apaver+AI34*Aatb+BC34*Agran+BW34*Asubbase","v":3.4950000000000001},{"$f":"P34*Apaver+AJ34*Aatb+BD34*Agran+BX34*Asubbase","v":3.4950000000000001},{"$f":"Q34*Apaver+AK34*Aatb+BE34*Agran+BY34*Asubbase","v":3.4950000000000001},{"$f":"R34*Apaver+AL34*Aatb+BF34*Agran+BZ34*Asubbase","v":3.4950000000000001},{"$f":"S34*Apaver+AM34*Aatb+BG34*Agran+CA34*Asubbase","v":3.7750000000000004},{"$f":"T34*Apaver+AN34*Aatb+BH34*Agran+CB34*Asubbase","v":3.7750000000000004},{"$f":"U34*Apaver+AO34*Aatb+BI34*Agran+CC34*Asubbase","v":3.7750000000000004},{"$f":"V34*Apaver+AP34*Aatb+BJ34*Agran+CD34*Asubbase","v":3.7750000000000004},{"$f":"W34*Apaver+AQ34*Aatb+BK34*Agran+CE34*Asubbase","v":3.915},{"$f":"(CG34)/D34","v":3.0282340586654279},{"$f":"(CH34)/E34","v":2.6431298287221625},{"$f":"(CI34)/F34","v":2.2304775774779841},{"$f":"(CJ34)/G34","v":1.9728842721327133},{"$f":"(CK34)/H34","v":1.751222222834635},{"$f":"(CL34)/I34","v":1.621257150710347},{"$f":"(CM34)/J34","v":1.4445442338577443},{"$f":"(CN34)/K34","v":1.2874582130284633},{"$f":"(CO34)/L34","v":1.1064560169810957},{"$f":"(CP34)/M34","v":1.0253493062588737}]
[1,"Fair",{"$f":"C5","v":11000},{"$f":"D5","v":1.201722},1.3738710000000001,1.6246499999999999,1.834625,2.065242,2.408172,2.7024409999999999,3.0320149999999999,3.5264509999999998,3.9429789999999998,4.125,4.125,4.125,4.125,4.125,4.125,4.125,4.125,4.125,4.125,0,0,0,1.9625000000000004E-2,0.25024200000000008,0.59317200000000003,0.88744099999999992,1.217015,1.7114509999999998,2.1279789999999998,4,4,4,4,4,4,4,4,4,4,0,0,0,0,0,0,0,9.7014999999999851E-2,0.59145099999999973,1.0079789999999997,4,4,4,4,4,6,6,6,6,8,0,0,0,0,0,0,0,0,0,0,0,0,0,0,0,0,0,0,0,0,null,3.4950000000000001,3.4950000000000001,3.4950000000000001,3.4950000000000001,3.4950000000000001,3.7750000000000004,3.7750000000000004,3.7750000000000004,3.7750000000000004,4.0549999999999997,{"$f":"(CG35)/D35","v":2.9083265513987429},2.5439069606971834,2.1512325731696058,1.9050214621516659,1.6922956244352962,1.5675790599674775,1.3968852603997648,1.2450466109171625,1.070481342290025,1.0284102451471338]
[1,"Poor",10000,{"$f":"D6","v":1.255134},1.431845,1.689594,1.905778,2.143707,2.4984730000000002,2.8035380000000001,3.1451500000000001,3.6556039999999999,4.0826750000000001,4.125,4.125,4.125,4.125,4.125,4.125,4.125,4.125,4.125,4.125,0,0,0,9.0778000000000025E-2,0.32870700000000008,0.68347300000000022,0.98853800000000014,1.3301500000000002,1.8406039999999999,2.2676750000000001,4,4,4,4,4,4,4,4,4,4,0,0,0,0,0,0,0,0.21015000000000006,0.7206039999999998,1.147675,4,4,4,4,4,6,6,6,6,6,0,0,0,0,0,0,0,0,0,0.30767499999999992,0,0,0,0,0,0,0,0,0,6,null,3.4950000000000001,3.4950000000000001,3.4950000000000001,3.4950000000000001,3.4950000000000001,3.7750000000000004,3.7750000000000004,3.7750000000000004,3.7750000000000004,4.3150000000000004,2.784563241853061,2.4409066623831492,2.0685442775009855,1.8338967078012236,1.6303534018408299,1.5109228716900283,1.3465128705228895,1.2002607188846319,1.032661086922982,1.0569050928619104]
[2,"Good",11000,{"$f":"D7","v":1.201722},1.3738710000000001,1.6246499999999999,1.834625,2.065242,2.408172,2.7024409999999999,3.0320149999999999,3.5264509999999998,3.9429789999999998,4.125,4.125,4.125,4.125,4.125,4.125,4.125,4.125,4.125,4.125,0,0,0,1.9625000000000004E-2,0.25024200000000008,0.59317200000000003,0.88744099999999992,1.217015,1.7114509999999998,2.1279789999999998,4,4,4,4,4,4,4,4,4,4,0,0,0,0,0,0,0,9.7014999999999851E-2,0.59145099999999973,1.0079789999999997,4,4,4,4,4,6,6,6,6,8,0,0,0,0,0,0,0,0,0,0,0,0,0,0,0,0,0,0,0,0,null,3.4950000000000001,3.4950000000000001,3.4950000000000001,3.4950000000000001,3.4950000000000001,3.7750000000000004,3.7750000000000004,3.7750000000000004,3.7750000000000004,4.0549999999999997,2.9083265513987429,2.5439069606971834,2.1512325731696058,1.9050214621516659,1.6922956244352962,1.5675790599674775,1.3968852603997648,1.2450466109171625,1.070481342290025,1.0284102451471338]
[2,"Fair",10000,{"$f":"D8","v":1.255134},1.431845,1.689594,1.905778,2.143707,2.4984730000000002,2.8035380000000001,3.1451500000000001,3.6556039999999999,4.0826750000000001,4.125,4.125,4.125,4.125,4.125,4.125,4.125,4.125,4.125,4.125,0,0,0,9.0778000000000025E-2,0.32870700000000008,0.68347300000000022,0.98853800000000014,1.3301500000000002,1.8406039999999999,2.2676750000000001,4,4,4,4,4,4,4,4,4,4,0,0,0,0,0,0,0,0.21015000000000006,0.7206039999999998,1.147675,4,4,4,4,4,6,6,6,6,6,0,0,0,0,0,0,0,0,0,0.30767499999999992,0,0,0,0,0,0,0,0,0,6,null,3.4950000000000001,3.4950000000000001,3.4950000000000001,3.4950000000000001,3.4950000000000001,3.7750000000000004,3.7750000000000004,3.7750000000000004,3.7750000000000004,4.3150000000000004,2.784563241853061,2.4409066623831492,2.0685442775009855,1.8338967078012236,1.6303534018408299,1.5109228716900283,1.3465128705228895,1.2002607188846319,1.032661086922982,1.0569050928619104]
[2,"Poor",7000,{"$f":"D9","v":1.4678340000000001},1.6632990000000001,1.950105,2.192672,2.4618250000000002,2.8667720000000001,3.2158350000000002,3.603294,4.169022,4.631094,4.125,4.125,4.125,4.125,4.125,4.125,4.125,4.125,4.125,4.125,0,0,0.13510500000000003,0.37767200000000001,0.64682500000000021,1.0517720000000002,1.4008350000000003,1.7882940000000001,2.3540220000000001,2.8160940000000001,4,4,4,4,4,4,4,4,4,4,0,0,0,0,0,0,0.28083500000000017,0.66829399999999994,1.234022,1.696094,4,4,4,4,4,6,6,6,6,6,0,0,0,0,0,0,0,0,0.39402199999999987,0.85609399999999991,0,0,0,0,0,0,0,0,6,10,null,3.4950000000000001,3.4950000000000001,3.4950000000000001,3.4950000000000001,3.4950000000000001,3.7750000000000004,3.7750000000000004,3.7750000000000004,4.3150000000000004,4.6750000000000007,2.3810594386013677,2.1012457772174455,1.7922111886283048,1.5939456516980197,1.4196784905507094,1.3168120799282259,1.1738786349424022,1.0476525090653164,1.0350149267622,1.0094806972175474]
[3,"Good",10000,{"$f":"D10","v":1.255134},1.431845,1.689594,1.905778,2.143707,2.4984730000000002,2.8035380000000001,3.1451500000000001,3.6556039999999999,4.0826750000000001,4.125,4.125,4.125,4.125,4.125,4.125,4.125,4.125,4.125,4.125,0,0,0,9.0778000000000025E-2,0.32870700000000008,0.68347300000000022,0.98853800000000014,1.3301500000000002,1.8406039999999999,2.2676750000000001,4,4,4,4,4,4,4,4,4,4,0,0,0,0,0,0,0,0.21015000000000006,0.7206039999999998,1.147675,4,4,4,4,4,6,6,6,6,6,0,0,0,0,0,0,0,0,0,0.30767499999999992,0,0,0,0,0,0,0,0,0,6,null,3.4950000000000001,3.4950000000000001,3.4950000000000001,3.4950000000000001,3.4950000000000001,3.7750000000000004,3.7750000000000004,3.7750000000000004,3.7750000000000004,4.3150000000000004,2.784563241853061,2.4409066623831492,2.0685442775009855,1.8338967078012236,1.6303534018408299,1.5109228716900283,1.3465128705228895,1.2002607188846319,1.032661086922982,1.0569050928619104]
[3,"Fair",8000,{"$f":"D11","v":1.3857189999999999},1.5738350000000001,1.8491340000000001,2.0812339999999998,2.3379439999999998,2.7230210000000001,3.0550519999999999,3.4254799999999999,3.9715669999999998,4.421246,4.125,4.125,4.125,4.125,4.125,4.125,4.125,4.125,4.125,4.125,0,0,3.4134000000000109E-2,0.26623399999999986,0.52294399999999985,0.90802100000000019,1.2400519999999999,1.6104799999999999,2.1565669999999999,2.6062460000000001,4,4,4,4,4,4,4,4,4,4,0,0,0,0,0,0,0.12005199999999983,0.49047999999999981,1.0365669999999998,1.486246,4,4,4,4,4,6,6,6,8,6,0,0,0,0,0,0,0,0,0,0.64624599999999988,0,0,0,0,0,0,0,0,0,8,null,3.4950000000000001,3.4950000000000001,3.4950000000000001,3.4950000000000001,3.4950000000000001,3.7750000000000004,3.7750000000000004,3.7750000000000004,4.0549999999999997,4.4950000000000001,2.5221563679216352,2.2206902248329716,1.8900739481292324,1.679292189153166,1.4949032141060694,1.3863279056606614,1.2356581819229264,1.1020353351939001,1.021007577109992,1.0166817227541738]
[3,"Poor",5000,{"$f":"D12","v":1.6892130000000001},1.9053340000000001,2.2250619999999999,2.4979399999999998,2.802905,3.262645,3.6548180000000001,4.0818139999999996,4.6912859999999998,5.1829850000000004,4.125,4.125,4.125,4.125,4.125,4.125,4.125,4.125,4.125,4.125,0,9.0334000000000136E-2,0.41006199999999993,0.68293999999999988,0.98790500000000003,1.4476450000000001,1.8398180000000002,2.2668139999999997,2.8762859999999999,3.3679850000000005,4,4,4,4,4,4,4,4,4,4,0,0,0,0,0,0.32764499999999996,0.71981800000000007,1.1468139999999996,1.7562859999999998,2.2479850000000003,4,4,4,4,4,6,6,6,6,6,0,0,0,0,0,0,0,0.30681399999999948,0.91628599999999971,1.4079850000000003,0,0,0,0,0,0,0,6,11,16,null,3.4950000000000001,3.4950000000000001,3.4950000000000001,3.4950000000000001,3.4950000000000001,3.7750000000000004,3.7750000000000004,4.3150000000000004,4.7650000000000006,5.2149999999999999,2.0690108352232666,1.8343240607683482,1.5707427478425322,1.399152901991241,1.2469206055859903,1.1570366987520861,1.0328831695586485,1.0571280318015472,1.0157129622879528,1.0061769424376106]
[4,"Good",8000,{"$f":"D13","v":1.3857189999999999},1.5738350000000001,1.8491340000000001,2.0812339999999998,2.3379439999999998,2.7230210000000001,3.0550519999999999,3.4254799999999999,3.9715669999999998,4.421246,4.125,4.125,4.125,4.125,4.125,4.125,4.125,4.125,4.125,4.125,0,0,3.4134000000000109E-2,0.26623399999999986,0.52294399999999985,0.90802100000000019,1.2400519999999999,1.6104799999999999,2.1565669999999999,2.6062460000000001,4,4,4,4,4,4,4,4,4,4,0,0,0,0,0,0,0.12005199999999983,0.49047999999999981,1.0365669999999998,1.486246,4,4,4,4,4,6,6,6,8,6,0,0,0,0,0,0,0,0,0,0.64624599999999988,0,0,0,0,0,0,0,0,0,8,null,3.4950000000000001,3.4950000000000001,3.4950000000000001,3.4950000000000001,3.4950000000000001,3.7750000000000004,3.7750000000000004,3.7750000000000004,4.0549999999999997,4.4950000000000001,2.5221563679216352,2.2206902248329716,1.8900739481292324,1.679292189153166,1.4949032141060694,1.3863279056606614,1.2356581819229264,1.1020353351939001,1.021007577109992,1.0166817227541738]
[4,"Fair",5000,{"$f":"D14","v":1.6892130000000001},1.9053340000000001,2.2250619999999999,2.4979399999999998,2.802905,3.262645,3.6548180000000001,4.0818139999999996,4.6912859999999998,5.1829850000000004,{"$f":"ThickPaver","v":4.125},4.125,4.125,4.125,4.125,4.125,4.125,4.125,4.125,4.125,0,9.0334000000000136E-2,0.41006199999999993,0.68293999999999988,0.98790500000000003,1.4476450000000001,1.8398180000000002,2.2668139999999997,2.8762859999999999,3.3679850000000005,{"$f":"ThickATB","v":4},4,4,4,4,4,4,4,4,4,0,0,0,0,0,0.32764499999999996,0.71981800000000007,1.1468139999999996,1.7562859999999998,2.2479850000000003,4,4,4,4,4,6,6,6,6,6,0,0,0,0,0,0,0,0.30681399999999948,0.91628599999999971,1.4079850000000003,0,0,0,0,0,0,0,6,11,16,null,3.4950000000000001,3.4950000000000001,3.4950000000000001,3.4950000000000001,3.4950000000000001,3.7750000000000004,3.7750000000000004,4.3150000000000004,4.7650000000000006,5.2149999999999999,2.0690108352232666,1.8343240607683482,1.5707427478425322,1.399152901991241,1.2469206055859903,1.1570366987520861,1.0328831695586485,1.0571280318015472,1.0157129622879528,1.0061769424376106]
[4,"Poor",4500,{"$f":"D15","v":1.763155},1.986575,2.3179470000000002,2.6015470000000001,2.919006,3.3966639999999999,3.8016869999999998,4.2397320000000001,4.8616989999999998,5.3627500000000001,4.125,4.125,4.125,4.125,4.125,4.125,4.125,4.125,4.125,4.125,0,0.17157500000000003,0.50294700000000025,0.78654700000000011,1.104006,1.581664,1.9866869999999999,2.4247320000000001,3.0466989999999998,3.5477500000000002,4,4,4,4,4,4,4,4,4,4,0,0,0,0,0,0.46166399999999985,0.86668699999999976,1.304732,1.9266989999999997,2.4277500000000001,4,4,4,4,4,6,7,6,6,6,0,0,0,0,0,0,0,0.46473199999999992,1.0866989999999996,1.58775,0,0,0,0,0,0,0,6,13,18,null,3.4950000000000001,3.4950000000000001,3.4950000000000001,3.4950000000000001,3.4950000000000001,3.7750000000000004,3.915,4.3150000000000004,4.9450000000000003,5.3950000000000005,1.9822420603974127,1.7593093641065654,1.5077997900728533,1.3434314275313881,1.1973253909036159,1.1113845820487398,1.0298059782407127,1.0177530089166014,1.0171341335611277,1.006013705654748]
[5,"Good",6000,{"$f":"D16","v":1.5665480000000001},1.771075,2.0722119999999999,2.3279079999999999,2.612698,3.0420509999999998,3.4110589999999998,3.8174000000000001,4.4040629999999998,4.8798199999999996,4.125,4.125,4.125,4.125,4.125,4.125,4.125,4.125,4.125,4.125,0,0,0.257212,0.51290799999999992,0.79769800000000002,1.2270509999999999,1.5960589999999999,2.0024000000000002,2.5890629999999999,3.0648199999999997,4,4,4,4,4,4,4,4,4,4,0,0,0,0,0,0.10705099999999979,0.47605899999999979,0.88240000000000007,1.4690629999999998,1.9448199999999995,4,4,4,4,4,6,6,7,6,6,0,0,0,0,0,0,0,0,0.62906299999999971,1.1048199999999995,0,0,0,0,0,0,0,0,7,13,null,3.4950000000000001,3.4950000000000001,3.4950000000000001,3.4950000000000001,3.4950000000000001,3.7750000000000004,3.7750000000000004,3.915,4.4050000000000002,4.9450000000000003,2.2310200517315781,1.9733777508010673,1.6866034942370762,1.5013479914154684,1.3376976596606267,1.2409390901072994,1.1066944312602041,1.0255671399381778,1.0002127580827069,1.0133570500551252]
[5,"Fair",4500,{"$f":"D17","v":1.763155},1.986575,2.3179470000000002,2.6015470000000001,2.919006,3.3966639999999999,3.8016869999999998,4.2397320000000001,4.8616989999999998,5.3627500000000001,4.125,4.125,4.125,4.125,4.125,4.125,4.125,4.125,4.125,4.125,0,0.17157500000000003,0.50294700000000025,0.78654700000000011,1.104006,1.581664,1.9866869999999999,2.4247320000000001,3.0466989999999998,3.5477500000000002,4,4,4,4,4,4,4,4,4,4,0,0,0,0,0,0.46166399999999985,0.86668699999999976,1.304732,1.9266989999999997,2.4277500000000001,4,4,4,4,4,6,7,6,6,6,0,0,0,0,0,0,0,0.46473199999999992,1.0866989999999996,1.58775,0,0,0,0,0,0,0,6,13,18,null,3.4950000000000001,3.4950000000000001,3.4950000000000001,3.4950000000000001,3.4950000000000001,3.7750000000000004,3.915,4.3150000000000004,4.9450000000000003,5.3950000000000005,1.9822420603974127,1.7593093641065654,1.5077997900728533,1.3434314275313881,1.1973253909036159,1.1113845820487398,1.0298059782407127,1.0177530089166014,1.0171341335611277,1.006013705654748]
[5,"Poor",3500,{"$f":"D18","v":1.949648},2.1921650000000001,2.5543819999999999,2.8661379999999999,3.215125,3.7350059999999998,4.1681609999999996,4.6301819999999996,5.281345,5.8057889999999999,4.125,4.125,4.125,4.125,4.125,4.125,4.125,4.125,4.125,4.125,0.1346480000000001,0.37716500000000019,0.73938199999999998,1.0511379999999999,1.4001250000000001,1.9200059999999999,2.3531609999999996,2.8151819999999996,3.466345,3.9907889999999999,4,4,4,4,4,4,4,4,4,4,0,0,0,0,0.28012499999999996,0.80000599999999977,1.2331609999999995,1.6951819999999995,2.3463449999999999,2.8707889999999998,4,4,4,4,4,6,6,6,6,6,0,0,0,0,0,0,0.39316099999999943,0.85518199999999944,1.5063449999999998,2.0307889999999995,0,0,0,0,0,0,6,10,17,23,null,3.4950000000000001,3.4950000000000001,3.4950000000000001,3.4950000000000001,3.4950000000000001,3.7750000000000004,4.3150000000000004,4.6750000000000007,5.3050000000000006,5.8450000000000006,1.79263128523713,1.5943142965971995,1.368237013884376,1.2194109285735719,1.0870494926324794,1.0107078810582903,1.0352287255698618,1.0096795331155453,1.0044789726859353,1.0067537762739915]
[6,"Good",5000,{"$f":"D19","v":1.6892130000000001},1.9053340000000001,2.2250619999999999,2.4979399999999998,2.802905,3.262645,3.6548180000000001,4.0818139999999996,4.6912859999999998,5.1829850000000004,4.125,4.125,4.125,4.125,4.125,4.125,4.125,4.125,4.125,4.125,0,9.0334000000000136E-2,0.41006199999999993,0.68293999999999988,0.98790500000000003,1.4476450000000001,1.8398180000000002,2.2668139999999997,2.8762859999999999,3.3679850000000005,4,4,4,4,4,4,4,4,4,4,0,0,0,0,0,0.32764499999999996,0.71981800000000007,1.1468139999999996,1.7562859999999998,2.2479850000000003,4,4,4,4,4,6,6,6,6,6,0,0,0,0,0,0,0,0.30681399999999948,0.91628599999999971,1.4079850000000003,0,0,0,0,0,0,0,6,11,16,null,3.4950000000000001,3.4950000000000001,3.4950000000000001,3.4950000000000001,3.4950000000000001,3.7750000000000004,3.7750000000000004,4.3150000000000004,4.7650000000000006,5.2149999999999999,2.0690108352232666,1.8343240607683482,1.5707427478425322,1.399152901991241,1.2469206055859903,1.1570366987520861,1.0328831695586485,1.0571280318015472,1.0157129622879528,1.0061769424376106]
[6,"Fair",3500,{"$f":"D20","v":1.949648},2.1921650000000001,2.5543819999999999,2.8661379999999999,3.215125,3.7350059999999998,4.1681609999999996,4.6301819999999996,5.281345,5.8057889999999999,4.125,4.125,4.125,4.125,4.125,4.125,4.125,4.125,4.125,4.125,0.1346480000000001,0.37716500000000019,0.73938199999999998,1.0511379999999999,1.4001250000000001,1.9200059999999999,2.3531609999999996,2.8151819999999996,3.466345,3.9907889999999999,4,4,4,4,4,4,4,4,4,4,0,0,0,0,0.28012499999999996,0.80000599999999977,1.2331609999999995,1.6951819999999995,2.3463449999999999,2.8707889999999998,4,4,4,4,4,6,6,6,6,6,0,0,0,0,0,0,0.39316099999999943,0.85518199999999944,1.5063449999999998,2.0307889999999995,0,0,0,0,0,0,6,10,17,23,null,3.4950000000000001,3.4950000000000001,3.4950000000000001,3.4950000000000001,3.4950000000000001,3.7750000000000004,4.3150000000000004,4.6750000000000007,5.3050000000000006,5.8450000000000006,1.79263128523713,1.5943142965971995,1.368237013884376,1.2194109285735719,1.0870494926324794,1.0107078810582903,1.0352287255698618,1.0096795331155453,1.0044789726859353,1.0067537762739915]
[6,"Poor",2500,{"$f":"D21","v":2.2245550000000001},2.4973830000000001,2.9080569999999999,3.2619099999999999,3.6540319999999999,4.2249569999999999,4.6903740000000003,5.1820219999999999,5.8740649999999999,6.4335339999999999,4.125,4.125,4.125,4.125,4.125,4.125,4.125,4.125,4.125,4.125,0.40955500000000011,0.68238300000000018,1.0930569999999999,1.4469099999999999,1.839032,2.4099569999999999,2.8753740000000003,3.367022,4.0590650000000004,4.6185340000000004,4,4,4,4,4,4,4,4,4,4,0,0,0,0.32690999999999981,0.71903199999999989,1.2899569999999998,1.7553740000000002,2.2470219999999999,2.9390650000000003,3.4985340000000003,4,4,4,4,6,6,6,6,6,6,0,0,0,0,0,0.44995699999999972,0.91537400000000013,1.4070219999999998,2.0990650000000004,2.6585340000000004,0,0,0,0,0,6,11,16,24,30,null,3.4950000000000001,3.4950000000000001,3.4950000000000001,3.4950000000000001,3.7750000000000004,4.3150000000000004,4.7650000000000006,5.2149999999999999,5.9350000000000005,6.4749999999999996,1.5711007370013328,1.3994649599200444,1.2018333890979442,1.0714581334248954,1.0331053477364185,1.021312169567643,1.0159104583131324,1.0063639251242082,1.0103735658355841,1.0064452911883266]
[7,"Good",4000,{"$f":"D22","v":1.848754},2.0807530000000001,2.4260139999999999,2.7224119999999998,3.0543680000000002,3.5520480000000001,3.9707309999999998,4.4203590000000004,5.0560369999999999,5.5678089999999996,4.125,4.125,4.125,4.125,4.125,4.125,4.125,4.125,4.125,4.125,3.3754000000000062E-2,0.26575300000000013,0.61101399999999995,0.90741199999999989,1.2393680000000002,1.7370480000000001,2.1557309999999998,2.6053590000000004,3.2410369999999999,3.7528089999999996,4,4,4,4,4,4,4,4,4,4,0,0,0,0,0.11936800000000014,0.61704800000000004,1.0357309999999997,1.4853590000000003,2.1210369999999998,2.6328089999999995,4,4,4,4,4,6,8,6,6,6,0,0,0,0,0,0,0,0.64535900000000024,1.2810369999999998,1.7928089999999994,0,0,0,0,0,0,0,8,15,20,null,3.4950000000000001,3.4950000000000001,3.4950000000000001,3.4950000000000001,3.4950000000000001,3.7750000000000004,4.0549999999999997,4.4950000000000001,5.125,5.5750000000000002,1.8904624411901205,1.6796803849375683,1.4406347201623735,1.283788052653309,1.1442629047973263,1.0627671698130206,1.0212225406354649,1.0168857325841634,1.0136397340446679,1.0012915313725741]
[7,"Fair",3000,{"$f":"D23","v":2.0717300000000001},2.3274010000000001,2.7108050000000001,3.0413670000000002,3.4102990000000002,3.954612,4.4031760000000002,4.8788830000000001,5.5483190000000002,6.0881970000000001,4.125,4.125,4.125,4.125,4.125,4.125,4.125,4.125,4.125,4.125,0.25673000000000012,0.51240100000000011,0.89580500000000018,1.2263670000000002,1.5952990000000002,2.1396120000000001,2.5881760000000003,3.0638830000000001,3.7333190000000003,4.2731969999999997,4,4,4,4,4,4,4,4,4,4,0,0,0,0.1063670000000001,0.47529900000000014,1.019612,1.4681760000000001,1.943883,2.6133190000000002,3.1531969999999996,4,4,4,4,4,8,6,6,6,6,0,0,0,0,0,0,0.62817600000000007,1.1038829999999999,1.7733190000000001,2.3131969999999997,0,0,0,0,0,0,7,13,20,26,null,3.4950000000000001,3.4950000000000001,3.4950000000000001,3.4950000000000001,3.4950000000000001,4.0549999999999997,4.4050000000000002,4.9450000000000003,5.5750000000000002,6.1150000000000002,1.686995892321876,1.501675044395014,1.2892849172109391,1.1491543112028242,1.0248368251581459,1.0253850440953498,1.0004142464439305,1.0135516674615892,1.0048088439038922,1.0044024528115632]
[7,"Poor",2000,{"$f":"D24","v":2.4254820000000001},2.7218040000000001,3.168669,3.551288,3.9698950000000002,4.5700659999999997,5.0550740000000003,5.5667949999999999,6.2887440000000003,6.8742660000000004,4.125,4.125,4.125,4.125,4.125,4.125,4.125,4.125,4.125,4.125,0.61048200000000019,0.90680400000000017,1.353669,1.7362880000000001,2.1548950000000002,2.7550659999999998,3.2400740000000003,3.751795,4.4737439999999999,5.0592660000000009,4,4,4,4,4,4,4,4,4,4,0,0,0.2336689999999999,0.61628799999999995,1.0348950000000001,1.6350659999999997,2.1200740000000002,2.6317949999999999,3.3537439999999998,3.9392660000000008,4,4,4,5,8,6,6,6,6,6,0,0,0,0,0,0.79506599999999961,1.2800740000000002,1.7917949999999998,2.513744,3.099266000000001,0,0,0,0,0,9,15,20,28,35,null,3.4950000000000001,3.4950000000000001,3.4950000000000001,3.6350000000000002,4.0549999999999997,4.585,5.125,5.5750000000000002,6.2949999999999999,6.9250000000000007,1.4409507058803157,1.2840748268427851,1.1029867745731725,1.0235722926442463,1.0214375946970888,1.0032677865046151,1.0138328340989666,1.0014739181162591,1.0009947932369325,1.0073802788544988]
[8,"Good",3500,{"$f":"D25","v":1.949648},2.1921650000000001,2.5543819999999999,2.8661379999999999,3.215125,3.7350059999999998,4.1681609999999996,4.6301819999999996,5.281345,5.8057889999999999,4.125,4.125,4.125,4.125,4.125,4.125,4.125,4.125,4.125,4.125,0.1346480000000001,0.37716500000000019,0.73938199999999998,1.0511379999999999,1.4001250000000001,1.9200059999999999,2.3531609999999996,2.8151819999999996,3.466345,3.9907889999999999,4,4,4,4,4,4,4,4,4,4,0,0,0,0,0.28012499999999996,0.80000599999999977,1.2331609999999995,1.6951819999999995,2.3463449999999999,2.8707889999999998,4,4,4,4,4,6,6,6,6,6,0,0,0,0,0,0,0.39316099999999943,0.85518199999999944,1.5063449999999998,2.0307889999999995,0,0,0,0,0,0,6,10,17,23,null,3.4950000000000001,3.4950000000000001,3.4950000000000001,3.4950000000000001,3.4950000000000001,3.7750000000000004,4.3150000000000004,4.6750000000000007,5.3050000000000006,5.8450000000000006,1.79263128523713,1.5943142965971995,1.368237013884376,1.2194109285735719,1.0870494926324794,1.0107078810582903,1.0352287255698618,1.0096795331155453,1.0044789726859353,1.0067537762739915]
[8,"Fair",3000,{"$f":"D26","v":2.0717300000000001},2.3274010000000001,2.7108050000000001,3.0413670000000002,3.4102990000000002,3.954612,4.4031760000000002,4.8788830000000001,5.5483190000000002,6.0881970000000001,4.125,4.125,4.125,4.125,4.125,4.125,4.125,4.125,4.125,4.125,0.25673000000000012,0.51240100000000011,0.89580500000000018,1.2263670000000002,1.5952990000000002,2.1396120000000001,2.5881760000000003,3.0638830000000001,3.7333190000000003,4.2731969999999997,4,4,4,4,4,4,4,4,4,4,0,0,0,0.1063670000000001,0.47529900000000014,1.019612,1.4681760000000001,1.943883,2.6133190000000002,3.1531969999999996,4,4,4,4,4,8,6,6,6,6,0,0,0,0,0,0,0.62817600000000007,1.1038829999999999,1.7733190000000001,2.3131969999999997,0,0,0,0,0,0,7,13,20,26,null,3.4950000000000001,3.4950000000000001,3.4950000000000001,3.4950000000000001,3.4950000000000001,4.0549999999999997,4.4050000000000002,4.9450000000000003,5.5750000000000002,6.1150000000000002,1.686995892321876,1.501675044395014,1.2892849172109391,1.1491543112028242,1.0248368251581459,1.0253850440953498,1.0004142464439305,1.0135516674615892,1.0048088439038922,1.0044024528115632]
[8,"Poor",2000,{"$f":"D27","v":2.4254820000000001},2.7218040000000001,3.168669,3.551288,3.9698950000000002,4.5700659999999997,5.0550740000000003,5.5667949999999999,6.2887440000000003,6.8742660000000004,4.125,4.125,4.125,4.125,4.125,4.125,4.125,4.125,4.125,4.125,0.61048200000000019,0.90680400000000017,1.353669,1.7362880000000001,2.1548950000000002,2.7550659999999998,3.2400740000000003,3.751795,4.4737439999999999,5.0592660000000009,4,4,4,4,4,4,4,4,4,4,0,0,0.2336689999999999,0.61628799999999995,1.0348950000000001,1.6350659999999997,2.1200740000000002,2.6317949999999999,3.3537439999999998,3.9392660000000008,4,4,4,5,8,6,6,6,6,6,0,0,0,0,0,0.79506599999999961,1.2800740000000002,1.7917949999999998,2.513744,3.099266000000001,0,0,0,0,0,9,15,20,28,35,null,3.4950000000000001,3.4950000000000001,3.4950000000000001,3.6350000000000002,4.0549999999999997,4.585,5.125,5.5750000000000002,6.2949999999999999,6.9250000000000007,1.4409507058803157,1.2840748268427851,1.1029867745731725,1.0235722926442463,1.0214375946970888,1.0032677865046151,1.0138328340989666,1.0014739181162591,1.0009947932369325,1.0073802788544988]
[]
[]
[]
["Cement Treated Base"]
["Subgrade Category","Drainage","Mr (psi)","Design SN (in)",null,null,null,null,null,null,null,null,null,"Paver Thickness (in)",null,null,null,null,null,null,null,null,null,"SN Remaining (Excluding Pavers)",null,null,null,null,null,null,null,null,null,"Cement Treated Base Thickness (in)",null,null,null,null,null,null,null,null,null,"SN Remaining (excluding Pavers and Base)",null,null,null,null,null,null,null,null,null,"Unbound Dense Graded Base Thickness (in)",null,null,null,null,null,null,null,null,null,"SN Remaining (excluding Pavers and Base and Untreated Granular Base)",null,null,null,null,null,null,null,null,null,"Unbound Dense Graded Subbase Thickness (in)"]
[null,null,null,10000,20000,50000,100000,200000,500000,1000000,2000000,5000000,10000000,10000,20000,50000,100000,200000,500000,1000000,2000000,5000000,10000000,10000,20000,50000,100000,200000,500000,1000000,2000000,5000000,10000000,10000,20000,50000,100000,200000,500000,1000000,2000000,5000000,10000000,10000,20000,50000,100000,200000,500000,1000000,2000000,5000000,10000000,10000,20000,50000,100000,200000,500000,1000000,2000000,5000000,10000000,10000,20000,50000,100000,200000,500000,1000000,2000000,5000000,10000000,10000,20000,50000,100000,200000,500000,1000000,2000000,5000000,10000000]
[1,"Good",{"$f":"C4","v":12000},{"$f":"D4","v":1.1541380000000001},{"$f":"E4","v":1.3222959999999999},1.566929,1.7715179999999999,1.995749,2.3284400000000001,2.6132810000000002,2.932134,3.411794,3.8182109999999998,{"$f":"ThickPaver","v":4.125},4.125,4.125,4.125,4.125,4.125,4.125,4.125,4.125,4.125,{"$f":"MAX(0,D64-N64*Apaver)","v":0},{"$f":"MAX(0,E64-O64*Apaver)","v":0},{"$f":"MAX(0,F64-P64*Apaver)","v":0},{"$f":"MAX(0,G64-Q64*Apaver)","v":0},{"$f":"MAX(0,H64-R64*Apaver)","v":0.18074900000000005},{"$f":"MAX(0,I64-S64*Apaver)","v":0.51344000000000012},{"$f":"MAX(0,J64-T64*Apaver)","v":0.79828100000000024},{"$f":"MAX(0,K64-U64*Apaver)","v":1.1171340000000001},{"$f":"MAX(0,L64-V64*Apaver)","v":1.596794},{"$f":"MAX(0,M64-W64*Apaver)","v":2.0032109999999999},{"$f":"ThickCTB","v":4},4,4,4,4,4,4,4,4,4,{"$f":"MAX(0,X64-AH64*Actb)","v":0},{"$f":"MAX(0,Y64-AI64*Actb)","v":0},{"$f":"MAX(0,Z64-AJ64*Actb)","v":0},{"$f":"MAX(0,AA64-AK64*Actb)","v":0},{"$f":"MAX(0,AB64-AL64*Actb)","v":0},{"$f":"MAX(0,AC64-AM64*Actb)","v":0},{"$f":"MAX(0,AD64-AN64*Actb)","v":0},{"$f":"MAX(0,AE64-AO64*Actb)","v":0.31713400000000003},{"$f":"MAX(0,AF64-AP64*Actb)","v":0.796794},{"$f":"MAX(0,AG64-AQ64*Actb)","v":1.2032109999999998},{"$f":"IF(AR64<4*Agran,4,IF(AR64>8*Agran,4,ROUNDUP(AR64/Agran/1,0)*1))","v":4},{"$f":"IF(AS64<4*Agran,4,IF(AS64>8*Agran,4,ROUNDUP(AS64/Agran/1,0)*1))","v":4},{"$f":"IF(AT64<4*Agran,4,IF(AT64>8*Agran,4,ROUNDUP(AT64/Agran/1,0)*1))","v":4},{"$f":"IF(AU64<4*Agran,4,IF(AU64>8*Agran,4,ROUNDUP(AU64/Agran/1,0)*1))","v":4},{"$f":"IF(AV64<4*Agran,4,IF(AV64>8*Agran,4,ROUNDUP(AV64/Agran/1,0)*1))","v":4},{"$f":"IF(AW64<6*Agran,6,IF(AW64>8*Agran,6,ROUNDUP(AW64/Agran/1,0)*1))","v":6},{"$f":"IF(AX64<6*Agran,6,IF(AX64>8*Agran,6,ROUNDUP(AX64/Agran/1,0)*1))","v":6},{"$f":"IF(AY64<6*Agran,6,IF(AY64>8*Agran,6,ROUNDUP(AY64/Agran/1,0)*1))","v":6},{"$f":"IF(AZ64<6*Agran,6,IF(AZ64>8*Agran,6,ROUNDUP(AZ64/Agran/1,0)*1))","v":6},{"$f":"IF(BA64<6*Agran,6,IF(BA64>8*Agran,6,ROUNDUP(BA64/Agran/1,0)*1))","v":6},{"$f":"MAX(0,AR64-BB64*Agran)","v":0},{"$f":"MAX(0,AS64-BC64*Agran)","v":0},{"$f":"MAX(0,AT64-BD64*Agran)","v":0},{"$f":"MAX(0,AU64-BE64*Agran)","v":0},{"$f":"MAX(0,AV64-BF64*Agran)","v":0},{"$f":"MAX(0,AW64-BG64*Agran)","v":0},{"$f":"MAX(0,AX64-BH64*Agran)","v":0},{"$f":"MAX(0,AY64-BI64*Agran)","v":0},{"$f":"MAX(0,AZ64-BJ64*Agran)","v":0},{"$f":"MAX(0,BA64-BK64*Agran)","v":0.36321099999999973},{"$f":"IF(BL64<=0,0,MAX(6,ROUNDUP(BL64/Asubbase/1,0)*1))","v":0},{"$f":"IF(BM64<=0,0,MAX(6,ROUNDUP(BM64/Asubbase/1,0)*1))","v":0},{"$f":"IF(BN64<=0,0,MAX(6,ROUNDUP(BN64/Asubbase/1,0)*1))","v":0},{"$f":"IF(BO64<=0,0,MAX(6,ROUNDUP(BO64/Asubbase/1,0)*1))","v":0},{"$f":"IF(BP64<=0,0,MAX(6,ROUNDUP(BP64/Asubbase/1,0)*1))","v":0},{"$f":"IF(BQ64<=0,0,MAX(6,ROUNDUP(BQ64/Asubbase/1,0)*1))","v":0},{"$f":"IF(BR64<=0,0,MAX(6,ROUNDUP(BR64/Asubbase/1,0)*1))","v":0},{"$f":"IF(BS64<=0,0,MAX(6,ROUNDUP(BS64/Asubbase/1,0)*1))","v":0},{"$f":"IF(BT64<=0,0,MAX(6,ROUNDUP(BT64/Asubbase/1,0)*1))","v":0},{"$f":"IF(BU64<=0,0,MAX(6,ROUNDUP(BU64/Asubbase/1,0)*1))","v":6},null,{"$f":"N64*Apaver+AH64*Actb+BB64*Agran+BV64*Asubbase","v":3.1750000000000003},{"$f":"O64*Apaver+AI64*Actb+BC64*Agran+BW64*Asubbase","v":3.1750000000000003},{"$f":"P64*Apaver+AJ64*Actb+BD64*Agran+BX64*Asubbase","v":3.1750000000000003},{"$f":"Q64*Apaver+AK64*Actb+BE64*Agran+BY64*Asubbase","v":3.1750000000000003},{"$f":"R64*Apaver+AL64*Actb+BF64*Agran+BZ64*Asubbase","v":3.1750000000000003},{"$f":"S64*Apaver+AM64*Actb+BG64*Agran+CA64*Asubbase","v":3.4550000000000001},{"$f":"T64*Apaver+AN64*Actb+BH64*Agran+CB64*Asubbase","v":3.4550000000000001},{"$f":"U64*Apaver+AO64*Actb+BI64*Agran+CC64*Asubbase","v":3.4550000000000001},{"$f":"V64*Apaver+AP64*Actb+BJ64*Agran+CD64*Asubbase","v":3.4550000000000001},{"$f":"W64*Apaver+AQ64*Actb+BK64*Agran+CE64*Asubbase","v":3.9950000000000001},{"$f":"(CG64)/D64","v":2.7509708544385507},{"$f":"(CH64)/E64","v":2.4011265253770717},{"$f":"(CI64)/F64","v":2.0262564545043205},{"$f":"(CJ64)/G64","v":1.7922482300490317},{"$f":"(CK64)/H64","v":1.590881418454926},{"$f":"(CL64)/I64","v":1.4838260809812578},{"$f":"(CM64)/J64","v":1.3220928021135117},{"$f":"(CN64)/K64","v":1.1783226823876398},{"$f":"(CO64)/L64","v":1.0126637188528969},{"$f":"(CP64)/M64","v":1.046301527076424}]
[1,"Fair",{"$f":"C5","v":11000},{"$f":"D5","v":1.201722},1.3738710000000001,1.6246499999999999,1.834625,2.065242,2.408172,2.7024409999999999,3.0320149999999999,3.5264509999999998,3.9429789999999998,4.125,4.125,4.125,4.125,4.125,4.125,4.125,4.125,4.125,4.125,0,0,0,1.9625000000000004E-2,0.25024200000000008,0.59317200000000003,0.88744099999999992,1.217015,1.7114509999999998,2.1279789999999998,4,4,4,4,4,4,4,4,4,4,0,0,0,0,0,0,8.744099999999988E-2,0.41701499999999991,0.91145099999999979,1.3279789999999998,4,4,4,4,4,6,6,6,7,6,0,0,0,0,0,0,0,0,0,0.48797899999999972,0,0,0,0,0,0,0,0,0,6,null,3.1750000000000003,3.1750000000000003,3.1750000000000003,3.1750000000000003,3.1750000000000003,3.4550000000000001,3.4550000000000001,3.4550000000000001,3.5950000000000002,3.9950000000000001,{"$f":"(CG65)/D65","v":2.6420420030589442},2.3109884406905743,1.9542670729080112,1.7305988962322003,1.5373501023124652,1.4346981860099695,1.2784737946175329,1.139506235951999,1.0194385233199044,1.0131933241338593]
[1,"Poor",10000,{"$f":"D6","v":1.255134},1.431845,1.689594,1.905778,2.143707,2.4984730000000002,2.8035380000000001,3.1451500000000001,3.6556039999999999,4.0826750000000001,4.125,4.125,4.125,4.125,4.125,4.125,4.125,4.125,4.125,4.125,0,0,0,9.0778000000000025E-2,0.32870700000000008,0.68347300000000022,0.98853800000000014,1.3301500000000002,1.8406039999999999,2.2676750000000001,4,4,4,4,4,4,4,4,4,4,0,0,0,0,0,0,0.18853800000000009,0.53015000000000012,1.0406039999999999,1.4676750000000001,4,4,4,4,4,6,6,6,8,6,0,0,0,0,0,0,0,0,0,0.62767499999999998,0,0,0,0,0,0,0,0,0,7,null,3.1750000000000003,3.1750000000000003,3.1750000000000003,3.1750000000000003,3.1750000000000003,3.4550000000000001,3.4550000000000001,3.4550000000000001,3.7350000000000003,4.085,2.5296103842298914,2.2174187848545062,1.8791496655409525,1.6659862796191374,1.4810792706279357,1.3828446415070323,1.2323713821606841,1.098516763906332,1.0217189826906854,1.0005694795691551]
[2,"Good",11000,{"$f":"D7","v":1.201722},1.3738710000000001,1.6246499999999999,1.834625,2.065242,2.408172,2.7024409999999999,3.0320149999999999,3.5264509999999998,3.9429789999999998,4.125,4.125,4.125,4.125,4.125,4.125,4.125,4.125,4.125,4.125,0,0,0,1.9625000000000004E-2,0.25024200000000008,0.59317200000000003,0.88744099999999992,1.217015,1.7114509999999998,2.1279789999999998,4,4,4,4,4,4,4,4,4,4,0,0,0,0,0,0,8.744099999999988E-2,0.41701499999999991,0.91145099999999979,1.3279789999999998,4,4,4,4,4,6,6,6,7,6,0,0,0,0,0,0,0,0,0,0.48797899999999972,0,0,0,0,0,0,0,0,0,6,null,3.1750000000000003,3.1750000000000003,3.1750000000000003,3.1750000000000003,3.1750000000000003,3.4550000000000001,3.4550000000000001,3.4550000000000001,3.5950000000000002,3.9950000000000001,2.6420420030589442,2.3109884406905743,1.9542670729080112,1.7305988962322003,1.5373501023124652,1.4346981860099695,1.2784737946175329,1.139506235951999,1.0194385233199044,1.0131933241338593]
[2,"Fair",10000,{"$f":"D8","v":1.255134},1.431845,1.689594,1.905778,2.143707,2.4984730000000002,2.8035380000000001,3.1451500000000001,3.6556039999999999,4.0826750000000001,4.125,4.125,4.125,4.125,4.125,4.125,4.125,4.125,4.125,4.125,0,0,0,9.0778000000000025E-2,0.32870700000000008,0.68347300000000022,0.98853800000000014,1.3301500000000002,1.8406039999999999,2.2676750000000001,4,4,4,4,4,4,4,4,4,4,0,0,0,0,0,0,0.18853800000000009,0.53015000000000012,1.0406039999999999,1.4676750000000001,4,4,4,4,4,6,6,6,8,6,0,0,0,0,0,0,0,0,0,0.62767499999999998,0,0,0,0,0,0,0,0,0,7,null,3.1750000000000003,3.1750000000000003,3.1750000000000003,3.1750000000000003,3.1750000000000003,3.4550000000000001,3.4550000000000001,3.4550000000000001,3.7350000000000003,4.085,2.5296103842298914,2.2174187848545062,1.8791496655409525,1.6659862796191374,1.4810792706279357,1.3828446415070323,1.2323713821606841,1.098516763906332,1.0217189826906854,1.0005694795691551]
[2,"Poor",7000,{"$f":"D9","v":1.4678340000000001},1.6632990000000001,1.950105,2.192672,2.4618250000000002,2.8667720000000001,3.2158350000000002,3.603294,4.169022,4.631094,4.125,4.125,4.125,4.125,4.125,4.125,4.125,4.125,4.125,4.125,0,0,0.13510500000000003,0.37767200000000001,0.64682500000000021,1.0517720000000002,1.4008350000000003,1.7882940000000001,2.3540220000000001,2.8160940000000001,4,4,4,4,4,4,4,4,4,4,0,0,0,0,0,0.25177200000000011,0.60083500000000023,0.98829400000000001,1.554022,2.0160939999999998,4,4,4,4,4,6,6,8,6,6,0,0,0,0,0,0,0,0,0.71402199999999993,1.1760939999999998,0,0,0,0,0,0,0,0,8,14,null,3.1750000000000003,3.1750000000000003,3.1750000000000003,3.1750000000000003,3.1750000000000003,3.4550000000000001,3.4550000000000001,3.7350000000000003,4.1749999999999998,4.7149999999999999,2.1630511352101123,1.9088570365280086,1.6281174603418791,1.4480049911705901,1.2896936216018604,1.2051882744773563,1.0743710420466224,1.036551555326876,1.0014339094396718,1.0181179652151306]
[3,"Good",10000,{"$f":"D10","v":1.255134},1.431845,1.689594,1.905778,2.143707,2.4984730000000002,2.8035380000000001,3.1451500000000001,3.6556039999999999,4.0826750000000001,4.125,4.125,4.125,4.125,4.125,4.125,4.125,4.125,4.125,4.125,0,0,0,9.0778000000000025E-2,0.32870700000000008,0.68347300000000022,0.98853800000000014,1.3301500000000002,1.8406039999999999,2.2676750000000001,4,4,4,4,4,4,4,4,4,4,0,0,0,0,0,0,0.18853800000000009,0.53015000000000012,1.0406039999999999,1.4676750000000001,4,4,4,4,4,6,6,6,8,6,0,0,0,0,0,0,0,0,0,0.62767499999999998,0,0,0,0,0,0,0,0,0,7,null,3.1750000000000003,3.1750000000000003,3.1750000000000003,3.1750000000000003,3.1750000000000003,3.4550000000000001,3.4550000000000001,3.4550000000000001,3.7350000000000003,4.085,2.5296103842298914,2.2174187848545062,1.8791496655409525,1.6659862796191374,1.4810792706279357,1.3828446415070323,1.2323713821606841,1.098516763906332,1.0217189826906854,1.0005694795691551]
[3,"Fair",8000,{"$f":"D11","v":1.3857189999999999},1.5738350000000001,1.8491340000000001,2.0812339999999998,2.3379439999999998,2.7230210000000001,3.0550519999999999,3.4254799999999999,3.9715669999999998,4.421246,4.125,4.125,4.125,4.125,4.125,4.125,4.125,4.125,4.125,4.125,0,0,3.4134000000000109E-2,0.26623399999999986,0.52294399999999985,0.90802100000000019,1.2400519999999999,1.6104799999999999,2.1565669999999999,2.6062460000000001,4,4,4,4,4,4,4,4,4,4,0,0,0,0,0,0.10802100000000014,0.44005199999999989,0.81047999999999987,1.3565669999999999,1.806246,4,4,4,4,4,6,6,6,6,6,0,0,0,0,0,0,0,0,0.51656699999999978,0.96624599999999994,0,0,0,0,0,0,0,0,6,11,null,3.1750000000000003,3.1750000000000003,3.1750000000000003,3.1750000000000003,3.1750000000000003,3.4550000000000001,3.4550000000000001,3.4550000000000001,3.9950000000000001,4.4450000000000003,2.2912293184981953,2.0173652257066337,1.7170199671846389,1.5255372533794858,1.3580308168202491,1.2688113679622741,1.1309136472963472,1.0086177703562713,1.0059001900257507,1.0053726935800451]
[3,"Poor",5000,{"$f":"D12","v":1.6892130000000001},1.9053340000000001,2.2250619999999999,2.4979399999999998,2.802905,3.262645,3.6548180000000001,4.0818139999999996,4.6912859999999998,5.1829850000000004,4.125,4.125,4.125,4.125,4.125,4.125,4.125,4.125,4.125,4.125,0,9.0334000000000136E-2,0.41006199999999993,0.68293999999999988,0.98790500000000003,1.4476450000000001,1.8398180000000002,2.2668139999999997,2.8762859999999999,3.3679850000000005,4,4,4,4,4,4,4,4,4,4,0,0,0,0,0.18790499999999999,0.64764500000000003,1.0398180000000001,1.4668139999999996,2.0762859999999996,2.5679850000000002,4,4,4,4,4,6,8,6,6,6,0,0,0,0,0,0,0,0.62681399999999954,1.2362859999999996,1.7279850000000001,0,0,0,0,0,0,0,7,14,20,null,3.1750000000000003,3.1750000000000003,3.1750000000000003,3.1750000000000003,3.1750000000000003,3.4550000000000001,3.7350000000000003,4.085,4.7149999999999999,5.2549999999999999,1.8795735055318661,1.6663745044175982,1.4269265305865637,1.271047343010641,1.132753339838489,1.0589567666724391,1.0219387121328614,1.0007805353208157,1.005054903921867,1.0138945028781676]
[4,"Good",8000,{"$f":"D13","v":1.3857189999999999},1.5738350000000001,1.8491340000000001,2.0812339999999998,2.3379439999999998,2.7230210000000001,3.0550519999999999,3.4254799999999999,3.9715669999999998,4.421246,4.125,4.125,4.125,4.125,4.125,4.125,4.125,4.125,4.125,4.125,0,0,3.4134000000000109E-2,0.26623399999999986,0.52294399999999985,0.90802100000000019,1.2400519999999999,1.6104799999999999,2.1565669999999999,2.6062460000000001,4,4,4,4,4,4,4,4,4,4,0,0,0,0,0,0.10802100000000014,0.44005199999999989,0.81047999999999987,1.3565669999999999,1.806246,4,4,4,4,4,6,6,6,6,6,0,0,0,0,0,0,0,0,0.51656699999999978,0.96624599999999994,0,0,0,0,0,0,0,0,6,11,null,3.1750000000000003,3.1750000000000003,3.1750000000000003,3.1750000000000003,3.1750000000000003,3.4550000000000001,3.4550000000000001,3.4550000000000001,3.9950000000000001,4.4450000000000003,2.2912293184981953,2.0173652257066337,1.7170199671846389,1.5255372533794858,1.3580308168202491,1.2688113679622741,1.1309136472963472,1.0086177703562713,1.0059001900257507,1.0053726935800451]
[4,"Fair",5000,{"$f":"D14","v":1.6892130000000001},1.9053340000000001,2.2250619999999999,2.4979399999999998,2.802905,3.262645,3.6548180000000001,4.0818139999999996,4.6912859999999998,5.1829850000000004,{"$f":"ThickPaver","v":4.125},4.125,4.125,4.125,4.125,4.125,4.125,4.125,4.125,4.125,0,9.0334000000000136E-2,0.41006199999999993,0.68293999999999988,0.98790500000000003,1.4476450000000001,1.8398180000000002,2.2668139999999997,2.8762859999999999,3.3679850000000005,{"$f":"ThickCTB","v":4},4,4,4,4,4,4,4,4,4,0,0,0,0,0.18790499999999999,0.64764500000000003,1.0398180000000001,1.4668139999999996,2.0762859999999996,2.5679850000000002,4,4,4,4,4,6,8,6,6,6,0,0,0,0,0,0,0,0.62681399999999954,1.2362859999999996,1.7279850000000001,0,0,0,0,0,0,0,7,14,20,null,3.1750000000000003,3.1750000000000003,3.1750000000000003,3.1750000000000003,3.1750000000000003,3.4550000000000001,3.7350000000000003,4.085,4.7149999999999999,5.2549999999999999,1.8795735055318661,1.6663745044175982,1.4269265305865637,1.271047343010641,1.132753339838489,1.0589567666724391,1.0219387121328614,1.0007805353208157,1.005054903921867,1.0138945028781676]
[4,"Poor",4500,{"$f":"D15","v":1.763155},1.986575,2.3179470000000002,2.6015470000000001,2.919006,3.3966639999999999,3.8016869999999998,4.2397320000000001,4.8616989999999998,5.3627500000000001,4.125,4.125,4.125,4.125,4.125,4.125,4.125,4.125,4.125,4.125,0,0.17157500000000003,0.50294700000000025,0.78654700000000011,1.104006,1.581664,1.9866869999999999,2.4247320000000001,3.0466989999999998,3.5477500000000002,4,4,4,4,4,4,4,4,4,4,0,0,0,0,0.304006,0.78166399999999991,1.1866869999999998,1.6247320000000001,2.2466989999999996,2.7477499999999999,4,4,4,4,4,6,6,6,6,6,0,0,0,0,0,0,0.34668699999999975,0.78473199999999999,1.4066989999999995,1.9077499999999998,0,0,0,0,0,0,6,9,16,22,null,3.1750000000000003,3.1750000000000003,3.1750000000000003,3.1750000000000003,3.1750000000000003,3.4550000000000001,3.9950000000000001,4.2649999999999997,4.8949999999999996,5.4350000000000005,1.8007492251106683,1.5982281061626167,1.3697465904095305,1.2204276916772983,1.0876990317936996,1.0171744982724227,1.0508492677066787,1.005959810667278,1.0068496630498927,1.0134725653815673]
[5,"Good",6000,{"$f":"D16","v":1.5665480000000001},1.771075,2.0722119999999999,2.3279079999999999,2.612698,3.0420509999999998,3.4110589999999998,3.8174000000000001,4.4040629999999998,4.8798199999999996,4.125,4.125,4.125,4.125,4.125,4.125,4.125,4.125,4.125,4.125,0,0,0.257212,0.51290799999999992,0.79769800000000002,1.2270509999999999,1.5960589999999999,2.0024000000000002,2.5890629999999999,3.0648199999999997,4,4,4,4,4,4,4,4,4,4,0,0,0,0,0,0.42705099999999985,0.79605899999999985,1.2024000000000001,1.7890629999999998,2.2648199999999994,4,4,4,4,4,6,6,6,6,6,0,0,0,0,0,0,0,0.36240000000000006,0.94906299999999977,1.4248199999999993,0,0,0,0,0,0,0,6,11,16,null,3.1750000000000003,3.1750000000000003,3.1750000000000003,3.1750000000000003,3.1750000000000003,3.4550000000000001,3.4550000000000001,3.9950000000000001,4.4450000000000003,4.8949999999999996,2.026749260156727,1.7926965261211414,1.5321791399721651,1.3638855143759978,1.215218903983545,1.1357469023366145,1.0128819231798689,1.0465238120186515,1.0092952802900415,1.003110770479239]
[5,"Fair",4500,{"$f":"D17","v":1.763155},1.986575,2.3179470000000002,2.6015470000000001,2.919006,3.3966639999999999,3.8016869999999998,4.2397320000000001,4.8616989999999998,5.3627500000000001,4.125,4.125,4.125,4.125,4.125,4.125,4.125,4.125,4.125,4.125,0,0.17157500000000003,0.50294700000000025,0.78654700000000011,1.104006,1.581664,1.9866869999999999,2.4247320000000001,3.0466989999999998,3.5477500000000002,4,4,4,4,4,4,4,4,4,4,0,0,0,0,0.304006,0.78166399999999991,1.1866869999999998,1.6247320000000001,2.2466989999999996,2.7477499999999999,4,4,4,4,4,6,6,6,6,6,0,0,0,0,0,0,0.34668699999999975,0.78473199999999999,1.4066989999999995,1.9077499999999998,0,0,0,0,0,0,6,9,16,22,null,3.1750000000000003,3.1750000000000003,3.1750000000000003,3.1750000000000003,3.1750000000000003,3.4550000000000001,3.9950000000000001,4.2649999999999997,4.8949999999999996,5.4350000000000005,1.8007492251106683,1.5982281061626167,1.3697465904095305,1.2204276916772983,1.0876990317936996,1.0171744982724227,1.0508492677066787,1.005959810667278,1.0068496630498927,1.0134725653815673]
[5,"Poor",3500,{"$f":"D18","v":1.949648},2.1921650000000001,2.5543819999999999,2.8661379999999999,3.215125,3.7350059999999998,4.1681609999999996,4.6301819999999996,5.281345,5.8057889999999999,4.125,4.125,4.125,4.125,4.125,4.125,4.125,4.125,4.125,4.125,0.1346480000000001,0.37716500000000019,0.73938199999999998,1.0511379999999999,1.4001250000000001,1.9200059999999999,2.3531609999999996,2.8151819999999996,3.466345,3.9907889999999999,4,4,4,4,4,4,4,4,4,4,0,0,0,0.25113799999999986,0.60012500000000002,1.1200059999999998,1.5531609999999996,2.0151819999999994,2.6663449999999997,3.1907889999999997,4,4,4,4,5,6,6,6,6,6,0,0,0,0,0,0.28000599999999976,0.71316099999999949,1.1751819999999993,1.8263449999999997,2.3507889999999998,0,0,0,0,0,6,8,14,21,27,null,3.1750000000000003,3.1750000000000003,3.1750000000000003,3.1750000000000003,3.3150000000000004,3.9950000000000001,4.1749999999999998,4.7149999999999999,5.3449999999999998,5.8849999999999998,1.628499093169639,1.4483398831748522,1.2429620941581958,1.1077624315367929,1.0310641110376737,1.069610062206058,1.0016407715536901,1.0183185023828438,1.0120528009436989,1.0136434513896388]
[6,"Good",5000,{"$f":"D19","v":1.6892130000000001},1.9053340000000001,2.2250619999999999,2.4979399999999998,2.802905,3.262645,3.6548180000000001,4.0818139999999996,4.6912859999999998,5.1829850000000004,4.125,4.125,4.125,4.125,4.125,4.125,4.125,4.125,4.125,4.125,0,9.0334000000000136E-2,0.41006199999999993,0.68293999999999988,0.98790500000000003,1.4476450000000001,1.8398180000000002,2.2668139999999997,2.8762859999999999,3.3679850000000005,4,4,4,4,4,4,4,4,4,4,0,0,0,0,0.18790499999999999,0.64764500000000003,1.0398180000000001,1.4668139999999996,2.0762859999999996,2.5679850000000002,4,4,4,4,4,6,8,6,6,6,0,0,0,0,0,0,0,0.62681399999999954,1.2362859999999996,1.7279850000000001,0,0,0,0,0,0,0,7,14,20,null,3.1750000000000003,3.1750000000000003,3.1750000000000003,3.1750000000000003,3.1750000000000003,3.4550000000000001,3.7350000000000003,4.085,4.7149999999999999,5.2549999999999999,1.8795735055318661,1.6663745044175982,1.4269265305865637,1.271047343010641,1.132753339838489,1.0589567666724391,1.0219387121328614,1.0007805353208157,1.005054903921867,1.0138945028781676]
[6,"Fair",3500,{"$f":"D20","v":1.949648},2.1921650000000001,2.5543819999999999,2.8661379999999999,3.215125,3.7350059999999998,4.1681609999999996,4.6301819999999996,5.281345,5.8057889999999999,4.125,4.125,4.125,4.125,4.125,4.125,4.125,4.125,4.125,4.125,0.1346480000000001,0.37716500000000019,0.73938199999999998,1.0511379999999999,1.4001250000000001,1.9200059999999999,2.3531609999999996,2.8151819999999996,3.466345,3.9907889999999999,4,4,4,4,4,4,4,4,4,4,0,0,0,0.25113799999999986,0.60012500000000002,1.1200059999999998,1.5531609999999996,2.0151819999999994,2.6663449999999997,3.1907889999999997,4,4,4,4,5,6,6,6,6,6,0,0,0,0,0,0.28000599999999976,0.71316099999999949,1.1751819999999993,1.8263449999999997,2.3507889999999998,0,0,0,0,0,6,8,14,21,27,null,3.1750000000000003,3.1750000000000003,3.1750000000000003,3.1750000000000003,3.3150000000000004,3.9950000000000001,4.1749999999999998,4.7149999999999999,5.3449999999999998,5.8849999999999998,1.628499093169639,1.4483398831748522,1.2429620941581958,1.1077624315367929,1.0310641110376737,1.069610062206058,1.0016407715536901,1.0183185023828438,1.0120528009436989,1.0136434513896388]
[6,"Poor",2500,{"$f":"D21","v":2.2245550000000001},2.4973830000000001,2.9080569999999999,3.2619099999999999,3.6540319999999999,4.2249569999999999,4.6903740000000003,5.1820219999999999,5.8740649999999999,6.4335339999999999,4.125,4.125,4.125,4.125,4.125,4.125,4.125,4.125,4.125,4.125,0.40955500000000011,0.68238300000000018,1.0930569999999999,1.4469099999999999,1.839032,2.4099569999999999,2.8753740000000003,3.367022,4.0590650000000004,4.6185340000000004,4,4,4,4,4,4,4,4,4,4,0,0,0.2930569999999999,0.64690999999999987,1.039032,1.6099569999999999,2.0753740000000001,2.5670219999999997,3.2590650000000005,3.8185340000000005,4,4,4,5,8,6,6,6,6,6,0,0,0,0,0,0.76995699999999978,1.235374,1.7270219999999996,2.4190650000000007,2.9785340000000007,0,0,0,0,0,9,14,20,27,34,null,3.1750000000000003,3.1750000000000003,3.1750000000000003,3.3150000000000004,3.7350000000000003,4.2649999999999997,4.7149999999999999,5.2549999999999999,5.8849999999999998,6.5150000000000006,1.4272517424833282,1.2713308291119143,1.0917942805110079,1.0162757402871325,1.0221585361047743,1.0094777295958277,1.0052503275858171,1.0140829197560335,1.0018615728630855,1.0126627138365945]
[7,"Good",4000,{"$f":"D22","v":1.848754},2.0807530000000001,2.4260139999999999,2.7224119999999998,3.0543680000000002,3.5520480000000001,3.9707309999999998,4.4203590000000004,5.0560369999999999,5.5678089999999996,4.125,4.125,4.125,4.125,4.125,4.125,4.125,4.125,4.125,4.125,3.3754000000000062E-2,0.26575300000000013,0.61101399999999995,0.90741199999999989,1.2393680000000002,1.7370480000000001,2.1557309999999998,2.6053590000000004,3.2410369999999999,3.7528089999999996,4,4,4,4,4,4,4,4,4,4,0,0,0,0.10741199999999984,0.4393680000000002,0.9370480000000001,1.3557309999999998,1.8053590000000004,2.4410369999999997,2.9528089999999994,4,4,4,4,4,7,6,6,6,6,0,0,0,0,0,0,0.51573099999999972,0.9653590000000003,1.6010369999999996,2.1128089999999995,0,0,0,0,0,0,6,11,18,24,null,3.1750000000000003,3.1750000000000003,3.1750000000000003,3.1750000000000003,3.1750000000000003,3.5950000000000002,3.9950000000000001,4.4450000000000003,5.0750000000000002,5.6150000000000002,1.7173728900654173,1.525889906202226,1.3087311120216125,1.1662452266593009,1.0394949135140232,1.012092178934519,1.006111972833214,1.0055744341127044,1.0037505659076467,1.0084756858577586]
[7,"Fair",3000,{"$f":"D23","v":2.0717300000000001},2.3274010000000001,2.7108050000000001,3.0413670000000002,3.4102990000000002,3.954612,4.4031760000000002,4.8788830000000001,5.5483190000000002,6.0881970000000001,4.125,4.125,4.125,4.125,4.125,4.125,4.125,4.125,4.125,4.125,0.25673000000000012,0.51240100000000011,0.89580500000000018,1.2263670000000002,1.5952990000000002,2.1396120000000001,2.5881760000000003,3.0638830000000001,3.7333190000000003,4.2731969999999997,4,4,4,4,4,4,4,4,4,4,0,0,9.580500000000014E-2,0.42636700000000016,0.7952990000000002,1.339612,1.7881760000000002,2.2638829999999999,2.933319,3.4731969999999999,4,4,4,4,6,6,6,6,6,6,0,0,0,0,0,0.49961199999999995,0.94817600000000013,1.4238829999999998,2.0933190000000002,2.633197,0,0,0,0,0,6,11,16,24,30,null,3.1750000000000003,3.1750000000000003,3.1750000000000003,3.1750000000000003,3.4550000000000001,3.9950000000000001,4.4450000000000003,4.8949999999999996,5.6150000000000002,6.1549999999999994,1.5325356103353236,1.3641826225906064,1.1712388017581494,1.0439384658280306,1.0131076483323016,1.0102128856130512,1.0094985982845111,1.0033034200656175,1.0120182347121713,1.0109725424456533]
[7,"Poor",2000,{"$f":"D24","v":2.4254820000000001},2.7218040000000001,3.168669,3.551288,3.9698950000000002,4.5700659999999997,5.0550740000000003,5.5667949999999999,6.2887440000000003,6.8742660000000004,4.125,4.125,4.125,4.125,4.125,4.125,4.125,4.125,4.125,4.125,0.61048200000000019,0.90680400000000017,1.353669,1.7362880000000001,2.1548950000000002,2.7550659999999998,3.2400740000000003,3.751795,4.4737439999999999,5.0592660000000009,4,4,4,4,4,4,4,4,4,4,0,0.10680400000000012,0.55366899999999997,0.93628800000000001,1.3548950000000002,1.9550659999999997,2.4400740000000001,2.9517949999999997,3.6737440000000001,4.2592660000000011,4,4,4,7,4,6,6,6,6,6,0,0,0,0,0.79489500000000013,1.1150659999999997,1.600074,2.1117949999999999,2.8337440000000003,3.4192660000000012,0,0,0,0,9,13,18,24,32,38,null,3.1750000000000003,3.1750000000000003,3.1750000000000003,3.5950000000000002,3.9850000000000003,4.625,5.0750000000000002,5.6150000000000002,6.335,6.875,1.3090181662861238,1.1665057439845044,1.0019979997910795,1.0123087736055201,1.0038048865272255,1.0120203953290827,1.0039417820589767,1.0086593812058824,1.0073553638055548,1.0001067750360546]
[8,"Good",3500,{"$f":"D25","v":1.949648},2.1921650000000001,2.5543819999999999,2.8661379999999999,3.215125,3.7350059999999998,4.1681609999999996,4.6301819999999996,5.281345,5.8057889999999999,4.125,4.125,4.125,4.125,4.125,4.125,4.125,4.125,4.125,4.125,0.1346480000000001,0.37716500000000019,0.73938199999999998,1.0511379999999999,1.4001250000000001,1.9200059999999999,2.3531609999999996,2.8151819999999996,3.466345,3.9907889999999999,4,4,4,4,4,4,4,4,4,4,0,0,0,0.25113799999999986,0.60012500000000002,1.1200059999999998,1.5531609999999996,2.0151819999999994,2.6663449999999997,3.1907889999999997,4,4,4,4,5,6,6,6,6,6,0,0,0,0,0,0.28000599999999976,0.71316099999999949,1.1751819999999993,1.8263449999999997,2.3507889999999998,0,0,0,0,0,6,8,14,21,27,null,3.1750000000000003,3.1750000000000003,3.1750000000000003,3.1750000000000003,3.3150000000000004,3.9950000000000001,4.1749999999999998,4.7149999999999999,5.3449999999999998,5.8849999999999998,1.628499093169639,1.4483398831748522,1.2429620941581958,1.1077624315367929,1.0310641110376737,1.069610062206058,1.0016407715536901,1.0183185023828438,1.0120528009436989,1.0136434513896388]
[8,"Fair",3000,{"$f":"D26","v":2.0717300000000001},2.3274010000000001,2.7108050000000001,3.0413670000000002,3.4102990000000002,3.954612,4.4031760000000002,4.8788830000000001,5.5483190000000002,6.0881970000000001,4.125,4.125,4.125,4.125,4.125,4.125,4.125,4.125,4.125,4.125,0.25673000000000012,0.51240100000000011,0.89580500000000018,1.2263670000000002,1.5952990000000002,2.1396120000000001,2.5881760000000003,3.0638830000000001,3.7333190000000003,4.2731969999999997,4,4,4,4,4,4,4,4,4,4,0,0,9.580500000000014E-2,0.42636700000000016,0.7952990000000002,1.339612,1.7881760000000002,2.2638829999999999,2.933319,3.4731969999999999,4,4,4,4,6,6,6,6,6,6,0,0,0,0,0,0.49961199999999995,0.94817600000000013,1.4238829999999998,2.0933190000000002,2.633197,0,0,0,0,0,6,11,16,24,30,null,3.1750000000000003,3.1750000000000003,3.1750000000000003,3.1750000000000003,3.4550000000000001,3.9950000000000001,4.4450000000000003,4.8949999999999996,5.6150000000000002,6.1549999999999994,1.5325356103353236,1.3641826225906064,1.1712388017581494,1.0439384658280306,1.0131076483323016,1.0102128856130512,1.0094985982845111,1.0033034200656175,1.0120182347121713,1.0109725424456533]
[8,"Poor",2000,{"$f":"D27","v":2.4254820000000001},2.7218040000000001,3.168669,3.551288,3.9698950000000002,4.5700659999999997,5.0550740000000003,5.5667949999999999,6.2887440000000003,6.8742660000000004,4.125,4.125,4.125,4.125,4.125,4.125,4.125,4.125,4.125,4.125,0.61048200000000019,0.90680400000000017,1.353669,1.7362880000000001,2.1548950000000002,2.7550659999999998,3.2400740000000003,3.751795,4.4737439999999999,5.0592660000000009,4,4,4,4,4,4,4,4,4,4,0,0.10680400000000012,0.55366899999999997,0.93628800000000001,1.3548950000000002,1.9550659999999997,2.4400740000000001,2.9517949999999997,3.6737440000000001,4.2592660000000011,4,4,4,7,4,6,6,6,6,6,0,0,0,0,0.79489500000000013,1.1150659999999997,1.600074,2.1117949999999999,2.8337440000000003,3.4192660000000012,0,0,0,0,9,13,18,24,32,38,null,3.1750000000000003,3.1750000000000003,3.1750000000000003,3.5950000000000002,3.9850000000000003,4.625,5.0750000000000002,5.6150000000000002,6.335,6.875,1.3090181662861238,1.1665057439845044,1.0019979997910795,1.0123087736055201,1.0038048865272255,1.0120203953290827,1.0039417820589767,1.0086593812058824,1.0073553638055548,1.0001067750360546]
[]
[]
[]
["Asphalt Concrete Base"]
["Subgrade Category","Drainage","Mr (psi)","Design SN (in)",null,null,null,null,null,null,null,null,null,"Paver Thickness (in)",null,null,null,null,null,null,null,null,null,"SN Remaining (Excluding Pavers)",null,null,null,null,null,null,null,null,null,"Unbound Dense Graded Base Thickness (in)",null,null,null,null,null,null,null,null,null,"SN Remaining (excluding Pavers and Untreated Granular Base)",null,null,null,null,null,null,null,null,null,"Asphalt Concrete Base Thickness (in)"]
[null,null,null,10000,20000,50000,100000,200000,500000,1000000,2000000,5000000,10000000,10000,20000,50000,100000,200000,500000,1000000,2000000,5000000,10000000,10000,20000,50000,100000,200000,500000,1000000,2000000,5000000,10000000,10000,20000,50000,100000,200000,500000,1000000,2000000,5000000,10000000,10000,20000,50000,100000,200000,500000,1000000,2000000,5000000,10000000,10000,20000,50000,100000,200000,500000,1000000,2000000,5000000,10000000]
[1,"Good",{"$f":"C4","v":12000},{"$f":"D4","v":1.1541380000000001},{"$f":"E4","v":1.3222959999999999},1.566929,1.7715179999999999,1.995749,2.3284400000000001,2.6132810000000002,2.932134,3.411794,3.8182109999999998,{"$f":"ThickPaver","v":4.125},4.125,4.125,4.125,4.125,4.125,4.125,4.125,4.125,4.125,{"$f":"MAX(0,D94-N94*Apaver)","v":0},{"$f":"MAX(0,E94-O94*Apaver)","v":0},{"$f":"MAX(0,F94-P94*Apaver)","v":0},{"$f":"MAX(0,G94-Q94*Apaver)","v":0},{"$f":"MAX(0,H94-R94*Apaver)","v":0.18074900000000005},{"$f":"MAX(0,I94-S94*Apaver)","v":0.51344000000000012},{"$f":"MAX(0,J94-T94*Apaver)","v":0.79828100000000024},{"$f":"MAX(0,K94-U94*Apaver)","v":1.1171340000000001},{"$f":"MAX(0,L94-V94*Apaver)","v":1.596794},{"$f":"MAX(0,M94-W94*Apaver)","v":2.0032109999999999},{"$f":"IF(AH$93<500000,4,6)","v":4},{"$f":"IF(AI$93<500000,4,6)","v":4},4,4,4,6,6,6,6,6,{"$f":"MAX(0,X94-AH94*Agran)","v":0},{"$f":"MAX(0,Y94-AI94*Agran)","v":0},{"$f":"MAX(0,Z94-AJ94*Agran)","v":0},{"$f":"MAX(0,AA94-AK94*Agran)","v":0},{"$f":"MAX(0,AB94-AL94*Agran)","v":0},{"$f":"MAX(0,AC94-AM94*Agran)","v":0},{"$f":"MAX(0,AD94-AN94*Agran)","v":0},{"$f":"MAX(0,AE94-AO94*Agran)","v":0.27713399999999999},{"$f":"MAX(0,AF94-AP94*Agran)","v":0.75679399999999997},{"$f":"MAX(0,AG94-AQ94*Agran)","v":1.1632109999999998},{"$f":"MAX(2,IF(AR94<0,0,ROUNDUP(AR94/Aacb/0.5,0)*0.5))","v":2},{"$f":"MAX(2,IF(AS94<0,0,ROUNDUP(AS94/Aacb/0.5,0)*0.5))","v":2},{"$f":"MAX(2,IF(AT94<0,0,ROUNDUP(AT94/Aacb/0.5,0)*0.5))","v":2},{"$f":"MAX(2,IF(AU94<0,0,ROUNDUP(AU94/Aacb/0.5,0)*0.5))","v":2},{"$f":"MAX(2,IF(AV94<0,0,ROUNDUP(AV94/Aacb/0.5,0)*0.5))","v":2},{"$f":"MAX(2,IF(AW94<0,0,ROUNDUP(AW94/Aacb/0.5,0)*0.5))","v":2},{"$f":"MAX(2,IF(AX94<0,0,ROUNDUP(AX94/Aacb/0.5,0)*0.5))","v":2},{"$f":"MAX(2,IF(AY94<0,0,ROUNDUP(AY94/Aacb/0.5,0)*0.5))","v":2},{"$f":"MAX(2,IF(AZ94<0,0,ROUNDUP(AZ94/Aacb/0.5,0)*0.5))","v":2},{"$f":"MAX(2,IF(BA94<0,0,ROUNDUP(BA94/Aacb/0.5,0)*0.5))","v":3},null,null,null,null,null,null,null,null,null,null,null,null,null,null,null,null,null,null,null,null,null,{"$f":"N94*Apaver+AH94*Agran+BB94*Aacb","v":3.2149999999999999},{"$f":"O94*Apaver+AI94*Agran+BC94*Aacb","v":3.2149999999999999},{"$f":"P94*Apaver+AJ94*Agran+BD94*Aacb","v":3.2149999999999999},{"$f":"Q94*Apaver+AK94*Agran+BE94*Aacb","v":3.2149999999999999},{"$f":"R94*Apaver+AL94*Agran+BF94*Aacb","v":3.2149999999999999},{"$f":"S94*Apaver+AM94*Agran+BG94*Aacb","v":3.4950000000000001},{"$f":"T94*Apaver+AN94*Agran+BH94*Aacb","v":3.4950000000000001},{"$f":"U94*Apaver+AO94*Agran+BI94*Aacb","v":3.4950000000000001},{"$f":"V94*Apaver+AP94*Agran+BJ94*Aacb","v":3.4950000000000001},{"$f":"W94*Apaver+AQ94*Agran+BK94*Aacb","v":3.915},{"$f":"(CG94)/D94","v":2.7856287549669099},{"$f":"(CH94)/E94","v":2.431376938295208},{"$f":"(CI94)/F94","v":2.051784094876028},{"$f":"(CJ94)/G94","v":1.8148277353094917},{"$f":"(CK94)/H94","v":1.6109240190023895},{"$f":"(CL94)/I94","v":1.501004964697394},{"$f":"(CM94)/J94","v":1.3373992310815408},{"$f":"(CN94)/K94","v":1.1919646237177428},{"$f":"(CO94)/L94","v":1.0243877561189216},{"$f":"(CP94)/M94","v":1.0253493062588737}]
[1,"Fair",{"$f":"C5","v":11000},{"$f":"D5","v":1.201722},1.3738710000000001,1.6246499999999999,1.834625,2.065242,2.408172,2.7024409999999999,3.0320149999999999,3.5264509999999998,3.9429789999999998,4.125,4.125,4.125,4.125,4.125,4.125,4.125,4.125,4.125,4.125,0,0,0,1.9625000000000004E-2,0.25024200000000008,0.59317200000000003,0.88744099999999992,1.217015,1.7114509999999998,2.1279789999999998,{"$f":"IF(AH$93<500000,4,6)","v":4},4,4,4,4,6,6,6,6,6,0,0,0,0,0,0,4.7440999999999844E-2,0.37701499999999988,0.87145099999999975,1.2879789999999998,2,2,2,2,2,2,2,2,2.5,3.5,null,null,null,null,null,null,null,null,null,null,null,null,null,null,null,null,null,null,null,null,null,3.2149999999999999,3.2149999999999999,3.2149999999999999,3.2149999999999999,3.2149999999999999,3.4950000000000001,3.4950000000000001,3.4950000000000001,3.7050000000000001,4.125,{"$f":"(CG95)/D95","v":2.6753275716014184},2.3401032556914001,1.9788877604407102,1.7524017169721333,1.5567182925778189,1.4513082952546579,1.2932752278403119,1.1526987828226445,1.0506313571349779,1.0461633196626205]
[1,"Poor",10000,{"$f":"D6","v":1.255134},1.431845,1.689594,1.905778,2.143707,2.4984730000000002,2.8035380000000001,3.1451500000000001,3.6556039999999999,4.0826750000000001,4.125,4.125,4.125,4.125,4.125,4.125,4.125,4.125,4.125,4.125,0,0,0,9.0778000000000025E-2,0.32870700000000008,0.68347300000000022,0.98853800000000014,1.3301500000000002,1.8406039999999999,2.2676750000000001,4,4,4,4,4,6,6,6,6,6,0,0,0,0,0,0,0.14853800000000006,0.49015000000000009,1.0006039999999998,1.427675,2,2,2,2,2,2,2,2,2.5,3.5,null,null,null,null,null,null,null,null,null,null,null,null,null,null,null,null,null,null,null,null,null,3.2149999999999999,3.2149999999999999,3.2149999999999999,3.2149999999999999,3.2149999999999999,3.4950000000000001,3.4950000000000001,3.4950000000000001,3.7050000000000001,4.125,2.5614794914327872,2.2453547695455862,1.9028239920359564,1.6869750831418979,1.4997385370295473,1.3988544202799069,1.2466390682059598,1.1112347582786195,1.013512404516463,1.0103669775331126]
[2,"Good",11000,{"$f":"D7","v":1.201722},1.3738710000000001,1.6246499999999999,1.834625,2.065242,2.408172,2.7024409999999999,3.0320149999999999,3.5264509999999998,3.9429789999999998,4.125,4.125,4.125,4.125,4.125,4.125,4.125,4.125,4.125,4.125,0,0,0,1.9625000000000004E-2,0.25024200000000008,0.59317200000000003,0.88744099999999992,1.217015,1.7114509999999998,2.1279789999999998,4,4,4,4,4,6,6,6,6,6,0,0,0,0,0,0,4.7440999999999844E-2,0.37701499999999988,0.87145099999999975,1.2879789999999998,2,2,2,2,2,2,2,2,2.5,3.5,null,null,null,null,null,null,null,null,null,null,null,null,null,null,null,null,null,null,null,null,null,3.2149999999999999,3.2149999999999999,3.2149999999999999,3.2149999999999999,3.2149999999999999,3.4950000000000001,3.4950000000000001,3.4950000000000001,3.7050000000000001,4.125,2.6753275716014184,2.3401032556914001,1.9788877604407102,1.7524017169721333,1.5567182925778189,1.4513082952546579,1.2932752278403119,1.1526987828226445,1.0506313571349779,1.0461633196626205]
[2,"Fair",10000,{"$f":"D8","v":1.255134},1.431845,1.689594,1.905778,2.143707,2.4984730000000002,2.8035380000000001,3.1451500000000001,3.6556039999999999,4.0826750000000001,4.125,4.125,4.125,4.125,4.125,4.125,4.125,4.125,4.125,4.125,0,0,0,9.0778000000000025E-2,0.32870700000000008,0.68347300000000022,0.98853800000000014,1.3301500000000002,1.8406039999999999,2.2676750000000001,4,4,4,4,4,6,6,6,6,6,0,0,0,0,0,0,0.14853800000000006,0.49015000000000009,1.0006039999999998,1.427675,2,2,2,2,2,2,2,2,2.5,3.5,null,null,null,null,null,null,null,null,null,null,null,null,null,null,null,null,null,null,null,null,null,3.2149999999999999,3.2149999999999999,3.2149999999999999,3.2149999999999999,3.2149999999999999,3.4950000000000001,3.4950000000000001,3.4950000000000001,3.7050000000000001,4.125,2.5614794914327872,2.2453547695455862,1.9028239920359564,1.6869750831418979,1.4997385370295473,1.3988544202799069,1.2466390682059598,1.1112347582786195,1.013512404516463,1.0103669775331126]
[2,"Poor",7000,{"$f":"D9","v":1.4678340000000001},1.6632990000000001,1.950105,2.192672,2.4618250000000002,2.8667720000000001,3.2158350000000002,3.603294,4.169022,4.631094,4.125,4.125,4.125,4.125,4.125,4.125,4.125,4.125,4.125,4.125,0,0,0.13510500000000003,0.37767200000000001,0.64682500000000021,1.0517720000000002,1.4008350000000003,1.7882940000000001,2.3540220000000001,2.8160940000000001,4,4,4,4,4,6,6,6,6,6,0,0,0,0,8.6825000000000152E-2,0.21177200000000007,0.56083500000000019,0.94829399999999997,1.514022,1.976094,2,2,2,2,2,2,2,2.5,4,5,null,null,null,null,null,null,null,null,null,null,null,null,null,null,null,null,null,null,null,null,null,3.2149999999999999,3.2149999999999999,3.2149999999999999,3.2149999999999999,3.2149999999999999,3.4950000000000001,3.4950000000000001,3.7050000000000001,4.335,4.7550000000000008,2.1903021731340191,1.932905629114188,1.6486291763776821,1.4662475737365186,1.3059417302204663,1.2191412501587151,1.0868094911585948,1.0282258400230455,1.0398122149511324,1.0267552332127141]
[3,"Good",10000,{"$f":"D10","v":1.255134},1.431845,1.689594,1.905778,2.143707,2.4984730000000002,2.8035380000000001,3.1451500000000001,3.6556039999999999,4.0826750000000001,4.125,4.125,4.125,4.125,4.125,4.125,4.125,4.125,4.125,4.125,0,0,0,9.0778000000000025E-2,0.32870700000000008,0.68347300000000022,0.98853800000000014,1.3301500000000002,1.8406039999999999,2.2676750000000001,4,4,4,4,4,6,6,6,6,6,0,0,0,0,0,0,0.14853800000000006,0.49015000000000009,1.0006039999999998,1.427675,2,2,2,2,2,2,2,2,2.5,3.5,null,null,null,null,null,null,null,null,null,null,null,null,null,null,null,null,null,null,null,null,null,3.2149999999999999,3.2149999999999999,3.2149999999999999,3.2149999999999999,3.2149999999999999,3.4950000000000001,3.4950000000000001,3.4950000000000001,3.7050000000000001,4.125,2.5614794914327872,2.2453547695455862,1.9028239920359564,1.6869750831418979,1.4997385370295473,1.3988544202799069,1.2466390682059598,1.1112347582786195,1.013512404516463,1.0103669775331126]
[3,"Fair",8000,{"$f":"D11","v":1.3857189999999999},1.5738350000000001,1.8491340000000001,2.0812339999999998,2.3379439999999998,2.7230210000000001,3.0550519999999999,3.4254799999999999,3.9715669999999998,4.421246,4.125,4.125,4.125,4.125,4.125,4.125,4.125,4.125,4.125,4.125,0,0,3.4134000000000109E-2,0.26623399999999986,0.52294399999999985,0.90802100000000019,1.2400519999999999,1.6104799999999999,2.1565669999999999,2.6062460000000001,4,4,4,4,4,6,6,6,6,6,0,0,0,0,0,6.8021000000000109E-2,0.40005199999999985,0.77047999999999983,1.3165669999999998,1.766246,2,2,2,2,2,2,2,2,3.5,4.5,null,null,null,null,null,null,null,null,null,null,null,null,null,null,null,null,null,null,null,null,null,3.2149999999999999,3.2149999999999999,3.2149999999999999,3.2149999999999999,3.2149999999999999,3.4950000000000001,3.4950000000000001,3.4950000000000001,4.125,4.5449999999999999,2.3200951996761248,2.0427808505974259,1.738651714802713,1.5447566203511955,1.3751398664809764,1.2835009351745725,1.1440067141246697,1.0202949659609748,1.0386328620416072,1.0279907519283025]
[3,"Poor",5000,{"$f":"D12","v":1.6892130000000001},1.9053340000000001,2.2250619999999999,2.4979399999999998,2.802905,3.262645,3.6548180000000001,4.0818139999999996,4.6912859999999998,5.1829850000000004,4.125,4.125,4.125,4.125,4.125,4.125,4.125,4.125,4.125,4.125,0,9.0334000000000136E-2,0.41006199999999993,0.68293999999999988,0.98790500000000003,1.4476450000000001,1.8398180000000002,2.2668139999999997,2.8762859999999999,3.3679850000000005,4,4,4,4,4,6,6,6,6,6,0,0,0,0.12293999999999983,0.42790499999999998,0.60764499999999999,0.9998180000000001,1.4268139999999996,2.0362859999999996,2.5279850000000001,2,2,2,2,2,2,2.5,3.5,5,6.5,null,null,null,null,null,null,null,null,null,null,null,null,null,null,null,null,null,null,null,null,null,3.2149999999999999,3.2149999999999999,3.2149999999999999,3.2149999999999999,3.2149999999999999,3.4950000000000001,3.7050000000000001,4.125,4.7550000000000008,5.3849999999999998,1.903253171743291,1.6873681989614417,1.4449035577435596,1.2870605378832158,1.1470242480569266,1.071216758182395,1.0137303690635211,1.0105800999261603,1.0135813506147358,1.0389765743099777]
[4,"Good",8000,{"$f":"D13","v":1.3857189999999999},1.5738350000000001,1.8491340000000001,2.0812339999999998,2.3379439999999998,2.7230210000000001,3.0550519999999999,3.4254799999999999,3.9715669999999998,4.421246,4.125,4.125,4.125,4.125,4.125,4.125,4.125,4.125,4.125,4.125,0,0,3.4134000000000109E-2,0.26623399999999986,0.52294399999999985,0.90802100000000019,1.2400519999999999,1.6104799999999999,2.1565669999999999,2.6062460000000001,4,4,4,4,4,6,6,6,6,6,0,0,0,0,0,6.8021000000000109E-2,0.40005199999999985,0.77047999999999983,1.3165669999999998,1.766246,2,2,2,2,2,2,2,2,3.5,4.5,null,null,null,null,null,null,null,null,null,null,null,null,null,null,null,null,null,null,null,null,null,3.2149999999999999,3.2149999999999999,3.2149999999999999,3.2149999999999999,3.2149999999999999,3.4950000000000001,3.4950000000000001,3.4950000000000001,4.125,4.5449999999999999,2.3200951996761248,2.0427808505974259,1.738651714802713,1.5447566203511955,1.3751398664809764,1.2835009351745725,1.1440067141246697,1.0202949659609748,1.0386328620416072,1.0279907519283025]
[4,"Fair",5000,{"$f":"D14","v":1.6892130000000001},1.9053340000000001,2.2250619999999999,2.4979399999999998,2.802905,3.262645,3.6548180000000001,4.0818139999999996,4.6912859999999998,5.1829850000000004,{"$f":"ThickPaver","v":4.125},4.125,4.125,4.125,4.125,4.125,4.125,4.125,4.125,4.125,0,9.0334000000000136E-2,0.41006199999999993,0.68293999999999988,0.98790500000000003,1.4476450000000001,1.8398180000000002,2.2668139999999997,2.8762859999999999,3.3679850000000005,4,4,4,4,4,6,6,6,6,6,0,0,0,0.12293999999999983,0.42790499999999998,0.60764499999999999,0.9998180000000001,1.4268139999999996,2.0362859999999996,2.5279850000000001,2,2,2,2,2,2,2.5,3.5,5,6.5,null,null,null,null,null,null,null,null,null,null,null,null,null,null,null,null,null,null,null,null,null,3.2149999999999999,3.2149999999999999,3.2149999999999999,3.2149999999999999,3.2149999999999999,3.4950000000000001,3.7050000000000001,4.125,4.7550000000000008,5.3849999999999998,1.903253171743291,1.6873681989614417,1.4449035577435596,1.2870605378832158,1.1470242480569266,1.071216758182395,1.0137303690635211,1.0105800999261603,1.0135813506147358,1.0389765743099777]
[4,"Poor",4500,{"$f":"D15","v":1.763155},1.986575,2.3179470000000002,2.6015470000000001,2.919006,3.3966639999999999,3.8016869999999998,4.2397320000000001,4.8616989999999998,5.3627500000000001,4.125,4.125,4.125,4.125,4.125,4.125,4.125,4.125,4.125,4.125,0,0.17157500000000003,0.50294700000000025,0.78654700000000011,1.104006,1.581664,1.9866869999999999,2.4247320000000001,3.0466989999999998,3.5477500000000002,4,4,4,4,4,6,6,6,6,6,0,0,0,0.22654700000000005,0.54400599999999999,0.74166399999999988,1.1466869999999998,1.584732,2.2066989999999995,2.7077499999999999,2,2,2,2,2,2,3,4,5.5,6.5,null,null,null,null,null,null,null,null,null,null,null,null,null,null,null,null,null,null,null,null,null,3.2149999999999999,3.2149999999999999,3.2149999999999999,3.2149999999999999,3.2149999999999999,3.4950000000000001,3.915,4.335,4.9649999999999999,5.3849999999999998,1.823435829521511,1.6183632634056102,1.3870032403674457,1.2358031586590592,1.1014023266824391,1.0289507587444622,1.0298059782407127,1.0224702882163306,1.0212479217656214,1.0041489907230432]
[5,"Good",6000,{"$f":"D16","v":1.5665480000000001},1.771075,2.0722119999999999,2.3279079999999999,2.612698,3.0420509999999998,3.4110589999999998,3.8174000000000001,4.4040629999999998,4.8798199999999996,4.125,4.125,4.125,4.125,4.125,4.125,4.125,4.125,4.125,4.125,0,0,0.257212,0.51290799999999992,0.79769800000000002,1.2270509999999999,1.5960589999999999,2.0024000000000002,2.5890629999999999,3.0648199999999997,4,4,4,4,4,6,6,6,6,6,0,0,0,0,0.23769799999999996,0.38705099999999981,0.75605899999999981,1.1624000000000001,1.7490629999999998,2.2248199999999994,2,2,2,2,2,2,2,3,4.5,5.5,null,null,null,null,null,null,null,null,null,null,null,null,null,null,null,null,null,null,null,null,null,3.2149999999999999,3.2149999999999999,3.2149999999999999,3.2149999999999999,3.2149999999999999,3.4950000000000001,3.4950000000000001,3.915,4.5449999999999999,4.9649999999999999,2.0522831091035831,1.8152816792061319,1.5514821842552788,1.3810683240059316,1.2305287484431802,1.1488959258079501,1.0246084866899108,1.0255671399381778,1.0320015858083775,1.0174555618854795]
[5,"Fair",4500,{"$f":"D17","v":1.763155},1.986575,2.3179470000000002,2.6015470000000001,2.919006,3.3966639999999999,3.8016869999999998,4.2397320000000001,4.8616989999999998,5.3627500000000001,4.125,4.125,4.125,4.125,4.125,4.125,4.125,4.125,4.125,4.125,0,0.17157500000000003,0.50294700000000025,0.78654700000000011,1.104006,1.581664,1.9866869999999999,2.4247320000000001,3.0466989999999998,3.5477500000000002,4,4,4,4,4,6,6,6,6,6,0,0,0,0.22654700000000005,0.54400599999999999,0.74166399999999988,1.1466869999999998,1.584732,2.2066989999999995,2.7077499999999999,2,2,2,2,2,2,3,4,5.5,6.5,null,null,null,null,null,null,null,null,null,null,null,null,null,null,null,null,null,null,null,null,null,3.2149999999999999,3.2149999999999999,3.2149999999999999,3.2149999999999999,3.2149999999999999,3.4950000000000001,3.915,4.335,4.9649999999999999,5.3849999999999998,1.823435829521511,1.6183632634056102,1.3870032403674457,1.2358031586590592,1.1014023266824391,1.0289507587444622,1.0298059782407127,1.0224702882163306,1.0212479217656214,1.0041489907230432]
[5,"Poor",3500,{"$f":"D18","v":1.949648},2.1921650000000001,2.5543819999999999,2.8661379999999999,3.215125,3.7350059999999998,4.1681609999999996,4.6301819999999996,5.281345,5.8057889999999999,4.125,4.125,4.125,4.125,4.125,4.125,4.125,4.125,4.125,4.125,0.1346480000000001,0.37716500000000019,0.73938199999999998,1.0511379999999999,1.4001250000000001,1.9200059999999999,2.3531609999999996,2.8151819999999996,3.466345,3.9907889999999999,4,4,4,4,4,6,6,6,6,6,0,0,0.17938199999999993,0.49113799999999985,0.84012500000000001,1.0800059999999998,1.5131609999999995,1.9751819999999995,2.6263449999999997,3.1507889999999996,2,2,2,2,2.5,3,4,5,6.5,8,null,null,null,null,null,null,null,null,null,null,null,null,null,null,null,null,null,null,null,null,null,3.2149999999999999,3.2149999999999999,3.2149999999999999,3.2149999999999999,3.4249999999999998,3.915,4.335,4.7550000000000008,5.3849999999999998,6.0150000000000006,1.6490156171780752,1.4665866848526454,1.2586214591239682,1.1217184936663902,1.0652773997900549,1.0481910872432334,1.0400270047150291,1.0269574716501428,1.0196266292014629,1.0360348955154934]
[6,"Good",5000,{"$f":"D19","v":1.6892130000000001},1.9053340000000001,2.2250619999999999,2.4979399999999998,2.802905,3.262645,3.6548180000000001,4.0818139999999996,4.6912859999999998,5.1829850000000004,4.125,4.125,4.125,4.125,4.125,4.125,4.125,4.125,4.125,4.125,0,9.0334000000000136E-2,0.41006199999999993,0.68293999999999988,0.98790500000000003,1.4476450000000001,1.8398180000000002,2.2668139999999997,2.8762859999999999,3.3679850000000005,4,4,4,4,4,6,6,6,6,6,0,0,0,0.12293999999999983,0.42790499999999998,0.60764499999999999,0.9998180000000001,1.4268139999999996,2.0362859999999996,2.5279850000000001,2,2,2,2,2,2,2.5,3.5,5,6.5,null,null,null,null,null,null,null,null,null,null,null,null,null,null,null,null,null,null,null,null,null,3.2149999999999999,3.2149999999999999,3.2149999999999999,3.2149999999999999,3.2149999999999999,3.4950000000000001,3.7050000000000001,4.125,4.7550000000000008,5.3849999999999998,1.903253171743291,1.6873681989614417,1.4449035577435596,1.2870605378832158,1.1470242480569266,1.071216758182395,1.0137303690635211,1.0105800999261603,1.0135813506147358,1.0389765743099777]
[6,"Fair",3500,{"$f":"D20","v":1.949648},2.1921650000000001,2.5543819999999999,2.8661379999999999,3.215125,3.7350059999999998,4.1681609999999996,4.6301819999999996,5.281345,5.8057889999999999,4.125,4.125,4.125,4.125,4.125,4.125,4.125,4.125,4.125,4.125,0.1346480000000001,0.37716500000000019,0.73938199999999998,1.0511379999999999,1.4001250000000001,1.9200059999999999,2.3531609999999996,2.8151819999999996,3.466345,3.9907889999999999,4,4,4,4,4,6,6,6,6,6,0,0,0.17938199999999993,0.49113799999999985,0.84012500000000001,1.0800059999999998,1.5131609999999995,1.9751819999999995,2.6263449999999997,3.1507889999999996,2,2,2,2,2.5,3,4,5,6.5,8,null,null,null,null,null,null,null,null,null,null,null,null,null,null,null,null,null,null,null,null,null,3.2149999999999999,3.2149999999999999,3.2149999999999999,3.2149999999999999,3.4249999999999998,3.915,4.335,4.7550000000000008,5.3849999999999998,6.0150000000000006,1.6490156171780752,1.4665866848526454,1.2586214591239682,1.1217184936663902,1.0652773997900549,1.0481910872432334,1.0400270047150291,1.0269574716501428,1.0196266292014629,1.0360348955154934]
[6,"Poor",2500,{"$f":"D21","v":2.2245550000000001},2.4973830000000001,2.9080569999999999,3.2619099999999999,3.6540319999999999,4.2249569999999999,4.6903740000000003,5.1820219999999999,5.8740649999999999,6.4335339999999999,4.125,4.125,4.125,4.125,4.125,4.125,4.125,4.125,4.125,4.125,0.40955500000000011,0.68238300000000018,1.0930569999999999,1.4469099999999999,1.839032,2.4099569999999999,2.8753740000000003,3.367022,4.0590650000000004,4.6185340000000004,{"$f":"IF(AH$93<500000,4,6)","v":4},4,4,4,4,6,6,6,6,6,0,0.12238300000000013,0.53305699999999989,0.88690999999999987,1.2790319999999999,1.5699569999999998,2.035374,2.5270219999999997,3.2190650000000005,3.7785340000000005,2,2,2,2.5,3.5,4,5,6.5,8,9,null,null,null,null,null,null,null,null,null,null,null,null,null,null,null,null,null,null,null,null,null,3.2149999999999999,3.2149999999999999,3.2149999999999999,3.4249999999999998,3.8449999999999998,4.335,4.7550000000000008,5.3849999999999998,6.0150000000000006,6.4350000000000005,1.4452328667980787,1.2873475954629305,1.1055491690843748,1.0499983138713207,1.0522622680917955,1.0260459455563691,1.0137784321676695,1.0391696523094653,1.0239927545915819,1.0002278685400592]
[7,"Good",4000,{"$f":"D22","v":1.848754},2.0807530000000001,2.4260139999999999,2.7224119999999998,3.0543680000000002,3.5520480000000001,3.9707309999999998,4.4203590000000004,5.0560369999999999,5.5678089999999996,4.125,4.125,4.125,4.125,4.125,4.125,4.125,4.125,4.125,4.125,3.3754000000000062E-2,0.26575300000000013,0.61101399999999995,0.90741199999999989,1.2393680000000002,1.7370480000000001,2.1557309999999998,2.6053590000000004,3.2410369999999999,3.7528089999999996,4,4,4,4,4,6,6,6,6,6,0,0,5.1013999999999893E-2,0.34741199999999983,0.67936800000000019,0.89704800000000007,1.3157309999999998,1.7653590000000003,2.4010369999999996,2.9128089999999993,2,2,2,2,2,2.5,3.5,4.5,6,7,null,null,null,null,null,null,null,null,null,null,null,null,null,null,null,null,null,null,null,null,null,3.2149999999999999,3.2149999999999999,3.2149999999999999,3.2149999999999999,3.2149999999999999,3.7050000000000001,4.125,4.5449999999999999,5.1750000000000007,5.5950000000000006,1.7390090839560048,1.5451137160441435,1.3252190630392076,1.1809380799085516,1.0525909124244359,1.0430602289158255,1.0388515364047577,1.0281970310556223,1.0235289021816891,1.0048836086151665]
[7,"Fair",3000,{"$f":"D23","v":2.0717300000000001},2.3274010000000001,2.7108050000000001,3.0413670000000002,3.4102990000000002,3.954612,4.4031760000000002,4.8788830000000001,5.5483190000000002,6.0881970000000001,4.125,4.125,4.125,4.125,4.125,4.125,4.125,4.125,4.125,4.125,0.25673000000000012,0.51240100000000011,0.89580500000000018,1.2263670000000002,1.5952990000000002,2.1396120000000001,2.5881760000000003,3.0638830000000001,3.7333190000000003,4.2731969999999997,4,4,4,4,4,6,6,6,6,6,0,0,0.33580500000000013,0.66636700000000015,1.0352990000000002,1.299612,1.7481760000000002,2.2238829999999998,2.893319,3.4331969999999998,2,2,2,2,2.5,3.5,4.5,5.5,7,8.5,null,null,null,null,null,null,null,null,null,null,null,null,null,null,null,null,null,null,null,null,null,3.2149999999999999,3.2149999999999999,3.2149999999999999,3.2149999999999999,3.4249999999999998,4.125,4.5449999999999999,4.9649999999999999,5.5950000000000006,6.2249999999999996,1.5518431455836426,1.3813691753161572,1.185994566189748,1.0570904464998798,1.0043107657129182,1.0430858956580318,1.0322094778859623,1.0176509664199775,1.008413539308032,1.0224701993053116]
[7,"Poor",2000,{"$f":"D24","v":2.4254820000000001},2.7218040000000001,3.168669,3.551288,3.9698950000000002,4.5700659999999997,5.0550740000000003,5.5667949999999999,6.2887440000000003,6.8742660000000004,4.125,4.125,4.125,4.125,4.125,4.125,4.125,4.125,4.125,4.125,0.61048200000000019,0.90680400000000017,1.353669,1.7362880000000001,2.1548950000000002,2.7550659999999998,3.2400740000000003,3.751795,4.4737439999999999,5.0592660000000009,4,4,4,4,4,6,6,6,6,6,5.0482000000000138E-2,0.34680400000000011,0.79366899999999996,1.176288,1.5948950000000002,1.9150659999999997,2.400074,2.9117949999999997,3.6337440000000001,4.2192660000000011,2,2,2,3,4,5,6,7,9,10.5,null,null,null,null,null,null,null,null,null,null,null,null,null,null,null,null,null,null,null,null,null,3.2149999999999999,3.2149999999999999,3.2149999999999999,3.6349999999999998,4.0549999999999997,4.7550000000000008,5.1750000000000007,5.5950000000000006,6.4350000000000005,7.0650000000000004,1.3255097337353976,1.1812018793417893,1.014621596638841,1.0235722926442461,1.0214375946970888,1.0404663740086031,1.0237238861389566,1.0050666496610707,1.0232567902271106,1.0277460895461421]
[8,"Good",3500,{"$f":"D25","v":1.949648},2.1921650000000001,2.5543819999999999,2.8661379999999999,3.215125,3.7350059999999998,4.1681609999999996,4.6301819999999996,5.281345,5.8057889999999999,4.125,4.125,4.125,4.125,4.125,4.125,4.125,4.125,4.125,4.125,0.1346480000000001,0.37716500000000019,0.73938199999999998,1.0511379999999999,1.4001250000000001,1.9200059999999999,2.3531609999999996,2.8151819999999996,3.466345,3.9907889999999999,4,4,4,4,4,6,6,6,6,6,0,0,0.17938199999999993,0.49113799999999985,0.84012500000000001,1.0800059999999998,1.5131609999999995,1.9751819999999995,2.6263449999999997,3.1507889999999996,2,2,2,2,2.5,3,4,5,6.5,8,null,null,null,null,null,null,null,null,null,null,null,null,null,null,null,null,null,null,null,null,null,3.2149999999999999,3.2149999999999999,3.2149999999999999,3.2149999999999999,3.4249999999999998,3.915,4.335,4.7550000000000008,5.3849999999999998,6.0150000000000006,1.6490156171780752,1.4665866848526454,1.2586214591239682,1.1217184936663902,1.0652773997900549,1.0481910872432334,1.0400270047150291,1.0269574716501428,1.0196266292014629,1.0360348955154934]
[8,"Fair",3000,{"$f":"D26","v":2.0717300000000001},2.3274010000000001,2.7108050000000001,3.0413670000000002,3.4102990000000002,3.954612,4.4031760000000002,4.8788830000000001,5.5483190000000002,6.0881970000000001,4.125,4.125,4.125,4.125,4.125,4.125,4.125,4.125,4.125,4.125,0.25673000000000012,0.51240100000000011,0.89580500000000018,1.2263670000000002,1.5952990000000002,2.1396120000000001,2.5881760000000003,3.0638830000000001,3.7333190000000003,4.2731969999999997,4,4,4,4,4,6,6,6,6,6,0,0,0.33580500000000013,0.66636700000000015,1.0352990000000002,1.299612,1.7481760000000002,2.2238829999999998,2.893319,3.4331969999999998,2,2,2,2,2.5,3.5,4.5,5.5,7,8.5,null,null,null,null,null,null,null,null,null,null,null,null,null,null,null,null,null,null,null,null,null,3.2149999999999999,3.2149999999999999,3.2149999999999999,3.2149999999999999,3.4249999999999998,4.125,4.5449999999999999,4.9649999999999999,5.5950000000000006,6.2249999999999996,1.5518431455836426,1.3813691753161572,1.185994566189748,1.0570904464998798,1.0043107657129182,1.0430858956580318,1.0322094778859623,1.0176509664199775,1.008413539308032,1.0224701993053116]
[8,"Poor",2000,{"$f":"D27","v":2.4254820000000001},2.7218040000000001,3.168669,3.551288,3.9698950000000002,4.5700659999999997,5.0550740000000003,5.5667949999999999,6.2887440000000003,6.8742660000000004,4.125,4.125,4.125,4.125,4.125,4.125,4.125,4.125,4.125,4.125,0.61048200000000019,0.90680400000000017,1.353669,1.7362880000000001,2.1548950000000002,2.7550659999999998,3.2400740000000003,3.751795,4.4737439999999999,5.0592660000000009,4,4,4,4,4,6,6,6,6,6,5.0482000000000138E-2,0.34680400000000011,0.79366899999999996,1.176288,1.5948950000000002,1.9150659999999997,2.400074,2.9117949999999997,3.6337440000000001,4.2192660000000011,2,2,2,3,4,5,6,7,9,10.5,null,null,null,null,null,null,null,null,null,null,null,null,null,null,null,null,null,null,null,null,null,3.2149999999999999,3.2149999999999999,3.2149999999999999,3.6349999999999998,4.0549999999999997,4.7550000000000008,5.1750000000000007,5.5950000000000006,6.4350000000000005,7.0650000000000004,1.3255097337353976,1.1812018793417893,1.014621596638841,1.0235722926442461,1.0214375946970888,1.0404663740086031,1.0237238861389566,1.0050666496610707,1.0232567902271106,1.0277460895461421]

{"sheet":"Gran","index":3,"n_rows":77,"n_cols":15,"rows_kept":77,"cut":false,"hidden":false,"merged":[[68,2,76,2],[68,3,70,3],[71,3,73,3],[74,3,76,3],[50,2,58,2],[50,3,52,3],[53,3,55,3],[56,3,58,3],[59,2,67,2],[59,3,61,3],[62,3,64,3],[65,3,67,3],[32,2,40,2],[32,3,34,3],[35,3,37,3],[38,3,40,3],[41,2,49,2],[41,3,43,3],[44,3,46,3],[47,3,49,3],[14,2,22,2],[14,3,16,3],[17,3,19,3],[20,3,22,3],[23,2,31,2],[23,3,25,3],[26,3,28,3],[29,3,31,3],[0,2,1,14],[2,2,4,2],[2,3,4,3],[4,5,4,14],[5,2,13,2],[5,3,7,3],[8,3,10,3],[11,3,13,3]]}
[null,null,"GRANULAR BASE\nSTRUCTURE THICKNESSES (in)"]
[]
[null,null,null,"Drainage","ESALs",10000,20000,50000,100000,200000,500000,1000000,2000000,5000000,10000000]
[null,null,null,null,"TI",{"$f":"9*(F3/1000000)^0.119","v":5.2028644266514625},{"$f":"9*(G3/1000000)^0.119","v":5.6502163682481852},6.301151766600797,6.8429364924616367,7.4313048747790562,8.2874312748453587,9,9.7738367069006493,10.899835407763195,11.837023489730147]
[null,null,null,null,"Layer Type"]
[1,"Good","Category 1","Good","Pavers and Bedding",{"$f":"SUM(IF($A6=SoilCat,IF($B6=DrainCat,IF(F$3=ESALCat,Design!$N$4:$W$27))))","v":4.125},{"$f":"SUM(IF($A6=SoilCat,IF($B6=DrainCat,IF(G$3=ESALCat,Design!$N$4:$W$27))))","v":4.125},{"$f":"SUM(IF($A6=SoilCat,IF($B6=DrainCat,IF(H$3=ESALCat,Design!$N$4:$W$27))))","v":4.125},{"$f":"SUM(IF($A6=SoilCat,IF($B6=DrainCat,IF(I$3=ESALCat,Design!$N$4:$W$27))))","v":4.125},{"$f":"SUM(IF($A6=SoilCat,IF($B6=DrainCat,IF(J$3=ESALCat,Design!$N$4:$W$27))))","v":4.125},{"$f":"SUM(IF($A6=SoilCat,IF($B6=DrainCat,IF(K$3=ESALCat,Design!$N$4:$W$27))))","v":4.125},{"$f":"SUM(IF($A6=SoilCat,IF($B6=DrainCat,IF(L$3=ESALCat,Design!$N$4:$W$27))))","v":4.125},{"$f":"SUM(IF($A6=SoilCat,IF($B6=DrainCat,IF(M$3=ESALCat,Design!$N$4:$W$27))))","v":4.125},{"$f":"SUM(IF($A6=SoilCat,IF($B6=DrainCat,IF(N$3=ESALCat,Design!$N$4:$W$27))))","v":4.125},{"$f":"SUM(IF($A6=SoilCat,IF($B6=DrainCat,IF(O$3=ESALCat,Design!$N$4:$W$27))))","v":4.125}]
[1,"Good",null,null,"Unbound Dense Graded Base",{"$f":"SUM(IF($A7=SoilCat,IF($B7=DrainCat,IF(F$3=ESALCat,Design!$AH$4:$AQ$27))))","v":4},{"$f":"SUM(IF($A7=SoilCat,IF($B7=DrainCat,IF(G$3=ESALCat,Design!$AH$4:$AQ$27))))","v":4},{"$f":"SUM(IF($A7=SoilCat,IF($B7=DrainCat,IF(H$3=ESALCat,Design!$AH$4:$AQ$27))))","v":4},{"$f":"SUM(IF($A7=SoilCat,IF($B7=DrainCat,IF(I$3=ESALCat,Design!$AH$4:$AQ$27))))","v":4},{"$f":"SUM(IF($A7=SoilCat,IF($B7=DrainCat,IF(J$3=ESALCat,Design!$AH$4:$AQ$27))))","v":4},{"$f":"SUM(IF($A7=SoilCat,IF($B7=DrainCat,IF(K$3=ESALCat,Design!$AH$4:$AQ$27))))","v":6},{"$f":"SUM(IF($A7=SoilCat,IF($B7=DrainCat,IF(L$3=ESALCat,Design!$AH$4:$AQ$27))))","v":6},{"$f":"SUM(IF($A7=SoilCat,IF($B7=DrainCat,IF(M$3=ESALCat,Design!$AH$4:$AQ$27))))","v":8},{"$f":"SUM(IF($A7=SoilCat,IF($B7=DrainCat,IF(N$3=ESALCat,Design!$AH$4:$AQ$27))))","v":6},{"$f":"SUM(IF($A7=SoilCat,IF($B7=DrainCat,IF(O$3=ESALCat,Design!$AH$4:$AQ$27))))","v":6}]
[1,"Good",null,null,"Unbound Dense Graded Subbase",{"$f":"SUM(IF($A8=SoilCat,IF($B8=DrainCat,IF(F$3=ESALCat,Design!$BB$4:$BK$27))))","v":0},{"$f":"SUM(IF($A8=SoilCat,IF($B8=DrainCat,IF(G$3=ESALCat,Design!$BB$4:$BK$27))))","v":0},{"$f":"SUM(IF($A8=SoilCat,IF($B8=DrainCat,IF(H$3=ESALCat,Design!$BB$4:$BK$27))))","v":0},{"$f":"SUM(IF($A8=SoilCat,IF($B8=DrainCat,IF(I$3=ESALCat,Design!$BB$4:$BK$27))))","v":0},{"$f":"SUM(IF($A8=SoilCat,IF($B8=DrainCat,IF(J$3=ESALCat,Design!$BB$4:$BK$27))))","v":0},{"$f":"SUM(IF($A8=SoilCat,IF($B8=DrainCat,IF(K$3=ESALCat,Design!$BB$4:$BK$27))))","v":0},{"$f":"SUM(IF($A8=SoilCat,IF($B8=DrainCat,IF(L$3=ESALCat,Design!$BB$4:$BK$27))))","v":0},{"$f":"SUM(IF($A8=SoilCat,IF($B8=DrainCat,IF(M$3=ESALCat,Design!$BB$4:$BK$27))))","v":0},{"$f":"SUM(IF($A8=SoilCat,IF($B8=DrainCat,IF(N$3=ESALCat,Design!$BB$4:$BK$27))))","v":9},{"$f":"SUM(IF($A8=SoilCat,IF($B8=DrainCat,IF(O$3=ESALCat,Design!$BB$4:$BK$27))))","v":13}]
[1,"Fair",null,"Fair","Pavers and Bedding",{"$f":"SUM(IF($A9=SoilCat,IF($B9=DrainCat,IF(F$3=ESALCat,Design!$N$4:$W$27))))","v":4.125},{"$f":"SUM(IF($A9=SoilCat,IF($B9=DrainCat,IF(G$3=ESALCat,Design!$N$4:$W$27))))","v":4.125},{"$f":"SUM(IF($A9=SoilCat,IF($B9=DrainCat,IF(H$3=ESALCat,Design!$N$4:$W$27))))","v":4.125},{"$f":"SUM(IF($A9=SoilCat,IF($B9=DrainCat,IF(I$3=ESALCat,Design!$N$4:$W$27))))","v":4.125},{"$f":"SUM(IF($A9=SoilCat,IF($B9=DrainCat,IF(J$3=ESALCat,Design!$N$4:$W$27))))","v":4.125},{"$f":"SUM(IF($A9=SoilCat,IF($B9=DrainCat,IF(K$3=ESALCat,Design!$N$4:$W$27))))","v":4.125},{"$f":"SUM(IF($A9=SoilCat,IF($B9=DrainCat,IF(L$3=ESALCat,Design!$N$4:$W$27))))","v":4.125},{"$f":"SUM(IF($A9=SoilCat,IF($B9=DrainCat,IF(M$3=ESALCat,Design!$N$4:$W$27))))","v":4.125},{"$f":"SUM(IF($A9=SoilCat,IF($B9=DrainCat,IF(N$3=ESALCat,Design!$N$4:$W$27))))","v":4.125},{"$f":"SUM(IF($A9=SoilCat,IF($B9=DrainCat,IF(O$3=ESALCat,Design!$N$4:$W$27))))","v":4.125}]
[1,"Fair",null,null,"Unbound Dense Graded Base",{"$f":"SUM(IF($A10=SoilCat,IF($B10=DrainCat,IF(F$3=ESALCat,Design!$AH$4:$AQ$27))))","v":4},{"$f":"SUM(IF($A10=SoilCat,IF($B10=DrainCat,IF(G$3=ESALCat,Design!$AH$4:$AQ$27))))","v":4},{"$f":"SUM(IF($A10=SoilCat,IF($B10=DrainCat,IF(H$3=ESALCat,Design!$AH$4:$AQ$27))))","v":4},{"$f":"SUM(IF($A10=SoilCat,IF($B10=DrainCat,IF(I$3=ESALCat,Design!$AH$4:$AQ$27))))","v":4},{"$f":"SUM(IF($A10=SoilCat,IF($B10=DrainCat,IF(J$3=ESALCat,Design!$AH$4:$AQ$27))))","v":4},{"$f":"SUM(IF($A10=SoilCat,IF($B10=DrainCat,IF(K$3=ESALCat,Design!$AH$4:$AQ$27))))","v":6},{"$f":"SUM(IF($A10=SoilCat,IF($B10=DrainCat,IF(L$3=ESALCat,Design!$AH$4:$AQ$27))))","v":7},{"$f":"SUM(IF($A10=SoilCat,IF($B10=DrainCat,IF(M$3=ESALCat,Design!$AH$4:$AQ$27))))","v":6},{"$f":"SUM(IF($A10=SoilCat,IF($B10=DrainCat,IF(N$3=ESALCat,Design!$AH$4:$AQ$27))))","v":6},{"$f":"SUM(IF($A10=SoilCat,IF($B10=DrainCat,IF(O$3=ESALCat,Design!$AH$4:$AQ$27))))","v":6}]
[1,"Fair",null,null,"Unbound Dense Graded Subbase",{"$f":"SUM(IF($A11=SoilCat,IF($B11=DrainCat,IF(F$3=ESALCat,Design!$BB$4:$BK$27))))","v":0},{"$f":"SUM(IF($A11=SoilCat,IF($B11=DrainCat,IF(G$3=ESALCat,Design!$BB$4:$BK$27))))","v":0},{"$f":"SUM(IF($A11=SoilCat,IF($B11=DrainCat,IF(H$3=ESALCat,Design!$BB$4:$BK$27))))","v":0},{"$f":"SUM(IF($A11=SoilCat,IF($B11=DrainCat,IF(I$3=ESALCat,Design!$BB$4:$BK$27))))","v":0},{"$f":"SUM(IF($A11=SoilCat,IF($B11=DrainCat,IF(J$3=ESALCat,Design!$BB$4:$BK$27))))","v":0},{"$f":"SUM(IF($A11=SoilCat,IF($B11=DrainCat,IF(K$3=ESALCat,Design!$BB$4:$BK$27))))","v":0},{"$f":"SUM(IF($A11=SoilCat,IF($B11=DrainCat,IF(L$3=ESALCat,Design!$BB$4:$BK$27))))","v":0},{"$f":"SUM(IF($A11=SoilCat,IF($B11=DrainCat,IF(M$3=ESALCat,Design!$BB$4:$BK$27))))","v":6},{"$f":"SUM(IF($A11=SoilCat,IF($B11=DrainCat,IF(N$3=ESALCat,Design!$BB$4:$BK$27))))","v":10},{"$f":"SUM(IF($A11=SoilCat,IF($B11=DrainCat,IF(O$3=ESALCat,Design!$BB$4:$BK$27))))","v":15}]
[1,"Poor",null,"Poor","Pavers and Bedding",{"$f":"SUM(IF($A12=SoilCat,IF($B12=DrainCat,IF(F$3=ESALCat,Design!$N$4:$W$27))))","v":4.125},{"$f":"SUM(IF($A12=SoilCat,IF($B12=DrainCat,IF(G$3=ESALCat,Design!$N$4:$W$27))))","v":4.125},{"$f":"SUM(IF($A12=SoilCat,IF($B12=DrainCat,IF(H$3=ESALCat,Design!$N$4:$W$27))))","v":4.125},{"$f":"SUM(IF($A12=SoilCat,IF($B12=DrainCat,IF(I$3=ESALCat,Design!$N$4:$W$27))))","v":4.125},{"$f":"SUM(IF($A12=SoilCat,IF($B12=DrainCat,IF(J$3=ESALCat,Design!$N$4:$W$27))))","v":4.125},{"$f":"SUM(IF($A12=SoilCat,IF($B12=DrainCat,IF(K$3=ESALCat,Design!$N$4:$W$27))))","v":4.125},{"$f":"SUM(IF($A12=SoilCat,IF($B12=DrainCat,IF(L$3=ESALCat,Design!$N$4:$W$27))))","v":4.125},{"$f":"SUM(IF($A12=SoilCat,IF($B12=DrainCat,IF(M$3=ESALCat,Design!$N$4:$W$27))))","v":4.125},{"$f":"SUM(IF($A12=SoilCat,IF($B12=DrainCat,IF(N$3=ESALCat,Design!$N$4:$W$27))))","v":4.125},{"$f":"SUM(IF($A12=SoilCat,IF($B12=DrainCat,IF(O$3=ESALCat,Design!$N$4:$W$27))))","v":4.125}]
[1,"Poor",null,null,"Unbound Dense Graded Base",{"$f":"SUM(IF($A13=SoilCat,IF($B13=DrainCat,IF(F$3=ESALCat,Design!$AH$4:$AQ$27))))","v":4},{"$f":"SUM(IF($A13=SoilCat,IF($B13=DrainCat,IF(G$3=ESALCat,Design!$AH$4:$AQ$27))))","v":4},{"$f":"SUM(IF($A13=SoilCat,IF($B13=DrainCat,IF(H$3=ESALCat,Design!$AH$4:$AQ$27))))","v":4},{"$f":"SUM(IF($A13=SoilCat,IF($B13=DrainCat,IF(I$3=ESALCat,Design!$AH$4:$AQ$27))))","v":4},{"$f":"SUM(IF($A13=SoilCat,IF($B13=DrainCat,IF(J$3=ESALCat,Design!$AH$4:$AQ$27))))","v":4},{"$f":"SUM(IF($A13=SoilCat,IF($B13=DrainCat,IF(K$3=ESALCat,Design!$AH$4:$AQ$27))))","v":6},{"$f":"SUM(IF($A13=SoilCat,IF($B13=DrainCat,IF(L$3=ESALCat,Design!$AH$4:$AQ$27))))","v":8},{"$f":"SUM(IF($A13=SoilCat,IF($B13=DrainCat,IF(M$3=ESALCat,Design!$AH$4:$AQ$27))))","v":6},{"$f":"SUM(IF($A13=SoilCat,IF($B13=DrainCat,IF(N$3=ESALCat,Design!$AH$4:$AQ$27))))","v":6},{"$f":"SUM(IF($A13=SoilCat,IF($B13=DrainCat,IF(O$3=ESALCat,Design!$AH$4:$AQ$27))))","v":6}]
[1,"Poor",null,null,"Unbound Dense Graded Subbase",{"$f":"SUM(IF($A14=SoilCat,IF($B14=DrainCat,IF(F$3=ESALCat,Design!$BB$4:$BK$27))))","v":0},{"$f":"SUM(IF($A14=SoilCat,IF($B14=DrainCat,IF(G$3=ESALCat,Design!$BB$4:$BK$27))))","v":0},{"$f":"SUM(IF($A14=SoilCat,IF($B14=DrainCat,IF(H$3=ESALCat,Design!$BB$4:$BK$27))))","v":0},{"$f":"SUM(IF($A14=SoilCat,IF($B14=DrainCat,IF(I$3=ESALCat,Design!$BB$4:$BK$27))))","v":0},{"$f":"SUM(IF($A14=SoilCat,IF($B14=DrainCat,IF(J$3=ESALCat,Design!$BB$4:$BK$27))))","v":0},{"$f":"SUM(IF($A14=SoilCat,IF($B14=DrainCat,IF(K$3=ESALCat,Design!$BB$4:$BK$27))))","v":0},{"$f":"SUM(IF($A14=SoilCat,IF($B14=DrainCat,IF(L$3=ESALCat,Design!$BB$4:$BK$27))))","v":0},{"$f":"SUM(IF($A14=SoilCat,IF($B14=DrainCat,IF(M$3=ESALCat,Design!$BB$4:$BK$27))))","v":6},{"$f":"SUM(IF($A14=SoilCat,IF($B14=DrainCat,IF(N$3=ESALCat,Design!$BB$4:$BK$27))))","v":12},{"$f":"SUM(IF($A14=SoilCat,IF($B14=DrainCat,IF(O$3=ESALCat,Design!$BB$4:$BK$27))))","v":16}]
[2,"Good","Category 2","Good","Pavers and Bedding",{"$f":"SUM(IF($A15=SoilCat,IF($B15=DrainCat,IF(F$3=ESALCat,Design!$N$4:$W$27))))","v":4.125},{"$f":"SUM(IF($A15=SoilCat,IF($B15=DrainCat,IF(G$3=ESALCat,Design!$N$4:$W$27))))","v":4.125},{"$f":"SUM(IF($A15=SoilCat,IF($B15=DrainCat,IF(H$3=ESALCat,Design!$N$4:$W$27))))","v":4.125},{"$f":"SUM(IF($A15=SoilCat,IF($B15=DrainCat,IF(I$3=ESALCat,Design!$N$4:$W$27))))","v":4.125},{"$f":"SUM(IF($A15=SoilCat,IF($B15=DrainCat,IF(J$3=ESALCat,Design!$N$4:$W$27))))","v":4.125},{"$f":"SUM(IF($A15=SoilCat,IF($B15=DrainCat,IF(K$3=ESALCat,Design!$N$4:$W$27))))","v":4.125},{"$f":"SUM(IF($A15=SoilCat,IF($B15=DrainCat,IF(L$3=ESALCat,Design!$N$4:$W$27))))","v":4.125},{"$f":"SUM(IF($A15=SoilCat,IF($B15=DrainCat,IF(M$3=ESALCat,Design!$N$4:$W$27))))","v":4.125},{"$f":"SUM(IF($A15=SoilCat,IF($B15=DrainCat,IF(N$3=ESALCat,Design!$N$4:$W$27))))","v":4.125},{"$f":"SUM(IF($A15=SoilCat,IF($B15=DrainCat,IF(O$3=ESALCat,Design!$N$4:$W$27))))","v":4.125}]
[2,"Good",null,null,"Unbound Dense Graded Base",{"$f":"SUM(IF($A16=SoilCat,IF($B16=DrainCat,IF(F$3=ESALCat,Design!$AH$4:$AQ$27))))","v":4},{"$f":"SUM(IF($A16=SoilCat,IF($B16=DrainCat,IF(G$3=ESALCat,Design!$AH$4:$AQ$27))))","v":4},{"$f":"SUM(IF($A16=SoilCat,IF($B16=DrainCat,IF(H$3=ESALCat,Design!$AH$4:$AQ$27))))","v":4},{"$f":"SUM(IF($A16=SoilCat,IF($B16=DrainCat,IF(I$3=ESALCat,Design!$AH$4:$AQ$27))))","v":4},{"$f":"SUM(IF($A16=SoilCat,IF($B16=DrainCat,IF(J$3=ESALCat,Design!$AH$4:$AQ$27))))","v":4},{"$f":"SUM(IF($A16=SoilCat,IF($B16=DrainCat,IF(K$3=ESALCat,Design!$AH$4:$AQ$27))))","v":6},{"$f":"SUM(IF($A16=SoilCat,IF($B16=DrainCat,IF(L$3=ESALCat,Design!$AH$4:$AQ$27))))","v":7},{"$f":"SUM(IF($A16=SoilCat,IF($B16=DrainCat,IF(M$3=ESALCat,Design!$AH$4:$AQ$27))))","v":6},{"$f":"SUM(IF($A16=SoilCat,IF($B16=DrainCat,IF(N$3=ESALCat,Design!$AH$4:$AQ$27))))","v":6},{"$f":"SUM(IF($A16=SoilCat,IF($B16=DrainCat,IF(O$3=ESALCat,Design!$AH$4:$AQ$27))))","v":6}]
[2,"Good",null,null,"Unbound Dense Graded Subbase",{"$f":"SUM(IF($A17=SoilCat,IF($B17=DrainCat,IF(F$3=ESALCat,Design!$BB$4:$BK$27))))","v":0},{"$f":"SUM(IF($A17=SoilCat,IF($B17=DrainCat,IF(G$3=ESALCat,Design!$BB$4:$BK$27))))","v":0},{"$f":"SUM(IF($A17=SoilCat,IF($B17=DrainCat,IF(H$3=ESALCat,Design!$BB$4:$BK$27))))","v":0},{"$f":"SUM(IF($A17=SoilCat,IF($B17=DrainCat,IF(I$3=ESALCat,Design!$BB$4:$BK$27))))","v":0},{"$f":"SUM(IF($A17=SoilCat,IF($B17=DrainCat,IF(J$3=ESALCat,Design!$BB$4:$BK$27))))","v":0},{"$f":"SUM(IF($A17=SoilCat,IF($B17=DrainCat,IF(K$3=ESALCat,Design!$BB$4:$BK$27))))","v":0},{"$f":"SUM(IF($A17=SoilCat,IF($B17=DrainCat,IF(L$3=ESALCat,Design!$BB$4:$BK$27))))","v":0},{"$f":"SUM(IF($A17=SoilCat,IF($B17=DrainCat,IF(M$3=ESALCat,Design!$BB$4:$BK$27))))","v":6},{"$f":"SUM(IF($A17=SoilCat,IF($B17=DrainCat,IF(N$3=ESALCat,Design!$BB$4:$BK$27))))","v":10},{"$f":"SUM(IF($A17=SoilCat,IF($B17=DrainCat,IF(O$3=ESALCat,Design!$BB$4:$BK$27))))","v":15}]
[2,"Fair",null,"Fair","Pavers and Bedding",{"$f":"SUM(IF($A18=SoilCat,IF($B18=DrainCat,IF(F$3=ESALCat,Design!$N$4:$W$27))))","v":4.125},{"$f":"SUM(IF($A18=SoilCat,IF($B18=DrainCat,IF(G$3=ESALCat,Design!$N$4:$W$27))))","v":4.125},{"$f":"SUM(IF($A18=SoilCat,IF($B18=DrainCat,IF(H$3=ESALCat,Design!$N$4:$W$27))))","v":4.125},{"$f":"SUM(IF($A18=SoilCat,IF($B18=DrainCat,IF(I$3=ESALCat,Design!$N$4:$W$27))))","v":4.125},{"$f":"SUM(IF($A18=SoilCat,IF($B18=DrainCat,IF(J$3=ESALCat,Design!$N$4:$W$27))))","v":4.125},{"$f":"SUM(IF($A18=SoilCat,IF($B18=DrainCat,IF(K$3=ESALCat,Design!$N$4:$W$27))))","v":4.125},{"$f":"SUM(IF($A18=SoilCat,IF($B18=DrainCat,IF(L$3=ESALCat,Design!$N$4:$W$27))))","v":4.125},{"$f":"SUM(IF($A18=SoilCat,IF($B18=DrainCat,IF(M$3=ESALCat,Design!$N$4:$W$27))))","v":4.125},{"$f":"SUM(IF($A18=SoilCat,IF($B18=DrainCat,IF(N$3=ESALCat,Design!$N$4:$W$27))))","v":4.125},{"$f":"SUM(IF($A18=SoilCat,IF($B18=DrainCat,IF(O$3=ESALCat,Design!$N$4:$W$27))))","v":4.125}]
[2,"Fair",null,null,"Unbound Dense Graded Base",{"$f":"SUM(IF($A19=SoilCat,IF($B19=DrainCat,IF(F$3=ESALCat,Design!$AH$4:$AQ$27))))","v":4},{"$f":"SUM(IF($A19=SoilCat,IF($B19=DrainCat,IF(G$3=ESALCat,Design!$AH$4:$AQ$27))))","v":4},{"$f":"SUM(IF($A19=SoilCat,IF($B19=DrainCat,IF(H$3=ESALCat,Design!$AH$4:$AQ$27))))","v":4},{"$f":"SUM(IF($A19=SoilCat,IF($B19=DrainCat,IF(I$3=ESALCat,Design!$AH$4:$AQ$27))))","v":4},{"$f":"SUM(IF($A19=SoilCat,IF($B19=DrainCat,IF(J$3=ESALCat,Design!$AH$4:$AQ$27))))","v":4},{"$f":"SUM(IF($A19=SoilCat,IF($B19=DrainCat,IF(K$3=ESALCat,Design!$AH$4:$AQ$27))))","v":6},{"$f":"SUM(IF($A19=SoilCat,IF($B19=DrainCat,IF(L$3=ESALCat,Design!$AH$4:$AQ$27))))","v":8},{"$f":"SUM(IF($A19=SoilCat,IF($B19=DrainCat,IF(M$3=ESALCat,Design!$AH$4:$AQ$27))))","v":6},{"$f":"SUM(IF($A19=SoilCat,IF($B19=DrainCat,IF(N$3=ESALCat,Design!$AH$4:$AQ$27))))","v":6},{"$f":"SUM(IF($A19=SoilCat,IF($B19=DrainCat,IF(O$3=ESALCat,Design!$AH$4:$AQ$27))))","v":6}]
[2,"Fair",null,null,"Unbound Dense Graded Subbase",{"$f":"SUM(IF($A20=SoilCat,IF($B20=DrainCat,IF(F$3=ESALCat,Design!$BB$4:$BK$27))))","v":0},{"$f":"SUM(IF($A20=SoilCat,IF($B20=DrainCat,IF(G$3=ESALCat,Design!$BB$4:$BK$27))))","v":0},{"$f":"SUM(IF($A20=SoilCat,IF($B20=DrainCat,IF(H$3=ESALCat,Design!$BB$4:$BK$27))))","v":0},{"$f":"SUM(IF($A20=SoilCat,IF($B20=DrainCat,IF(I$3=ESALCat,Design!$BB$4:$BK$27))))","v":0},{"$f":"SUM(IF($A20=SoilCat,IF($B20=DrainCat,IF(J$3=ESALCat,Design!$BB$4:$BK$27))))","v":0},{"$f":"SUM(IF($A20=SoilCat,IF($B20=DrainCat,IF(K$3=ESALCat,Design!$BB$4:$BK$27))))","v":0},{"$f":"SUM(IF($A20=SoilCat,IF($B20=DrainCat,IF(L$3=ESALCat,Design!$BB$4:$BK$27))))","v":0},{"$f":"SUM(IF($A20=SoilCat,IF($B20=DrainCat,IF(M$3=ESALCat,Design!$BB$4:$BK$27))))","v":6},{"$f":"SUM(IF($A20=SoilCat,IF($B20=DrainCat,IF(N$3=ESALCat,Design!$BB$4:$BK$27))))","v":12},{"$f":"SUM(IF($A20=SoilCat,IF($B20=DrainCat,IF(O$3=ESALCat,Design!$BB$4:$BK$27))))","v":16}]
[2,"Poor",null,"Poor","Pavers and Bedding",{"$f":"SUM(IF($A21=SoilCat,IF($B21=DrainCat,IF(F$3=ESALCat,Design!$N$4:$W$27))))","v":4.125},{"$f":"SUM(IF($A21=SoilCat,IF($B21=DrainCat,IF(G$3=ESALCat,Design!$N$4:$W$27))))","v":4.125},{"$f":"SUM(IF($A21=SoilCat,IF($B21=DrainCat,IF(H$3=ESALCat,Design!$N$4:$W$27))))","v":4.125},{"$f":"SUM(IF($A21=SoilCat,IF($B21=DrainCat,IF(I$3=ESALCat,Design!$N$4:$W$27))))","v":4.125},{"$f":"SUM(IF($A21=SoilCat,IF($B21=DrainCat,IF(J$3=ESALCat,Design!$N$4:$W$27))))","v":4.125},{"$f":"SUM(IF($A21=SoilCat,IF($B21=DrainCat,IF(K$3=ESALCat,Design!$N$4:$W$27))))","v":4.125},{"$f":"SUM(IF($A21=SoilCat,IF($B21=DrainCat,IF(L$3=ESALCat,Design!$N$4:$W$27))))","v":4.125},{"$f":"SUM(IF($A21=SoilCat,IF($B21=DrainCat,IF(M$3=ESALCat,Design!$N$4:$W$27))))","v":4.125},{"$f":"SUM(IF($A21=SoilCat,IF($B21=DrainCat,IF(N$3=ESALCat,Design!$N$4:$W$27))))","v":4.125},{"$f":"SUM(IF($A21=SoilCat,IF($B21=DrainCat,IF(O$3=ESALCat,Design!$N$4:$W$27))))","v":4.125}]
[2,"Poor",null,null,"Unbound Dense Graded Base",{"$f":"SUM(IF($A22=SoilCat,IF($B22=DrainCat,IF(F$3=ESALCat,Design!$AH$4:$AQ$27))))","v":4},{"$f":"SUM(IF($A22=SoilCat,IF($B22=DrainCat,IF(G$3=ESALCat,Design!$AH$4:$AQ$27))))","v":4},{"$f":"SUM(IF($A22=SoilCat,IF($B22=DrainCat,IF(H$3=ESALCat,Design!$AH$4:$AQ$27))))","v":4},{"$f":"SUM(IF($A22=SoilCat,IF($B22=DrainCat,IF(I$3=ESALCat,Design!$AH$4:$AQ$27))))","v":4},{"$f":"SUM(IF($A22=SoilCat,IF($B22=DrainCat,IF(J$3=ESALCat,Design!$AH$4:$AQ$27))))","v":4},{"$f":"SUM(IF($A22=SoilCat,IF($B22=DrainCat,IF(K$3=ESALCat,Design!$AH$4:$AQ$27))))","v":8},{"$f":"SUM(IF($A22=SoilCat,IF($B22=DrainCat,IF(L$3=ESALCat,Design!$AH$4:$AQ$27))))","v":6},{"$f":"SUM(IF($A22=SoilCat,IF($B22=DrainCat,IF(M$3=ESALCat,Design!$AH$4:$AQ$27))))","v":6},{"$f":"SUM(IF($A22=SoilCat,IF($B22=DrainCat,IF(N$3=ESALCat,Design!$AH$4:$AQ$27))))","v":6},{"$f":"SUM(IF($A22=SoilCat,IF($B22=DrainCat,IF(O$3=ESALCat,Design!$AH$4:$AQ$27))))","v":6}]
[2,"Poor",null,null,"Unbound Dense Graded Subbase",{"$f":"SUM(IF($A23=SoilCat,IF($B23=DrainCat,IF(F$3=ESALCat,Design!$BB$4:$BK$27))))","v":0},{"$f":"SUM(IF($A23=SoilCat,IF($B23=DrainCat,IF(G$3=ESALCat,Design!$BB$4:$BK$27))))","v":0},{"$f":"SUM(IF($A23=SoilCat,IF($B23=DrainCat,IF(H$3=ESALCat,Design!$BB$4:$BK$27))))","v":0},{"$f":"SUM(IF($A23=SoilCat,IF($B23=DrainCat,IF(I$3=ESALCat,Design!$BB$4:$BK$27))))","v":0},{"$f":"SUM(IF($A23=SoilCat,IF($B23=DrainCat,IF(J$3=ESALCat,Design!$BB$4:$BK$27))))","v":6},{"$f":"SUM(IF($A23=SoilCat,IF($B23=DrainCat,IF(K$3=ESALCat,Design!$BB$4:$BK$27))))","v":0},{"$f":"SUM(IF($A23=SoilCat,IF($B23=DrainCat,IF(L$3=ESALCat,Design!$BB$4:$BK$27))))","v":7},{"$f":"SUM(IF($A23=SoilCat,IF($B23=DrainCat,IF(M$3=ESALCat,Design!$BB$4:$BK$27))))","v":11},{"$f":"SUM(IF($A23=SoilCat,IF($B23=DrainCat,IF(N$3=ESALCat,Design!$BB$4:$BK$27))))","v":17},{"$f":"SUM(IF($A23=SoilCat,IF($B23=DrainCat,IF(O$3=ESALCat,Design!$BB$4:$BK$27))))","v":22}]
[3,"Good","Category 3","Good","Pavers and Bedding",{"$f":"SUM(IF($A24=SoilCat,IF($B24=DrainCat,IF(F$3=ESALCat,Design!$N$4:$W$27))))","v":4.125},{"$f":"SUM(IF($A24=SoilCat,IF($B24=DrainCat,IF(G$3=ESALCat,Design!$N$4:$W$27))))","v":4.125},{"$f":"SUM(IF($A24=SoilCat,IF($B24=DrainCat,IF(H$3=ESALCat,Design!$N$4:$W$27))))","v":4.125},{"$f":"SUM(IF($A24=SoilCat,IF($B24=DrainCat,IF(I$3=ESALCat,Design!$N$4:$W$27))))","v":4.125},{"$f":"SUM(IF($A24=SoilCat,IF($B24=DrainCat,IF(J$3=ESALCat,Design!$N$4:$W$27))))","v":4.125},{"$f":"SUM(IF($A24=SoilCat,IF($B24=DrainCat,IF(K$3=ESALCat,Design!$N$4:$W$27))))","v":4.125},{"$f":"SUM(IF($A24=SoilCat,IF($B24=DrainCat,IF(L$3=ESALCat,Design!$N$4:$W$27))))","v":4.125},{"$f":"SUM(IF($A24=SoilCat,IF($B24=DrainCat,IF(M$3=ESALCat,Design!$N$4:$W$27))))","v":4.125},{"$f":"SUM(IF($A24=SoilCat,IF($B24=DrainCat,IF(N$3=ESALCat,Design!$N$4:$W$27))))","v":4.125},{"$f":"SUM(IF($A24=SoilCat,IF($B24=DrainCat,IF(O$3=ESALCat,Design!$N$4:$W$27))))","v":4.125}]
[3,"Good",null,null,"Unbound Dense Graded Base",{"$f":"SUM(IF($A25=SoilCat,IF($B25=DrainCat,IF(F$3=ESALCat,Design!$AH$4:$AQ$27))))","v":4},{"$f":"SUM(IF($A25=SoilCat,IF($B25=DrainCat,IF(G$3=ESALCat,Design!$AH$4:$AQ$27))))","v":4},{"$f":"SUM(IF($A25=SoilCat,IF($B25=DrainCat,IF(H$3=ESALCat,Design!$AH$4:$AQ$27))))","v":4},{"$f":"SUM(IF($A25=SoilCat,IF($B25=DrainCat,IF(I$3=ESALCat,Design!$AH$4:$AQ$27))))","v":4},{"$f":"SUM(IF($A25=SoilCat,IF($B25=DrainCat,IF(J$3=ESALCat,Design!$AH$4:$AQ$27))))","v":4},{"$f":"SUM(IF($A25=SoilCat,IF($B25=DrainCat,IF(K$3=ESALCat,Design!$AH$4:$AQ$27))))","v":6},{"$f":"SUM(IF($A25=SoilCat,IF($B25=DrainCat,IF(L$3=ESALCat,Design!$AH$4:$AQ$27))))","v":8},{"$f":"SUM(IF($A25=SoilCat,IF($B25=DrainCat,IF(M$3=ESALCat,Design!$AH$4:$AQ$27))))","v":6},{"$f":"SUM(IF($A25=SoilCat,IF($B25=DrainCat,IF(N$3=ESALCat,Design!$AH$4:$AQ$27))))","v":6},{"$f":"SUM(IF($A25=SoilCat,IF($B25=DrainCat,IF(O$3=ESALCat,Design!$AH$4:$AQ$27))))","v":6}]
[3,"Good",null,null,"Unbound Dense Graded Subbase",{"$f":"SUM(IF($A26=SoilCat,IF($B26=DrainCat,IF(F$3=ESALCat,Design!$BB$4:$BK$27))))","v":0},{"$f":"SUM(IF($A26=SoilCat,IF($B26=DrainCat,IF(G$3=ESALCat,Design!$BB$4:$BK$27))))","v":0},{"$f":"SUM(IF($A26=SoilCat,IF($B26=DrainCat,IF(H$3=ESALCat,Design!$BB$4:$BK$27))))","v":0},{"$f":"SUM(IF($A26=SoilCat,IF($B26=DrainCat,IF(I$3=ESALCat,Design!$BB$4:$BK$27))))","v":0},{"$f":"SUM(IF($A26=SoilCat,IF($B26=DrainCat,IF(J$3=ESALCat,Design!$BB$4:$BK$27))))","v":0},{"$f":"SUM(IF($A26=SoilCat,IF($B26=DrainCat,IF(K$3=ESALCat,Design!$BB$4:$BK$27))))","v":0},{"$f":"SUM(IF($A26=SoilCat,IF($B26=DrainCat,IF(L$3=ESALCat,Design!$BB$4:$BK$27))))","v":0},{"$f":"SUM(IF($A26=SoilCat,IF($B26=DrainCat,IF(M$3=ESALCat,Design!$BB$4:$BK$27))))","v":6},{"$f":"SUM(IF($A26=SoilCat,IF($B26=DrainCat,IF(N$3=ESALCat,Design!$BB$4:$BK$27))))","v":12},{"$f":"SUM(IF($A26=SoilCat,IF($B26=DrainCat,IF(O$3=ESALCat,Design!$BB$4:$BK$27))))","v":16}]
[3,"Fair",null,"Fair","Pavers and Bedding",{"$f":"SUM(IF($A27=SoilCat,IF($B27=DrainCat,IF(F$3=ESALCat,Design!$N$4:$W$27))))","v":4.125},{"$f":"SUM(IF($A27=SoilCat,IF($B27=DrainCat,IF(G$3=ESALCat,Design!$N$4:$W$27))))","v":4.125},{"$f":"SUM(IF($A27=SoilCat,IF($B27=DrainCat,IF(H$3=ESALCat,Design!$N$4:$W$27))))","v":4.125},{"$f":"SUM(IF($A27=SoilCat,IF($B27=DrainCat,IF(I$3=ESALCat,Design!$N$4:$W$27))))","v":4.125},{"$f":"SUM(IF($A27=SoilCat,IF($B27=DrainCat,IF(J$3=ESALCat,Design!$N$4:$W$27))))","v":4.125},{"$f":"SUM(IF($A27=SoilCat,IF($B27=DrainCat,IF(K$3=ESALCat,Design!$N$4:$W$27))))","v":4.125},{"$f":"SUM(IF($A27=SoilCat,IF($B27=DrainCat,IF(L$3=ESALCat,Design!$N$4:$W$27))))","v":4.125},{"$f":"SUM(IF($A27=SoilCat,IF($B27=DrainCat,IF(M$3=ESALCat,Design!$N$4:$W$27))))","v":4.125},{"$f":"SUM(IF($A27=SoilCat,IF($B27=DrainCat,IF(N$3=ESALCat,Design!$N$4:$W$27))))","v":4.125},{"$f":"SUM(IF($A27=SoilCat,IF($B27=DrainCat,IF(O$3=ESALCat,Design!$N$4:$W$27))))","v":4.125}]
[3,"Fair",null,null,"Unbound Dense Graded Base",{"$f":"SUM(IF($A28=SoilCat,IF($B28=DrainCat,IF(F$3=ESALCat,Design!$AH$4:$AQ$27))))","v":4},{"$f":"SUM(IF($A28=SoilCat,IF($B28=DrainCat,IF(G$3=ESALCat,Design!$AH$4:$AQ$27))))","v":4},{"$f":"SUM(IF($A28=SoilCat,IF($B28=DrainCat,IF(H$3=ESALCat,Design!$AH$4:$AQ$27))))","v":4},{"$f":"SUM(IF($A28=SoilCat,IF($B28=DrainCat,IF(I$3=ESALCat,Design!$AH$4:$AQ$27))))","v":4},{"$f":"SUM(IF($A28=SoilCat,IF($B28=DrainCat,IF(J$3=ESALCat,Design!$AH$4:$AQ$27))))","v":4},{"$f":"SUM(IF($A28=SoilCat,IF($B28=DrainCat,IF(K$3=ESALCat,Design!$AH$4:$AQ$27))))","v":7},{"$f":"SUM(IF($A28=SoilCat,IF($B28=DrainCat,IF(L$3=ESALCat,Design!$AH$4:$AQ$27))))","v":6},{"$f":"SUM(IF($A28=SoilCat,IF($B28=DrainCat,IF(M$3=ESALCat,Design!$AH$4:$AQ$27))))","v":6},{"$f":"SUM(IF($A28=SoilCat,IF($B28=DrainCat,IF(N$3=ESALCat,Design!$AH$4:$AQ$27))))","v":6},{"$f":"SUM(IF($A28=SoilCat,IF($B28=DrainCat,IF(O$3=ESALCat,Design!$AH$4:$AQ$27))))","v":6}]
[3,"Fair",null,null,"Unbound Dense Graded Subbase",{"$f":"SUM(IF($A29=SoilCat,IF($B29=DrainCat,IF(F$3=ESALCat,Design!$BB$4:$BK$27))))","v":0},{"$f":"SUM(IF($A29=SoilCat,IF($B29=DrainCat,IF(G$3=ESALCat,Design!$BB$4:$BK$27))))","v":0},{"$f":"SUM(IF($A29=SoilCat,IF($B29=DrainCat,IF(H$3=ESALCat,Design!$BB$4:$BK$27))))","v":0},{"$f":"SUM(IF($A29=SoilCat,IF($B29=DrainCat,IF(I$3=ESALCat,Design!$BB$4:$BK$27))))","v":0},{"$f":"SUM(IF($A29=SoilCat,IF($B29=DrainCat,IF(J$3=ESALCat,Design!$BB$4:$BK$27))))","v":0},{"$f":"SUM(IF($A29=SoilCat,IF($B29=DrainCat,IF(K$3=ESALCat,Design!$BB$4:$BK$27))))","v":0},{"$f":"SUM(IF($A29=SoilCat,IF($B29=DrainCat,IF(L$3=ESALCat,Design!$BB$4:$BK$27))))","v":6},{"$f":"SUM(IF($A29=SoilCat,IF($B29=DrainCat,IF(M$3=ESALCat,Design!$BB$4:$BK$27))))","v":9},{"$f":"SUM(IF($A29=SoilCat,IF($B29=DrainCat,IF(N$3=ESALCat,Design!$BB$4:$BK$27))))","v":15},{"$f":"SUM(IF($A29=SoilCat,IF($B29=DrainCat,IF(O$3=ESALCat,Design!$BB$4:$BK$27))))","v":20}]
[3,"Poor",null,"Poor","Pavers and Bedding",{"$f":"SUM(IF($A30=SoilCat,IF($B30=DrainCat,IF(F$3=ESALCat,Design!$N$4:$W$27))))","v":4.125},{"$f":"SUM(IF($A30=SoilCat,IF($B30=DrainCat,IF(G$3=ESALCat,Design!$N$4:$W$27))))","v":4.125},{"$f":"SUM(IF($A30=SoilCat,IF($B30=DrainCat,IF(H$3=ESALCat,Design!$N$4:$W$27))))","v":4.125},{"$f":"SUM(IF($A30=SoilCat,IF($B30=DrainCat,IF(I$3=ESALCat,Design!$N$4:$W$27))))","v":4.125},{"$f":"SUM(IF($A30=SoilCat,IF($B30=DrainCat,IF(J$3=ESALCat,Design!$N$4:$W$27))))","v":4.125},{"$f":"SUM(IF($A30=SoilCat,IF($B30=DrainCat,IF(K$3=ESALCat,Design!$N$4:$W$27))))","v":4.125},{"$f":"SUM(IF($A30=SoilCat,IF($B30=DrainCat,IF(L$3=ESALCat,Design!$N$4:$W$27))))","v":4.125},{"$f":"SUM(IF($A30=SoilCat,IF($B30=DrainCat,IF(M$3=ESALCat,Design!$N$4:$W$27))))","v":4.125},{"$f":"SUM(IF($A30=SoilCat,IF($B30=DrainCat,IF(N$3=ESALCat,Design!$N$4:$W$27))))","v":4.125},{"$f":"SUM(IF($A30=SoilCat,IF($B30=DrainCat,IF(O$3=ESALCat,Design!$N$4:$W$27))))","v":4.125}]
[3,"Poor",null,null,"Unbound Dense Graded Base",{"$f":"SUM(IF($A31=SoilCat,IF($B31=DrainCat,IF(F$3=ESALCat,Design!$AH$4:$AQ$27))))","v":4},{"$f":"SUM(IF($A31=SoilCat,IF($B31=DrainCat,IF(G$3=ESALCat,Design!$AH$4:$AQ$27))))","v":4},{"$f":"SUM(IF($A31=SoilCat,IF($B31=DrainCat,IF(H$3=ESALCat,Design!$AH$4:$AQ$27))))","v":4},{"$f":"SUM(IF($A31=SoilCat,IF($B31=DrainCat,IF(I$3=ESALCat,Design!$AH$4:$AQ$27))))","v":4},{"$f":"SUM(IF($A31=SoilCat,IF($B31=DrainCat,IF(J$3=ESALCat,Design!$AH$4:$AQ$27))))","v":4},{"$f":"SUM(IF($A31=SoilCat,IF($B31=DrainCat,IF(K$3=ESALCat,Design!$AH$4:$AQ$27))))","v":6},{"$f":"SUM(IF($A31=SoilCat,IF($B31=DrainCat,IF(L$3=ESALCat,Design!$AH$4:$AQ$27))))","v":6},{"$f":"SUM(IF($A31=SoilCat,IF($B31=DrainCat,IF(M$3=ESALCat,Design!$AH$4:$AQ$27))))","v":6},{"$f":"SUM(IF($A31=SoilCat,IF($B31=DrainCat,IF(N$3=ESALCat,Design!$AH$4:$AQ$27))))","v":6},{"$f":"SUM(IF($A31=SoilCat,IF($B31=DrainCat,IF(O$3=ESALCat,Design!$AH$4:$AQ$27))))","v":6}]
[3,"Poor",null,null,"Unbound Dense Graded Subbase",{"$f":"SUM(IF($A32=SoilCat,IF($B32=DrainCat,IF(F$3=ESALCat,Design!$BB$4:$BK$27))))","v":0},{"$f":"SUM(IF($A32=SoilCat,IF($B32=DrainCat,IF(G$3=ESALCat,Design!$BB$4:$BK$27))))","v":0},{"$f":"SUM(IF($A32=SoilCat,IF($B32=DrainCat,IF(H$3=ESALCat,Design!$BB$4:$BK$27))))","v":0},{"$f":"SUM(IF($A32=SoilCat,IF($B32=DrainCat,IF(I$3=ESALCat,Design!$BB$4:$BK$27))))","v":6},{"$f":"SUM(IF($A32=SoilCat,IF($B32=DrainCat,IF(J$3=ESALCat,Design!$BB$4:$BK$27))))","v":6},{"$f":"SUM(IF($A32=SoilCat,IF($B32=DrainCat,IF(K$3=ESALCat,Design!$BB$4:$BK$27))))","v":7},{"$f":"SUM(IF($A32=SoilCat,IF($B32=DrainCat,IF(L$3=ESALCat,Design!$BB$4:$BK$27))))","v":12},{"$f":"SUM(IF($A32=SoilCat,IF($B32=DrainCat,IF(M$3=ESALCat,Design!$BB$4:$BK$27))))","v":16},{"$f":"SUM(IF($A32=SoilCat,IF($B32=DrainCat,IF(N$3=ESALCat,Design!$BB$4:$BK$27))))","v":23},{"$f":"SUM(IF($A32=SoilCat,IF($B32=DrainCat,IF(O$3=ESALCat,Design!$BB$4:$BK$27))))","v":29}]
[4,"Good","Category 4","Good","Pavers and Bedding",{"$f":"SUM(IF($A33=SoilCat,IF($B33=DrainCat,IF(F$3=ESALCat,Design!$N$4:$W$27))))","v":4.125},{"$f":"SUM(IF($A33=SoilCat,IF($B33=DrainCat,IF(G$3=ESALCat,Design!$N$4:$W$27))))","v":4.125},{"$f":"SUM(IF($A33=SoilCat,IF($B33=DrainCat,IF(H$3=ESALCat,Design!$N$4:$W$27))))","v":4.125},{"$f":"SUM(IF($A33=SoilCat,IF($B33=DrainCat,IF(I$3=ESALCat,Design!$N$4:$W$27))))","v":4.125},{"$f":"SUM(IF($A33=SoilCat,IF($B33=DrainCat,IF(J$3=ESALCat,Design!$N$4:$W$27))))","v":4.125},{"$f":"SUM(IF($A33=SoilCat,IF($B33=DrainCat,IF(K$3=ESALCat,Design!$N$4:$W$27))))","v":4.125},{"$f":"SUM(IF($A33=SoilCat,IF($B33=DrainCat,IF(L$3=ESALCat,Design!$N$4:$W$27))))","v":4.125},{"$f":"SUM(IF($A33=SoilCat,IF($B33=DrainCat,IF(M$3=ESALCat,Design!$N$4:$W$27))))","v":4.125},{"$f":"SUM(IF($A33=SoilCat,IF($B33=DrainCat,IF(N$3=ESALCat,Design!$N$4:$W$27))))","v":4.125},{"$f":"SUM(IF($A33=SoilCat,IF($B33=DrainCat,IF(O$3=ESALCat,Design!$N$4:$W$27))))","v":4.125}]
[4,"Good",null,null,"Unbound Dense Graded Base",{"$f":"SUM(IF($A34=SoilCat,IF($B34=DrainCat,IF(F$3=ESALCat,Design!$AH$4:$AQ$27))))","v":4},{"$f":"SUM(IF($A34=SoilCat,IF($B34=DrainCat,IF(G$3=ESALCat,Design!$AH$4:$AQ$27))))","v":4},{"$f":"SUM(IF($A34=SoilCat,IF($B34=DrainCat,IF(H$3=ESALCat,Design!$AH$4:$AQ$27))))","v":4},{"$f":"SUM(IF($A34=SoilCat,IF($B34=DrainCat,IF(I$3=ESALCat,Design!$AH$4:$AQ$27))))","v":4},{"$f":"SUM(IF($A34=SoilCat,IF($B34=DrainCat,IF(J$3=ESALCat,Design!$AH$4:$AQ$27))))","v":4},{"$f":"SUM(IF($A34=SoilCat,IF($B34=DrainCat,IF(K$3=ESALCat,Design!$AH$4:$AQ$27))))","v":7},{"$f":"SUM(IF($A34=SoilCat,IF($B34=DrainCat,IF(L$3=ESALCat,Design!$AH$4:$AQ$27))))","v":6},{"$f":"SUM(IF($A34=SoilCat,IF($B34=DrainCat,IF(M$3=ESALCat,Design!$AH$4:$AQ$27))))","v":6},{"$f":"SUM(IF($A34=SoilCat,IF($B34=DrainCat,IF(N$3=ESALCat,Design!$AH$4:$AQ$27))))","v":6},{"$f":"SUM(IF($A34=SoilCat,IF($B34=DrainCat,IF(O$3=ESALCat,Design!$AH$4:$AQ$27))))","v":6}]
[4,"Good",null,null,"Unbound Dense Graded Subbase",{"$f":"SUM(IF($A35=SoilCat,IF($B35=DrainCat,IF(F$3=ESALCat,Design!$BB$4:$BK$27))))","v":0},{"$f":"SUM(IF($A35=SoilCat,IF($B35=DrainCat,IF(G$3=ESALCat,Design!$BB$4:$BK$27))))","v":0},{"$f":"SUM(IF($A35=SoilCat,IF($B35=DrainCat,IF(H$3=ESALCat,Design!$BB$4:$BK$27))))","v":0},{"$f":"SUM(IF($A35=SoilCat,IF($B35=DrainCat,IF(I$3=ESALCat,Design!$BB$4:$BK$27))))","v":0},{"$f":"SUM(IF($A35=SoilCat,IF($B35=DrainCat,IF(J$3=ESALCat,Design!$BB$4:$BK$27))))","v":0},{"$f":"SUM(IF($A35=SoilCat,IF($B35=DrainCat,IF(K$3=ESALCat,Design!$BB$4:$BK$27))))","v":0},{"$f":"SUM(IF($A35=SoilCat,IF($B35=DrainCat,IF(L$3=ESALCat,Design!$BB$4:$BK$27))))","v":6},{"$f":"SUM(IF($A35=SoilCat,IF($B35=DrainCat,IF(M$3=ESALCat,Design!$BB$4:$BK$27))))","v":9},{"$f":"SUM(IF($A35=SoilCat,IF($B35=DrainCat,IF(N$3=ESALCat,Design!$BB$4:$BK$27))))","v":15},{"$f":"SUM(IF($A35=SoilCat,IF($B35=DrainCat,IF(O$3=ESALCat,Design!$BB$4:$BK$27))))","v":20}]
[4,"Fair",null,"Fair","Pavers and Bedding",{"$f":"SUM(IF($A36=SoilCat,IF($B36=DrainCat,IF(F$3=ESALCat,Design!$N$4:$W$27))))","v":4.125},{"$f":"SUM(IF($A36=SoilCat,IF($B36=DrainCat,IF(G$3=ESALCat,Design!$N$4:$W$27))))","v":4.125},{"$f":"SUM(IF($A36=SoilCat,IF($B36=DrainCat,IF(H$3=ESALCat,Design!$N$4:$W$27))))","v":4.125},{"$f":"SUM(IF($A36=SoilCat,IF($B36=DrainCat,IF(I$3=ESALCat,Design!$N$4:$W$27))))","v":4.125},{"$f":"SUM(IF($A36=SoilCat,IF($B36=DrainCat,IF(J$3=ESALCat,Design!$N$4:$W$27))))","v":4.125},{"$f":"SUM(IF($A36=SoilCat,IF($B36=DrainCat,IF(K$3=ESALCat,Design!$N$4:$W$27))))","v":4.125},{"$f":"SUM(IF($A36=SoilCat,IF($B36=DrainCat,IF(L$3=ESALCat,Design!$N$4:$W$27))))","v":4.125},{"$f":"SUM(IF($A36=SoilCat,IF($B36=DrainCat,IF(M$3=ESALCat,Design!$N$4:$W$27))))","v":4.125},{"$f":"SUM(IF($A36=SoilCat,IF($B36=DrainCat,IF(N$3=ESALCat,Design!$N$4:$W$27))))","v":4.125},{"$f":"SUM(IF($A36=SoilCat,IF($B36=DrainCat,IF(O$3=ESALCat,Design!$N$4:$W$27))))","v":4.125}]
[4,"Fair",null,null,"Unbound Dense Graded Base",{"$f":"SUM(IF($A37=SoilCat,IF($B37=DrainCat,IF(F$3=ESALCat,Design!$AH$4:$AQ$27))))","v":4},{"$f":"SUM(IF($A37=SoilCat,IF($B37=DrainCat,IF(G$3=ESALCat,Design!$AH$4:$AQ$27))))","v":4},{"$f":"SUM(IF($A37=SoilCat,IF($B37=DrainCat,IF(H$3=ESALCat,Design!$AH$4:$AQ$27))))","v":4},{"$f":"SUM(IF($A37=SoilCat,IF($B37=DrainCat,IF(I$3=ESALCat,Design!$AH$4:$AQ$27))))","v":4},{"$f":"SUM(IF($A37=SoilCat,IF($B37=DrainCat,IF(J$3=ESALCat,Design!$AH$4:$AQ$27))))","v":4},{"$f":"SUM(IF($A37=SoilCat,IF($B37=DrainCat,IF(K$3=ESALCat,Design!$AH$4:$AQ$27))))","v":6},{"$f":"SUM(IF($A37=SoilCat,IF($B37=DrainCat,IF(L$3=ESALCat,Design!$AH$4:$AQ$27))))","v":6},{"$f":"SUM(IF($A37=SoilCat,IF($B37=DrainCat,IF(M$3=ESALCat,Design!$AH$4:$AQ$27))))","v":6},{"$f":"SUM(IF($A37=SoilCat,IF($B37=DrainCat,IF(N$3=ESALCat,Design!$AH$4:$AQ$27))))","v":6},{"$f":"SUM(IF($A37=SoilCat,IF($B37=DrainCat,IF(O$3=ESALCat,Design!$AH$4:$AQ$27))))","v":6}]
[4,"Fair",null,null,"Unbound Dense Graded Subbase",{"$f":"SUM(IF($A38=SoilCat,IF($B38=DrainCat,IF(F$3=ESALCat,Design!$BB$4:$BK$27))))","v":0},{"$f":"SUM(IF($A38=SoilCat,IF($B38=DrainCat,IF(G$3=ESALCat,Design!$BB$4:$BK$27))))","v":0},{"$f":"SUM(IF($A38=SoilCat,IF($B38=DrainCat,IF(H$3=ESALCat,Design!$BB$4:$BK$27))))","v":0},{"$f":"SUM(IF($A38=SoilCat,IF($B38=DrainCat,IF(I$3=ESALCat,Design!$BB$4:$BK$27))))","v":6},{"$f":"SUM(IF($A38=SoilCat,IF($B38=DrainCat,IF(J$3=ESALCat,Design!$BB$4:$BK$27))))","v":6},{"$f":"SUM(IF($A38=SoilCat,IF($B38=DrainCat,IF(K$3=ESALCat,Design!$BB$4:$BK$27))))","v":7},{"$f":"SUM(IF($A38=SoilCat,IF($B38=DrainCat,IF(L$3=ESALCat,Design!$BB$4:$BK$27))))","v":12},{"$f":"SUM(IF($A38=SoilCat,IF($B38=DrainCat,IF(M$3=ESALCat,Design!$BB$4:$BK$27))))","v":16},{"$f":"SUM(IF($A38=SoilCat,IF($B38=DrainCat,IF(N$3=ESALCat,Design!$BB$4:$BK$27))))","v":23},{"$f":"SUM(IF($A38=SoilCat,IF($B38=DrainCat,IF(O$3=ESALCat,Design!$BB$4:$BK$27))))","v":29}]
[4,"Poor",null,"Poor","Pavers and Bedding",{"$f":"SUM(IF($A39=SoilCat,IF($B39=DrainCat,IF(F$3=ESALCat,Design!$N$4:$W$27))))","v":4.125},{"$f":"SUM(IF($A39=SoilCat,IF($B39=DrainCat,IF(G$3=ESALCat,Design!$N$4:$W$27))))","v":4.125},{"$f":"SUM(IF($A39=SoilCat,IF($B39=DrainCat,IF(H$3=ESALCat,Design!$N$4:$W$27))))","v":4.125},{"$f":"SUM(IF($A39=SoilCat,IF($B39=DrainCat,IF(I$3=ESALCat,Design!$N$4:$W$27))))","v":4.125},{"$f":"SUM(IF($A39=SoilCat,IF($B39=DrainCat,IF(J$3=ESALCat,Design!$N$4:$W$27))))","v":4.125},{"$f":"SUM(IF($A39=SoilCat,IF($B39=DrainCat,IF(K$3=ESALCat,Design!$N$4:$W$27))))","v":4.125},{"$f":"SUM(IF($A39=SoilCat,IF($B39=DrainCat,IF(L$3=ESALCat,Design!$N$4:$W$27))))","v":4.125},{"$f":"SUM(IF($A39=SoilCat,IF($B39=DrainCat,IF(M$3=ESALCat,Design!$N$4:$W$27))))","v":4.125},{"$f":"SUM(IF($A39=SoilCat,IF($B39=DrainCat,IF(N$3=ESALCat,Design!$N$4:$W$27))))","v":4.125},{"$f":"SUM(IF($A39=SoilCat,IF($B39=DrainCat,IF(O$3=ESALCat,Design!$N$4:$W$27))))","v":4.125}]
[4,"Poor",null,null,"Unbound Dense Graded Base",{"$f":"SUM(IF($A40=SoilCat,IF($B40=DrainCat,IF(F$3=ESALCat,Design!$AH$4:$AQ$27))))","v":4},{"$f":"SUM(IF($A40=SoilCat,IF($B40=DrainCat,IF(G$3=ESALCat,Design!$AH$4:$AQ$27))))","v":4},{"$f":"SUM(IF($A40=SoilCat,IF($B40=DrainCat,IF(H$3=ESALCat,Design!$AH$4:$AQ$27))))","v":4},{"$f":"SUM(IF($A40=SoilCat,IF($B40=DrainCat,IF(I$3=ESALCat,Design!$AH$4:$AQ$27))))","v":4},{"$f":"SUM(IF($A40=SoilCat,IF($B40=DrainCat,IF(J$3=ESALCat,Design!$AH$4:$AQ$27))))","v":4},{"$f":"SUM(IF($A40=SoilCat,IF($B40=DrainCat,IF(K$3=ESALCat,Design!$AH$4:$AQ$27))))","v":6},{"$f":"SUM(IF($A40=SoilCat,IF($B40=DrainCat,IF(L$3=ESALCat,Design!$AH$4:$AQ$27))))","v":6},{"$f":"SUM(IF($A40=SoilCat,IF($B40=DrainCat,IF(M$3=ESALCat,Design!$AH$4:$AQ$27))))","v":6},{"$f":"SUM(IF($A40=SoilCat,IF($B40=DrainCat,IF(N$3=ESALCat,Design!$AH$4:$AQ$27))))","v":6},{"$f":"SUM(IF($A40=SoilCat,IF($B40=DrainCat,IF(O$3=ESALCat,Design!$AH$4:$AQ$27))))","v":6}]
[4,"Poor",null,null,"Unbound Dense Graded Subbase",{"$f":"SUM(IF($A41=SoilCat,IF($B41=DrainCat,IF(F$3=ESALCat,Design!$BB$4:$BK$27))))","v":0},{"$f":"SUM(IF($A41=SoilCat,IF($B41=DrainCat,IF(G$3=ESALCat,Design!$BB$4:$BK$27))))","v":0},{"$f":"SUM(IF($A41=SoilCat,IF($B41=DrainCat,IF(H$3=ESALCat,Design!$BB$4:$BK$27))))","v":0},{"$f":"SUM(IF($A41=SoilCat,IF($B41=DrainCat,IF(I$3=ESALCat,Design!$BB$4:$BK$27))))","v":6},{"$f":"SUM(IF($A41=SoilCat,IF($B41=DrainCat,IF(J$3=ESALCat,Design!$BB$4:$BK$27))))","v":7},{"$f":"SUM(IF($A41=SoilCat,IF($B41=DrainCat,IF(K$3=ESALCat,Design!$BB$4:$BK$27))))","v":9},{"$f":"SUM(IF($A41=SoilCat,IF($B41=DrainCat,IF(L$3=ESALCat,Design!$BB$4:$BK$27))))","v":13},{"$f":"SUM(IF($A41=SoilCat,IF($B41=DrainCat,IF(M$3=ESALCat,Design!$BB$4:$BK$27))))","v":18},{"$f":"SUM(IF($A41=SoilCat,IF($B41=DrainCat,IF(N$3=ESALCat,Design!$BB$4:$BK$27))))","v":25},{"$f":"SUM(IF($A41=SoilCat,IF($B41=DrainCat,IF(O$3=ESALCat,Design!$BB$4:$BK$27))))","v":31}]
[5,"Good","Category 5","Good","Pavers and Bedding",{"$f":"SUM(IF($A42=SoilCat,IF($B42=DrainCat,IF(F$3=ESALCat,Design!$N$4:$W$27))))","v":4.125},{"$f":"SUM(IF($A42=SoilCat,IF($B42=DrainCat,IF(G$3=ESALCat,Design!$N$4:$W$27))))","v":4.125},{"$f":"SUM(IF($A42=SoilCat,IF($B42=DrainCat,IF(H$3=ESALCat,Design!$N$4:$W$27))))","v":4.125},{"$f":"SUM(IF($A42=SoilCat,IF($B42=DrainCat,IF(I$3=ESALCat,Design!$N$4:$W$27))))","v":4.125},{"$f":"SUM(IF($A42=SoilCat,IF($B42=DrainCat,IF(J$3=ESALCat,Design!$N$4:$W$27))))","v":4.125},{"$f":"SUM(IF($A42=SoilCat,IF($B42=DrainCat,IF(K$3=ESALCat,Design!$N$4:$W$27))))","v":4.125},{"$f":"SUM(IF($A42=SoilCat,IF($B42=DrainCat,IF(L$3=ESALCat,Design!$N$4:$W$27))))","v":4.125},{"$f":"SUM(IF($A42=SoilCat,IF($B42=DrainCat,IF(M$3=ESALCat,Design!$N$4:$W$27))))","v":4.125},{"$f":"SUM(IF($A42=SoilCat,IF($B42=DrainCat,IF(N$3=ESALCat,Design!$N$4:$W$27))))","v":4.125},{"$f":"SUM(IF($A42=SoilCat,IF($B42=DrainCat,IF(O$3=ESALCat,Design!$N$4:$W$27))))","v":4.125}]
[5,"Good",null,null,"Unbound Dense Graded Base",{"$f":"SUM(IF($A43=SoilCat,IF($B43=DrainCat,IF(F$3=ESALCat,Design!$AH$4:$AQ$27))))","v":4},{"$f":"SUM(IF($A43=SoilCat,IF($B43=DrainCat,IF(G$3=ESALCat,Design!$AH$4:$AQ$27))))","v":4},{"$f":"SUM(IF($A43=SoilCat,IF($B43=DrainCat,IF(H$3=ESALCat,Design!$AH$4:$AQ$27))))","v":4},{"$f":"SUM(IF($A43=SoilCat,IF($B43=DrainCat,IF(I$3=ESALCat,Design!$AH$4:$AQ$27))))","v":4},{"$f":"SUM(IF($A43=SoilCat,IF($B43=DrainCat,IF(J$3=ESALCat,Design!$AH$4:$AQ$27))))","v":4},{"$f":"SUM(IF($A43=SoilCat,IF($B43=DrainCat,IF(K$3=ESALCat,Design!$AH$4:$AQ$27))))","v":6},{"$f":"SUM(IF($A43=SoilCat,IF($B43=DrainCat,IF(L$3=ESALCat,Design!$AH$4:$AQ$27))))","v":6},{"$f":"SUM(IF($A43=SoilCat,IF($B43=DrainCat,IF(M$3=ESALCat,Design!$AH$4:$AQ$27))))","v":6},{"$f":"SUM(IF($A43=SoilCat,IF($B43=DrainCat,IF(N$3=ESALCat,Design!$AH$4:$AQ$27))))","v":6},{"$f":"SUM(IF($A43=SoilCat,IF($B43=DrainCat,IF(O$3=ESALCat,Design!$AH$4:$AQ$27))))","v":6}]
[5,"Good",null,null,"Unbound Dense Graded Subbase",{"$f":"SUM(IF($A44=SoilCat,IF($B44=DrainCat,IF(F$3=ESALCat,Design!$BB$4:$BK$27))))","v":0},{"$f":"SUM(IF($A44=SoilCat,IF($B44=DrainCat,IF(G$3=ESALCat,Design!$BB$4:$BK$27))))","v":0},{"$f":"SUM(IF($A44=SoilCat,IF($B44=DrainCat,IF(H$3=ESALCat,Design!$BB$4:$BK$27))))","v":0},{"$f":"SUM(IF($A44=SoilCat,IF($B44=DrainCat,IF(I$3=ESALCat,Design!$BB$4:$BK$27))))","v":0},{"$f":"SUM(IF($A44=SoilCat,IF($B44=DrainCat,IF(J$3=ESALCat,Design!$BB$4:$BK$27))))","v":6},{"$f":"SUM(IF($A44=SoilCat,IF($B44=DrainCat,IF(K$3=ESALCat,Design!$BB$4:$BK$27))))","v":6},{"$f":"SUM(IF($A44=SoilCat,IF($B44=DrainCat,IF(L$3=ESALCat,Design!$BB$4:$BK$27))))","v":9},{"$f":"SUM(IF($A44=SoilCat,IF($B44=DrainCat,IF(M$3=ESALCat,Design!$BB$4:$BK$27))))","v":13},{"$f":"SUM(IF($A44=SoilCat,IF($B44=DrainCat,IF(N$3=ESALCat,Design!$BB$4:$BK$27))))","v":20},{"$f":"SUM(IF($A44=SoilCat,IF($B44=DrainCat,IF(O$3=ESALCat,Design!$BB$4:$BK$27))))","v":25}]
[5,"Fair",null,"Fair","Pavers and Bedding",{"$f":"SUM(IF($A45=SoilCat,IF($B45=DrainCat,IF(F$3=ESALCat,Design!$N$4:$W$27))))","v":4.125},{"$f":"SUM(IF($A45=SoilCat,IF($B45=DrainCat,IF(G$3=ESALCat,Design!$N$4:$W$27))))","v":4.125},{"$f":"SUM(IF($A45=SoilCat,IF($B45=DrainCat,IF(H$3=ESALCat,Design!$N$4:$W$27))))","v":4.125},{"$f":"SUM(IF($A45=SoilCat,IF($B45=DrainCat,IF(I$3=ESALCat,Design!$N$4:$W$27))))","v":4.125},{"$f":"SUM(IF($A45=SoilCat,IF($B45=DrainCat,IF(J$3=ESALCat,Design!$N$4:$W$27))))","v":4.125},{"$f":"SUM(IF($A45=SoilCat,IF($B45=DrainCat,IF(K$3=ESALCat,Design!$N$4:$W$27))))","v":4.125},{"$f":"SUM(IF($A45=SoilCat,IF($B45=DrainCat,IF(L$3=ESALCat,Design!$N$4:$W$27))))","v":4.125},{"$f":"SUM(IF($A45=SoilCat,IF($B45=DrainCat,IF(M$3=ESALCat,Design!$N$4:$W$27))))","v":4.125},{"$f":"SUM(IF($A45=SoilCat,IF($B45=DrainCat,IF(N$3=ESALCat,Design!$N$4:$W$27))))","v":4.125},{"$f":"SUM(IF($A45=SoilCat,IF($B45=DrainCat,IF(O$3=ESALCat,Design!$N$4:$W$27))))","v":4.125}]
[5,"Fair",null,null,"Unbound Dense Graded Base",{"$f":"SUM(IF($A46=SoilCat,IF($B46=DrainCat,IF(F$3=ESALCat,Design!$AH$4:$AQ$27))))","v":4},{"$f":"SUM(IF($A46=SoilCat,IF($B46=DrainCat,IF(G$3=ESALCat,Design!$AH$4:$AQ$27))))","v":4},{"$f":"SUM(IF($A46=SoilCat,IF($B46=DrainCat,IF(H$3=ESALCat,Design!$AH$4:$AQ$27))))","v":4},{"$f":"SUM(IF($A46=SoilCat,IF($B46=DrainCat,IF(I$3=ESALCat,Design!$AH$4:$AQ$27))))","v":4},{"$f":"SUM(IF($A46=SoilCat,IF($B46=DrainCat,IF(J$3=ESALCat,Design!$AH$4:$AQ$27))))","v":4},{"$f":"SUM(IF($A46=SoilCat,IF($B46=DrainCat,IF(K$3=ESALCat,Design!$AH$4:$AQ$27))))","v":6},{"$f":"SUM(IF($A46=SoilCat,IF($B46=DrainCat,IF(L$3=ESALCat,Design!$AH$4:$AQ$27))))","v":6},{"$f":"SUM(IF($A46=SoilCat,IF($B46=DrainCat,IF(M$3=ESALCat,Design!$AH$4:$AQ$27))))","v":6},{"$f":"SUM(IF($A46=SoilCat,IF($B46=DrainCat,IF(N$3=ESALCat,Design!$AH$4:$AQ$27))))","v":6},{"$f":"SUM(IF($A46=SoilCat,IF($B46=DrainCat,IF(O$3=ESALCat,Design!$AH$4:$AQ$27))))","v":6}]
[5,"Fair",null,null,"Unbound Dense Graded Subbase",{"$f":"SUM(IF($A47=SoilCat,IF($B47=DrainCat,IF(F$3=ESALCat,Design!$BB$4:$BK$27))))","v":0},{"$f":"SUM(IF($A47=SoilCat,IF($B47=DrainCat,IF(G$3=ESALCat,Design!$BB$4:$BK$27))))","v":0},{"$f":"SUM(IF($A47=SoilCat,IF($B47=DrainCat,IF(H$3=ESALCat,Design!$BB$4:$BK$27))))","v":0},{"$f":"SUM(IF($A47=SoilCat,IF($B47=DrainCat,IF(I$3=ESALCat,Design!$BB$4:$BK$27))))","v":6},{"$f":"SUM(IF($A47=SoilCat,IF($B47=DrainCat,IF(J$3=ESALCat,Design!$BB$4:$BK$27))))","v":7},{"$f":"SUM(IF($A47=SoilCat,IF($B47=DrainCat,IF(K$3=ESALCat,Design!$BB$4:$BK$27))))","v":9},{"$f":"SUM(IF($A47=SoilCat,IF($B47=DrainCat,IF(L$3=ESALCat,Design!$BB$4:$BK$27))))","v":13},{"$f":"SUM(IF($A47=SoilCat,IF($B47=DrainCat,IF(M$3=ESALCat,Design!$BB$4:$BK$27))))","v":18},{"$f":"SUM(IF($A47=SoilCat,IF($B47=DrainCat,IF(N$3=ESALCat,Design!$BB$4:$BK$27))))","v":25},{"$f":"SUM(IF($A47=SoilCat,IF($B47=DrainCat,IF(O$3=ESALCat,Design!$BB$4:$BK$27))))","v":31}]
[5,"Poor",null,"Poor","Pavers and Bedding",{"$f":"SUM(IF($A48=SoilCat,IF($B48=DrainCat,IF(F$3=ESALCat,Design!$N$4:$W$27))))","v":4.125},{"$f":"SUM(IF($A48=SoilCat,IF($B48=DrainCat,IF(G$3=ESALCat,Design!$N$4:$W$27))))","v":4.125},{"$f":"SUM(IF($A48=SoilCat,IF($B48=DrainCat,IF(H$3=ESALCat,Design!$N$4:$W$27))))","v":4.125},{"$f":"SUM(IF($A48=SoilCat,IF($B48=DrainCat,IF(I$3=ESALCat,Design!$N$4:$W$27))))","v":4.125},{"$f":"SUM(IF($A48=SoilCat,IF($B48=DrainCat,IF(J$3=ESALCat,Design!$N$4:$W$27))))","v":4.125},{"$f":"SUM(IF($A48=SoilCat,IF($B48=DrainCat,IF(K$3=ESALCat,Design!$N$4:$W$27))))","v":4.125},{"$f":"SUM(IF($A48=SoilCat,IF($B48=DrainCat,IF(L$3=ESALCat,Design!$N$4:$W$27))))","v":4.125},{"$f":"SUM(IF($A48=SoilCat,IF($B48=DrainCat,IF(M$3=ESALCat,Design!$N$4:$W$27))))","v":4.125},{"$f":"SUM(IF($A48=SoilCat,IF($B48=DrainCat,IF(N$3=ESALCat,Design!$N$4:$W$27))))","v":4.125},{"$f":"SUM(IF($A48=SoilCat,IF($B48=DrainCat,IF(O$3=ESALCat,Design!$N$4:$W$27))))","v":4.125}]
[5,"Poor",null,null,"Unbound Dense Graded Base",{"$f":"SUM(IF($A49=SoilCat,IF($B49=DrainCat,IF(F$3=ESALCat,Design!$AH$4:$AQ$27))))","v":4},{"$f":"SUM(IF($A49=SoilCat,IF($B49=DrainCat,IF(G$3=ESALCat,Design!$AH$4:$AQ$27))))","v":4},{"$f":"SUM(IF($A49=SoilCat,IF($B49=DrainCat,IF(H$3=ESALCat,Design!$AH$4:$AQ$27))))","v":4},{"$f":"SUM(IF($A49=SoilCat,IF($B49=DrainCat,IF(I$3=ESALCat,Design!$AH$4:$AQ$27))))","v":4},{"$f":"SUM(IF($A49=SoilCat,IF($B49=DrainCat,IF(J$3=ESALCat,Design!$AH$4:$AQ$27))))","v":4},{"$f":"SUM(IF($A49=SoilCat,IF($B49=DrainCat,IF(K$3=ESALCat,Design!$AH$4:$AQ$27))))","v":6},{"$f":"SUM(IF($A49=SoilCat,IF($B49=DrainCat,IF(L$3=ESALCat,Design!$AH$4:$AQ$27))))","v":6},{"$f":"SUM(IF($A49=SoilCat,IF($B49=DrainCat,IF(M$3=ESALCat,Design!$AH$4:$AQ$27))))","v":6},{"$f":"SUM(IF($A49=SoilCat,IF($B49=DrainCat,IF(N$3=ESALCat,Design!$AH$4:$AQ$27))))","v":6},{"$f":"SUM(IF($A49=SoilCat,IF($B49=DrainCat,IF(O$3=ESALCat,Design!$AH$4:$AQ$27))))","v":6}]
[5,"Poor",null,null,"Unbound Dense Graded Subbase",{"$f":"SUM(IF($A50=SoilCat,IF($B50=DrainCat,IF(F$3=ESALCat,Design!$BB$4:$BK$27))))","v":0},{"$f":"SUM(IF($A50=SoilCat,IF($B50=DrainCat,IF(G$3=ESALCat,Design!$BB$4:$BK$27))))","v":0},{"$f":"SUM(IF($A50=SoilCat,IF($B50=DrainCat,IF(H$3=ESALCat,Design!$BB$4:$BK$27))))","v":6},{"$f":"SUM(IF($A50=SoilCat,IF($B50=DrainCat,IF(I$3=ESALCat,Design!$BB$4:$BK$27))))","v":6},{"$f":"SUM(IF($A50=SoilCat,IF($B50=DrainCat,IF(J$3=ESALCat,Design!$BB$4:$BK$27))))","v":10},{"$f":"SUM(IF($A50=SoilCat,IF($B50=DrainCat,IF(K$3=ESALCat,Design!$BB$4:$BK$27))))","v":13},{"$f":"SUM(IF($A50=SoilCat,IF($B50=DrainCat,IF(L$3=ESALCat,Design!$BB$4:$BK$27))))","v":17},{"$f":"SUM(IF($A50=SoilCat,IF($B50=DrainCat,IF(M$3=ESALCat,Design!$BB$4:$BK$27))))","v":22},{"$f":"SUM(IF($A50=SoilCat,IF($B50=DrainCat,IF(N$3=ESALCat,Design!$BB$4:$BK$27))))","v":30},{"$f":"SUM(IF($A50=SoilCat,IF($B50=DrainCat,IF(O$3=ESALCat,Design!$BB$4:$BK$27))))","v":36}]
[6,"Good","Category 6","Good","Pavers and Bedding",{"$f":"SUM(IF($A51=SoilCat,IF($B51=DrainCat,IF(F$3=ESALCat,Design!$N$4:$W$27))))","v":4.125},{"$f":"SUM(IF($A51=SoilCat,IF($B51=DrainCat,IF(G$3=ESALCat,Design!$N$4:$W$27))))","v":4.125},{"$f":"SUM(IF($A51=SoilCat,IF($B51=DrainCat,IF(H$3=ESALCat,Design!$N$4:$W$27))))","v":4.125},{"$f":"SUM(IF($A51=SoilCat,IF($B51=DrainCat,IF(I$3=ESALCat,Design!$N$4:$W$27))))","v":4.125},{"$f":"SUM(IF($A51=SoilCat,IF($B51=DrainCat,IF(J$3=ESALCat,Design!$N$4:$W$27))))","v":4.125},{"$f":"SUM(IF($A51=SoilCat,IF($B51=DrainCat,IF(K$3=ESALCat,Design!$N$4:$W$27))))","v":4.125},{"$f":"SUM(IF($A51=SoilCat,IF($B51=DrainCat,IF(L$3=ESALCat,Design!$N$4:$W$27))))","v":4.125},{"$f":"SUM(IF($A51=SoilCat,IF($B51=DrainCat,IF(M$3=ESALCat,Design!$N$4:$W$27))))","v":4.125},{"$f":"SUM(IF($A51=SoilCat,IF($B51=DrainCat,IF(N$3=ESALCat,Design!$N$4:$W$27))))","v":4.125},{"$f":"SUM(IF($A51=SoilCat,IF($B51=DrainCat,IF(O$3=ESALCat,Design!$N$4:$W$27))))","v":4.125}]
[6,"Good",null,null,"Unbound Dense Graded Base",{"$f":"SUM(IF($A52=SoilCat,IF($B52=DrainCat,IF(F$3=ESALCat,Design!$AH$4:$AQ$27))))","v":4},{"$f":"SUM(IF($A52=SoilCat,IF($B52=DrainCat,IF(G$3=ESALCat,Design!$AH$4:$AQ$27))))","v":4},{"$f":"SUM(IF($A52=SoilCat,IF($B52=DrainCat,IF(H$3=ESALCat,Design!$AH$4:$AQ$27))))","v":4},{"$f":"SUM(IF($A52=SoilCat,IF($B52=DrainCat,IF(I$3=ESALCat,Design!$AH$4:$AQ$27))))","v":4},{"$f":"SUM(IF($A52=SoilCat,IF($B52=DrainCat,IF(J$3=ESALCat,Design!$AH$4:$AQ$27))))","v":4},{"$f":"SUM(IF($A52=SoilCat,IF($B52=DrainCat,IF(K$3=ESALCat,Design!$AH$4:$AQ$27))))","v":6},{"$f":"SUM(IF($A52=SoilCat,IF($B52=DrainCat,IF(L$3=ESALCat,Design!$AH$4:$AQ$27))))","v":6},{"$f":"SUM(IF($A52=SoilCat,IF($B52=DrainCat,IF(M$3=ESALCat,Design!$AH$4:$AQ$27))))","v":6},{"$f":"SUM(IF($A52=SoilCat,IF($B52=DrainCat,IF(N$3=ESALCat,Design!$AH$4:$AQ$27))))","v":6},{"$f":"SUM(IF($A52=SoilCat,IF($B52=DrainCat,IF(O$3=ESALCat,Design!$AH$4:$AQ$27))))","v":6}]
[6,"Good",null,null,"Unbound Dense Graded Subbase",{"$f":"SUM(IF($A53=SoilCat,IF($B53=DrainCat,IF(F$3=ESALCat,Design!$BB$4:$BK$27))))","v":0},{"$f":"SUM(IF($A53=SoilCat,IF($B53=DrainCat,IF(G$3=ESALCat,Design!$BB$4:$BK$27))))","v":0},{"$f":"SUM(IF($A53=SoilCat,IF($B53=DrainCat,IF(H$3=ESALCat,Design!$BB$4:$BK$27))))","v":0},{"$f":"SUM(IF($A53=SoilCat,IF($B53=DrainCat,IF(I$3=ESALCat,Design!$BB$4:$BK$27))))","v":6},{"$f":"SUM(IF($A53=SoilCat,IF($B53=DrainCat,IF(J$3=ESALCat,Design!$BB$4:$BK$27))))","v":6},{"$f":"SUM(IF($A53=SoilCat,IF($B53=DrainCat,IF(K$3=ESALCat,Design!$BB$4:$BK$27))))","v":7},{"$f":"SUM(IF($A53=SoilCat,IF($B53=DrainCat,IF(L$3=ESALCat,Design!$BB$4:$BK$27))))","v":12},{"$f":"SUM(IF($A53=SoilCat,IF($B53=DrainCat,IF(M$3=ESALCat,Design!$BB$4:$BK$27))))","v":16},{"$f":"SUM(IF($A53=SoilCat,IF($B53=DrainCat,IF(N$3=ESALCat,Design!$BB$4:$BK$27))))","v":23},{"$f":"SUM(IF($A53=SoilCat,IF($B53=DrainCat,IF(O$3=ESALCat,Design!$BB$4:$BK$27))))","v":29}]
[6,"Fair",null,"Fair","Pavers and Bedding",{"$f":"SUM(IF($A54=SoilCat,IF($B54=DrainCat,IF(F$3=ESALCat,Design!$N$4:$W$27))))","v":4.125},{"$f":"SUM(IF($A54=SoilCat,IF($B54=DrainCat,IF(G$3=ESALCat,Design!$N$4:$W$27))))","v":4.125},{"$f":"SUM(IF($A54=SoilCat,IF($B54=DrainCat,IF(H$3=ESALCat,Design!$N$4:$W$27))))","v":4.125},{"$f":"SUM(IF($A54=SoilCat,IF($B54=DrainCat,IF(I$3=ESALCat,Design!$N$4:$W$27))))","v":4.125},{"$f":"SUM(IF($A54=SoilCat,IF($B54=DrainCat,IF(J$3=ESALCat,Design!$N$4:$W$27))))","v":4.125},{"$f":"SUM(IF($A54=SoilCat,IF($B54=DrainCat,IF(K$3=ESALCat,Design!$N$4:$W$27))))","v":4.125},{"$f":"SUM(IF($A54=SoilCat,IF($B54=DrainCat,IF(L$3=ESALCat,Design!$N$4:$W$27))))","v":4.125},{"$f":"SUM(IF($A54=SoilCat,IF($B54=DrainCat,IF(M$3=ESALCat,Design!$N$4:$W$27))))","v":4.125},{"$f":"SUM(IF($A54=SoilCat,IF($B54=DrainCat,IF(N$3=ESALCat,Design!$N$4:$W$27))))","v":4.125},{"$f":"SUM(IF($A54=SoilCat,IF($B54=DrainCat,IF(O$3=ESALCat,Design!$N$4:$W$27))))","v":4.125}]
[6,"Fair",null,null,"Unbound Dense Graded Base",{"$f":"SUM(IF($A55=SoilCat,IF($B55=DrainCat,IF(F$3=ESALCat,Design!$AH$4:$AQ$27))))","v":4},{"$f":"SUM(IF($A55=SoilCat,IF($B55=DrainCat,IF(G$3=ESALCat,Design!$AH$4:$AQ$27))))","v":4},{"$f":"SUM(IF($A55=SoilCat,IF($B55=DrainCat,IF(H$3=ESALCat,Design!$AH$4:$AQ$27))))","v":4},{"$f":"SUM(IF($A55=SoilCat,IF($B55=DrainCat,IF(I$3=ESALCat,Design!$AH$4:$AQ$27))))","v":4},{"$f":"SUM(IF($A55=SoilCat,IF($B55=DrainCat,IF(J$3=ESALCat,Design!$AH$4:$AQ$27))))","v":4},{"$f":"SUM(IF($A55=SoilCat,IF($B55=DrainCat,IF(K$3=ESALCat,Design!$AH$4:$AQ$27))))","v":6},{"$f":"SUM(IF($A55=SoilCat,IF($B55=DrainCat,IF(L$3=ESALCat,Design!$AH$4:$AQ$27))))","v":6},{"$f":"SUM(IF($A55=SoilCat,IF($B55=DrainCat,IF(M$3=ESALCat,Design!$AH$4:$AQ$27))))","v":6},{"$f":"SUM(IF($A55=SoilCat,IF($B55=DrainCat,IF(N$3=ESALCat,Design!$AH$4:$AQ$27))))","v":6},{"$f":"SUM(IF($A55=SoilCat,IF($B55=DrainCat,IF(O$3=ESALCat,Design!$AH$4:$AQ$27))))","v":6}]
[6,"Fair",null,null,"Unbound Dense Graded Subbase",{"$f":"SUM(IF($A56=SoilCat,IF($B56=DrainCat,IF(F$3=ESALCat,Design!$BB$4:$BK$27))))","v":0},{"$f":"SUM(IF($A56=SoilCat,IF($B56=DrainCat,IF(G$3=ESALCat,Design!$BB$4:$BK$27))))","v":0},{"$f":"SUM(IF($A56=SoilCat,IF($B56=DrainCat,IF(H$3=ESALCat,Design!$BB$4:$BK$27))))","v":6},{"$f":"SUM(IF($A56=SoilCat,IF($B56=DrainCat,IF(I$3=ESALCat,Design!$BB$4:$BK$27))))","v":6},{"$f":"SUM(IF($A56=SoilCat,IF($B56=DrainCat,IF(J$3=ESALCat,Design!$BB$4:$BK$27))))","v":10},{"$f":"SUM(IF($A56=SoilCat,IF($B56=DrainCat,IF(K$3=ESALCat,Design!$BB$4:$BK$27))))","v":13},{"$f":"SUM(IF($A56=SoilCat,IF($B56=DrainCat,IF(L$3=ESALCat,Design!$BB$4:$BK$27))))","v":17},{"$f":"SUM(IF($A56=SoilCat,IF($B56=DrainCat,IF(M$3=ESALCat,Design!$BB$4:$BK$27))))","v":22},{"$f":"SUM(IF($A56=SoilCat,IF($B56=DrainCat,IF(N$3=ESALCat,Design!$BB$4:$BK$27))))","v":30},{"$f":"SUM(IF($A56=SoilCat,IF($B56=DrainCat,IF(O$3=ESALCat,Design!$BB$4:$BK$27))))","v":36}]
[6,"Poor",null,"Poor","Pavers and Bedding",{"$f":"SUM(IF($A57=SoilCat,IF($B57=DrainCat,IF(F$3=ESALCat,Design!$N$4:$W$27))))","v":4.125},{"$f":"SUM(IF($A57=SoilCat,IF($B57=DrainCat,IF(G$3=ESALCat,Design!$N$4:$W$27))))","v":4.125},{"$f":"SUM(IF($A57=SoilCat,IF($B57=DrainCat,IF(H$3=ESALCat,Design!$N$4:$W$27))))","v":4.125},{"$f":"SUM(IF($A57=SoilCat,IF($B57=DrainCat,IF(I$3=ESALCat,Design!$N$4:$W$27))))","v":4.125},{"$f":"SUM(IF($A57=SoilCat,IF($B57=DrainCat,IF(J$3=ESALCat,Design!$N$4:$W$27))))","v":4.125},{"$f":"SUM(IF($A57=SoilCat,IF($B57=DrainCat,IF(K$3=ESALCat,Design!$N$4:$W$27))))","v":4.125},{"$f":"SUM(IF($A57=SoilCat,IF($B57=DrainCat,IF(L$3=ESALCat,Design!$N$4:$W$27))))","v":4.125},{"$f":"SUM(IF($A57=SoilCat,IF($B57=DrainCat,IF(M$3=ESALCat,Design!$N$4:$W$27))))","v":4.125},{"$f":"SUM(IF($A57=SoilCat,IF($B57=DrainCat,IF(N$3=ESALCat,Design!$N$4:$W$27))))","v":4.125},{"$f":"SUM(IF($A57=SoilCat,IF($B57=DrainCat,IF(O$3=ESALCat,Design!$N$4:$W$27))))","v":4.125}]
[6,"Poor",null,null,"Unbound Dense Graded Base",{"$f":"SUM(IF($A58=SoilCat,IF($B58=DrainCat,IF(F$3=ESALCat,Design!$AH$4:$AQ$27))))","v":4},{"$f":"SUM(IF($A58=SoilCat,IF($B58=DrainCat,IF(G$3=ESALCat,Design!$AH$4:$AQ$27))))","v":4},{"$f":"SUM(IF($A58=SoilCat,IF($B58=DrainCat,IF(H$3=ESALCat,Design!$AH$4:$AQ$27))))","v":4},{"$f":"SUM(IF($A58=SoilCat,IF($B58=DrainCat,IF(I$3=ESALCat,Design!$AH$4:$AQ$27))))","v":4},{"$f":"SUM(IF($A58=SoilCat,IF($B58=DrainCat,IF(J$3=ESALCat,Design!$AH$4:$AQ$27))))","v":4},{"$f":"SUM(IF($A58=SoilCat,IF($B58=DrainCat,IF(K$3=ESALCat,Design!$AH$4:$AQ$27))))","v":6},{"$f":"SUM(IF($A58=SoilCat,IF($B58=DrainCat,IF(L$3=ESALCat,Design!$AH$4:$AQ$27))))","v":6},{"$f":"SUM(IF($A58=SoilCat,IF($B58=DrainCat,IF(M$3=ESALCat,Design!$AH$4:$AQ$27))))","v":6},{"$f":"SUM(IF($A58=SoilCat,IF($B58=DrainCat,IF(N$3=ESALCat,Design!$AH$4:$AQ$27))))","v":6},{"$f":"SUM(IF($A58=SoilCat,IF($B58=DrainCat,IF(O$3=ESALCat,Design!$AH$4:$AQ$27))))","v":6}]
[6,"Poor",null,null,"Unbound Dense Graded Subbase",{"$f":"SUM(IF($A59=SoilCat,IF($B59=DrainCat,IF(F$3=ESALCat,Design!$BB$4:$BK$27))))","v":0},{"$f":"SUM(IF($A59=SoilCat,IF($B59=DrainCat,IF(G$3=ESALCat,Design!$BB$4:$BK$27))))","v":6},{"$f":"SUM(IF($A59=SoilCat,IF($B59=DrainCat,IF(H$3=ESALCat,Design!$BB$4:$BK$27))))","v":6},{"$f":"SUM(IF($A59=SoilCat,IF($B59=DrainCat,IF(I$3=ESALCat,Design!$BB$4:$BK$27))))","v":10},{"$f":"SUM(IF($A59=SoilCat,IF($B59=DrainCat,IF(J$3=ESALCat,Design!$BB$4:$BK$27))))","v":15},{"$f":"SUM(IF($A59=SoilCat,IF($B59=DrainCat,IF(K$3=ESALCat,Design!$BB$4:$BK$27))))","v":18},{"$f":"SUM(IF($A59=SoilCat,IF($B59=DrainCat,IF(L$3=ESALCat,Design!$BB$4:$BK$27))))","v":23},{"$f":"SUM(IF($A59=SoilCat,IF($B59=DrainCat,IF(M$3=ESALCat,Design!$BB$4:$BK$27))))","v":29},{"$f":"SUM(IF($A59=SoilCat,IF($B59=DrainCat,IF(N$3=ESALCat,Design!$BB$4:$BK$27))))","v":36},{"$f":"SUM(IF($A59=SoilCat,IF($B59=DrainCat,IF(O$3=ESALCat,Design!$BB$4:$BK$27))))","v":42}]
[7,"Good","Category 7","Good","Pavers and Bedding",{"$f":"SUM(IF($A60=SoilCat,IF($B60=DrainCat,IF(F$3=ESALCat,Design!$N$4:$W$27))))","v":4.125},{"$f":"SUM(IF($A60=SoilCat,IF($B60=DrainCat,IF(G$3=ESALCat,Design!$N$4:$W$27))))","v":4.125},{"$f":"SUM(IF($A60=SoilCat,IF($B60=DrainCat,IF(H$3=ESALCat,Design!$N$4:$W$27))))","v":4.125},{"$f":"SUM(IF($A60=SoilCat,IF($B60=DrainCat,IF(I$3=ESALCat,Design!$N$4:$W$27))))","v":4.125},{"$f":"SUM(IF($A60=SoilCat,IF($B60=DrainCat,IF(J$3=ESALCat,Design!$N$4:$W$27))))","v":4.125},{"$f":"SUM(IF($A60=SoilCat,IF($B60=DrainCat,IF(K$3=ESALCat,Design!$N$4:$W$27))))","v":4.125},{"$f":"SUM(IF($A60=SoilCat,IF($B60=DrainCat,IF(L$3=ESALCat,Design!$N$4:$W$27))))","v":4.125},{"$f":"SUM(IF($A60=SoilCat,IF($B60=DrainCat,IF(M$3=ESALCat,Design!$N$4:$W$27))))","v":4.125},{"$f":"SUM(IF($A60=SoilCat,IF($B60=DrainCat,IF(N$3=ESALCat,Design!$N$4:$W$27))))","v":4.125},{"$f":"SUM(IF($A60=SoilCat,IF($B60=DrainCat,IF(O$3=ESALCat,Design!$N$4:$W$27))))","v":4.125}]
[7,"Good",null,null,"Unbound Dense Graded Base",{"$f":"SUM(IF($A61=SoilCat,IF($B61=DrainCat,IF(F$3=ESALCat,Design!$AH$4:$AQ$27))))","v":4},{"$f":"SUM(IF($A61=SoilCat,IF($B61=DrainCat,IF(G$3=ESALCat,Design!$AH$4:$AQ$27))))","v":4},{"$f":"SUM(IF($A61=SoilCat,IF($B61=DrainCat,IF(H$3=ESALCat,Design!$AH$4:$AQ$27))))","v":4},{"$f":"SUM(IF($A61=SoilCat,IF($B61=DrainCat,IF(I$3=ESALCat,Design!$AH$4:$AQ$27))))","v":4},{"$f":"SUM(IF($A61=SoilCat,IF($B61=DrainCat,IF(J$3=ESALCat,Design!$AH$4:$AQ$27))))","v":4},{"$f":"SUM(IF($A61=SoilCat,IF($B61=DrainCat,IF(K$3=ESALCat,Design!$AH$4:$AQ$27))))","v":6},{"$f":"SUM(IF($A61=SoilCat,IF($B61=DrainCat,IF(L$3=ESALCat,Design!$AH$4:$AQ$27))))","v":6},{"$f":"SUM(IF($A61=SoilCat,IF($B61=DrainCat,IF(M$3=ESALCat,Design!$AH$4:$AQ$27))))","v":6},{"$f":"SUM(IF($A61=SoilCat,IF($B61=DrainCat,IF(N$3=ESALCat,Design!$AH$4:$AQ$27))))","v":6},{"$f":"SUM(IF($A61=SoilCat,IF($B61=DrainCat,IF(O$3=ESALCat,Design!$AH$4:$AQ$27))))","v":6}]
[7,"Good",null,null,"Unbound Dense Graded Subbase",{"$f":"SUM(IF($A62=SoilCat,IF($B62=DrainCat,IF(F$3=ESALCat,Design!$BB$4:$BK$27))))","v":0},{"$f":"SUM(IF($A62=SoilCat,IF($B62=DrainCat,IF(G$3=ESALCat,Design!$BB$4:$BK$27))))","v":0},{"$f":"SUM(IF($A62=SoilCat,IF($B62=DrainCat,IF(H$3=ESALCat,Design!$BB$4:$BK$27))))","v":6},{"$f":"SUM(IF($A62=SoilCat,IF($B62=DrainCat,IF(I$3=ESALCat,Design!$BB$4:$BK$27))))","v":6},{"$f":"SUM(IF($A62=SoilCat,IF($B62=DrainCat,IF(J$3=ESALCat,Design!$BB$4:$BK$27))))","v":8},{"$f":"SUM(IF($A62=SoilCat,IF($B62=DrainCat,IF(K$3=ESALCat,Design!$BB$4:$BK$27))))","v":10},{"$f":"SUM(IF($A62=SoilCat,IF($B62=DrainCat,IF(L$3=ESALCat,Design!$BB$4:$BK$27))))","v":15},{"$f":"SUM(IF($A62=SoilCat,IF($B62=DrainCat,IF(M$3=ESALCat,Design!$BB$4:$BK$27))))","v":20},{"$f":"SUM(IF($A62=SoilCat,IF($B62=DrainCat,IF(N$3=ESALCat,Design!$BB$4:$BK$27))))","v":27},{"$f":"SUM(IF($A62=SoilCat,IF($B62=DrainCat,IF(O$3=ESALCat,Design!$BB$4:$BK$27))))","v":33}]
[7,"Fair",null,"Fair","Pavers and Bedding",{"$f":"SUM(IF($A63=SoilCat,IF($B63=DrainCat,IF(F$3=ESALCat,Design!$N$4:$W$27))))","v":4.125},{"$f":"SUM(IF($A63=SoilCat,IF($B63=DrainCat,IF(G$3=ESALCat,Design!$N$4:$W$27))))","v":4.125},{"$f":"SUM(IF($A63=SoilCat,IF($B63=DrainCat,IF(H$3=ESALCat,Design!$N$4:$W$27))))","v":4.125},{"$f":"SUM(IF($A63=SoilCat,IF($B63=DrainCat,IF(I$3=ESALCat,Design!$N$4:$W$27))))","v":4.125},{"$f":"SUM(IF($A63=SoilCat,IF($B63=DrainCat,IF(J$3=ESALCat,Design!$N$4:$W$27))))","v":4.125},{"$f":"SUM(IF($A63=SoilCat,IF($B63=DrainCat,IF(K$3=ESALCat,Design!$N$4:$W$27))))","v":4.125},{"$f":"SUM(IF($A63=SoilCat,IF($B63=DrainCat,IF(L$3=ESALCat,Design!$N$4:$W$27))))","v":4.125},{"$f":"SUM(IF($A63=SoilCat,IF($B63=DrainCat,IF(M$3=ESALCat,Design!$N$4:$W$27))))","v":4.125},{"$f":"SUM(IF($A63=SoilCat,IF($B63=DrainCat,IF(N$3=ESALCat,Design!$N$4:$W$27))))","v":4.125},{"$f":"SUM(IF($A63=SoilCat,IF($B63=DrainCat,IF(O$3=ESALCat,Design!$N$4:$W$27))))","v":4.125}]
[7,"Fair",null,null,"Unbound Dense Graded Base",{"$f":"SUM(IF($A64=SoilCat,IF($B64=DrainCat,IF(F$3=ESALCat,Design!$AH$4:$AQ$27))))","v":4},{"$f":"SUM(IF($A64=SoilCat,IF($B64=DrainCat,IF(G$3=ESALCat,Design!$AH$4:$AQ$27))))","v":4},{"$f":"SUM(IF($A64=SoilCat,IF($B64=DrainCat,IF(H$3=ESALCat,Design!$AH$4:$AQ$27))))","v":4},{"$f":"SUM(IF($A64=SoilCat,IF($B64=DrainCat,IF(I$3=ESALCat,Design!$AH$4:$AQ$27))))","v":4},{"$f":"SUM(IF($A64=SoilCat,IF($B64=DrainCat,IF(J$3=ESALCat,Design!$AH$4:$AQ$27))))","v":4},{"$f":"SUM(IF($A64=SoilCat,IF($B64=DrainCat,IF(K$3=ESALCat,Design!$AH$4:$AQ$27))))","v":6},{"$f":"SUM(IF($A64=SoilCat,IF($B64=DrainCat,IF(L$3=ESALCat,Design!$AH$4:$AQ$27))))","v":6},{"$f":"SUM(IF($A64=SoilCat,IF($B64=DrainCat,IF(M$3=ESALCat,Design!$AH$4:$AQ$27))))","v":6},{"$f":"SUM(IF($A64=SoilCat,IF($B64=DrainCat,IF(N$3=ESALCat,Design!$AH$4:$AQ$27))))","v":6},{"$f":"SUM(IF($A64=SoilCat,IF($B64=DrainCat,IF(O$3=ESALCat,Design!$AH$4:$AQ$27))))","v":6}]
[7,"Fair",null,null,"Unbound Dense Graded Subbase",{"$f":"SUM(IF($A65=SoilCat,IF($B65=DrainCat,IF(F$3=ESALCat,Design!$BB$4:$BK$27))))","v":0},{"$f":"SUM(IF($A65=SoilCat,IF($B65=DrainCat,IF(G$3=ESALCat,Design!$BB$4:$BK$27))))","v":0},{"$f":"SUM(IF($A65=SoilCat,IF($B65=DrainCat,IF(H$3=ESALCat,Design!$BB$4:$BK$27))))","v":6},{"$f":"SUM(IF($A65=SoilCat,IF($B65=DrainCat,IF(I$3=ESALCat,Design!$BB$4:$BK$27))))","v":8},{"$f":"SUM(IF($A65=SoilCat,IF($B65=DrainCat,IF(J$3=ESALCat,Design!$BB$4:$BK$27))))","v":12},{"$f":"SUM(IF($A65=SoilCat,IF($B65=DrainCat,IF(K$3=ESALCat,Design!$BB$4:$BK$27))))","v":15},{"$f":"SUM(IF($A65=SoilCat,IF($B65=DrainCat,IF(L$3=ESALCat,Design!$BB$4:$BK$27))))","v":20},{"$f":"SUM(IF($A65=SoilCat,IF($B65=DrainCat,IF(M$3=ESALCat,Design!$BB$4:$BK$27))))","v":25},{"$f":"SUM(IF($A65=SoilCat,IF($B65=DrainCat,IF(N$3=ESALCat,Design!$BB$4:$BK$27))))","v":33},{"$f":"SUM(IF($A65=SoilCat,IF($B65=DrainCat,IF(O$3=ESALCat,Design!$BB$4:$BK$27))))","v":39}]
[7,"Poor",null,"Poor","Pavers and Bedding",{"$f":"SUM(IF($A66=SoilCat,IF($B66=DrainCat,IF(F$3=ESALCat,Design!$N$4:$W$27))))","v":4.125},{"$f":"SUM(IF($A66=SoilCat,IF($B66=DrainCat,IF(G$3=ESALCat,Design!$N$4:$W$27))))","v":4.125},{"$f":"SUM(IF($A66=SoilCat,IF($B66=DrainCat,IF(H$3=ESALCat,Design!$N$4:$W$27))))","v":4.125},{"$f":"SUM(IF($A66=SoilCat,IF($B66=DrainCat,IF(I$3=ESALCat,Design!$N$4:$W$27))))","v":4.125},{"$f":"SUM(IF($A66=SoilCat,IF($B66=DrainCat,IF(J$3=ESALCat,Design!$N$4:$W$27))))","v":4.125},{"$f":"SUM(IF($A66=SoilCat,IF($B66=DrainCat,IF(K$3=ESALCat,Design!$N$4:$W$27))))","v":4.125},{"$f":"SUM(IF($A66=SoilCat,IF($B66=DrainCat,IF(L$3=ESALCat,Design!$N$4:$W$27))))","v":4.125},{"$f":"SUM(IF($A66=SoilCat,IF($B66=DrainCat,IF(M$3=ESALCat,Design!$N$4:$W$27))))","v":4.125},{"$f":"SUM(IF($A66=SoilCat,IF($B66=DrainCat,IF(N$3=ESALCat,Design!$N$4:$W$27))))","v":4.125},{"$f":"SUM(IF($A66=SoilCat,IF($B66=DrainCat,IF(O$3=ESALCat,Design!$N$4:$W$27))))","v":4.125}]
[7,"Poor",null,null,"Unbound Dense Graded Base",{"$f":"SUM(IF($A67=SoilCat,IF($B67=DrainCat,IF(F$3=ESALCat,Design!$AH$4:$AQ$27))))","v":4},{"$f":"SUM(IF($A67=SoilCat,IF($B67=DrainCat,IF(G$3=ESALCat,Design!$AH$4:$AQ$27))))","v":4},{"$f":"SUM(IF($A67=SoilCat,IF($B67=DrainCat,IF(H$3=ESALCat,Design!$AH$4:$AQ$27))))","v":4},{"$f":"SUM(IF($A67=SoilCat,IF($B67=DrainCat,IF(I$3=ESALCat,Design!$AH$4:$AQ$27))))","v":4},{"$f":"SUM(IF($A67=SoilCat,IF($B67=DrainCat,IF(J$3=ESALCat,Design!$AH$4:$AQ$27))))","v":4},{"$f":"SUM(IF($A67=SoilCat,IF($B67=DrainCat,IF(K$3=ESALCat,Design!$AH$4:$AQ$27))))","v":6},{"$f":"SUM(IF($A67=SoilCat,IF($B67=DrainCat,IF(L$3=ESALCat,Design!$AH$4:$AQ$27))))","v":6},{"$f":"SUM(IF($A67=SoilCat,IF($B67=DrainCat,IF(M$3=ESALCat,Design!$AH$4:$AQ$27))))","v":6},{"$f":"SUM(IF($A67=SoilCat,IF($B67=DrainCat,IF(N$3=ESALCat,Design!$AH$4:$AQ$27))))","v":6},{"$f":"SUM(IF($A67=SoilCat,IF($B67=DrainCat,IF(O$3=ESALCat,Design!$AH$4:$AQ$27))))","v":6}]
[7,"Poor",null,null,"Unbound Dense Graded Subbase",{"$f":"SUM(IF($A68=SoilCat,IF($B68=DrainCat,IF(F$3=ESALCat,Design!$BB$4:$BK$27))))","v":6},{"$f":"SUM(IF($A68=SoilCat,IF($B68=DrainCat,IF(G$3=ESALCat,Design!$BB$4:$BK$27))))","v":6},{"$f":"SUM(IF($A68=SoilCat,IF($B68=DrainCat,IF(H$3=ESALCat,Design!$BB$4:$BK$27))))","v":9},{"$f":"SUM(IF($A68=SoilCat,IF($B68=DrainCat,IF(I$3=ESALCat,Design!$BB$4:$BK$27))))","v":14},{"$f":"SUM(IF($A68=SoilCat,IF($B68=DrainCat,IF(J$3=ESALCat,Design!$BB$4:$BK$27))))","v":18},{"$f":"SUM(IF($A68=SoilCat,IF($B68=DrainCat,IF(K$3=ESALCat,Design!$BB$4:$BK$27))))","v":22},{"$f":"SUM(IF($A68=SoilCat,IF($B68=DrainCat,IF(L$3=ESALCat,Design!$BB$4:$BK$27))))","v":27},{"$f":"SUM(IF($A68=SoilCat,IF($B68=DrainCat,IF(M$3=ESALCat,Design!$BB$4:$BK$27))))","v":33},{"$f":"SUM(IF($A68=SoilCat,IF($B68=DrainCat,IF(N$3=ESALCat,Design!$BB$4:$BK$27))))","v":41},{"$f":"SUM(IF($A68=SoilCat,IF($B68=DrainCat,IF(O$3=ESALCat,Design!$BB$4:$BK$27))))","v":47}]
[8,"Good","Category 8","Good","Pavers and Bedding",{"$f":"SUM(IF($A69=SoilCat,IF($B69=DrainCat,IF(F$3=ESALCat,Design!$N$4:$W$27))))","v":4.125},{"$f":"SUM(IF($A69=SoilCat,IF($B69=DrainCat,IF(G$3=ESALCat,Design!$N$4:$W$27))))","v":4.125},{"$f":"SUM(IF($A69=SoilCat,IF($B69=DrainCat,IF(H$3=ESALCat,Design!$N$4:$W$27))))","v":4.125},{"$f":"SUM(IF($A69=SoilCat,IF($B69=DrainCat,IF(I$3=ESALCat,Design!$N$4:$W$27))))","v":4.125},{"$f":"SUM(IF($A69=SoilCat,IF($B69=DrainCat,IF(J$3=ESALCat,Design!$N$4:$W$27))))","v":4.125},{"$f":"SUM(IF($A69=SoilCat,IF($B69=DrainCat,IF(K$3=ESALCat,Design!$N$4:$W$27))))","v":4.125},{"$f":"SUM(IF($A69=SoilCat,IF($B69=DrainCat,IF(L$3=ESALCat,Design!$N$4:$W$27))))","v":4.125},{"$f":"SUM(IF($A69=SoilCat,IF($B69=DrainCat,IF(M$3=ESALCat,Design!$N$4:$W$27))))","v":4.125},{"$f":"SUM(IF($A69=SoilCat,IF($B69=DrainCat,IF(N$3=ESALCat,Design!$N$4:$W$27))))","v":4.125},{"$f":"SUM(IF($A69=SoilCat,IF($B69=DrainCat,IF(O$3=ESALCat,Design!$N$4:$W$27))))","v":4.125}]
[8,"Good",null,null,"Unbound Dense Graded Base",{"$f":"SUM(IF($A70=SoilCat,IF($B70=DrainCat,IF(F$3=ESALCat,Design!$AH$4:$AQ$27))))","v":4},{"$f":"SUM(IF($A70=SoilCat,IF($B70=DrainCat,IF(G$3=ESALCat,Design!$AH$4:$AQ$27))))","v":4},{"$f":"SUM(IF($A70=SoilCat,IF($B70=DrainCat,IF(H$3=ESALCat,Design!$AH$4:$AQ$27))))","v":4},{"$f":"SUM(IF($A70=SoilCat,IF($B70=DrainCat,IF(I$3=ESALCat,Design!$AH$4:$AQ$27))))","v":4},{"$f":"SUM(IF($A70=SoilCat,IF($B70=DrainCat,IF(J$3=ESALCat,Design!$AH$4:$AQ$27))))","v":4},{"$f":"SUM(IF($A70=SoilCat,IF($B70=DrainCat,IF(K$3=ESALCat,Design!$AH$4:$AQ$27))))","v":6},{"$f":"SUM(IF($A70=SoilCat,IF($B70=DrainCat,IF(L$3=ESALCat,Design!$AH$4:$AQ$27))))","v":6},{"$f":"SUM(IF($A70=SoilCat,IF($B70=DrainCat,IF(M$3=ESALCat,Design!$AH$4:$AQ$27))))","v":6},{"$f":"SUM(IF($A70=SoilCat,IF($B70=DrainCat,IF(N$3=ESALCat,Design!$AH$4:$AQ$27))))","v":6},{"$f":"SUM(IF($A70=SoilCat,IF($B70=DrainCat,IF(O$3=ESALCat,Design!$AH$4:$AQ$27))))","v":6}]
[8,"Good",null,null,"Unbound Dense Graded Subbase",{"$f":"SUM(IF($A71=SoilCat,IF($B71=DrainCat,IF(F$3=ESALCat,Design!$BB$4:$BK$27))))","v":0},{"$f":"SUM(IF($A71=SoilCat,IF($B71=DrainCat,IF(G$3=ESALCat,Design!$BB$4:$BK$27))))","v":0},{"$f":"SUM(IF($A71=SoilCat,IF($B71=DrainCat,IF(H$3=ESALCat,Design!$BB$4:$BK$27))))","v":6},{"$f":"SUM(IF($A71=SoilCat,IF($B71=DrainCat,IF(I$3=ESALCat,Design!$BB$4:$BK$27))))","v":6},{"$f":"SUM(IF($A71=SoilCat,IF($B71=DrainCat,IF(J$3=ESALCat,Design!$BB$4:$BK$27))))","v":10},{"$f":"SUM(IF($A71=SoilCat,IF($B71=DrainCat,IF(K$3=ESALCat,Design!$BB$4:$BK$27))))","v":13},{"$f":"SUM(IF($A71=SoilCat,IF($B71=DrainCat,IF(L$3=ESALCat,Design!$BB$4:$BK$27))))","v":17},{"$f":"SUM(IF($A71=SoilCat,IF($B71=DrainCat,IF(M$3=ESALCat,Design!$BB$4:$BK$27))))","v":22},{"$f":"SUM(IF($A71=SoilCat,IF($B71=DrainCat,IF(N$3=ESALCat,Design!$BB$4:$BK$27))))","v":30},{"$f":"SUM(IF($A71=SoilCat,IF($B71=DrainCat,IF(O$3=ESALCat,Design!$BB$4:$BK$27))))","v":36}]
[8,"Fair",null,"Fair","Pavers and Bedding",{"$f":"SUM(IF($A72=SoilCat,IF($B72=DrainCat,IF(F$3=ESALCat,Design!$N$4:$W$27))))","v":4.125},{"$f":"SUM(IF($A72=SoilCat,IF($B72=DrainCat,IF(G$3=ESALCat,Design!$N$4:$W$27))))","v":4.125},{"$f":"SUM(IF($A72=SoilCat,IF($B72=DrainCat,IF(H$3=ESALCat,Design!$N$4:$W$27))))","v":4.125},{"$f":"SUM(IF($A72=SoilCat,IF($B72=DrainCat,IF(I$3=ESALCat,Design!$N$4:$W$27))))","v":4.125},{"$f":"SUM(IF($A72=SoilCat,IF($B72=DrainCat,IF(J$3=ESALCat,Design!$N$4:$W$27))))","v":4.125},{"$f":"SUM(IF($A72=SoilCat,IF($B72=DrainCat,IF(K$3=ESALCat,Design!$N$4:$W$27))))","v":4.125},{"$f":"SUM(IF($A72=SoilCat,IF($B72=DrainCat,IF(L$3=ESALCat,Design!$N$4:$W$27))))","v":4.125},{"$f":"SUM(IF($A72=SoilCat,IF($B72=DrainCat,IF(M$3=ESALCat,Design!$N$4:$W$27))))","v":4.125},{"$f":"SUM(IF($A72=SoilCat,IF($B72=DrainCat,IF(N$3=ESALCat,Design!$N$4:$W$27))))","v":4.125},{"$f":"SUM(IF($A72=SoilCat,IF($B72=DrainCat,IF(O$3=ESALCat,Design!$N$4:$W$27))))","v":4.125}]
[8,"Fair",null,null,"Unbound Dense Graded Base",{"$f":"SUM(IF($A73=SoilCat,IF($B73=DrainCat,IF(F$3=ESALCat,Design!$AH$4:$AQ$27))))","v":4},{"$f":"SUM(IF($A73=SoilCat,IF($B73=DrainCat,IF(G$3=ESALCat,Design!$AH$4:$AQ$27))))","v":4},{"$f":"SUM(IF($A73=SoilCat,IF($B73=DrainCat,IF(H$3=ESALCat,Design!$AH$4:$AQ$27))))","v":4},{"$f":"SUM(IF($A73=SoilCat,IF($B73=DrainCat,IF(I$3=ESALCat,Design!$AH$4:$AQ$27))))","v":4},{"$f":"SUM(IF($A73=SoilCat,IF($B73=DrainCat,IF(J$3=ESALCat,Design!$AH$4:$AQ$27))))","v":4},{"$f":"SUM(IF($A73=SoilCat,IF($B73=DrainCat,IF(K$3=ESALCat,Design!$AH$4:$AQ$27))))","v":6},{"$f":"SUM(IF($A73=SoilCat,IF($B73=DrainCat,IF(L$3=ESALCat,Design!$AH$4:$AQ$27))))","v":6},{"$f":"SUM(IF($A73=SoilCat,IF($B73=DrainCat,IF(M$3=ESALCat,Design!$AH$4:$AQ$27))))","v":6},{"$f":"SUM(IF($A73=SoilCat,IF($B73=DrainCat,IF(N$3=ESALCat,Design!$AH$4:$AQ$27))))","v":6},{"$f":"SUM(IF($A73=SoilCat,IF($B73=DrainCat,IF(O$3=ESALCat,Design!$AH$4:$AQ$27))))","v":6}]
[8,"Fair",null,null,"Unbound Dense Graded Subbase",{"$f":"SUM(IF($A74=SoilCat,IF($B74=DrainCat,IF(F$3=ESALCat,Design!$BB$4:$BK$27))))","v":0},{"$f":"SUM(IF($A74=SoilCat,IF($B74=DrainCat,IF(G$3=ESALCat,Design!$BB$4:$BK$27))))","v":0},{"$f":"SUM(IF($A74=SoilCat,IF($B74=DrainCat,IF(H$3=ESALCat,Design!$BB$4:$BK$27))))","v":6},{"$f":"SUM(IF($A74=SoilCat,IF($B74=DrainCat,IF(I$3=ESALCat,Design!$BB$4:$BK$27))))","v":8},{"$f":"SUM(IF($A74=SoilCat,IF($B74=DrainCat,IF(J$3=ESALCat,Design!$BB$4:$BK$27))))","v":12},{"$f":"SUM(IF($A74=SoilCat,IF($B74=DrainCat,IF(K$3=ESALCat,Design!$BB$4:$BK$27))))","v":15},{"$f":"SUM(IF($A74=SoilCat,IF($B74=DrainCat,IF(L$3=ESALCat,Design!$BB$4:$BK$27))))","v":20},{"$f":"SUM(IF($A74=SoilCat,IF($B74=DrainCat,IF(M$3=ESALCat,Design!$BB$4:$BK$27))))","v":25},{"$f":"SUM(IF($A74=SoilCat,IF($B74=DrainCat,IF(N$3=ESALCat,Design!$BB$4:$BK$27))))","v":33},{"$f":"SUM(IF($A74=SoilCat,IF($B74=DrainCat,IF(O$3=ESALCat,Design!$BB$4:$BK$27))))","v":39}]
[8,"Poor",null,"Poor","Pavers and Bedding",{"$f":"SUM(IF($A75=SoilCat,IF($B75=DrainCat,IF(F$3=ESALCat,Design!$N$4:$W$27))))","v":4.125},{"$f":"SUM(IF($A75=SoilCat,IF($B75=DrainCat,IF(G$3=ESALCat,Design!$N$4:$W$27))))","v":4.125},{"$f":"SUM(IF($A75=SoilCat,IF($B75=DrainCat,IF(H$3=ESALCat,Design!$N$4:$W$27))))","v":4.125},{"$f":"SUM(IF($A75=SoilCat,IF($B75=DrainCat,IF(I$3=ESALCat,Design!$N$4:$W$27))))","v":4.125},{"$f":"SUM(IF($A75=SoilCat,IF($B75=DrainCat,IF(J$3=ESALCat,Design!$N$4:$W$27))))","v":4.125},{"$f":"SUM(IF($A75=SoilCat,IF($B75=DrainCat,IF(K$3=ESALCat,Design!$N$4:$W$27))))","v":4.125},{"$f":"SUM(IF($A75=SoilCat,IF($B75=DrainCat,IF(L$3=ESALCat,Design!$N$4:$W$27))))","v":4.125},{"$f":"SUM(IF($A75=SoilCat,IF($B75=DrainCat,IF(M$3=ESALCat,Design!$N$4:$W$27))))","v":4.125},{"$f":"SUM(IF($A75=SoilCat,IF($B75=DrainCat,IF(N$3=ESALCat,Design!$N$4:$W$27))))","v":4.125},{"$f":"SUM(IF($A75=SoilCat,IF($B75=DrainCat,IF(O$3=ESALCat,Design!$N$4:$W$27))))","v":4.125}]
[8,"Poor",null,null,"Unbound Dense Graded Base",{"$f":"SUM(IF($A76=SoilCat,IF($B76=DrainCat,IF(F$3=ESALCat,Design!$AH$4:$AQ$27))))","v":4},{"$f":"SUM(IF($A76=SoilCat,IF($B76=DrainCat,IF(G$3=ESALCat,Design!$AH$4:$AQ$27))))","v":4},{"$f":"SUM(IF($A76=SoilCat,IF($B76=DrainCat,IF(H$3=ESALCat,Design!$AH$4:$AQ$27))))","v":4},{"$f":"SUM(IF($A76=SoilCat,IF($B76=DrainCat,IF(I$3=ESALCat,Design!$AH$4:$AQ$27))))","v":4},{"$f":"SUM(IF($A76=SoilCat,IF($B76=DrainCat,IF(J$3=ESALCat,Design!$AH$4:$AQ$27))))","v":4},{"$f":"SUM(IF($A76=SoilCat,IF($B76=DrainCat,IF(K$3=ESALCat,Design!$AH$4:$AQ$27))))","v":6},{"$f":"SUM(IF($A76=SoilCat,IF($B76=DrainCat,IF(L$3=ESALCat,Design!$AH$4:$AQ$27))))","v":6},{"$f":"SUM(IF($A76=SoilCat,IF($B76=DrainCat,IF(M$3=ESALCat,Design!$AH$4:$AQ$27))))","v":6},{"$f":"SUM(IF($A76=SoilCat,IF($B76=DrainCat,IF(N$3=ESALCat,Design!$AH$4:$AQ$27))))","v":6},{"$f":"SUM(IF($A76=SoilCat,IF($B76=DrainCat,IF(O$3=ESALCat,Design!$AH$4:$AQ$27))))","v":6}]
[8,"Poor",null,null,"Unbound Dense Graded Subbase",{"$f":"SUM(IF($A77=SoilCat,IF($B77=DrainCat,IF(F$3=ESALCat,Design!$BB$4:$BK$27))))","v":6},{"$f":"SUM(IF($A77=SoilCat,IF($B77=DrainCat,IF(G$3=ESALCat,Design!$BB$4:$BK$27))))","v":6},{"$f":"SUM(IF($A77=SoilCat,IF($B77=DrainCat,IF(H$3=ESALCat,Design!$BB$4:$BK$27))))","v":9},{"$f":"SUM(IF($A77=SoilCat,IF($B77=DrainCat,IF(I$3=ESALCat,Design!$BB$4:$BK$27))))","v":14},{"$f":"SUM(IF($A77=SoilCat,IF($B77=DrainCat,IF(J$3=ESALCat,Design!$BB$4:$BK$27))))","v":18},{"$f":"SUM(IF($A77=SoilCat,IF($B77=DrainCat,IF(K$3=ESALCat,Design!$BB$4:$BK$27))))","v":22},{"$f":"SUM(IF($A77=SoilCat,IF($B77=DrainCat,IF(L$3=ESALCat,Design!$BB$4:$BK$27))))","v":27},{"$f":"SUM(IF($A77=SoilCat,IF($B77=DrainCat,IF(M$3=ESALCat,Design!$BB$4:$BK$27))))","v":33},{"$f":"SUM(IF($A77=SoilCat,IF($B77=DrainCat,IF(N$3=ESALCat,Design!$BB$4:$BK$27))))","v":41},{"$f":"SUM(IF($A77=SoilCat,IF($B77=DrainCat,IF(O$3=ESALCat,Design!$BB$4:$BK$27))))","v":47}]

{"sheet":"ATB","index":4,"n_rows":101,"n_cols":15,"rows_kept":101,"cut":false,"hidden":false,"merged":[[89,2,100,2],[89,3,92,3],[93,3,96,3],[97,3,100,3],[0,2,1,14],[2,2,4,2],[2,3,4,3],[4,5,4,14],[77,2,88,2],[77,3,80,3],[81,3,84,3],[85,3,88,3],[17,2,28,2],[17,3,20,3],[21,3,24,3],[25,3,28,3],[5,2,16,2],[5,3,8,3],[9,3,12,3],[13,3,16,3],[41,2,52,2],[41,3,44,3],[45,3,48,3],[49,3,52,3],[29,2,40,2],[29,3,32,3],[33,3,36,3],[37,3,40,3],[65,2,76,2],[65,3,68,3],[69,3,72,3],[73,3,76,3],[53,2,64,2],[53,3,56,3],[57,3,60,3],[61,3,64,3]]}
[null,null,"ASPHALT TREATED BASE\nSTRUCTURE THICKNESSES (in)"]
[]
[null,null,null,"Drainage","ESALs",10000,20000,50000,100000,200000,500000,1000000,2000000,5000000,10000000]
[null,null,null,null,"TI",{"$f":"9*(F3/1000000)^0.119","v":5.2028644266514625},{"$f":"9*(G3/1000000)^0.119","v":5.6502163682481852},6.301151766600797,6.8429364924616367,7.4313048747790562,8.2874312748453587,9,9.7738367069006493,10.899835407763195,11.837023489730147]
[null,null,null,null,"Layer Type"]
[1,"Good","Category 1","Good","Pavers and Bedding",{"$f":"SUM(IF($A6=SoilCat,IF($B6=DrainCat,IF(F$3=ESALCat,Design!$N$34:$W$57))))","v":4.125},{"$f":"SUM(IF($A6=SoilCat,IF($B6=DrainCat,IF(G$3=ESALCat,Design!$N$34:$W$57))))","v":4.125},{"$f":"SUM(IF($A6=SoilCat,IF($B6=DrainCat,IF(H$3=ESALCat,Design!$N$34:$W$57))))","v":4.125},{"$f":"SUM(IF($A6=SoilCat,IF($B6=DrainCat,IF(I$3=ESALCat,Design!$N$34:$W$57))))","v":4.125},{"$f":"SUM(IF($A6=SoilCat,IF($B6=DrainCat,IF(J$3=ESALCat,Design!$N$34:$W$57))))","v":4.125},{"$f":"SUM(IF($A6=SoilCat,IF($B6=DrainCat,IF(K$3=ESALCat,Design!$N$34:$W$57))))","v":4.125},{"$f":"SUM(IF($A6=SoilCat,IF($B6=DrainCat,IF(L$3=ESALCat,Design!$N$34:$W$57))))","v":4.125},{"$f":"SUM(IF($A6=SoilCat,IF($B6=DrainCat,IF(M$3=ESALCat,Design!$N$34:$W$57))))","v":4.125},{"$f":"SUM(IF($A6=SoilCat,IF($B6=DrainCat,IF(N$3=ESALCat,Design!$N$34:$W$57))))","v":4.125},{"$f":"SUM(IF($A6=SoilCat,IF($B6=DrainCat,IF(O$3=ESALCat,Design!$N$34:$W$57))))","v":4.125}]
[1,"Good",null,null,"Asphalt Treated Base",{"$f":"SUM(IF($A7=SoilCat,IF($B7=DrainCat,IF(F$3=ESALCat,Design!$AH$34:$AQ$57))))","v":4},{"$f":"SUM(IF($A7=SoilCat,IF($B7=DrainCat,IF(G$3=ESALCat,Design!$AH$34:$AQ$57))))","v":4},{"$f":"SUM(IF($A7=SoilCat,IF($B7=DrainCat,IF(H$3=ESALCat,Design!$AH$34:$AQ$57))))","v":4},{"$f":"SUM(IF($A7=SoilCat,IF($B7=DrainCat,IF(I$3=ESALCat,Design!$AH$34:$AQ$57))))","v":4},{"$f":"SUM(IF($A7=SoilCat,IF($B7=DrainCat,IF(J$3=ESALCat,Design!$AH$34:$AQ$57))))","v":4},{"$f":"SUM(IF($A7=SoilCat,IF($B7=DrainCat,IF(K$3=ESALCat,Design!$AH$34:$AQ$57))))","v":4},{"$f":"SUM(IF($A7=SoilCat,IF($B7=DrainCat,IF(L$3=ESALCat,Design!$AH$34:$AQ$57))))","v":4},{"$f":"SUM(IF($A7=SoilCat,IF($B7=DrainCat,IF(M$3=ESALCat,Design!$AH$34:$AQ$57))))","v":4},{"$f":"SUM(IF($A7=SoilCat,IF($B7=DrainCat,IF(N$3=ESALCat,Design!$AH$34:$AQ$57))))","v":4},{"$f":"SUM(IF($A7=SoilCat,IF($B7=DrainCat,IF(O$3=ESALCat,Design!$AH$34:$AQ$57))))","v":4}]
[1,"Good",null,null,"Unbound Dense Graded Base",{"$f":"SUM(IF($A8=SoilCat,IF($B8=DrainCat,IF(F$3=ESALCat,Design!$BB$34:$BK$57))))","v":4},{"$f":"SUM(IF($A8=SoilCat,IF($B8=DrainCat,IF(G$3=ESALCat,Design!$BB$34:$BK$57))))","v":4},{"$f":"SUM(IF($A8=SoilCat,IF($B8=DrainCat,IF(H$3=ESALCat,Design!$BB$34:$BK$57))))","v":4},{"$f":"SUM(IF($A8=SoilCat,IF($B8=DrainCat,IF(I$3=ESALCat,Design!$BB$34:$BK$57))))","v":4},{"$f":"SUM(IF($A8=SoilCat,IF($B8=DrainCat,IF(J$3=ESALCat,Design!$BB$34:$BK$57))))","v":4},{"$f":"SUM(IF($A8=SoilCat,IF($B8=DrainCat,IF(K$3=ESALCat,Design!$BB$34:$BK$57))))","v":6},{"$f":"SUM(IF($A8=SoilCat,IF($B8=DrainCat,IF(L$3=ESALCat,Design!$BB$34:$BK$57))))","v":6},{"$f":"SUM(IF($A8=SoilCat,IF($B8=DrainCat,IF(M$3=ESALCat,Design!$BB$34:$BK$57))))","v":6},{"$f":"SUM(IF($A8=SoilCat,IF($B8=DrainCat,IF(N$3=ESALCat,Design!$BB$34:$BK$57))))","v":6},{"$f":"SUM(IF($A8=SoilCat,IF($B8=DrainCat,IF(O$3=ESALCat,Design!$BB$34:$BK$57))))","v":7}]
[1,"Good",null,null,"Unbound Dense Graded Subbase",{"$f":"SUM(IF($A9=SoilCat,IF($B9=DrainCat,IF(F$3=ESALCat,Design!$BV$34:$CE$57))))","v":0},{"$f":"SUM(IF($A9=SoilCat,IF($B9=DrainCat,IF(G$3=ESALCat,Design!$BV$34:$CE$57))))","v":0},{"$f":"SUM(IF($A9=SoilCat,IF($B9=DrainCat,IF(H$3=ESALCat,Design!$BV$34:$CE$57))))","v":0},{"$f":"SUM(IF($A9=SoilCat,IF($B9=DrainCat,IF(I$3=ESALCat,Design!$BV$34:$CE$57))))","v":0},{"$f":"SUM(IF($A9=SoilCat,IF($B9=DrainCat,IF(J$3=ESALCat,Design!$BV$34:$CE$57))))","v":0},{"$f":"SUM(IF($A9=SoilCat,IF($B9=DrainCat,IF(K$3=ESALCat,Design!$BV$34:$CE$57))))","v":0},{"$f":"SUM(IF($A9=SoilCat,IF($B9=DrainCat,IF(L$3=ESALCat,Design!$BV$34:$CE$57))))","v":0},{"$f":"SUM(IF($A9=SoilCat,IF($B9=DrainCat,IF(M$3=ESALCat,Design!$BV$34:$CE$57))))","v":0},{"$f":"SUM(IF($A9=SoilCat,IF($B9=DrainCat,IF(N$3=ESALCat,Design!$BV$34:$CE$57))))","v":0},{"$f":"SUM(IF($A9=SoilCat,IF($B9=DrainCat,IF(O$3=ESALCat,Design!$BV$34:$CE$57))))","v":0}]
[1,"Fair",null,"Fair","Pavers and Bedding",{"$f":"SUM(IF($A10=SoilCat,IF($B10=DrainCat,IF(F$3=ESALCat,Design!$N$34:$W$57))))","v":4.125},{"$f":"SUM(IF($A10=SoilCat,IF($B10=DrainCat,IF(G$3=ESALCat,Design!$N$34:$W$57))))","v":4.125},{"$f":"SUM(IF($A10=SoilCat,IF($B10=DrainCat,IF(H$3=ESALCat,Design!$N$34:$W$57))))","v":4.125},{"$f":"SUM(IF($A10=SoilCat,IF($B10=DrainCat,IF(I$3=ESALCat,Design!$N$34:$W$57))))","v":4.125},{"$f":"SUM(IF($A10=SoilCat,IF($B10=DrainCat,IF(J$3=ESALCat,Design!$N$34:$W$57))))","v":4.125},{"$f":"SUM(IF($A10=SoilCat,IF($B10=DrainCat,IF(K$3=ESALCat,Design!$N$34:$W$57))))","v":4.125},{"$f":"SUM(IF($A10=SoilCat,IF($B10=DrainCat,IF(L$3=ESALCat,Design!$N$34:$W$57))))","v":4.125},{"$f":"SUM(IF($A10=SoilCat,IF($B10=DrainCat,IF(M$3=ESALCat,Design!$N$34:$W$57))))","v":4.125},{"$f":"SUM(IF($A10=SoilCat,IF($B10=DrainCat,IF(N$3=ESALCat,Design!$N$34:$W$57))))","v":4.125},{"$f":"SUM(IF($A10=SoilCat,IF($B10=DrainCat,IF(O$3=ESALCat,Design!$N$34:$W$57))))","v":4.125}]
[1,"Fair",null,null,"Asphalt Treated Base",{"$f":"SUM(IF($A11=SoilCat,IF($B11=DrainCat,IF(F$3=ESALCat,Design!$AH$34:$AQ$57))))","v":4},{"$f":"SUM(IF($A11=SoilCat,IF($B11=DrainCat,IF(G$3=ESALCat,Design!$AH$34:$AQ$57))))","v":4},{"$f":"SUM(IF($A11=SoilCat,IF($B11=DrainCat,IF(H$3=ESALCat,Design!$AH$34:$AQ$57))))","v":4},{"$f":"SUM(IF($A11=SoilCat,IF($B11=DrainCat,IF(I$3=ESALCat,Design!$AH$34:$AQ$57))))","v":4},{"$f":"SUM(IF($A11=SoilCat,IF($B11=DrainCat,IF(J$3=ESALCat,Design!$AH$34:$AQ$57))))","v":4},{"$f":"SUM(IF($A11=SoilCat,IF($B11=DrainCat,IF(K$3=ESALCat,Design!$AH$34:$AQ$57))))","v":4},{"$f":"SUM(IF($A11=SoilCat,IF($B11=DrainCat,IF(L$3=ESALCat,Design!$AH$34:$AQ$57))))","v":4},{"$f":"SUM(IF($A11=SoilCat,IF($B11=DrainCat,IF(M$3=ESALCat,Design!$AH$34:$AQ$57))))","v":4},{"$f":"SUM(IF($A11=SoilCat,IF($B11=DrainCat,IF(N$3=ESALCat,Design!$AH$34:$AQ$57))))","v":4},{"$f":"SUM(IF($A11=SoilCat,IF($B11=DrainCat,IF(O$3=ESALCat,Design!$AH$34:$AQ$57))))","v":4}]
[1,"Fair",null,null,"Unbound Dense Graded Base",{"$f":"SUM(IF($A12=SoilCat,IF($B12=DrainCat,IF(F$3=ESALCat,Design!$BB$34:$BK$57))))","v":4},{"$f":"SUM(IF($A12=SoilCat,IF($B12=DrainCat,IF(G$3=ESALCat,Design!$BB$34:$BK$57))))","v":4},{"$f":"SUM(IF($A12=SoilCat,IF($B12=DrainCat,IF(H$3=ESALCat,Design!$BB$34:$BK$57))))","v":4},{"$f":"SUM(IF($A12=SoilCat,IF($B12=DrainCat,IF(I$3=ESALCat,Design!$BB$34:$BK$57))))","v":4},{"$f":"SUM(IF($A12=SoilCat,IF($B12=DrainCat,IF(J$3=ESALCat,Design!$BB$34:$BK$57))))","v":4},{"$f":"SUM(IF($A12=SoilCat,IF($B12=DrainCat,IF(K$3=ESALCat,Design!$BB$34:$BK$57))))","v":6},{"$f":"SUM(IF($A12=SoilCat,IF($B12=DrainCat,IF(L$3=ESALCat,Design!$BB$34:$BK$57))))","v":6},{"$f":"SUM(IF($A12=SoilCat,IF($B12=DrainCat,IF(M$3=ESALCat,Design!$BB$34:$BK$57))))","v":6},{"$f":"SUM(IF($A12=SoilCat,IF($B12=DrainCat,IF(N$3=ESALCat,Design!$BB$34:$BK$57))))","v":6},{"$f":"SUM(IF($A12=SoilCat,IF($B12=DrainCat,IF(O$3=ESALCat,Design!$BB$34:$BK$57))))","v":8}]
[1,"Fair",null,null,"Unbound Dense Graded Subbase",{"$f":"SUM(IF($A13=SoilCat,IF($B13=DrainCat,IF(F$3=ESALCat,Design!$BV$34:$CE$57))))","v":0},{"$f":"SUM(IF($A13=SoilCat,IF($B13=DrainCat,IF(G$3=ESALCat,Design!$BV$34:$CE$57))))","v":0},{"$f":"SUM(IF($A13=SoilCat,IF($B13=DrainCat,IF(H$3=ESALCat,Design!$BV$34:$CE$57))))","v":0},{"$f":"SUM(IF($A13=SoilCat,IF($B13=DrainCat,IF(I$3=ESALCat,Design!$BV$34:$CE$57))))","v":0},{"$f":"SUM(IF($A13=SoilCat,IF($B13=DrainCat,IF(J$3=ESALCat,Design!$BV$34:$CE$57))))","v":0},{"$f":"SUM(IF($A13=SoilCat,IF($B13=DrainCat,IF(K$3=ESALCat,Design!$BV$34:$CE$57))))","v":0},{"$f":"SUM(IF($A13=SoilCat,IF($B13=DrainCat,IF(L$3=ESALCat,Design!$BV$34:$CE$57))))","v":0},{"$f":"SUM(IF($A13=SoilCat,IF($B13=DrainCat,IF(M$3=ESALCat,Design!$BV$34:$CE$57))))","v":0},{"$f":"SUM(IF($A13=SoilCat,IF($B13=DrainCat,IF(N$3=ESALCat,Design!$BV$34:$CE$57))))","v":0},{"$f":"SUM(IF($A13=SoilCat,IF($B13=DrainCat,IF(O$3=ESALCat,Design!$BV$34:$CE$57))))","v":0}]
[1,"Poor",null,"Poor","Pavers and Bedding",{"$f":"SUM(IF($A14=SoilCat,IF($B14=DrainCat,IF(F$3=ESALCat,Design!$N$34:$W$57))))","v":4.125},{"$f":"SUM(IF($A14=SoilCat,IF($B14=DrainCat,IF(G$3=ESALCat,Design!$N$34:$W$57))))","v":4.125},{"$f":"SUM(IF($A14=SoilCat,IF($B14=DrainCat,IF(H$3=ESALCat,Design!$N$34:$W$57))))","v":4.125},{"$f":"SUM(IF($A14=SoilCat,IF($B14=DrainCat,IF(I$3=ESALCat,Design!$N$34:$W$57))))","v":4.125},{"$f":"SUM(IF($A14=SoilCat,IF($B14=DrainCat,IF(J$3=ESALCat,Design!$N$34:$W$57))))","v":4.125},{"$f":"SUM(IF($A14=SoilCat,IF($B14=DrainCat,IF(K$3=ESALCat,Design!$N$34:$W$57))))","v":4.125},{"$f":"SUM(IF($A14=SoilCat,IF($B14=DrainCat,IF(L$3=ESALCat,Design!$N$34:$W$57))))","v":4.125},{"$f":"SUM(IF($A14=SoilCat,IF($B14=DrainCat,IF(M$3=ESALCat,Design!$N$34:$W$57))))","v":4.125},{"$f":"SUM(IF($A14=SoilCat,IF($B14=DrainCat,IF(N$3=ESALCat,Design!$N$34:$W$57))))","v":4.125},{"$f":"SUM(IF($A14=SoilCat,IF($B14=DrainCat,IF(O$3=ESALCat,Design!$N$34:$W$57))))","v":4.125}]
[1,"Poor",null,null,"Asphalt Treated Base",{"$f":"SUM(IF($A15=SoilCat,IF($B15=DrainCat,IF(F$3=ESALCat,Design!$AH$34:$AQ$57))))","v":4},{"$f":"SUM(IF($A15=SoilCat,IF($B15=DrainCat,IF(G$3=ESALCat,Design!$AH$34:$AQ$57))))","v":4},{"$f":"SUM(IF($A15=SoilCat,IF($B15=DrainCat,IF(H$3=ESALCat,Design!$AH$34:$AQ$57))))","v":4},{"$f":"SUM(IF($A15=SoilCat,IF($B15=DrainCat,IF(I$3=ESALCat,Design!$AH$34:$AQ$57))))","v":4},{"$f":"SUM(IF($A15=SoilCat,IF($B15=DrainCat,IF(J$3=ESALCat,Design!$AH$34:$AQ$57))))","v":4},{"$f":"SUM(IF($A15=SoilCat,IF($B15=DrainCat,IF(K$3=ESALCat,Design!$AH$34:$AQ$57))))","v":4},{"$f":"SUM(IF($A15=SoilCat,IF($B15=DrainCat,IF(L$3=ESALCat,Design!$AH$34:$AQ$57))))","v":4},{"$f":"SUM(IF($A15=SoilCat,IF($B15=DrainCat,IF(M$3=ESALCat,Design!$AH$34:$AQ$57))))","v":4},{"$f":"SUM(IF($A15=SoilCat,IF($B15=DrainCat,IF(N$3=ESALCat,Design!$AH$34:$AQ$57))))","v":4},{"$f":"SUM(IF($A15=SoilCat,IF($B15=DrainCat,IF(O$3=ESALCat,Design!$AH$34:$AQ$57))))","v":4}]
[1,"Poor",null,null,"Unbound Dense Graded Base",{"$f":"SUM(IF($A16=SoilCat,IF($B16=DrainCat,IF(F$3=ESALCat,Design!$BB$34:$BK$57))))","v":4},{"$f":"SUM(IF($A16=SoilCat,IF($B16=DrainCat,IF(G$3=ESALCat,Design!$BB$34:$BK$57))))","v":4},{"$f":"SUM(IF($A16=SoilCat,IF($B16=DrainCat,IF(H$3=ESALCat,Design!$BB$34:$BK$57))))","v":4},{"$f":"SUM(IF($A16=SoilCat,IF($B16=DrainCat,IF(I$3=ESALCat,Design!$BB$34:$BK$57))))","v":4},{"$f":"SUM(IF($A16=SoilCat,IF($B16=DrainCat,IF(J$3=ESALCat,Design!$BB$34:$BK$57))))","v":4},{"$f":"SUM(IF($A16=SoilCat,IF($B16=DrainCat,IF(K$3=ESALCat,Design!$BB$34:$BK$57))))","v":6},{"$f":"SUM(IF($A16=SoilCat,IF($B16=DrainCat,IF(L$3=ESALCat,Design!$BB$34:$BK$57))))","v":6},{"$f":"SUM(IF($A16=SoilCat,IF($B16=DrainCat,IF(M$3=ESALCat,Design!$BB$34:$BK$57))))","v":6},{"$f":"SUM(IF($A16=SoilCat,IF($B16=DrainCat,IF(N$3=ESALCat,Design!$BB$34:$BK$57))))","v":6},{"$f":"SUM(IF($A16=SoilCat,IF($B16=DrainCat,IF(O$3=ESALCat,Design!$BB$34:$BK$57))))","v":6}]
[1,"Poor",null,null,"Unbound Dense Graded Subbase",{"$f":"SUM(IF($A17=SoilCat,IF($B17=DrainCat,IF(F$3=ESALCat,Design!$BV$34:$CE$57))))","v":0},{"$f":"SUM(IF($A17=SoilCat,IF($B17=DrainCat,IF(G$3=ESALCat,Design!$BV$34:$CE$57))))","v":0},{"$f":"SUM(IF($A17=SoilCat,IF($B17=DrainCat,IF(H$3=ESALCat,Design!$BV$34:$CE$57))))","v":0},{"$f":"SUM(IF($A17=SoilCat,IF($B17=DrainCat,IF(I$3=ESALCat,Design!$BV$34:$CE$57))))","v":0},{"$f":"SUM(IF($A17=SoilCat,IF($B17=DrainCat,IF(J$3=ESALCat,Design!$BV$34:$CE$57))))","v":0},{"$f":"SUM(IF($A17=SoilCat,IF($B17=DrainCat,IF(K$3=ESALCat,Design!$BV$34:$CE$57))))","v":0},{"$f":"SUM(IF($A17=SoilCat,IF($B17=DrainCat,IF(L$3=ESALCat,Design!$BV$34:$CE$57))))","v":0},{"$f":"SUM(IF($A17=SoilCat,IF($B17=DrainCat,IF(M$3=ESALCat,Design!$BV$34:$CE$57))))","v":0},{"$f":"SUM(IF($A17=SoilCat,IF($B17=DrainCat,IF(N$3=ESALCat,Design!$BV$34:$CE$57))))","v":0},{"$f":"SUM(IF($A17=SoilCat,IF($B17=DrainCat,IF(O$3=ESALCat,Design!$BV$34:$CE$57))))","v":6}]
[2,"Good","Category 2","Good","Pavers and Bedding",{"$f":"SUM(IF($A18=SoilCat,IF($B18=DrainCat,IF(F$3=ESALCat,Design!$N$34:$W$57))))","v":4.125},{"$f":"SUM(IF($A18=SoilCat,IF($B18=DrainCat,IF(G$3=ESALCat,Design!$N$34:$W$57))))","v":4.125},{"$f":"SUM(IF($A18=SoilCat,IF($B18=DrainCat,IF(H$3=ESALCat,Design!$N$34:$W$57))))","v":4.125},{"$f":"SUM(IF($A18=SoilCat,IF($B18=DrainCat,IF(I$3=ESALCat,Design!$N$34:$W$57))))","v":4.125},{"$f":"SUM(IF($A18=SoilCat,IF($B18=DrainCat,IF(J$3=ESALCat,Design!$N$34:$W$57))))","v":4.125},{"$f":"SUM(IF($A18=SoilCat,IF($B18=DrainCat,IF(K$3=ESALCat,Design!$N$34:$W$57))))","v":4.125},{"$f":"SUM(IF($A18=SoilCat,IF($B18=DrainCat,IF(L$3=ESALCat,Design!$N$34:$W$57))))","v":4.125},{"$f":"SUM(IF($A18=SoilCat,IF($B18=DrainCat,IF(M$3=ESALCat,Design!$N$34:$W$57))))","v":4.125},{"$f":"SUM(IF($A18=SoilCat,IF($B18=DrainCat,IF(N$3=ESALCat,Design!$N$34:$W$57))))","v":4.125},{"$f":"SUM(IF($A18=SoilCat,IF($B18=DrainCat,IF(O$3=ESALCat,Design!$N$34:$W$57))))","v":4.125}]
[2,"Good",null,null,"Asphalt Treated Base",{"$f":"SUM(IF($A19=SoilCat,IF($B19=DrainCat,IF(F$3=ESALCat,Design!$AH$34:$AQ$57))))","v":4},{"$f":"SUM(IF($A19=SoilCat,IF($B19=DrainCat,IF(G$3=ESALCat,Design!$AH$34:$AQ$57))))","v":4},{"$f":"SUM(IF($A19=SoilCat,IF($B19=DrainCat,IF(H$3=ESALCat,Design!$AH$34:$AQ$57))))","v":4},{"$f":"SUM(IF($A19=SoilCat,IF($B19=DrainCat,IF(I$3=ESALCat,Design!$AH$34:$AQ$57))))","v":4},{"$f":"SUM(IF($A19=SoilCat,IF($B19=DrainCat,IF(J$3=ESALCat,Design!$AH$34:$AQ$57))))","v":4},{"$f":"SUM(IF($A19=SoilCat,IF($B19=DrainCat,IF(K$3=ESALCat,Design!$AH$34:$AQ$57))))","v":4},{"$f":"SUM(IF($A19=SoilCat,IF($B19=DrainCat,IF(L$3=ESALCat,Design!$AH$34:$AQ$57))))","v":4},{"$f":"SUM(IF($A19=SoilCat,IF($B19=DrainCat,IF(M$3=ESALCat,Design!$AH$34:$AQ$57))))","v":4},{"$f":"SUM(IF($A19=SoilCat,IF($B19=DrainCat,IF(N$3=ESALCat,Design!$AH$34:$AQ$57))))","v":4},{"$f":"SUM(IF($A19=SoilCat,IF($B19=DrainCat,IF(O$3=ESALCat,Design!$AH$34:$AQ$57))))","v":4}]
[2,"Good",null,null,"Unbound Dense Graded Base",{"$f":"SUM(IF($A20=SoilCat,IF($B20=DrainCat,IF(F$3=ESALCat,Design!$BB$34:$BK$57))))","v":4},{"$f":"SUM(IF($A20=SoilCat,IF($B20=DrainCat,IF(G$3=ESALCat,Design!$BB$34:$BK$57))))","v":4},{"$f":"SUM(IF($A20=SoilCat,IF($B20=DrainCat,IF(H$3=ESALCat,Design!$BB$34:$BK$57))))","v":4},{"$f":"SUM(IF($A20=SoilCat,IF($B20=DrainCat,IF(I$3=ESALCat,Design!$BB$34:$BK$57))))","v":4},{"$f":"SUM(IF($A20=SoilCat,IF($B20=DrainCat,IF(J$3=ESALCat,Design!$BB$34:$BK$57))))","v":4},{"$f":"SUM(IF($A20=SoilCat,IF($B20=DrainCat,IF(K$3=ESALCat,Design!$BB$34:$BK$57))))","v":6},{"$f":"SUM(IF($A20=SoilCat,IF($B20=DrainCat,IF(L$3=ESALCat,Design!$BB$34:$BK$57))))","v":6},{"$f":"SUM(IF($A20=SoilCat,IF($B20=DrainCat,IF(M$3=ESALCat,Design!$BB$34:$BK$57))))","v":6},{"$f":"SUM(IF($A20=SoilCat,IF($B20=DrainCat,IF(N$3=ESALCat,Design!$BB$34:$BK$57))))","v":6},{"$f":"SUM(IF($A20=SoilCat,IF($B20=DrainCat,IF(O$3=ESALCat,Design!$BB$34:$BK$57))))","v":8}]
[2,"Good",null,null,"Unbound Dense Graded Subbase",{"$f":"SUM(IF($A21=SoilCat,IF($B21=DrainCat,IF(F$3=ESALCat,Design!$BV$34:$CE$57))))","v":0},{"$f":"SUM(IF($A21=SoilCat,IF($B21=DrainCat,IF(G$3=ESALCat,Design!$BV$34:$CE$57))))","v":0},{"$f":"SUM(IF($A21=SoilCat,IF($B21=DrainCat,IF(H$3=ESALCat,Design!$BV$34:$CE$57))))","v":0},{"$f":"SUM(IF($A21=SoilCat,IF($B21=DrainCat,IF(I$3=ESALCat,Design!$BV$34:$CE$57))))","v":0},{"$f":"SUM(IF($A21=SoilCat,IF($B21=DrainCat,IF(J$3=ESALCat,Design!$BV$34:$CE$57))))","v":0},{"$f":"SUM(IF($A21=SoilCat,IF($B21=DrainCat,IF(K$3=ESALCat,Design!$BV$34:$CE$57))))","v":0},{"$f":"SUM(IF($A21=SoilCat,IF($B21=DrainCat,IF(L$3=ESALCat,Design!$BV$34:$CE$57))))","v":0},{"$f":"SUM(IF($A21=SoilCat,IF($B21=DrainCat,IF(M$3=ESALCat,Design!$BV$34:$CE$57))))","v":0},{"$f":"SUM(IF($A21=SoilCat,IF($B21=DrainCat,IF(N$3=ESALCat,Design!$BV$34:$CE$57))))","v":0},{"$f":"SUM(IF($A21=SoilCat,IF($B21=DrainCat,IF(O$3=ESALCat,Design!$BV$34:$CE$57))))","v":0}]
[2,"Fair",null,"Fair","Pavers and Bedding",{"$f":"SUM(IF($A22=SoilCat,IF($B22=DrainCat,IF(F$3=ESALCat,Design!$N$34:$W$57))))","v":4.125},{"$f":"SUM(IF($A22=SoilCat,IF($B22=DrainCat,IF(G$3=ESALCat,Design!$N$34:$W$57))))","v":4.125},{"$f":"SUM(IF($A22=SoilCat,IF($B22=DrainCat,IF(H$3=ESALCat,Design!$N$34:$W$57))))","v":4.125},{"$f":"SUM(IF($A22=SoilCat,IF($B22=DrainCat,IF(I$3=ESALCat,Design!$N$34:$W$57))))","v":4.125},{"$f":"SUM(IF($A22=SoilCat,IF($B22=DrainCat,IF(J$3=ESALCat,Design!$N$34:$W$57))))","v":4.125},{"$f":"SUM(IF($A22=SoilCat,IF($B22=DrainCat,IF(K$3=ESALCat,Design!$N$34:$W$57))))","v":4.125},{"$f":"SUM(IF($A22=SoilCat,IF($B22=DrainCat,IF(L$3=ESALCat,Design!$N$34:$W$57))))","v":4.125},{"$f":"SUM(IF($A22=SoilCat,IF($B22=DrainCat,IF(M$3=ESALCat,Design!$N$34:$W$57))))","v":4.125},{"$f":"SUM(IF($A22=SoilCat,IF($B22=DrainCat,IF(N$3=ESALCat,Design!$N$34:$W$57))))","v":4.125},{"$f":"SUM(IF($A22=SoilCat,IF($B22=DrainCat,IF(O$3=ESALCat,Design!$N$34:$W$57))))","v":4.125}]
[2,"Fair",null,null,"Asphalt Treated Base",{"$f":"SUM(IF($A23=SoilCat,IF($B23=DrainCat,IF(F$3=ESALCat,Design!$AH$34:$AQ$57))))","v":4},{"$f":"SUM(IF($A23=SoilCat,IF($B23=DrainCat,IF(G$3=ESALCat,Design!$AH$34:$AQ$57))))","v":4},{"$f":"SUM(IF($A23=SoilCat,IF($B23=DrainCat,IF(H$3=ESALCat,Design!$AH$34:$AQ$57))))","v":4},{"$f":"SUM(IF($A23=SoilCat,IF($B23=DrainCat,IF(I$3=ESALCat,Design!$AH$34:$AQ$57))))","v":4},{"$f":"SUM(IF($A23=SoilCat,IF($B23=DrainCat,IF(J$3=ESALCat,Design!$AH$34:$AQ$57))))","v":4},{"$f":"SUM(IF($A23=SoilCat,IF($B23=DrainCat,IF(K$3=ESALCat,Design!$AH$34:$AQ$57))))","v":4},{"$f":"SUM(IF($A23=SoilCat,IF($B23=DrainCat,IF(L$3=ESALCat,Design!$AH$34:$AQ$57))))","v":4},{"$f":"SUM(IF($A23=SoilCat,IF($B23=DrainCat,IF(M$3=ESALCat,Design!$AH$34:$AQ$57))))","v":4},{"$f":"SUM(IF($A23=SoilCat,IF($B23=DrainCat,IF(N$3=ESALCat,Design!$AH$34:$AQ$57))))","v":4},{"$f":"SUM(IF($A23=SoilCat,IF($B23=DrainCat,IF(O$3=ESALCat,Design!$AH$34:$AQ$57))))","v":4}]
[2,"Fair",null,null,"Unbound Dense Graded Base",{"$f":"SUM(IF($A24=SoilCat,IF($B24=DrainCat,IF(F$3=ESALCat,Design!$BB$34:$BK$57))))","v":4},{"$f":"SUM(IF($A24=SoilCat,IF($B24=DrainCat,IF(G$3=ESALCat,Design!$BB$34:$BK$57))))","v":4},{"$f":"SUM(IF($A24=SoilCat,IF($B24=DrainCat,IF(H$3=ESALCat,Design!$BB$34:$BK$57))))","v":4},{"$f":"SUM(IF($A24=SoilCat,IF($B24=DrainCat,IF(I$3=ESALCat,Design!$BB$34:$BK$57))))","v":4},{"$f":"SUM(IF($A24=SoilCat,IF($B24=DrainCat,IF(J$3=ESALCat,Design!$BB$34:$BK$57))))","v":4},{"$f":"SUM(IF($A24=SoilCat,IF($B24=DrainCat,IF(K$3=ESALCat,Design!$BB$34:$BK$57))))","v":6},{"$f":"SUM(IF($A24=SoilCat,IF($B24=DrainCat,IF(L$3=ESALCat,Design!$BB$34:$BK$57))))","v":6},{"$f":"SUM(IF($A24=SoilCat,IF($B24=DrainCat,IF(M$3=ESALCat,Design!$BB$34:$BK$57))))","v":6},{"$f":"SUM(IF($A24=SoilCat,IF($B24=DrainCat,IF(N$3=ESALCat,Design!$BB$34:$BK$57))))","v":6},{"$f":"SUM(IF($A24=SoilCat,IF($B24=DrainCat,IF(O$3=ESALCat,Design!$BB$34:$BK$57))))","v":6}]
[2,"Fair",null,null,"Unbound Dense Graded Subbase",{"$f":"SUM(IF($A25=SoilCat,IF($B25=DrainCat,IF(F$3=ESALCat,Design!$BV$34:$CE$57))))","v":0},{"$f":"SUM(IF($A25=SoilCat,IF($B25=DrainCat,IF(G$3=ESALCat,Design!$BV$34:$CE$57))))","v":0},{"$f":"SUM(IF($A25=SoilCat,IF($B25=DrainCat,IF(H$3=ESALCat,Design!$BV$34:$CE$57))))","v":0},{"$f":"SUM(IF($A25=SoilCat,IF($B25=DrainCat,IF(I$3=ESALCat,Design!$BV$34:$CE$57))))","v":0},{"$f":"SUM(IF($A25=SoilCat,IF($B25=DrainCat,IF(J$3=ESALCat,Design!$BV$34:$CE$57))))","v":0},{"$f":"SUM(IF($A25=SoilCat,IF($B25=DrainCat,IF(K$3=ESALCat,Design!$BV$34:$CE$57))))","v":0},{"$f":"SUM(IF($A25=SoilCat,IF($B25=DrainCat,IF(L$3=ESALCat,Design!$BV$34:$CE$57))))","v":0},{"$f":"SUM(IF($A25=SoilCat,IF($B25=DrainCat,IF(M$3=ESALCat,Design!$BV$34:$CE$57))))","v":0},{"$f":"SUM(IF($A25=SoilCat,IF($B25=DrainCat,IF(N$3=ESALCat,Design!$BV$34:$CE$57))))","v":0},{"$f":"SUM(IF($A25=SoilCat,IF($B25=DrainCat,IF(O$3=ESALCat,Design!$BV$34:$CE$57))))","v":6}]
[2,"Poor",null,"Poor","Pavers and Bedding",{"$f":"SUM(IF($A26=SoilCat,IF($B26=DrainCat,IF(F$3=ESALCat,Design!$N$34:$W$57))))","v":4.125},{"$f":"SUM(IF($A26=SoilCat,IF($B26=DrainCat,IF(G$3=ESALCat,Design!$N$34:$W$57))))","v":4.125},{"$f":"SUM(IF($A26=SoilCat,IF($B26=DrainCat,IF(H$3=ESALCat,Design!$N$34:$W$57))))","v":4.125},{"$f":"SUM(IF($A26=SoilCat,IF($B26=DrainCat,IF(I$3=ESALCat,Design!$N$34:$W$57))))","v":4.125},{"$f":"SUM(IF($A26=SoilCat,IF($B26=DrainCat,IF(J$3=ESALCat,Design!$N$34:$W$57))))","v":4.125},{"$f":"SUM(IF($A26=SoilCat,IF($B26=DrainCat,IF(K$3=ESALCat,Design!$N$34:$W$57))))","v":4.125},{"$f":"SUM(IF($A26=SoilCat,IF($B26=DrainCat,IF(L$3=ESALCat,Design!$N$34:$W$57))))","v":4.125},{"$f":"SUM(IF($A26=SoilCat,IF($B26=DrainCat,IF(M$3=ESALCat,Design!$N$34:$W$57))))","v":4.125},{"$f":"SUM(IF($A26=SoilCat,IF($B26=DrainCat,IF(N$3=ESALCat,Design!$N$34:$W$57))))","v":4.125},{"$f":"SUM(IF($A26=SoilCat,IF($B26=DrainCat,IF(O$3=ESALCat,Design!$N$34:$W$57))))","v":4.125}]
[2,"Poor",null,null,"Asphalt Treated Base",{"$f":"SUM(IF($A27=SoilCat,IF($B27=DrainCat,IF(F$3=ESALCat,Design!$AH$34:$AQ$57))))","v":4},{"$f":"SUM(IF($A27=SoilCat,IF($B27=DrainCat,IF(G$3=ESALCat,Design!$AH$34:$AQ$57))))","v":4},{"$f":"SUM(IF($A27=SoilCat,IF($B27=DrainCat,IF(H$3=ESALCat,Design!$AH$34:$AQ$57))))","v":4},{"$f":"SUM(IF($A27=SoilCat,IF($B27=DrainCat,IF(I$3=ESALCat,Design!$AH$34:$AQ$57))))","v":4},{"$f":"SUM(IF($A27=SoilCat,IF($B27=DrainCat,IF(J$3=ESALCat,Design!$AH$34:$AQ$57))))","v":4},{"$f":"SUM(IF($A27=SoilCat,IF($B27=DrainCat,IF(K$3=ESALCat,Design!$AH$34:$AQ$57))))","v":4},{"$f":"SUM(IF($A27=SoilCat,IF($B27=DrainCat,IF(L$3=ESALCat,Design!$AH$34:$AQ$57))))","v":4},{"$f":"SUM(IF($A27=SoilCat,IF($B27=DrainCat,IF(M$3=ESALCat,Design!$AH$34:$AQ$57))))","v":4},{"$f":"SUM(IF($A27=SoilCat,IF($B27=DrainCat,IF(N$3=ESALCat,Design!$AH$34:$AQ$57))))","v":4},{"$f":"SUM(IF($A27=SoilCat,IF($B27=DrainCat,IF(O$3=ESALCat,Design!$AH$34:$AQ$57))))","v":4}]
[2,"Poor",null,null,"Unbound Dense Graded Base",{"$f":"SUM(IF($A28=SoilCat,IF($B28=DrainCat,IF(F$3=ESALCat,Design!$BB$34:$BK$57))))","v":4},{"$f":"SUM(IF($A28=SoilCat,IF($B28=DrainCat,IF(G$3=ESALCat,Design!$BB$34:$BK$57))))","v":4},{"$f":"SUM(IF($A28=SoilCat,IF($B28=DrainCat,IF(H$3=ESALCat,Design!$BB$34:$BK$57))))","v":4},{"$f":"SUM(IF($A28=SoilCat,IF($B28=DrainCat,IF(I$3=ESALCat,Design!$BB$34:$BK$57))))","v":4},{"$f":"SUM(IF($A28=SoilCat,IF($B28=DrainCat,IF(J$3=ESALCat,Design!$BB$34:$BK$57))))","v":4},{"$f":"SUM(IF($A28=SoilCat,IF($B28=DrainCat,IF(K$3=ESALCat,Design!$BB$34:$BK$57))))","v":6},{"$f":"SUM(IF($A28=SoilCat,IF($B28=DrainCat,IF(L$3=ESALCat,Design!$BB$34:$BK$57))))","v":6},{"$f":"SUM(IF($A28=SoilCat,IF($B28=DrainCat,IF(M$3=ESALCat,Design!$BB$34:$BK$57))))","v":6},{"$f":"SUM(IF($A28=SoilCat,IF($B28=DrainCat,IF(N$3=ESALCat,Design!$BB$34:$BK$57))))","v":6},{"$f":"SUM(IF($A28=SoilCat,IF($B28=DrainCat,IF(O$3=ESALCat,Design!$BB$34:$BK$57))))","v":6}]
[2,"Poor",null,null,"Unbound Dense Graded Subbase",{"$f":"SUM(IF($A29=SoilCat,IF($B29=DrainCat,IF(F$3=ESALCat,Design!$BV$34:$CE$57))))","v":0},{"$f":"SUM(IF($A29=SoilCat,IF($B29=DrainCat,IF(G$3=ESALCat,Design!$BV$34:$CE$57))))","v":0},{"$f":"SUM(IF($A29=SoilCat,IF($B29=DrainCat,IF(H$3=ESALCat,Design!$BV$34:$CE$57))))","v":0},{"$f":"SUM(IF($A29=SoilCat,IF($B29=DrainCat,IF(I$3=ESALCat,Design!$BV$34:$CE$57))))","v":0},{"$f":"SUM(IF($A29=SoilCat,IF($B29=DrainCat,IF(J$3=ESALCat,Design!$BV$34:$CE$57))))","v":0},{"$f":"SUM(IF($A29=SoilCat,IF($B29=DrainCat,IF(K$3=ESALCat,Design!$BV$34:$CE$57))))","v":0},{"$f":"SUM(IF($A29=SoilCat,IF($B29=DrainCat,IF(L$3=ESALCat,Design!$BV$34:$CE$57))))","v":0},{"$f":"SUM(IF($A29=SoilCat,IF($B29=DrainCat,IF(M$3=ESALCat,Design!$BV$34:$CE$57))))","v":0},{"$f":"SUM(IF($A29=SoilCat,IF($B29=DrainCat,IF(N$3=ESALCat,Design!$BV$34:$CE$57))))","v":6},{"$f":"SUM(IF($A29=SoilCat,IF($B29=DrainCat,IF(O$3=ESALCat,Design!$BV$34:$CE$57))))","v":10}]
[3,"Good","Category 3","Good","Pavers and Bedding",{"$f":"SUM(IF($A30=SoilCat,IF($B30=DrainCat,IF(F$3=ESALCat,Design!$N$34:$W$57))))","v":4.125},{"$f":"SUM(IF($A30=SoilCat,IF($B30=DrainCat,IF(G$3=ESALCat,Design!$N$34:$W$57))))","v":4.125},{"$f":"SUM(IF($A30=SoilCat,IF($B30=DrainCat,IF(H$3=ESALCat,Design!$N$34:$W$57))))","v":4.125},{"$f":"SUM(IF($A30=SoilCat,IF($B30=DrainCat,IF(I$3=ESALCat,Design!$N$34:$W$57))))","v":4.125},{"$f":"SUM(IF($A30=SoilCat,IF($B30=DrainCat,IF(J$3=ESALCat,Design!$N$34:$W$57))))","v":4.125},{"$f":"SUM(IF($A30=SoilCat,IF($B30=DrainCat,IF(K$3=ESALCat,Design!$N$34:$W$57))))","v":4.125},{"$f":"SUM(IF($A30=SoilCat,IF($B30=DrainCat,IF(L$3=ESALCat,Design!$N$34:$W$57))))","v":4.125},{"$f":"SUM(IF($A30=SoilCat,IF($B30=DrainCat,IF(M$3=ESALCat,Design!$N$34:$W$57))))","v":4.125},{"$f":"SUM(IF($A30=SoilCat,IF($B30=DrainCat,IF(N$3=ESALCat,Design!$N$34:$W$57))))","v":4.125},{"$f":"SUM(IF($A30=SoilCat,IF($B30=DrainCat,IF(O$3=ESALCat,Design!$N$34:$W$57))))","v":4.125}]
[3,"Good",null,null,"Asphalt Treated Base",{"$f":"SUM(IF($A31=SoilCat,IF($B31=DrainCat,IF(F$3=ESALCat,Design!$AH$34:$AQ$57))))","v":4},{"$f":"SUM(IF($A31=SoilCat,IF($B31=DrainCat,IF(G$3=ESALCat,Design!$AH$34:$AQ$57))))","v":4},{"$f":"SUM(IF($A31=SoilCat,IF($B31=DrainCat,IF(H$3=ESALCat,Design!$AH$34:$AQ$57))))","v":4},{"$f":"SUM(IF($A31=SoilCat,IF($B31=DrainCat,IF(I$3=ESALCat,Design!$AH$34:$AQ$57))))","v":4},{"$f":"SUM(IF($A31=SoilCat,IF($B31=DrainCat,IF(J$3=ESALCat,Design!$AH$34:$AQ$57))))","v":4},{"$f":"SUM(IF($A31=SoilCat,IF($B31=DrainCat,IF(K$3=ESALCat,Design!$AH$34:$AQ$57))))","v":4},{"$f":"SUM(IF($A31=SoilCat,IF($B31=DrainCat,IF(L$3=ESALCat,Design!$AH$34:$AQ$57))))","v":4},{"$f":"SUM(IF($A31=SoilCat,IF($B31=DrainCat,IF(M$3=ESALCat,Design!$AH$34:$AQ$57))))","v":4},{"$f":"SUM(IF($A31=SoilCat,IF($B31=DrainCat,IF(N$3=ESALCat,Design!$AH$34:$AQ$57))))","v":4},{"$f":"SUM(IF($A31=SoilCat,IF($B31=DrainCat,IF(O$3=ESALCat,Design!$AH$34:$AQ$57))))","v":4}]
[3,"Good",null,null,"Unbound Dense Graded Base",{"$f":"SUM(IF($A32=SoilCat,IF($B32=DrainCat,IF(F$3=ESALCat,Design!$BB$34:$BK$57))))","v":4},{"$f":"SUM(IF($A32=SoilCat,IF($B32=DrainCat,IF(G$3=ESALCat,Design!$BB$34:$BK$57))))","v":4},{"$f":"SUM(IF($A32=SoilCat,IF($B32=DrainCat,IF(H$3=ESALCat,Design!$BB$34:$BK$57))))","v":4},{"$f":"SUM(IF($A32=SoilCat,IF($B32=DrainCat,IF(I$3=ESALCat,Design!$BB$34:$BK$57))))","v":4},{"$f":"SUM(IF($A32=SoilCat,IF($B32=DrainCat,IF(J$3=ESALCat,Design!$BB$34:$BK$57))))","v":4},{"$f":"SUM(IF($A32=SoilCat,IF($B32=DrainCat,IF(K$3=ESALCat,Design!$BB$34:$BK$57))))","v":6},{"$f":"SUM(IF($A32=SoilCat,IF($B32=DrainCat,IF(L$3=ESALCat,Design!$BB$34:$BK$57))))","v":6},{"$f":"SUM(IF($A32=SoilCat,IF($B32=DrainCat,IF(M$3=ESALCat,Design!$BB$34:$BK$57))))","v":6},{"$f":"SUM(IF($A32=SoilCat,IF($B32=DrainCat,IF(N$3=ESALCat,Design!$BB$34:$BK$57))))","v":6},{"$f":"SUM(IF($A32=SoilCat,IF($B32=DrainCat,IF(O$3=ESALCat,Design!$BB$34:$BK$57))))","v":6}]
[3,"Good",null,null,"Unbound Dense Graded Subbase",{"$f":"SUM(IF($A33=SoilCat,IF($B33=DrainCat,IF(F$3=ESALCat,Design!$BV$34:$CE$57))))","v":0},{"$f":"SUM(IF($A33=SoilCat,IF($B33=DrainCat,IF(G$3=ESALCat,Design!$BV$34:$CE$57))))","v":0},{"$f":"SUM(IF($A33=SoilCat,IF($B33=DrainCat,IF(H$3=ESALCat,Design!$BV$34:$CE$57))))","v":0},{"$f":"SUM(IF($A33=SoilCat,IF($B33=DrainCat,IF(I$3=ESALCat,Design!$BV$34:$CE$57))))","v":0},{"$f":"SUM(IF($A33=SoilCat,IF($B33=DrainCat,IF(J$3=ESALCat,Design!$BV$34:$CE$57))))","v":0},{"$f":"SUM(IF($A33=SoilCat,IF($B33=DrainCat,IF(K$3=ESALCat,Design!$BV$34:$CE$57))))","v":0},{"$f":"SUM(IF($A33=SoilCat,IF($B33=DrainCat,IF(L$3=ESALCat,Design!$BV$34:$CE$57))))","v":0},{"$f":"SUM(IF($A33=SoilCat,IF($B33=DrainCat,IF(M$3=ESALCat,Design!$BV$34:$CE$57))))","v":0},{"$f":"SUM(IF($A33=SoilCat,IF($B33=DrainCat,IF(N$3=ESALCat,Design!$BV$34:$CE$57))))","v":0},{"$f":"SUM(IF($A33=SoilCat,IF($B33=DrainCat,IF(O$3=ESALCat,Design!$BV$34:$CE$57))))","v":6}]
[3,"Fair",null,"Fair","Pavers and Bedding",{"$f":"SUM(IF($A34=SoilCat,IF($B34=DrainCat,IF(F$3=ESALCat,Design!$N$34:$W$57))))","v":4.125},{"$f":"SUM(IF($A34=SoilCat,IF($B34=DrainCat,IF(G$3=ESALCat,Design!$N$34:$W$57))))","v":4.125},{"$f":"SUM(IF($A34=SoilCat,IF($B34=DrainCat,IF(H$3=ESALCat,Design!$N$34:$W$57))))","v":4.125},{"$f":"SUM(IF($A34=SoilCat,IF($B34=DrainCat,IF(I$3=ESALCat,Design!$N$34:$W$57))))","v":4.125},{"$f":"SUM(IF($A34=SoilCat,IF($B34=DrainCat,IF(J$3=ESALCat,Design!$N$34:$W$57))))","v":4.125},{"$f":"SUM(IF($A34=SoilCat,IF($B34=DrainCat,IF(K$3=ESALCat,Design!$N$34:$W$57))))","v":4.125},{"$f":"SUM(IF($A34=SoilCat,IF($B34=DrainCat,IF(L$3=ESALCat,Design!$N$34:$W$57))))","v":4.125},{"$f":"SUM(IF($A34=SoilCat,IF($B34=DrainCat,IF(M$3=ESALCat,Design!$N$34:$W$57))))","v":4.125},{"$f":"SUM(IF($A34=SoilCat,IF($B34=DrainCat,IF(N$3=ESALCat,Design!$N$34:$W$57))))","v":4.125},{"$f":"SUM(IF($A34=SoilCat,IF($B34=DrainCat,IF(O$3=ESALCat,Design!$N$34:$W$57))))","v":4.125}]
[3,"Fair",null,null,"Asphalt Treated Base",{"$f":"SUM(IF($A35=SoilCat,IF($B35=DrainCat,IF(F$3=ESALCat,Design!$AH$34:$AQ$57))))","v":4},{"$f":"SUM(IF($A35=SoilCat,IF($B35=DrainCat,IF(G$3=ESALCat,Design!$AH$34:$AQ$57))))","v":4},{"$f":"SUM(IF($A35=SoilCat,IF($B35=DrainCat,IF(H$3=ESALCat,Design!$AH$34:$AQ$57))))","v":4},{"$f":"SUM(IF($A35=SoilCat,IF($B35=DrainCat,IF(I$3=ESALCat,Design!$AH$34:$AQ$57))))","v":4},{"$f":"SUM(IF($A35=SoilCat,IF($B35=DrainCat,IF(J$3=ESALCat,Design!$AH$34:$AQ$57))))","v":4},{"$f":"SUM(IF($A35=SoilCat,IF($B35=DrainCat,IF(K$3=ESALCat,Design!$AH$34:$AQ$57))))","v":4},{"$f":"SUM(IF($A35=SoilCat,IF($B35=DrainCat,IF(L$3=ESALCat,Design!$AH$34:$AQ$57))))","v":4},{"$f":"SUM(IF($A35=SoilCat,IF($B35=DrainCat,IF(M$3=ESALCat,Design!$AH$34:$AQ$57))))","v":4},{"$f":"SUM(IF($A35=SoilCat,IF($B35=DrainCat,IF(N$3=ESALCat,Design!$AH$34:$AQ$57))))","v":4},{"$f":"SUM(IF($A35=SoilCat,IF($B35=DrainCat,IF(O$3=ESALCat,Design!$AH$34:$AQ$57))))","v":4}]
[3,"Fair",null,null,"Unbound Dense Graded Base",{"$f":"SUM(IF($A36=SoilCat,IF($B36=DrainCat,IF(F$3=ESALCat,Design!$BB$34:$BK$57))))","v":4},{"$f":"SUM(IF($A36=SoilCat,IF($B36=DrainCat,IF(G$3=ESALCat,Design!$BB$34:$BK$57))))","v":4},{"$f":"SUM(IF($A36=SoilCat,IF($B36=DrainCat,IF(H$3=ESALCat,Design!$BB$34:$BK$57))))","v":4},{"$f":"SUM(IF($A36=SoilCat,IF($B36=DrainCat,IF(I$3=ESALCat,Design!$BB$34:$BK$57))))","v":4},{"$f":"SUM(IF($A36=SoilCat,IF($B36=DrainCat,IF(J$3=ESALCat,Design!$BB$34:$BK$57))))","v":4},{"$f":"SUM(IF($A36=SoilCat,IF($B36=DrainCat,IF(K$3=ESALCat,Design!$BB$34:$BK$57))))","v":6},{"$f":"SUM(IF($A36=SoilCat,IF($B36=DrainCat,IF(L$3=ESALCat,Design!$BB$34:$BK$57))))","v":6},{"$f":"SUM(IF($A36=SoilCat,IF($B36=DrainCat,IF(M$3=ESALCat,Design!$BB$34:$BK$57))))","v":6},{"$f":"SUM(IF($A36=SoilCat,IF($B36=DrainCat,IF(N$3=ESALCat,Design!$BB$34:$BK$57))))","v":8},{"$f":"SUM(IF($A36=SoilCat,IF($B36=DrainCat,IF(O$3=ESALCat,Design!$BB$34:$BK$57))))","v":6}]
[3,"Fair",null,null,"Unbound Dense Graded Subbase",{"$f":"SUM(IF($A37=SoilCat,IF($B37=DrainCat,IF(F$3=ESALCat,Design!$BV$34:$CE$57))))","v":0},{"$f":"SUM(IF($A37=SoilCat,IF($B37=DrainCat,IF(G$3=ESALCat,Design!$BV$34:$CE$57))))","v":0},{"$f":"SUM(IF($A37=SoilCat,IF($B37=DrainCat,IF(H$3=ESALCat,Design!$BV$34:$CE$57))))","v":0},{"$f":"SUM(IF($A37=SoilCat,IF($B37=DrainCat,IF(I$3=ESALCat,Design!$BV$34:$CE$57))))","v":0},{"$f":"SUM(IF($A37=SoilCat,IF($B37=DrainCat,IF(J$3=ESALCat,Design!$BV$34:$CE$57))))","v":0},{"$f":"SUM(IF($A37=SoilCat,IF($B37=DrainCat,IF(K$3=ESALCat,Design!$BV$34:$CE$57))))","v":0},{"$f":"SUM(IF($A37=SoilCat,IF($B37=DrainCat,IF(L$3=ESALCat,Design!$BV$34:$CE$57))))","v":0},{"$f":"SUM(IF($A37=SoilCat,IF($B37=DrainCat,IF(M$3=ESALCat,Design!$BV$34:$CE$57))))","v":0},{"$f":"SUM(IF($A37=SoilCat,IF($B37=DrainCat,IF(N$3=ESALCat,Design!$BV$34:$CE$57))))","v":0},{"$f":"SUM(IF($A37=SoilCat,IF($B37=DrainCat,IF(O$3=ESALCat,Design!$BV$34:$CE$57))))","v":8}]
[3,"Poor",null,"Poor","Pavers and Bedding",{"$f":"SUM(IF($A38=SoilCat,IF($B38=DrainCat,IF(F$3=ESALCat,Design!$N$34:$W$57))))","v":4.125},{"$f":"SUM(IF($A38=SoilCat,IF($B38=DrainCat,IF(G$3=ESALCat,Design!$N$34:$W$57))))","v":4.125},{"$f":"SUM(IF($A38=SoilCat,IF($B38=DrainCat,IF(H$3=ESALCat,Design!$N$34:$W$57))))","v":4.125},{"$f":"SUM(IF($A38=SoilCat,IF($B38=DrainCat,IF(I$3=ESALCat,Design!$N$34:$W$57))))","v":4.125},{"$f":"SUM(IF($A38=SoilCat,IF($B38=DrainCat,IF(J$3=ESALCat,Design!$N$34:$W$57))))","v":4.125},{"$f":"SUM(IF($A38=SoilCat,IF($B38=DrainCat,IF(K$3=ESALCat,Design!$N$34:$W$57))))","v":4.125},{"$f":"SUM(IF($A38=SoilCat,IF($B38=DrainCat,IF(L$3=ESALCat,Design!$N$34:$W$57))))","v":4.125},{"$f":"SUM(IF($A38=SoilCat,IF($B38=DrainCat,IF(M$3=ESALCat,Design!$N$34:$W$57))))","v":4.125},{"$f":"SUM(IF($A38=SoilCat,IF($B38=DrainCat,IF(N$3=ESALCat,Design!$N$34:$W$57))))","v":4.125},{"$f":"SUM(IF($A38=SoilCat,IF($B38=DrainCat,IF(O$3=ESALCat,Design!$N$34:$W$57))))","v":4.125}]
[3,"Poor",null,null,"Asphalt Treated Base",{"$f":"SUM(IF($A39=SoilCat,IF($B39=DrainCat,IF(F$3=ESALCat,Design!$AH$34:$AQ$57))))","v":4},{"$f":"SUM(IF($A39=SoilCat,IF($B39=DrainCat,IF(G$3=ESALCat,Design!$AH$34:$AQ$57))))","v":4},{"$f":"SUM(IF($A39=SoilCat,IF($B39=DrainCat,IF(H$3=ESALCat,Design!$AH$34:$AQ$57))))","v":4},{"$f":"SUM(IF($A39=SoilCat,IF($B39=DrainCat,IF(I$3=ESALCat,Design!$AH$34:$AQ$57))))","v":4},{"$f":"SUM(IF($A39=SoilCat,IF($B39=DrainCat,IF(J$3=ESALCat,Design!$AH$34:$AQ$57))))","v":4},{"$f":"SUM(IF($A39=SoilCat,IF($B39=DrainCat,IF(K$3=ESALCat,Design!$AH$34:$AQ$57))))","v":4},{"$f":"SUM(IF($A39=SoilCat,IF($B39=DrainCat,IF(L$3=ESALCat,Design!$AH$34:$AQ$57))))","v":4},{"$f":"SUM(IF($A39=SoilCat,IF($B39=DrainCat,IF(M$3=ESALCat,Design!$AH$34:$AQ$57))))","v":4},{"$f":"SUM(IF($A39=SoilCat,IF($B39=DrainCat,IF(N$3=ESALCat,Design!$AH$34:$AQ$57))))","v":4},{"$f":"SUM(IF($A39=SoilCat,IF($B39=DrainCat,IF(O$3=ESALCat,Design!$AH$34:$AQ$57))))","v":4}]
[3,"Poor",null,null,"Unbound Dense Graded Base",{"$f":"SUM(IF($A40=SoilCat,IF($B40=DrainCat,IF(F$3=ESALCat,Design!$BB$34:$BK$57))))","v":4},{"$f":"SUM(IF($A40=SoilCat,IF($B40=DrainCat,IF(G$3=ESALCat,Design!$BB$34:$BK$57))))","v":4},{"$f":"SUM(IF($A40=SoilCat,IF($B40=DrainCat,IF(H$3=ESALCat,Design!$BB$34:$BK$57))))","v":4},{"$f":"SUM(IF($A40=SoilCat,IF($B40=DrainCat,IF(I$3=ESALCat,Design!$BB$34:$BK$57))))","v":4},{"$f":"SUM(IF($A40=SoilCat,IF($B40=DrainCat,IF(J$3=ESALCat,Design!$BB$34:$BK$57))))","v":4},{"$f":"SUM(IF($A40=SoilCat,IF($B40=DrainCat,IF(K$3=ESALCat,Design!$BB$34:$BK$57))))","v":6},{"$f":"SUM(IF($A40=SoilCat,IF($B40=DrainCat,IF(L$3=ESALCat,Design!$BB$34:$BK$57))))","v":6},{"$f":"SUM(IF($A40=SoilCat,IF($B40=DrainCat,IF(M$3=ESALCat,Design!$BB$34:$BK$57))))","v":6},{"$f":"SUM(IF($A40=SoilCat,IF($B40=DrainCat,IF(N$3=ESALCat,Design!$BB$34:$BK$57))))","v":6},{"$f":"SUM(IF($A40=SoilCat,IF($B40=DrainCat,IF(O$3=ESALCat,Design!$BB$34:$BK$57))))","v":6}]
[3,"Poor",null,null,"Unbound Dense Graded Subbase",{"$f":"SUM(IF($A41=SoilCat,IF($B41=DrainCat,IF(F$3=ESALCat,Design!$BV$34:$CE$57))))","v":0},{"$f":"SUM(IF($A41=SoilCat,IF($B41=DrainCat,IF(G$3=ESALCat,Design!$BV$34:$CE$57))))","v":0},{"$f":"SUM(IF($A41=SoilCat,IF($B41=DrainCat,IF(H$3=ESALCat,Design!$BV$34:$CE$57))))","v":0},{"$f":"SUM(IF($A41=SoilCat,IF($B41=DrainCat,IF(I$3=ESALCat,Design!$BV$34:$CE$57))))","v":0},{"$f":"SUM(IF($A41=SoilCat,IF($B41=DrainCat,IF(J$3=ESALCat,Design!$BV$34:$CE$57))))","v":0},{"$f":"SUM(IF($A41=SoilCat,IF($B41=DrainCat,IF(K$3=ESALCat,Design!$BV$34:$CE$57))))","v":0},{"$f":"SUM(IF($A41=SoilCat,IF($B41=DrainCat,IF(L$3=ESALCat,Design!$BV$34:$CE$57))))","v":0},{"$f":"SUM(IF($A41=SoilCat,IF($B41=DrainCat,IF(M$3=ESALCat,Design!$BV$34:$CE$57))))","v":6},{"$f":"SUM(IF($A41=SoilCat,IF($B41=DrainCat,IF(N$3=ESALCat,Design!$BV$34:$CE$57))))","v":11},{"$f":"SUM(IF($A41=SoilCat,IF($B41=DrainCat,IF(O$3=ESALCat,Design!$BV$34:$CE$57))))","v":16}]
[4,"Good","Category 4","Good","Pavers and Bedding",{"$f":"SUM(IF($A42=SoilCat,IF($B42=DrainCat,IF(F$3=ESALCat,Design!$N$34:$W$57))))","v":4.125},{"$f":"SUM(IF($A42=SoilCat,IF($B42=DrainCat,IF(G$3=ESALCat,Design!$N$34:$W$57))))","v":4.125},{"$f":"SUM(IF($A42=SoilCat,IF($B42=DrainCat,IF(H$3=ESALCat,Design!$N$34:$W$57))))","v":4.125},{"$f":"SUM(IF($A42=SoilCat,IF($B42=DrainCat,IF(I$3=ESALCat,Design!$N$34:$W$57))))","v":4.125},{"$f":"SUM(IF($A42=SoilCat,IF($B42=DrainCat,IF(J$3=ESALCat,Design!$N$34:$W$57))))","v":4.125},{"$f":"SUM(IF($A42=SoilCat,IF($B42=DrainCat,IF(K$3=ESALCat,Design!$N$34:$W$57))))","v":4.125},{"$f":"SUM(IF($A42=SoilCat,IF($B42=DrainCat,IF(L$3=ESALCat,Design!$N$34:$W$57))))","v":4.125},{"$f":"SUM(IF($A42=SoilCat,IF($B42=DrainCat,IF(M$3=ESALCat,Design!$N$34:$W$57))))","v":4.125},{"$f":"SUM(IF($A42=SoilCat,IF($B42=DrainCat,IF(N$3=ESALCat,Design!$N$34:$W$57))))","v":4.125},{"$f":"SUM(IF($A42=SoilCat,IF($B42=DrainCat,IF(O$3=ESALCat,Design!$N$34:$W$57))))","v":4.125}]
[4,"Good",null,null,"Asphalt Treated Base",{"$f":"SUM(IF($A43=SoilCat,IF($B43=DrainCat,IF(F$3=ESALCat,Design!$AH$34:$AQ$57))))","v":4},{"$f":"SUM(IF($A43=SoilCat,IF($B43=DrainCat,IF(G$3=ESALCat,Design!$AH$34:$AQ$57))))","v":4},{"$f":"SUM(IF($A43=SoilCat,IF($B43=DrainCat,IF(H$3=ESALCat,Design!$AH$34:$AQ$57))))","v":4},{"$f":"SUM(IF($A43=SoilCat,IF($B43=DrainCat,IF(I$3=ESALCat,Design!$AH$34:$AQ$57))))","v":4},{"$f":"SUM(IF($A43=SoilCat,IF($B43=DrainCat,IF(J$3=ESALCat,Design!$AH$34:$AQ$57))))","v":4},{"$f":"SUM(IF($A43=SoilCat,IF($B43=DrainCat,IF(K$3=ESALCat,Design!$AH$34:$AQ$57))))","v":4},{"$f":"SUM(IF($A43=SoilCat,IF($B43=DrainCat,IF(L$3=ESALCat,Design!$AH$34:$AQ$57))))","v":4},{"$f":"SUM(IF($A43=SoilCat,IF($B43=DrainCat,IF(M$3=ESALCat,Design!$AH$34:$AQ$57))))","v":4},{"$f":"SUM(IF($A43=SoilCat,IF($B43=DrainCat,IF(N$3=ESALCat,Design!$AH$34:$AQ$57))))","v":4},{"$f":"SUM(IF($A43=SoilCat,IF($B43=DrainCat,IF(O$3=ESALCat,Design!$AH$34:$AQ$57))))","v":4}]
[4,"Good",null,null,"Unbound Dense Graded Base",{"$f":"SUM(IF($A44=SoilCat,IF($B44=DrainCat,IF(F$3=ESALCat,Design!$BB$34:$BK$57))))","v":4},{"$f":"SUM(IF($A44=SoilCat,IF($B44=DrainCat,IF(G$3=ESALCat,Design!$BB$34:$BK$57))))","v":4},{"$f":"SUM(IF($A44=SoilCat,IF($B44=DrainCat,IF(H$3=ESALCat,Design!$BB$34:$BK$57))))","v":4},{"$f":"SUM(IF($A44=SoilCat,IF($B44=DrainCat,IF(I$3=ESALCat,Design!$BB$34:$BK$57))))","v":4},{"$f":"SUM(IF($A44=SoilCat,IF($B44=DrainCat,IF(J$3=ESALCat,Design!$BB$34:$BK$57))))","v":4},{"$f":"SUM(IF($A44=SoilCat,IF($B44=DrainCat,IF(K$3=ESALCat,Design!$BB$34:$BK$57))))","v":6},{"$f":"SUM(IF($A44=SoilCat,IF($B44=DrainCat,IF(L$3=ESALCat,Design!$BB$34:$BK$57))))","v":6},{"$f":"SUM(IF($A44=SoilCat,IF($B44=DrainCat,IF(M$3=ESALCat,Design!$BB$34:$BK$57))))","v":6},{"$f":"SUM(IF($A44=SoilCat,IF($B44=DrainCat,IF(N$3=ESALCat,Design!$BB$34:$BK$57))))","v":8},{"$f":"SUM(IF($A44=SoilCat,IF($B44=DrainCat,IF(O$3=ESALCat,Design!$BB$34:$BK$57))))","v":6}]
[4,"Good",null,null,"Unbound Dense Graded Subbase",{"$f":"SUM(IF($A45=SoilCat,IF($B45=DrainCat,IF(F$3=ESALCat,Design!$BV$34:$CE$57))))","v":0},{"$f":"SUM(IF($A45=SoilCat,IF($B45=DrainCat,IF(G$3=ESALCat,Design!$BV$34:$CE$57))))","v":0},{"$f":"SUM(IF($A45=SoilCat,IF($B45=DrainCat,IF(H$3=ESALCat,Design!$BV$34:$CE$57))))","v":0},{"$f":"SUM(IF($A45=SoilCat,IF($B45=DrainCat,IF(I$3=ESALCat,Design!$BV$34:$CE$57))))","v":0},{"$f":"SUM(IF($A45=SoilCat,IF($B45=DrainCat,IF(J$3=ESALCat,Design!$BV$34:$CE$57))))","v":0},{"$f":"SUM(IF($A45=SoilCat,IF($B45=DrainCat,IF(K$3=ESALCat,Design!$BV$34:$CE$57))))","v":0},{"$f":"SUM(IF($A45=SoilCat,IF($B45=DrainCat,IF(L$3=ESALCat,Design!$BV$34:$CE$57))))","v":0},{"$f":"SUM(IF($A45=SoilCat,IF($B45=DrainCat,IF(M$3=ESALCat,Design!$BV$34:$CE$57))))","v":0},{"$f":"SUM(IF($A45=SoilCat,IF($B45=DrainCat,IF(N$3=ESALCat,Design!$BV$34:$CE$57))))","v":0},{"$f":"SUM(IF($A45=SoilCat,IF($B45=DrainCat,IF(O$3=ESALCat,Design!$BV$34:$CE$57))))","v":8}]
[4,"Fair",null,"Fair","Pavers and Bedding",{"$f":"SUM(IF($A46=SoilCat,IF($B46=DrainCat,IF(F$3=ESALCat,Design!$N$34:$W$57))))","v":4.125},{"$f":"SUM(IF($A46=SoilCat,IF($B46=DrainCat,IF(G$3=ESALCat,Design!$N$34:$W$57))))","v":4.125},{"$f":"SUM(IF($A46=SoilCat,IF($B46=DrainCat,IF(H$3=ESALCat,Design!$N$34:$W$57))))","v":4.125},{"$f":"SUM(IF($A46=SoilCat,IF($B46=DrainCat,IF(I$3=ESALCat,Design!$N$34:$W$57))))","v":4.125},{"$f":"SUM(IF($A46=SoilCat,IF($B46=DrainCat,IF(J$3=ESALCat,Design!$N$34:$W$57))))","v":4.125},{"$f":"SUM(IF($A46=SoilCat,IF($B46=DrainCat,IF(K$3=ESALCat,Design!$N$34:$W$57))))","v":4.125},{"$f":"SUM(IF($A46=SoilCat,IF($B46=DrainCat,IF(L$3=ESALCat,Design!$N$34:$W$57))))","v":4.125},{"$f":"SUM(IF($A46=SoilCat,IF($B46=DrainCat,IF(M$3=ESALCat,Design!$N$34:$W$57))))","v":4.125},{"$f":"SUM(IF($A46=SoilCat,IF($B46=DrainCat,IF(N$3=ESALCat,Design!$N$34:$W$57))))","v":4.125},{"$f":"SUM(IF($A46=SoilCat,IF($B46=DrainCat,IF(O$3=ESALCat,Design!$N$34:$W$57))))","v":4.125}]
[4,"Fair",null,null,"Asphalt Treated Base",{"$f":"SUM(IF($A47=SoilCat,IF($B47=DrainCat,IF(F$3=ESALCat,Design!$AH$34:$AQ$57))))","v":4},{"$f":"SUM(IF($A47=SoilCat,IF($B47=DrainCat,IF(G$3=ESALCat,Design!$AH$34:$AQ$57))))","v":4},{"$f":"SUM(IF($A47=SoilCat,IF($B47=DrainCat,IF(H$3=ESALCat,Design!$AH$34:$AQ$57))))","v":4},{"$f":"SUM(IF($A47=SoilCat,IF($B47=DrainCat,IF(I$3=ESALCat,Design!$AH$34:$AQ$57))))","v":4},{"$f":"SUM(IF($A47=SoilCat,IF($B47=DrainCat,IF(J$3=ESALCat,Design!$AH$34:$AQ$57))))","v":4},{"$f":"SUM(IF($A47=SoilCat,IF($B47=DrainCat,IF(K$3=ESALCat,Design!$AH$34:$AQ$57))))","v":4},{"$f":"SUM(IF($A47=SoilCat,IF($B47=DrainCat,IF(L$3=ESALCat,Design!$AH$34:$AQ$57))))","v":4},{"$f":"SUM(IF($A47=SoilCat,IF($B47=DrainCat,IF(M$3=ESALCat,Design!$AH$34:$AQ$57))))","v":4},{"$f":"SUM(IF($A47=SoilCat,IF($B47=DrainCat,IF(N$3=ESALCat,Design!$AH$34:$AQ$57))))","v":4},{"$f":"SUM(IF($A47=SoilCat,IF($B47=DrainCat,IF(O$3=ESALCat,Design!$AH$34:$AQ$57))))","v":4}]
[4,"Fair",null,null,"Unbound Dense Graded Base",{"$f":"SUM(IF($A48=SoilCat,IF($B48=DrainCat,IF(F$3=ESALCat,Design!$BB$34:$BK$57))))","v":4},{"$f":"SUM(IF($A48=SoilCat,IF($B48=DrainCat,IF(G$3=ESALCat,Design!$BB$34:$BK$57))))","v":4},{"$f":"SUM(IF($A48=SoilCat,IF($B48=DrainCat,IF(H$3=ESALCat,Design!$BB$34:$BK$57))))","v":4},{"$f":"SUM(IF($A48=SoilCat,IF($B48=DrainCat,IF(I$3=ESALCat,Design!$BB$34:$BK$57))))","v":4},{"$f":"SUM(IF($A48=SoilCat,IF($B48=DrainCat,IF(J$3=ESALCat,Design!$BB$34:$BK$57))))","v":4},{"$f":"SUM(IF($A48=SoilCat,IF($B48=DrainCat,IF(K$3=ESALCat,Design!$BB$34:$BK$57))))","v":6},{"$f":"SUM(IF($A48=SoilCat,IF($B48=DrainCat,IF(L$3=ESALCat,Design!$BB$34:$BK$57))))","v":6},{"$f":"SUM(IF($A48=SoilCat,IF($B48=DrainCat,IF(M$3=ESALCat,Design!$BB$34:$BK$57))))","v":6},{"$f":"SUM(IF($A48=SoilCat,IF($B48=DrainCat,IF(N$3=ESALCat,Design!$BB$34:$BK$57))))","v":6},{"$f":"SUM(IF($A48=SoilCat,IF($B48=DrainCat,IF(O$3=ESALCat,Design!$BB$34:$BK$57))))","v":6}]
[4,"Fair",null,null,"Unbound Dense Graded Subbase",{"$f":"SUM(IF($A49=SoilCat,IF($B49=DrainCat,IF(F$3=ESALCat,Design!$BV$34:$CE$57))))","v":0},{"$f":"SUM(IF($A49=SoilCat,IF($B49=DrainCat,IF(G$3=ESALCat,Design!$BV$34:$CE$57))))","v":0},{"$f":"SUM(IF($A49=SoilCat,IF($B49=DrainCat,IF(H$3=ESALCat,Design!$BV$34:$CE$57))))","v":0},{"$f":"SUM(IF($A49=SoilCat,IF($B49=DrainCat,IF(I$3=ESALCat,Design!$BV$34:$CE$57))))","v":0},{"$f":"SUM(IF($A49=SoilCat,IF($B49=DrainCat,IF(J$3=ESALCat,Design!$BV$34:$CE$57))))","v":0},{"$f":"SUM(IF($A49=SoilCat,IF($B49=DrainCat,IF(K$3=ESALCat,Design!$BV$34:$CE$57))))","v":0},{"$f":"SUM(IF($A49=SoilCat,IF($B49=DrainCat,IF(L$3=ESALCat,Design!$BV$34:$CE$57))))","v":0},{"$f":"SUM(IF($A49=SoilCat,IF($B49=DrainCat,IF(M$3=ESALCat,Design!$BV$34:$CE$57))))","v":6},{"$f":"SUM(IF($A49=SoilCat,IF($B49=DrainCat,IF(N$3=ESALCat,Design!$BV$34:$CE$57))))","v":11},{"$f":"SUM(IF($A49=SoilCat,IF($B49=DrainCat,IF(O$3=ESALCat,Design!$BV$34:$CE$57))))","v":16}]
[4,"Poor",null,"Poor","Pavers and Bedding",{"$f":"SUM(IF($A50=SoilCat,IF($B50=DrainCat,IF(F$3=ESALCat,Design!$N$34:$W$57))))","v":4.125},{"$f":"SUM(IF($A50=SoilCat,IF($B50=DrainCat,IF(G$3=ESALCat,Design!$N$34:$W$57))))","v":4.125},{"$f":"SUM(IF($A50=SoilCat,IF($B50=DrainCat,IF(H$3=ESALCat,Design!$N$34:$W$57))))","v":4.125},{"$f":"SUM(IF($A50=SoilCat,IF($B50=DrainCat,IF(I$3=ESALCat,Design!$N$34:$W$57))))","v":4.125},{"$f":"SUM(IF($A50=SoilCat,IF($B50=DrainCat,IF(J$3=ESALCat,Design!$N$34:$W$57))))","v":4.125},{"$f":"SUM(IF($A50=SoilCat,IF($B50=DrainCat,IF(K$3=ESALCat,Design!$N$34:$W$57))))","v":4.125},{"$f":"SUM(IF($A50=SoilCat,IF($B50=DrainCat,IF(L$3=ESALCat,Design!$N$34:$W$57))))","v":4.125},{"$f":"SUM(IF($A50=SoilCat,IF($B50=DrainCat,IF(M$3=ESALCat,Design!$N$34:$W$57))))","v":4.125},{"$f":"SUM(IF($A50=SoilCat,IF($B50=DrainCat,IF(N$3=ESALCat,Design!$N$34:$W$57))))","v":4.125},{"$f":"SUM(IF($A50=SoilCat,IF($B50=DrainCat,IF(O$3=ESALCat,Design!$N$34:$W$57))))","v":4.125}]
[4,"Poor",null,null,"Asphalt Treated Base",{"$f":"SUM(IF($A51=SoilCat,IF($B51=DrainCat,IF(F$3=ESALCat,Design!$AH$34:$AQ$57))))","v":4},{"$f":"SUM(IF($A51=SoilCat,IF($B51=DrainCat,IF(G$3=ESALCat,Design!$AH$34:$AQ$57))))","v":4},{"$f":"SUM(IF($A51=SoilCat,IF($B51=DrainCat,IF(H$3=ESALCat,Design!$AH$34:$AQ$57))))","v":4},{"$f":"SUM(IF($A51=SoilCat,IF($B51=DrainCat,IF(I$3=ESALCat,Design!$AH$34:$AQ$57))))","v":4},{"$f":"SUM(IF($A51=SoilCat,IF($B51=DrainCat,IF(J$3=ESALCat,Design!$AH$34:$AQ$57))))","v":4},{"$f":"SUM(IF($A51=SoilCat,IF($B51=DrainCat,IF(K$3=ESALCat,Design!$AH$34:$AQ$57))))","v":4},{"$f":"SUM(IF($A51=SoilCat,IF($B51=DrainCat,IF(L$3=ESALCat,Design!$AH$34:$AQ$57))))","v":4},{"$f":"SUM(IF($A51=SoilCat,IF($B51=DrainCat,IF(M$3=ESALCat,Design!$AH$34:$AQ$57))))","v":4},{"$f":"SUM(IF($A51=SoilCat,IF($B51=DrainCat,IF(N$3=ESALCat,Design!$AH$34:$AQ$57))))","v":4},{"$f":"SUM(IF($A51=SoilCat,IF($B51=DrainCat,IF(O$3=ESALCat,Design!$AH$34:$AQ$57))))","v":4}]
[4,"Poor",null,null,"Unbound Dense Graded Base",{"$f":"SUM(IF($A52=SoilCat,IF($B52=DrainCat,IF(F$3=ESALCat,Design!$BB$34:$BK$57))))","v":4},{"$f":"SUM(IF($A52=SoilCat,IF($B52=DrainCat,IF(G$3=ESALCat,Design!$BB$34:$BK$57))))","v":4},{"$f":"SUM(IF($A52=SoilCat,IF($B52=DrainCat,IF(H$3=ESALCat,Design!$BB$34:$BK$57))))","v":4},{"$f":"SUM(IF($A52=SoilCat,IF($B52=DrainCat,IF(I$3=ESALCat,Design!$BB$34:$BK$57))))","v":4},{"$f":"SUM(IF($A52=SoilCat,IF($B52=DrainCat,IF(J$3=ESALCat,Design!$BB$34:$BK$57))))","v":4},{"$f":"SUM(IF($A52=SoilCat,IF($B52=DrainCat,IF(K$3=ESALCat,Design!$BB$34:$BK$57))))","v":6},{"$f":"SUM(IF($A52=SoilCat,IF($B52=DrainCat,IF(L$3=ESALCat,Design!$BB$34:$BK$57))))","v":7},{"$f":"SUM(IF($A52=SoilCat,IF($B52=DrainCat,IF(M$3=ESALCat,Design!$BB$34:$BK$57))))","v":6},{"$f":"SUM(IF($A52=SoilCat,IF($B52=DrainCat,IF(N$3=ESALCat,Design!$BB$34:$BK$57))))","v":6},{"$f":"SUM(IF($A52=SoilCat,IF($B52=DrainCat,IF(O$3=ESALCat,Design!$BB$34:$BK$57))))","v":6}]
[4,"Poor",null,null,"Unbound Dense Graded Subbase",{"$f":"SUM(IF($A53=SoilCat,IF($B53=DrainCat,IF(F$3=ESALCat,Design!$BV$34:$CE$57))))","v":0},{"$f":"SUM(IF($A53=SoilCat,IF($B53=DrainCat,IF(G$3=ESALCat,Design!$BV$34:$CE$57))))","v":0},{"$f":"SUM(IF($A53=SoilCat,IF($B53=DrainCat,IF(H$3=ESALCat,Design!$BV$34:$CE$57))))","v":0},{"$f":"SUM(IF($A53=SoilCat,IF($B53=DrainCat,IF(I$3=ESALCat,Design!$BV$34:$CE$57))))","v":0},{"$f":"SUM(IF($A53=SoilCat,IF($B53=DrainCat,IF(J$3=ESALCat,Design!$BV$34:$CE$57))))","v":0},{"$f":"SUM(IF($A53=SoilCat,IF($B53=DrainCat,IF(K$3=ESALCat,Design!$BV$34:$CE$57))))","v":0},{"$f":"SUM(IF($A53=SoilCat,IF($B53=DrainCat,IF(L$3=ESALCat,Design!$BV$34:$CE$57))))","v":0},{"$f":"SUM(IF($A53=SoilCat,IF($B53=DrainCat,IF(M$3=ESALCat,Design!$BV$34:$CE$57))))","v":6},{"$f":"SUM(IF($A53=SoilCat,IF($B53=DrainCat,IF(N$3=ESALCat,Design!$BV$34:$CE$57))))","v":13},{"$f":"SUM(IF($A53=SoilCat,IF($B53=DrainCat,IF(O$3=ESALCat,Design!$BV$34:$CE$57))))","v":18}]
[5,"Good","Category 5","Good","Pavers and Bedding",{"$f":"SUM(IF($A54=SoilCat,IF($B54=DrainCat,IF(F$3=ESALCat,Design!$N$34:$W$57))))","v":4.125},{"$f":"SUM(IF($A54=SoilCat,IF($B54=DrainCat,IF(G$3=ESALCat,Design!$N$34:$W$57))))","v":4.125},{"$f":"SUM(IF($A54=SoilCat,IF($B54=DrainCat,IF(H$3=ESALCat,Design!$N$34:$W$57))))","v":4.125},{"$f":"SUM(IF($A54=SoilCat,IF($B54=DrainCat,IF(I$3=ESALCat,Design!$N$34:$W$57))))","v":4.125},{"$f":"SUM(IF($A54=SoilCat,IF($B54=DrainCat,IF(J$3=ESALCat,Design!$N$34:$W$57))))","v":4.125},{"$f":"SUM(IF($A54=SoilCat,IF($B54=DrainCat,IF(K$3=ESALCat,Design!$N$34:$W$57))))","v":4.125},{"$f":"SUM(IF($A54=SoilCat,IF($B54=DrainCat,IF(L$3=ESALCat,Design!$N$34:$W$57))))","v":4.125},{"$f":"SUM(IF($A54=SoilCat,IF($B54=DrainCat,IF(M$3=ESALCat,Design!$N$34:$W$57))))","v":4.125},{"$f":"SUM(IF($A54=SoilCat,IF($B54=DrainCat,IF(N$3=ESALCat,Design!$N$34:$W$57))))","v":4.125},{"$f":"SUM(IF($A54=SoilCat,IF($B54=DrainCat,IF(O$3=ESALCat,Design!$N$34:$W$57))))","v":4.125}]
[5,"Good",null,null,"Asphalt Treated Base",{"$f":"SUM(IF($A55=SoilCat,IF($B55=DrainCat,IF(F$3=ESALCat,Design!$AH$34:$AQ$57))))","v":4},{"$f":"SUM(IF($A55=SoilCat,IF($B55=DrainCat,IF(G$3=ESALCat,Design!$AH$34:$AQ$57))))","v":4},{"$f":"SUM(IF($A55=SoilCat,IF($B55=DrainCat,IF(H$3=ESALCat,Design!$AH$34:$AQ$57))))","v":4},{"$f":"SUM(IF($A55=SoilCat,IF($B55=DrainCat,IF(I$3=ESALCat,Design!$AH$34:$AQ$57))))","v":4},{"$f":"SUM(IF($A55=SoilCat,IF($B55=DrainCat,IF(J$3=ESALCat,Design!$AH$34:$AQ$57))))","v":4},{"$f":"SUM(IF($A55=SoilCat,IF($B55=DrainCat,IF(K$3=ESALCat,Design!$AH$34:$AQ$57))))","v":4},{"$f":"SUM(IF($A55=SoilCat,IF($B55=DrainCat,IF(L$3=ESALCat,Design!$AH$34:$AQ$57))))","v":4},{"$f":"SUM(IF($A55=SoilCat,IF($B55=DrainCat,IF(M$3=ESALCat,Design!$AH$34:$AQ$57))))","v":4},{"$f":"SUM(IF($A55=SoilCat,IF($B55=DrainCat,IF(N$3=ESALCat,Design!$AH$34:$AQ$57))))","v":4},{"$f":"SUM(IF($A55=SoilCat,IF($B55=DrainCat,IF(O$3=ESALCat,Design!$AH$34:$AQ$57))))","v":4}]
[5,"Good",null,null,"Unbound Dense Graded Base",{"$f":"SUM(IF($A56=SoilCat,IF($B56=DrainCat,IF(F$3=ESALCat,Design!$BB$34:$BK$57))))","v":4},{"$f":"SUM(IF($A56=SoilCat,IF($B56=DrainCat,IF(G$3=ESALCat,Design!$BB$34:$BK$57))))","v":4},{"$f":"SUM(IF($A56=SoilCat,IF($B56=DrainCat,IF(H$3=ESALCat,Design!$BB$34:$BK$57))))","v":4},{"$f":"SUM(IF($A56=SoilCat,IF($B56=DrainCat,IF(I$3=ESALCat,Design!$BB$34:$BK$57))))","v":4},{"$f":"SUM(IF($A56=SoilCat,IF($B56=DrainCat,IF(J$3=ESALCat,Design!$BB$34:$BK$57))))","v":4},{"$f":"SUM(IF($A56=SoilCat,IF($B56=DrainCat,IF(K$3=ESALCat,Design!$BB$34:$BK$57))))","v":6},{"$f":"SUM(IF($A56=SoilCat,IF($B56=DrainCat,IF(L$3=ESALCat,Design!$BB$34:$BK$57))))","v":6},{"$f":"SUM(IF($A56=SoilCat,IF($B56=DrainCat,IF(M$3=ESALCat,Design!$BB$34:$BK$57))))","v":7},{"$f":"SUM(IF($A56=SoilCat,IF($B56=DrainCat,IF(N$3=ESALCat,Design!$BB$34:$BK$57))))","v":6},{"$f":"SUM(IF($A56=SoilCat,IF($B56=DrainCat,IF(O$3=ESALCat,Design!$BB$34:$BK$57))))","v":6}]
[5,"Good",null,null,"Unbound Dense Graded Subbase",{"$f":"SUM(IF($A57=SoilCat,IF($B57=DrainCat,IF(F$3=ESALCat,Design!$BV$34:$CE$57))))","v":0},{"$f":"SUM(IF($A57=SoilCat,IF($B57=DrainCat,IF(G$3=ESALCat,Design!$BV$34:$CE$57))))","v":0},{"$f":"SUM(IF($A57=SoilCat,IF($B57=DrainCat,IF(H$3=ESALCat,Design!$BV$34:$CE$57))))","v":0},{"$f":"SUM(IF($A57=SoilCat,IF($B57=DrainCat,IF(I$3=ESALCat,Design!$BV$34:$CE$57))))","v":0},{"$f":"SUM(IF($A57=SoilCat,IF($B57=DrainCat,IF(J$3=ESALCat,Design!$BV$34:$CE$57))))","v":0},{"$f":"SUM(IF($A57=SoilCat,IF($B57=DrainCat,IF(K$3=ESALCat,Design!$BV$34:$CE$57))))","v":0},{"$f":"SUM(IF($A57=SoilCat,IF($B57=DrainCat,IF(L$3=ESALCat,Design!$BV$34:$CE$57))))","v":0},{"$f":"SUM(IF($A57=SoilCat,IF($B57=DrainCat,IF(M$3=ESALCat,Design!$BV$34:$CE$57))))","v":0},{"$f":"SUM(IF($A57=SoilCat,IF($B57=DrainCat,IF(N$3=ESALCat,Design!$BV$34:$CE$57))))","v":7},{"$f":"SUM(IF($A57=SoilCat,IF($B57=DrainCat,IF(O$3=ESALCat,Design!$BV$34:$CE$57))))","v":13}]
[5,"Fair",null,"Fair","Pavers and Bedding",{"$f":"SUM(IF($A58=SoilCat,IF($B58=DrainCat,IF(F$3=ESALCat,Design!$N$34:$W$57))))","v":4.125},{"$f":"SUM(IF($A58=SoilCat,IF($B58=DrainCat,IF(G$3=ESALCat,Design!$N$34:$W$57))))","v":4.125},{"$f":"SUM(IF($A58=SoilCat,IF($B58=DrainCat,IF(H$3=ESALCat,Design!$N$34:$W$57))))","v":4.125},{"$f":"SUM(IF($A58=SoilCat,IF($B58=DrainCat,IF(I$3=ESALCat,Design!$N$34:$W$57))))","v":4.125},{"$f":"SUM(IF($A58=SoilCat,IF($B58=DrainCat,IF(J$3=ESALCat,Design!$N$34:$W$57))))","v":4.125},{"$f":"SUM(IF($A58=SoilCat,IF($B58=DrainCat,IF(K$3=ESALCat,Design!$N$34:$W$57))))","v":4.125},{"$f":"SUM(IF($A58=SoilCat,IF($B58=DrainCat,IF(L$3=ESALCat,Design!$N$34:$W$57))))","v":4.125},{"$f":"SUM(IF($A58=SoilCat,IF($B58=DrainCat,IF(M$3=ESALCat,Design!$N$34:$W$57))))","v":4.125},{"$f":"SUM(IF($A58=SoilCat,IF($B58=DrainCat,IF(N$3=ESALCat,Design!$N$34:$W$57))))","v":4.125},{"$f":"SUM(IF($A58=SoilCat,IF($B58=DrainCat,IF(O$3=ESALCat,Design!$N$34:$W$57))))","v":4.125}]
[5,"Fair",null,null,"Asphalt Treated Base",{"$f":"SUM(IF($A59=SoilCat,IF($B59=DrainCat,IF(F$3=ESALCat,Design!$AH$34:$AQ$57))))","v":4},{"$f":"SUM(IF($A59=SoilCat,IF($B59=DrainCat,IF(G$3=ESALCat,Design!$AH$34:$AQ$57))))","v":4},{"$f":"SUM(IF($A59=SoilCat,IF($B59=DrainCat,IF(H$3=ESALCat,Design!$AH$34:$AQ$57))))","v":4},{"$f":"SUM(IF($A59=SoilCat,IF($B59=DrainCat,IF(I$3=ESALCat,Design!$AH$34:$AQ$57))))","v":4},{"$f":"SUM(IF($A59=SoilCat,IF($B59=DrainCat,IF(J$3=ESALCat,Design!$AH$34:$AQ$57))))","v":4},{"$f":"SUM(IF($A59=SoilCat,IF($B59=DrainCat,IF(K$3=ESALCat,Design!$AH$34:$AQ$57))))","v":4},{"$f":"SUM(IF($A59=SoilCat,IF($B59=DrainCat,IF(L$3=ESALCat,Design!$AH$34:$AQ$57))))","v":4},{"$f":"SUM(IF($A59=SoilCat,IF($B59=DrainCat,IF(M$3=ESALCat,Design!$AH$34:$AQ$57))))","v":4},{"$f":"SUM(IF($A59=SoilCat,IF($B59=DrainCat,IF(N$3=ESALCat,Design!$AH$34:$AQ$57))))","v":4},{"$f":"SUM(IF($A59=SoilCat,IF($B59=DrainCat,IF(O$3=ESALCat,Design!$AH$34:$AQ$57))))","v":4}]
[5,"Fair",null,null,"Unbound Dense Graded Base",{"$f":"SUM(IF($A60=SoilCat,IF($B60=DrainCat,IF(F$3=ESALCat,Design!$BB$34:$BK$57))))","v":4},{"$f":"SUM(IF($A60=SoilCat,IF($B60=DrainCat,IF(G$3=ESALCat,Design!$BB$34:$BK$57))))","v":4},{"$f":"SUM(IF($A60=SoilCat,IF($B60=DrainCat,IF(H$3=ESALCat,Design!$BB$34:$BK$57))))","v":4},{"$f":"SUM(IF($A60=SoilCat,IF($B60=DrainCat,IF(I$3=ESALCat,Design!$BB$34:$BK$57))))","v":4},{"$f":"SUM(IF($A60=SoilCat,IF($B60=DrainCat,IF(J$3=ESALCat,Design!$BB$34:$BK$57))))","v":4},{"$f":"SUM(IF($A60=SoilCat,IF($B60=DrainCat,IF(K$3=ESALCat,Design!$BB$34:$BK$57))))","v":6},{"$f":"SUM(IF($A60=SoilCat,IF($B60=DrainCat,IF(L$3=ESALCat,Design!$BB$34:$BK$57))))","v":7},{"$f":"SUM(IF($A60=SoilCat,IF($B60=DrainCat,IF(M$3=ESALCat,Design!$BB$34:$BK$57))))","v":6},{"$f":"SUM(IF($A60=SoilCat,IF($B60=DrainCat,IF(N$3=ESALCat,Design!$BB$34:$BK$57))))","v":6},{"$f":"SUM(IF($A60=SoilCat,IF($B60=DrainCat,IF(O$3=ESALCat,Design!$BB$34:$BK$57))))","v":6}]
[5,"Fair",null,null,"Unbound Dense Graded Subbase",{"$f":"SUM(IF($A61=SoilCat,IF($B61=DrainCat,IF(F$3=ESALCat,Design!$BV$34:$CE$57))))","v":0},{"$f":"SUM(IF($A61=SoilCat,IF($B61=DrainCat,IF(G$3=ESALCat,Design!$BV$34:$CE$57))))","v":0},{"$f":"SUM(IF($A61=SoilCat,IF($B61=DrainCat,IF(H$3=ESALCat,Design!$BV$34:$CE$57))))","v":0},{"$f":"SUM(IF($A61=SoilCat,IF($B61=DrainCat,IF(I$3=ESALCat,Design!$BV$34:$CE$57))))","v":0},{"$f":"SUM(IF($A61=SoilCat,IF($B61=DrainCat,IF(J$3=ESALCat,Design!$BV$34:$CE$57))))","v":0},{"$f":"SUM(IF($A61=SoilCat,IF($B61=DrainCat,IF(K$3=ESALCat,Design!$BV$34:$CE$57))))","v":0},{"$f":"SUM(IF($A61=SoilCat,IF($B61=DrainCat,IF(L$3=ESALCat,Design!$BV$34:$CE$57))))","v":0},{"$f":"SUM(IF($A61=SoilCat,IF($B61=DrainCat,IF(M$3=ESALCat,Design!$BV$34:$CE$57))))","v":6},{"$f":"SUM(IF($A61=SoilCat,IF($B61=DrainCat,IF(N$3=ESALCat,Design!$BV$34:$CE$57))))","v":13},{"$f":"SUM(IF($A61=SoilCat,IF($B61=DrainCat,IF(O$3=ESALCat,Design!$BV$34:$CE$57))))","v":18}]
[5,"Poor",null,"Poor","Pavers and Bedding",{"$f":"SUM(IF($A62=SoilCat,IF($B62=DrainCat,IF(F$3=ESALCat,Design!$N$34:$W$57))))","v":4.125},{"$f":"SUM(IF($A62=SoilCat,IF($B62=DrainCat,IF(G$3=ESALCat,Design!$N$34:$W$57))))","v":4.125},{"$f":"SUM(IF($A62=SoilCat,IF($B62=DrainCat,IF(H$3=ESALCat,Design!$N$34:$W$57))))","v":4.125},{"$f":"SUM(IF($A62=SoilCat,IF($B62=DrainCat,IF(I$3=ESALCat,Design!$N$34:$W$57))))","v":4.125},{"$f":"SUM(IF($A62=SoilCat,IF($B62=DrainCat,IF(J$3=ESALCat,Design!$N$34:$W$57))))","v":4.125},{"$f":"SUM(IF($A62=SoilCat,IF($B62=DrainCat,IF(K$3=ESALCat,Design!$N$34:$W$57))))","v":4.125},{"$f":"SUM(IF($A62=SoilCat,IF($B62=DrainCat,IF(L$3=ESALCat,Design!$N$34:$W$57))))","v":4.125},{"$f":"SUM(IF($A62=SoilCat,IF($B62=DrainCat,IF(M$3=ESALCat,Design!$N$34:$W$57))))","v":4.125},{"$f":"SUM(IF($A62=SoilCat,IF($B62=DrainCat,IF(N$3=ESALCat,Design!$N$34:$W$57))))","v":4.125},{"$f":"SUM(IF($A62=SoilCat,IF($B62=DrainCat,IF(O$3=ESALCat,Design!$N$34:$W$57))))","v":4.125}]
[5,"Poor",null,null,"Asphalt Treated Base",{"$f":"SUM(IF($A63=SoilCat,IF($B63=DrainCat,IF(F$3=ESALCat,Design!$AH$34:$AQ$57))))","v":4},{"$f":"SUM(IF($A63=SoilCat,IF($B63=DrainCat,IF(G$3=ESALCat,Design!$AH$34:$AQ$57))))","v":4},{"$f":"SUM(IF($A63=SoilCat,IF($B63=DrainCat,IF(H$3=ESALCat,Design!$AH$34:$AQ$57))))","v":4},{"$f":"SUM(IF($A63=SoilCat,IF($B63=DrainCat,IF(I$3=ESALCat,Design!$AH$34:$AQ$57))))","v":4},{"$f":"SUM(IF($A63=SoilCat,IF($B63=DrainCat,IF(J$3=ESALCat,Design!$AH$34:$AQ$57))))","v":4},{"$f":"SUM(IF($A63=SoilCat,IF($B63=DrainCat,IF(K$3=ESALCat,Design!$AH$34:$AQ$57))))","v":4},{"$f":"SUM(IF($A63=SoilCat,IF($B63=DrainCat,IF(L$3=ESALCat,Design!$AH$34:$AQ$57))))","v":4},{"$f":"SUM(IF($A63=SoilCat,IF($B63=DrainCat,IF(M$3=ESALCat,Design!$AH$34:$AQ$57))))","v":4},{"$f":"SUM(IF($A63=SoilCat,IF($B63=DrainCat,IF(N$3=ESALCat,Design!$AH$34:$AQ$57))))","v":4},{"$f":"SUM(IF($A63=SoilCat,IF($B63=DrainCat,IF(O$3=ESALCat,Design!$AH$34:$AQ$57))))","v":4}]
[5,"Poor",null,null,"Unbound Dense Graded Base",{"$f":"SUM(IF($A64=SoilCat,IF($B64=DrainCat,IF(F$3=ESALCat,Design!$BB$34:$BK$57))))","v":4},{"$f":"SUM(IF($A64=SoilCat,IF($B64=DrainCat,IF(G$3=ESALCat,Design!$BB$34:$BK$57))))","v":4},{"$f":"SUM(IF($A64=SoilCat,IF($B64=DrainCat,IF(H$3=ESALCat,Design!$BB$34:$BK$57))))","v":4},{"$f":"SUM(IF($A64=SoilCat,IF($B64=DrainCat,IF(I$3=ESALCat,Design!$BB$34:$BK$57))))","v":4},{"$f":"SUM(IF($A64=SoilCat,IF($B64=DrainCat,IF(J$3=ESALCat,Design!$BB$34:$BK$57))))","v":4},{"$f":"SUM(IF($A64=SoilCat,IF($B64=DrainCat,IF(K$3=ESALCat,Design!$BB$34:$BK$57))))","v":6},{"$f":"SUM(IF($A64=SoilCat,IF($B64=DrainCat,IF(L$3=ESALCat,Design!$BB$34:$BK$57))))","v":6},{"$f":"SUM(IF($A64=SoilCat,IF($B64=DrainCat,IF(M$3=ESALCat,Design!$BB$34:$BK$57))))","v":6},{"$f":"SUM(IF($A64=SoilCat,IF($B64=DrainCat,IF(N$3=ESALCat,Design!$BB$34:$BK$57))))","v":6},{"$f":"SUM(IF($A64=SoilCat,IF($B64=DrainCat,IF(O$3=ESALCat,Design!$BB$34:$BK$57))))","v":6}]
[5,"Poor",null,null,"Unbound Dense Graded Subbase",{"$f":"SUM(IF($A65=SoilCat,IF($B65=DrainCat,IF(F$3=ESALCat,Design!$BV$34:$CE$57))))","v":0},{"$f":"SUM(IF($A65=SoilCat,IF($B65=DrainCat,IF(G$3=ESALCat,Design!$BV$34:$CE$57))))","v":0},{"$f":"SUM(IF($A65=SoilCat,IF($B65=DrainCat,IF(H$3=ESALCat,Design!$BV$34:$CE$57))))","v":0},{"$f":"SUM(IF($A65=SoilCat,IF($B65=DrainCat,IF(I$3=ESALCat,Design!$BV$34:$CE$57))))","v":0},{"$f":"SUM(IF($A65=SoilCat,IF($B65=DrainCat,IF(J$3=ESALCat,Design!$BV$34:$CE$57))))","v":0},{"$f":"SUM(IF($A65=SoilCat,IF($B65=DrainCat,IF(K$3=ESALCat,Design!$BV$34:$CE$57))))","v":0},{"$f":"SUM(IF($A65=SoilCat,IF($B65=DrainCat,IF(L$3=ESALCat,Design!$BV$34:$CE$57))))","v":6},{"$f":"SUM(IF($A65=SoilCat,IF($B65=DrainCat,IF(M$3=ESALCat,Design!$BV$34:$CE$57))))","v":10},{"$f":"SUM(IF($A65=SoilCat,IF($B65=DrainCat,IF(N$3=ESALCat,Design!$BV$34:$CE$57))))","v":17},{"$f":"SUM(IF($A65=SoilCat,IF($B65=DrainCat,IF(O$3=ESALCat,Design!$BV$34:$CE$57))))","v":23}]
[6,"Good","Category 6","Good","Pavers and Bedding",{"$f":"SUM(IF($A66=SoilCat,IF($B66=DrainCat,IF(F$3=ESALCat,Design!$N$34:$W$57))))","v":4.125},{"$f":"SUM(IF($A66=SoilCat,IF($B66=DrainCat,IF(G$3=ESALCat,Design!$N$34:$W$57))))","v":4.125},{"$f":"SUM(IF($A66=SoilCat,IF($B66=DrainCat,IF(H$3=ESALCat,Design!$N$34:$W$57))))","v":4.125},{"$f":"SUM(IF($A66=SoilCat,IF($B66=DrainCat,IF(I$3=ESALCat,Design!$N$34:$W$57))))","v":4.125},{"$f":"SUM(IF($A66=SoilCat,IF($B66=DrainCat,IF(J$3=ESALCat,Design!$N$34:$W$57))))","v":4.125},{"$f":"SUM(IF($A66=SoilCat,IF($B66=DrainCat,IF(K$3=ESALCat,Design!$N$34:$W$57))))","v":4.125},{"$f":"SUM(IF($A66=SoilCat,IF($B66=DrainCat,IF(L$3=ESALCat,Design!$N$34:$W$57))))","v":4.125},{"$f":"SUM(IF($A66=SoilCat,IF($B66=DrainCat,IF(M$3=ESALCat,Design!$N$34:$W$57))))","v":4.125},{"$f":"SUM(IF($A66=SoilCat,IF($B66=DrainCat,IF(N$3=ESALCat,Design!$N$34:$W$57))))","v":4.125},{"$f":"SUM(IF($A66=SoilCat,IF($B66=DrainCat,IF(O$3=ESALCat,Design!$N$34:$W$57))))","v":4.125}]
[6,"Good",null,null,"Asphalt Treated Base",{"$f":"SUM(IF($A67=SoilCat,IF($B67=DrainCat,IF(F$3=ESALCat,Design!$AH$34:$AQ$57))))","v":4},{"$f":"SUM(IF($A67=SoilCat,IF($B67=DrainCat,IF(G$3=ESALCat,Design!$AH$34:$AQ$57))))","v":4},{"$f":"SUM(IF($A67=SoilCat,IF($B67=DrainCat,IF(H$3=ESALCat,Design!$AH$34:$AQ$57))))","v":4},{"$f":"SUM(IF($A67=SoilCat,IF($B67=DrainCat,IF(I$3=ESALCat,Design!$AH$34:$AQ$57))))","v":4},{"$f":"SUM(IF($A67=SoilCat,IF($B67=DrainCat,IF(J$3=ESALCat,Design!$AH$34:$AQ$57))))","v":4},{"$f":"SUM(IF($A67=SoilCat,IF($B67=DrainCat,IF(K$3=ESALCat,Design!$AH$34:$AQ$57))))","v":4},{"$f":"SUM(IF($A67=SoilCat,IF($B67=DrainCat,IF(L$3=ESALCat,Design!$AH$34:$AQ$57))))","v":4},{"$f":"SUM(IF($A67=SoilCat,IF($B67=DrainCat,IF(M$3=ESALCat,Design!$AH$34:$AQ$57))))","v":4},{"$f":"SUM(IF($A67=SoilCat,IF($B67=DrainCat,IF(N$3=ESALCat,Design!$AH$34:$AQ$57))))","v":4},{"$f":"SUM(IF($A67=SoilCat,IF($B67=DrainCat,IF(O$3=ESALCat,Design!$AH$34:$AQ$57))))","v":4}]
[6,"Good",null,null,"Unbound Dense Graded Base",{"$f":"SUM(IF($A68=SoilCat,IF($B68=DrainCat,IF(F$3=ESALCat,Design!$BB$34:$BK$57))))","v":4},{"$f":"SUM(IF($A68=SoilCat,IF($B68=DrainCat,IF(G$3=ESALCat,Design!$BB$34:$BK$57))))","v":4},{"$f":"SUM(IF($A68=SoilCat,IF($B68=DrainCat,IF(H$3=ESALCat,Design!$BB$34:$BK$57))))","v":4},{"$f":"SUM(IF($A68=SoilCat,IF($B68=DrainCat,IF(I$3=ESALCat,Design!$BB$34:$BK$57))))","v":4},{"$f":"SUM(IF($A68=SoilCat,IF($B68=DrainCat,IF(J$3=ESALCat,Design!$BB$34:$BK$57))))","v":4},{"$f":"SUM(IF($A68=SoilCat,IF($B68=DrainCat,IF(K$3=ESALCat,Design!$BB$34:$BK$57))))","v":6},{"$f":"SUM(IF($A68=SoilCat,IF($B68=DrainCat,IF(L$3=ESALCat,Design!$BB$34:$BK$57))))","v":6},{"$f":"SUM(IF($A68=SoilCat,IF($B68=DrainCat,IF(M$3=ESALCat,Design!$BB$34:$BK$57))))","v":6},{"$f":"SUM(IF($A68=SoilCat,IF($B68=DrainCat,IF(N$3=ESALCat,Design!$BB$34:$BK$57))))","v":6},{"$f":"SUM(IF($A68=SoilCat,IF($B68=DrainCat,IF(O$3=ESALCat,Design!$BB$34:$BK$57))))","v":6}]
[6,"Good",null,null,"Unbound Dense Graded Subbase",{"$f":"SUM(IF($A69=SoilCat,IF($B69=DrainCat,IF(F$3=ESALCat,Design!$BV$34:$CE$57))))","v":0},{"$f":"SUM(IF($A69=SoilCat,IF($B69=DrainCat,IF(G$3=ESALCat,Design!$BV$34:$CE$57))))","v":0},{"$f":"SUM(IF($A69=SoilCat,IF($B69=DrainCat,IF(H$3=ESALCat,Design!$BV$34:$CE$57))))","v":0},{"$f":"SUM(IF($A69=SoilCat,IF($B69=DrainCat,IF(I$3=ESALCat,Design!$BV$34:$CE$57))))","v":0},{"$f":"SUM(IF($A69=SoilCat,IF($B69=DrainCat,IF(J$3=ESALCat,Design!$BV$34:$CE$57))))","v":0},{"$f":"SUM(IF($A69=SoilCat,IF($B69=DrainCat,IF(K$3=ESALCat,Design!$BV$34:$CE$57))))","v":0},{"$f":"SUM(IF($A69=SoilCat,IF($B69=DrainCat,IF(L$3=ESALCat,Design!$BV$34:$CE$57))))","v":0},{"$f":"SUM(IF($A69=SoilCat,IF($B69=DrainCat,IF(M$3=ESALCat,Design!$BV$34:$CE$57))))","v":6},{"$f":"SUM(IF($A69=SoilCat,IF($B69=DrainCat,IF(N$3=ESALCat,Design!$BV$34:$CE$57))))","v":11},{"$f":"SUM(IF($A69=SoilCat,IF($B69=DrainCat,IF(O$3=ESALCat,Design!$BV$34:$CE$57))))","v":16}]
[6,"Fair",null,"Fair","Pavers and Bedding",{"$f":"SUM(IF($A70=SoilCat,IF($B70=DrainCat,IF(F$3=ESALCat,Design!$N$34:$W$57))))","v":4.125},{"$f":"SUM(IF($A70=SoilCat,IF($B70=DrainCat,IF(G$3=ESALCat,Design!$N$34:$W$57))))","v":4.125},{"$f":"SUM(IF($A70=SoilCat,IF($B70=DrainCat,IF(H$3=ESALCat,Design!$N$34:$W$57))))","v":4.125},{"$f":"SUM(IF($A70=SoilCat,IF($B70=DrainCat,IF(I$3=ESALCat,Design!$N$34:$W$57))))","v":4.125},{"$f":"SUM(IF($A70=SoilCat,IF($B70=DrainCat,IF(J$3=ESALCat,Design!$N$34:$W$57))))","v":4.125},{"$f":"SUM(IF($A70=SoilCat,IF($B70=DrainCat,IF(K$3=ESALCat,Design!$N$34:$W$57))))","v":4.125},{"$f":"SUM(IF($A70=SoilCat,IF($B70=DrainCat,IF(L$3=ESALCat,Design!$N$34:$W$57))))","v":4.125},{"$f":"SUM(IF($A70=SoilCat,IF($B70=DrainCat,IF(M$3=ESALCat,Design!$N$34:$W$57))))","v":4.125},{"$f":"SUM(IF($A70=SoilCat,IF($B70=DrainCat,IF(N$3=ESALCat,Design!$N$34:$W$57))))","v":4.125},{"$f":"SUM(IF($A70=SoilCat,IF($B70=DrainCat,IF(O$3=ESALCat,Design!$N$34:$W$57))))","v":4.125}]
[6,"Fair",null,null,"Asphalt Treated Base",{"$f":"SUM(IF($A71=SoilCat,IF($B71=DrainCat,IF(F$3=ESALCat,Design!$AH$34:$AQ$57))))","v":4},{"$f":"SUM(IF($A71=SoilCat,IF($B71=DrainCat,IF(G$3=ESALCat,Design!$AH$34:$AQ$57))))","v":4},{"$f":"SUM(IF($A71=SoilCat,IF($B71=DrainCat,IF(H$3=ESALCat,Design!$AH$34:$AQ$57))))","v":4},{"$f":"SUM(IF($A71=SoilCat,IF($B71=DrainCat,IF(I$3=ESALCat,Design!$AH$34:$AQ$57))))","v":4},{"$f":"SUM(IF($A71=SoilCat,IF($B71=DrainCat,IF(J$3=ESALCat,Design!$AH$34:$AQ$57))))","v":4},{"$f":"SUM(IF($A71=SoilCat,IF($B71=DrainCat,IF(K$3=ESALCat,Design!$AH$34:$AQ$57))))","v":4},{"$f":"SUM(IF($A71=SoilCat,IF($B71=DrainCat,IF(L$3=ESALCat,Design!$AH$34:$AQ$57))))","v":4},{"$f":"SUM(IF($A71=SoilCat,IF($B71=DrainCat,IF(M$3=ESALCat,Design!$AH$34:$AQ$57))))","v":4},{"$f":"SUM(IF($A71=SoilCat,IF($B71=DrainCat,IF(N$3=ESALCat,Design!$AH$34:$AQ$57))))","v":4},{"$f":"SUM(IF($A71=SoilCat,IF($B71=DrainCat,IF(O$3=ESALCat,Design!$AH$34:$AQ$57))))","v":4}]
[6,"Fair",null,null,"Unbound Dense Graded Base",{"$f":"SUM(IF($A72=SoilCat,IF($B72=DrainCat,IF(F$3=ESALCat,Design!$BB$34:$BK$57))))","v":4},{"$f":"SUM(IF($A72=SoilCat,IF($B72=DrainCat,IF(G$3=ESALCat,Design!$BB$34:$BK$57))))","v":4},{"$f":"SUM(IF($A72=SoilCat,IF($B72=DrainCat,IF(H$3=ESALCat,Design!$BB$34:$BK$57))))","v":4},{"$f":"SUM(IF($A72=SoilCat,IF($B72=DrainCat,IF(I$3=ESALCat,Design!$BB$34:$BK$57))))","v":4},{"$f":"SUM(IF($A72=SoilCat,IF($B72=DrainCat,IF(J$3=ESALCat,Design!$BB$34:$BK$57))))","v":4},{"$f":"SUM(IF($A72=SoilCat,IF($B72=DrainCat,IF(K$3=ESALCat,Design!$BB$34:$BK$57))))","v":6},{"$f":"SUM(IF($A72=SoilCat,IF($B72=DrainCat,IF(L$3=ESALCat,Design!$BB$34:$BK$57))))","v":6},{"$f":"SUM(IF($A72=SoilCat,IF($B72=DrainCat,IF(M$3=ESALCat,Design!$BB$34:$BK$57))))","v":6},{"$f":"SUM(IF($A72=SoilCat,IF($B72=DrainCat,IF(N$3=ESALCat,Design!$BB$34:$BK$57))))","v":6},{"$f":"SUM(IF($A72=SoilCat,IF($B72=DrainCat,IF(O$3=ESALCat,Design!$BB$34:$BK$57))))","v":6}]
[6,"Fair",null,null,"Unbound Dense Graded Subbase",{"$f":"SUM(IF($A73=SoilCat,IF($B73=DrainCat,IF(F$3=ESALCat,Design!$BV$34:$CE$57))))","v":0},{"$f":"SUM(IF($A73=SoilCat,IF($B73=DrainCat,IF(G$3=ESALCat,Design!$BV$34:$CE$57))))","v":0},{"$f":"SUM(IF($A73=SoilCat,IF($B73=DrainCat,IF(H$3=ESALCat,Design!$BV$34:$CE$57))))","v":0},{"$f":"SUM(IF($A73=SoilCat,IF($B73=DrainCat,IF(I$3=ESALCat,Design!$BV$34:$CE$57))))","v":0},{"$f":"SUM(IF($A73=SoilCat,IF($B73=DrainCat,IF(J$3=ESALCat,Design!$BV$34:$CE$57))))","v":0},{"$f":"SUM(IF($A73=SoilCat,IF($B73=DrainCat,IF(K$3=ESALCat,Design!$BV$34:$CE$57))))","v":0},{"$f":"SUM(IF($A73=SoilCat,IF($B73=DrainCat,IF(L$3=ESALCat,Design!$BV$34:$CE$57))))","v":6},{"$f":"SUM(IF($A73=SoilCat,IF($B73=DrainCat,IF(M$3=ESALCat,Design!$BV$34:$CE$57))))","v":10},{"$f":"SUM(IF($A73=SoilCat,IF($B73=DrainCat,IF(N$3=ESALCat,Design!$BV$34:$CE$57))))","v":17},{"$f":"SUM(IF($A73=SoilCat,IF($B73=DrainCat,IF(O$3=ESALCat,Design!$BV$34:$CE$57))))","v":23}]
[6,"Poor",null,"Poor","Pavers and Bedding",{"$f":"SUM(IF($A74=SoilCat,IF($B74=DrainCat,IF(F$3=ESALCat,Design!$N$34:$W$57))))","v":4.125},{"$f":"SUM(IF($A74=SoilCat,IF($B74=DrainCat,IF(G$3=ESALCat,Design!$N$34:$W$57))))","v":4.125},{"$f":"SUM(IF($A74=SoilCat,IF($B74=DrainCat,IF(H$3=ESALCat,Design!$N$34:$W$57))))","v":4.125},{"$f":"SUM(IF($A74=SoilCat,IF($B74=DrainCat,IF(I$3=ESALCat,Design!$N$34:$W$57))))","v":4.125},{"$f":"SUM(IF($A74=SoilCat,IF($B74=DrainCat,IF(J$3=ESALCat,Design!$N$34:$W$57))))","v":4.125},{"$f":"SUM(IF($A74=SoilCat,IF($B74=DrainCat,IF(K$3=ESALCat,Design!$N$34:$W$57))))","v":4.125},{"$f":"SUM(IF($A74=SoilCat,IF($B74=DrainCat,IF(L$3=ESALCat,Design!$N$34:$W$57))))","v":4.125},{"$f":"SUM(IF($A74=SoilCat,IF($B74=DrainCat,IF(M$3=ESALCat,Design!$N$34:$W$57))))","v":4.125},{"$f":"SUM(IF($A74=SoilCat,IF($B74=DrainCat,IF(N$3=ESALCat,Design!$N$34:$W$57))))","v":4.125},{"$f":"SUM(IF($A74=SoilCat,IF($B74=DrainCat,IF(O$3=ESALCat,Design!$N$34:$W$57))))","v":4.125}]
[6,"Poor",null,null,"Asphalt Treated Base",{"$f":"SUM(IF($A75=SoilCat,IF($B75=DrainCat,IF(F$3=ESALCat,Design!$AH$34:$AQ$57))))","v":4},{"$f":"SUM(IF($A75=SoilCat,IF($B75=DrainCat,IF(G$3=ESALCat,Design!$AH$34:$AQ$57))))","v":4},{"$f":"SUM(IF($A75=SoilCat,IF($B75=DrainCat,IF(H$3=ESALCat,Design!$AH$34:$AQ$57))))","v":4},{"$f":"SUM(IF($A75=SoilCat,IF($B75=DrainCat,IF(I$3=ESALCat,Design!$AH$34:$AQ$57))))","v":4},{"$f":"SUM(IF($A75=SoilCat,IF($B75=DrainCat,IF(J$3=ESALCat,Design!$AH$34:$AQ$57))))","v":4},{"$f":"SUM(IF($A75=SoilCat,IF($B75=DrainCat,IF(K$3=ESALCat,Design!$AH$34:$AQ$57))))","v":4},{"$f":"SUM(IF($A75=SoilCat,IF($B75=DrainCat,IF(L$3=ESALCat,Design!$AH$34:$AQ$57))))","v":4},{"$f":"SUM(IF($A75=SoilCat,IF($B75=DrainCat,IF(M$3=ESALCat,Design!$AH$34:$AQ$57))))","v":4},{"$f":"SUM(IF($A75=SoilCat,IF($B75=DrainCat,IF(N$3=ESALCat,Design!$AH$34:$AQ$57))))","v":4},{"$f":"SUM(IF($A75=SoilCat,IF($B75=DrainCat,IF(O$3=ESALCat,Design!$AH$34:$AQ$57))))","v":4}]
[6,"Poor",null,null,"Unbound Dense Graded Base",{"$f":"SUM(IF($A76=SoilCat,IF($B76=DrainCat,IF(F$3=ESALCat,Design!$BB$34:$BK$57))))","v":4},{"$f":"SUM(IF($A76=SoilCat,IF($B76=DrainCat,IF(G$3=ESALCat,Design!$BB$34:$BK$57))))","v":4},{"$f":"SUM(IF($A76=SoilCat,IF($B76=DrainCat,IF(H$3=ESALCat,Design!$BB$34:$BK$57))))","v":4},{"$f":"SUM(IF($A76=SoilCat,IF($B76=DrainCat,IF(I$3=ESALCat,Design!$BB$34:$BK$57))))","v":4},{"$f":"SUM(IF($A76=SoilCat,IF($B76=DrainCat,IF(J$3=ESALCat,Design!$BB$34:$BK$57))))","v":6},{"$f":"SUM(IF($A76=SoilCat,IF($B76=DrainCat,IF(K$3=ESALCat,Design!$BB$34:$BK$57))))","v":6},{"$f":"SUM(IF($A76=SoilCat,IF($B76=DrainCat,IF(L$3=ESALCat,Design!$BB$34:$BK$57))))","v":6},{"$f":"SUM(IF($A76=SoilCat,IF($B76=DrainCat,IF(M$3=ESALCat,Design!$BB$34:$BK$57))))","v":6},{"$f":"SUM(IF($A76=SoilCat,IF($B76=DrainCat,IF(N$3=ESALCat,Design!$BB$34:$BK$57))))","v":6},{"$f":"SUM(IF($A76=SoilCat,IF($B76=DrainCat,IF(O$3=ESALCat,Design!$BB$34:$BK$57))))","v":6}]
[6,"Poor",null,null,"Unbound Dense Graded Subbase",{"$f":"SUM(IF($A77=SoilCat,IF($B77=DrainCat,IF(F$3=ESALCat,Design!$BV$34:$CE$57))))","v":0},{"$f":"SUM(IF($A77=SoilCat,IF($B77=DrainCat,IF(G$3=ESALCat,Design!$BV$34:$CE$57))))","v":0},{"$f":"SUM(IF($A77=SoilCat,IF($B77=DrainCat,IF(H$3=ESALCat,Design!$BV$34:$CE$57))))","v":0},{"$f":"SUM(IF($A77=SoilCat,IF($B77=DrainCat,IF(I$3=ESALCat,Design!$BV$34:$CE$57))))","v":0},{"$f":"SUM(IF($A77=SoilCat,IF($B77=DrainCat,IF(J$3=ESALCat,Design!$BV$34:$CE$57))))","v":0},{"$f":"SUM(IF($A77=SoilCat,IF($B77=DrainCat,IF(K$3=ESALCat,Design!$BV$34:$CE$57))))","v":6},{"$f":"SUM(IF($A77=SoilCat,IF($B77=DrainCat,IF(L$3=ESALCat,Design!$BV$34:$CE$57))))","v":11},{"$f":"SUM(IF($A77=SoilCat,IF($B77=DrainCat,IF(M$3=ESALCat,Design!$BV$34:$CE$57))))","v":16},{"$f":"SUM(IF($A77=SoilCat,IF($B77=DrainCat,IF(N$3=ESALCat,Design!$BV$34:$CE$57))))","v":24},{"$f":"SUM(IF($A77=SoilCat,IF($B77=DrainCat,IF(O$3=ESALCat,Design!$BV$34:$CE$57))))","v":30}]
[7,"Good","Category 7","Good","Pavers and Bedding",{"$f":"SUM(IF($A78=SoilCat,IF($B78=DrainCat,IF(F$3=ESALCat,Design!$N$34:$W$57))))","v":4.125},{"$f":"SUM(IF($A78=SoilCat,IF($B78=DrainCat,IF(G$3=ESALCat,Design!$N$34:$W$57))))","v":4.125},{"$f":"SUM(IF($A78=SoilCat,IF($B78=DrainCat,IF(H$3=ESALCat,Design!$N$34:$W$57))))","v":4.125},{"$f":"SUM(IF($A78=SoilCat,IF($B78=DrainCat,IF(I$3=ESALCat,Design!$N$34:$W$57))))","v":4.125},{"$f":"SUM(IF($A78=SoilCat,IF($B78=DrainCat,IF(J$3=ESALCat,Design!$N$34:$W$57))))","v":4.125},{"$f":"SUM(IF($A78=SoilCat,IF($B78=DrainCat,IF(K$3=ESALCat,Design!$N$34:$W$57))))","v":4.125},{"$f":"SUM(IF($A78=SoilCat,IF($B78=DrainCat,IF(L$3=ESALCat,Design!$N$34:$W$57))))","v":4.125},{"$f":"SUM(IF($A78=SoilCat,IF($B78=DrainCat,IF(M$3=ESALCat,Design!$N$34:$W$57))))","v":4.125},{"$f":"SUM(IF($A78=SoilCat,IF($B78=DrainCat,IF(N$3=ESALCat,Design!$N$34:$W$57))))","v":4.125},{"$f":"SUM(IF($A78=SoilCat,IF($B78=DrainCat,IF(O$3=ESALCat,Design!$N$34:$W$57))))","v":4.125}]
[7,"Good",null,null,"Asphalt Treated Base",{"$f":"SUM(IF($A79=SoilCat,IF($B79=DrainCat,IF(F$3=ESALCat,Design!$AH$34:$AQ$57))))","v":4},{"$f":"SUM(IF($A79=SoilCat,IF($B79=DrainCat,IF(G$3=ESALCat,Design!$AH$34:$AQ$57))))","v":4},{"$f":"SUM(IF($A79=SoilCat,IF($B79=DrainCat,IF(H$3=ESALCat,Design!$AH$34:$AQ$57))))","v":4},{"$f":"SUM(IF($A79=SoilCat,IF($B79=DrainCat,IF(I$3=ESALCat,Design!$AH$34:$AQ$57))))","v":4},{"$f":"SUM(IF($A79=SoilCat,IF($B79=DrainCat,IF(J$3=ESALCat,Design!$AH$34:$AQ$57))))","v":4},{"$f":"SUM(IF($A79=SoilCat,IF($B79=DrainCat,IF(K$3=ESALCat,Design!$AH$34:$AQ$57))))","v":4},{"$f":"SUM(IF($A79=SoilCat,IF($B79=DrainCat,IF(L$3=ESALCat,Design!$AH$34:$AQ$57))))","v":4},{"$f":"SUM(IF($A79=SoilCat,IF($B79=DrainCat,IF(M$3=ESALCat,Design!$AH$34:$AQ$57))))","v":4},{"$f":"SUM(IF($A79=SoilCat,IF($B79=DrainCat,IF(N$3=ESALCat,Design!$AH$34:$AQ$57))))","v":4},{"$f":"SUM(IF($A79=SoilCat,IF($B79=DrainCat,IF(O$3=ESALCat,Design!$AH$34:$AQ$57))))","v":4}]
[7,"Good",null,null,"Unbound Dense Graded Base",{"$f":"SUM(IF($A80=SoilCat,IF($B80=DrainCat,IF(F$3=ESALCat,Design!$BB$34:$BK$57))))","v":4},{"$f":"SUM(IF($A80=SoilCat,IF($B80=DrainCat,IF(G$3=ESALCat,Design!$BB$34:$BK$57))))","v":4},{"$f":"SUM(IF($A80=SoilCat,IF($B80=DrainCat,IF(H$3=ESALCat,Design!$BB$34:$BK$57))))","v":4},{"$f":"SUM(IF($A80=SoilCat,IF($B80=DrainCat,IF(I$3=ESALCat,Design!$BB$34:$BK$57))))","v":4},{"$f":"SUM(IF($A80=SoilCat,IF($B80=DrainCat,IF(J$3=ESALCat,Design!$BB$34:$BK$57))))","v":4},{"$f":"SUM(IF($A80=SoilCat,IF($B80=DrainCat,IF(K$3=ESALCat,Design!$BB$34:$BK$57))))","v":6},{"$f":"SUM(IF($A80=SoilCat,IF($B80=DrainCat,IF(L$3=ESALCat,Design!$BB$34:$BK$57))))","v":8},{"$f":"SUM(IF($A80=SoilCat,IF($B80=DrainCat,IF(M$3=ESALCat,Design!$BB$34:$BK$57))))","v":6},{"$f":"SUM(IF($A80=SoilCat,IF($B80=DrainCat,IF(N$3=ESALCat,Design!$BB$34:$BK$57))))","v":6},{"$f":"SUM(IF($A80=SoilCat,IF($B80=DrainCat,IF(O$3=ESALCat,Design!$BB$34:$BK$57))))","v":6}]
[7,"Good",null,null,"Unbound Dense Graded Subbase",{"$f":"SUM(IF($A81=SoilCat,IF($B81=DrainCat,IF(F$3=ESALCat,Design!$BV$34:$CE$57))))","v":0},{"$f":"SUM(IF($A81=SoilCat,IF($B81=DrainCat,IF(G$3=ESALCat,Design!$BV$34:$CE$57))))","v":0},{"$f":"SUM(IF($A81=SoilCat,IF($B81=DrainCat,IF(H$3=ESALCat,Design!$BV$34:$CE$57))))","v":0},{"$f":"SUM(IF($A81=SoilCat,IF($B81=DrainCat,IF(I$3=ESALCat,Design!$BV$34:$CE$57))))","v":0},{"$f":"SUM(IF($A81=SoilCat,IF($B81=DrainCat,IF(J$3=ESALCat,Design!$BV$34:$CE$57))))","v":0},{"$f":"SUM(IF($A81=SoilCat,IF($B81=DrainCat,IF(K$3=ESALCat,Design!$BV$34:$CE$57))))","v":0},{"$f":"SUM(IF($A81=SoilCat,IF($B81=DrainCat,IF(L$3=ESALCat,Design!$BV$34:$CE$57))))","v":0},{"$f":"SUM(IF($A81=SoilCat,IF($B81=DrainCat,IF(M$3=ESALCat,Design!$BV$34:$CE$57))))","v":8},{"$f":"SUM(IF($A81=SoilCat,IF($B81=DrainCat,IF(N$3=ESALCat,Design!$BV$34:$CE$57))))","v":15},{"$f":"SUM(IF($A81=SoilCat,IF($B81=DrainCat,IF(O$3=ESALCat,Design!$BV$34:$CE$57))))","v":20}]
[7,"Fair",null,"Fair","Pavers and Bedding",{"$f":"SUM(IF($A82=SoilCat,IF($B82=DrainCat,IF(F$3=ESALCat,Design!$N$34:$W$57))))","v":4.125},{"$f":"SUM(IF($A82=SoilCat,IF($B82=DrainCat,IF(G$3=ESALCat,Design!$N$34:$W$57))))","v":4.125},{"$f":"SUM(IF($A82=SoilCat,IF($B82=DrainCat,IF(H$3=ESALCat,Design!$N$34:$W$57))))","v":4.125},{"$f":"SUM(IF($A82=SoilCat,IF($B82=DrainCat,IF(I$3=ESALCat,Design!$N$34:$W$57))))","v":4.125},{"$f":"SUM(IF($A82=SoilCat,IF($B82=DrainCat,IF(J$3=ESALCat,Design!$N$34:$W$57))))","v":4.125},{"$f":"SUM(IF($A82=SoilCat,IF($B82=DrainCat,IF(K$3=ESALCat,Design!$N$34:$W$57))))","v":4.125},{"$f":"SUM(IF($A82=SoilCat,IF($B82=DrainCat,IF(L$3=ESALCat,Design!$N$34:$W$57))))","v":4.125},{"$f":"SUM(IF($A82=SoilCat,IF($B82=DrainCat,IF(M$3=ESALCat,Design!$N$34:$W$57))))","v":4.125},{"$f":"SUM(IF($A82=SoilCat,IF($B82=DrainCat,IF(N$3=ESALCat,Design!$N$34:$W$57))))","v":4.125},{"$f":"SUM(IF($A82=SoilCat,IF($B82=DrainCat,IF(O$3=ESALCat,Design!$N$34:$W$57))))","v":4.125}]
[7,"Fair",null,null,"Asphalt Treated Base",{"$f":"SUM(IF($A83=SoilCat,IF($B83=DrainCat,IF(F$3=ESALCat,Design!$AH$34:$AQ$57))))","v":4},{"$f":"SUM(IF($A83=SoilCat,IF($B83=DrainCat,IF(G$3=ESALCat,Design!$AH$34:$AQ$57))))","v":4},{"$f":"SUM(IF($A83=SoilCat,IF($B83=DrainCat,IF(H$3=ESALCat,Design!$AH$34:$AQ$57))))","v":4},{"$f":"SUM(IF($A83=SoilCat,IF($B83=DrainCat,IF(I$3=ESALCat,Design!$AH$34:$AQ$57))))","v":4},{"$f":"SUM(IF($A83=SoilCat,IF($B83=DrainCat,IF(J$3=ESALCat,Design!$AH$34:$AQ$57))))","v":4},{"$f":"SUM(IF($A83=SoilCat,IF($B83=DrainCat,IF(K$3=ESALCat,Design!$AH$34:$AQ$57))))","v":4},{"$f":"SUM(IF($A83=SoilCat,IF($B83=DrainCat,IF(L$3=ESALCat,Design!$AH$34:$AQ$57))))","v":4},{"$f":"SUM(IF($A83=SoilCat,IF($B83=DrainCat,IF(M$3=ESALCat,Design!$AH$34:$AQ$57))))","v":4},{"$f":"SUM(IF($A83=SoilCat,IF($B83=DrainCat,IF(N$3=ESALCat,Design!$AH$34:$AQ$57))))","v":4},{"$f":"SUM(IF($A83=SoilCat,IF($B83=DrainCat,IF(O$3=ESALCat,Design!$AH$34:$AQ$57))))","v":4}]
[7,"Fair",null,null,"Unbound Dense Graded Base",{"$f":"SUM(IF($A84=SoilCat,IF($B84=DrainCat,IF(F$3=ESALCat,Design!$BB$34:$BK$57))))","v":4},{"$f":"SUM(IF($A84=SoilCat,IF($B84=DrainCat,IF(G$3=ESALCat,Design!$BB$34:$BK$57))))","v":4},{"$f":"SUM(IF($A84=SoilCat,IF($B84=DrainCat,IF(H$3=ESALCat,Design!$BB$34:$BK$57))))","v":4},{"$f":"SUM(IF($A84=SoilCat,IF($B84=DrainCat,IF(I$3=ESALCat,Design!$BB$34:$BK$57))))","v":4},{"$f":"SUM(IF($A84=SoilCat,IF($B84=DrainCat,IF(J$3=ESALCat,Design!$BB$34:$BK$57))))","v":4},{"$f":"SUM(IF($A84=SoilCat,IF($B84=DrainCat,IF(K$3=ESALCat,Design!$BB$34:$BK$57))))","v":8},{"$f":"SUM(IF($A84=SoilCat,IF($B84=DrainCat,IF(L$3=ESALCat,Design!$BB$34:$BK$57))))","v":6},{"$f":"SUM(IF($A84=SoilCat,IF($B84=DrainCat,IF(M$3=ESALCat,Design!$BB$34:$BK$57))))","v":6},{"$f":"SUM(IF($A84=SoilCat,IF($B84=DrainCat,IF(N$3=ESALCat,Design!$BB$34:$BK$57))))","v":6},{"$f":"SUM(IF($A84=SoilCat,IF($B84=DrainCat,IF(O$3=ESALCat,Design!$BB$34:$BK$57))))","v":6}]
[7,"Fair",null,null,"Unbound Dense Graded Subbase",{"$f":"SUM(IF($A85=SoilCat,IF($B85=DrainCat,IF(F$3=ESALCat,Design!$BV$34:$CE$57))))","v":0},{"$f":"SUM(IF($A85=SoilCat,IF($B85=DrainCat,IF(G$3=ESALCat,Design!$BV$34:$CE$57))))","v":0},{"$f":"SUM(IF($A85=SoilCat,IF($B85=DrainCat,IF(H$3=ESALCat,Design!$BV$34:$CE$57))))","v":0},{"$f":"SUM(IF($A85=SoilCat,IF($B85=DrainCat,IF(I$3=ESALCat,Design!$BV$34:$CE$57))))","v":0},{"$f":"SUM(IF($A85=SoilCat,IF($B85=DrainCat,IF(J$3=ESALCat,Design!$BV$34:$CE$57))))","v":0},{"$f":"SUM(IF($A85=SoilCat,IF($B85=DrainCat,IF(K$3=ESALCat,Design!$BV$34:$CE$57))))","v":0},{"$f":"SUM(IF($A85=SoilCat,IF($B85=DrainCat,IF(L$3=ESALCat,Design!$BV$34:$CE$57))))","v":7},{"$f":"SUM(IF($A85=SoilCat,IF($B85=DrainCat,IF(M$3=ESALCat,Design!$BV$34:$CE$57))))","v":13},{"$f":"SUM(IF($A85=SoilCat,IF($B85=DrainCat,IF(N$3=ESALCat,Design!$BV$34:$CE$57))))","v":20},{"$f":"SUM(IF($A85=SoilCat,IF($B85=DrainCat,IF(O$3=ESALCat,Design!$BV$34:$CE$57))))","v":26}]
[7,"Poor",null,"Poor","Pavers and Bedding",{"$f":"SUM(IF($A86=SoilCat,IF($B86=DrainCat,IF(F$3=ESALCat,Design!$N$34:$W$57))))","v":4.125},{"$f":"SUM(IF($A86=SoilCat,IF($B86=DrainCat,IF(G$3=ESALCat,Design!$N$34:$W$57))))","v":4.125},{"$f":"SUM(IF($A86=SoilCat,IF($B86=DrainCat,IF(H$3=ESALCat,Design!$N$34:$W$57))))","v":4.125},{"$f":"SUM(IF($A86=SoilCat,IF($B86=DrainCat,IF(I$3=ESALCat,Design!$N$34:$W$57))))","v":4.125},{"$f":"SUM(IF($A86=SoilCat,IF($B86=DrainCat,IF(J$3=ESALCat,Design!$N$34:$W$57))))","v":4.125},{"$f":"SUM(IF($A86=SoilCat,IF($B86=DrainCat,IF(K$3=ESALCat,Design!$N$34:$W$57))))","v":4.125},{"$f":"SUM(IF($A86=SoilCat,IF($B86=DrainCat,IF(L$3=ESALCat,Design!$N$34:$W$57))))","v":4.125},{"$f":"SUM(IF($A86=SoilCat,IF($B86=DrainCat,IF(M$3=ESALCat,Design!$N$34:$W$57))))","v":4.125},{"$f":"SUM(IF($A86=SoilCat,IF($B86=DrainCat,IF(N$3=ESALCat,Design!$N$34:$W$57))))","v":4.125},{"$f":"SUM(IF($A86=SoilCat,IF($B86=DrainCat,IF(O$3=ESALCat,Design!$N$34:$W$57))))","v":4.125}]
[7,"Poor",null,null,"Asphalt Treated Base",{"$f":"SUM(IF($A87=SoilCat,IF($B87=DrainCat,IF(F$3=ESALCat,Design!$AH$34:$AQ$57))))","v":4},{"$f":"SUM(IF($A87=SoilCat,IF($B87=DrainCat,IF(G$3=ESALCat,Design!$AH$34:$AQ$57))))","v":4},{"$f":"SUM(IF($A87=SoilCat,IF($B87=DrainCat,IF(H$3=ESALCat,Design!$AH$34:$AQ$57))))","v":4},{"$f":"SUM(IF($A87=SoilCat,IF($B87=DrainCat,IF(I$3=ESALCat,Design!$AH$34:$AQ$57))))","v":4},{"$f":"SUM(IF($A87=SoilCat,IF($B87=DrainCat,IF(J$3=ESALCat,Design!$AH$34:$AQ$57))))","v":4},{"$f":"SUM(IF($A87=SoilCat,IF($B87=DrainCat,IF(K$3=ESALCat,Design!$AH$34:$AQ$57))))","v":4},{"$f":"SUM(IF($A87=SoilCat,IF($B87=DrainCat,IF(L$3=ESALCat,Design!$AH$34:$AQ$57))))","v":4},{"$f":"SUM(IF($A87=SoilCat,IF($B87=DrainCat,IF(M$3=ESALCat,Design!$AH$34:$AQ$57))))","v":4},{"$f":"SUM(IF($A87=SoilCat,IF($B87=DrainCat,IF(N$3=ESALCat,Design!$AH$34:$AQ$57))))","v":4},{"$f":"SUM(IF($A87=SoilCat,IF($B87=DrainCat,IF(O$3=ESALCat,Design!$AH$34:$AQ$57))))","v":4}]
[7,"Poor",null,null,"Unbound Dense Graded Base",{"$f":"SUM(IF($A88=SoilCat,IF($B88=DrainCat,IF(F$3=ESALCat,Design!$BB$34:$BK$57))))","v":4},{"$f":"SUM(IF($A88=SoilCat,IF($B88=DrainCat,IF(G$3=ESALCat,Design!$BB$34:$BK$57))))","v":4},{"$f":"SUM(IF($A88=SoilCat,IF($B88=DrainCat,IF(H$3=ESALCat,Design!$BB$34:$BK$57))))","v":4},{"$f":"SUM(IF($A88=SoilCat,IF($B88=DrainCat,IF(I$3=ESALCat,Design!$BB$34:$BK$57))))","v":5},{"$f":"SUM(IF($A88=SoilCat,IF($B88=DrainCat,IF(J$3=ESALCat,Design!$BB$34:$BK$57))))","v":8},{"$f":"SUM(IF($A88=SoilCat,IF($B88=DrainCat,IF(K$3=ESALCat,Design!$BB$34:$BK$57))))","v":6},{"$f":"SUM(IF($A88=SoilCat,IF($B88=DrainCat,IF(L$3=ESALCat,Design!$BB$34:$BK$57))))","v":6},{"$f":"SUM(IF($A88=SoilCat,IF($B88=DrainCat,IF(M$3=ESALCat,Design!$BB$34:$BK$57))))","v":6},{"$f":"SUM(IF($A88=SoilCat,IF($B88=DrainCat,IF(N$3=ESALCat,Design!$BB$34:$BK$57))))","v":6},{"$f":"SUM(IF($A88=SoilCat,IF($B88=DrainCat,IF(O$3=ESALCat,Design!$BB$34:$BK$57))))","v":6}]
[7,"Poor",null,null,"Unbound Dense Graded Subbase",{"$f":"SUM(IF($A89=SoilCat,IF($B89=DrainCat,IF(F$3=ESALCat,Design!$BV$34:$CE$57))))","v":0},{"$f":"SUM(IF($A89=SoilCat,IF($B89=DrainCat,IF(G$3=ESALCat,Design!$BV$34:$CE$57))))","v":0},{"$f":"SUM(IF($A89=SoilCat,IF($B89=DrainCat,IF(H$3=ESALCat,Design!$BV$34:$CE$57))))","v":0},{"$f":"SUM(IF($A89=SoilCat,IF($B89=DrainCat,IF(I$3=ESALCat,Design!$BV$34:$CE$57))))","v":0},{"$f":"SUM(IF($A89=SoilCat,IF($B89=DrainCat,IF(J$3=ESALCat,Design!$BV$34:$CE$57))))","v":0},{"$f":"SUM(IF($A89=SoilCat,IF($B89=DrainCat,IF(K$3=ESALCat,Design!$BV$34:$CE$57))))","v":9},{"$f":"SUM(IF($A89=SoilCat,IF($B89=DrainCat,IF(L$3=ESALCat,Design!$BV$34:$CE$57))))","v":15},{"$f":"SUM(IF($A89=SoilCat,IF($B89=DrainCat,IF(M$3=ESALCat,Design!$BV$34:$CE$57))))","v":20},{"$f":"SUM(IF($A89=SoilCat,IF($B89=DrainCat,IF(N$3=ESALCat,Design!$BV$34:$CE$57))))","v":28},{"$f":"SUM(IF($A89=SoilCat,IF($B89=DrainCat,IF(O$3=ESALCat,Design!$BV$34:$CE$57))))","v":35}]
[8,"Good","Category 8","Good","Pavers and Bedding",{"$f":"SUM(IF($A90=SoilCat,IF($B90=DrainCat,IF(F$3=ESALCat,Design!$N$34:$W$57))))","v":4.125},{"$f":"SUM(IF($A90=SoilCat,IF($B90=DrainCat,IF(G$3=ESALCat,Design!$N$34:$W$57))))","v":4.125},{"$f":"SUM(IF($A90=SoilCat,IF($B90=DrainCat,IF(H$3=ESALCat,Design!$N$34:$W$57))))","v":4.125},{"$f":"SUM(IF($A90=SoilCat,IF($B90=DrainCat,IF(I$3=ESALCat,Design!$N$34:$W$57))))","v":4.125},{"$f":"SUM(IF($A90=SoilCat,IF($B90=DrainCat,IF(J$3=ESALCat,Design!$N$34:$W$57))))","v":4.125},{"$f":"SUM(IF($A90=SoilCat,IF($B90=DrainCat,IF(K$3=ESALCat,Design!$N$34:$W$57))))","v":4.125},{"$f":"SUM(IF($A90=SoilCat,IF($B90=DrainCat,IF(L$3=ESALCat,Design!$N$34:$W$57))))","v":4.125},{"$f":"SUM(IF($A90=SoilCat,IF($B90=DrainCat,IF(M$3=ESALCat,Design!$N$34:$W$57))))","v":4.125},{"$f":"SUM(IF($A90=SoilCat,IF($B90=DrainCat,IF(N$3=ESALCat,Design!$N$34:$W$57))))","v":4.125},{"$f":"SUM(IF($A90=SoilCat,IF($B90=DrainCat,IF(O$3=ESALCat,Design!$N$34:$W$57))))","v":4.125}]
[8,"Good",null,null,"Asphalt Treated Base",{"$f":"SUM(IF($A91=SoilCat,IF($B91=DrainCat,IF(F$3=ESALCat,Design!$AH$34:$AQ$57))))","v":4},{"$f":"SUM(IF($A91=SoilCat,IF($B91=DrainCat,IF(G$3=ESALCat,Design!$AH$34:$AQ$57))))","v":4},{"$f":"SUM(IF($A91=SoilCat,IF($B91=DrainCat,IF(H$3=ESALCat,Design!$AH$34:$AQ$57))))","v":4},{"$f":"SUM(IF($A91=SoilCat,IF($B91=DrainCat,IF(I$3=ESALCat,Design!$AH$34:$AQ$57))))","v":4},{"$f":"SUM(IF($A91=SoilCat,IF($B91=DrainCat,IF(J$3=ESALCat,Design!$AH$34:$AQ$57))))","v":4},{"$f":"SUM(IF($A91=SoilCat,IF($B91=DrainCat,IF(K$3=ESALCat,Design!$AH$34:$AQ$57))))","v":4},{"$f":"SUM(IF($A91=SoilCat,IF($B91=DrainCat,IF(L$3=ESALCat,Design!$AH$34:$AQ$57))))","v":4},{"$f":"SUM(IF($A91=SoilCat,IF($B91=DrainCat,IF(M$3=ESALCat,Design!$AH$34:$AQ$57))))","v":4},{"$f":"SUM(IF($A91=SoilCat,IF($B91=DrainCat,IF(N$3=ESALCat,Design!$AH$34:$AQ$57))))","v":4},{"$f":"SUM(IF($A91=SoilCat,IF($B91=DrainCat,IF(O$3=ESALCat,Design!$AH$34:$AQ$57))))","v":4}]
[8,"Good",null,null,"Unbound Dense Graded Base",{"$f":"SUM(IF($A92=SoilCat,IF($B92=DrainCat,IF(F$3=ESALCat,Design!$BB$34:$BK$57))))","v":4},{"$f":"SUM(IF($A92=SoilCat,IF($B92=DrainCat,IF(G$3=ESALCat,Design!$BB$34:$BK$57))))","v":4},{"$f":"SUM(IF($A92=SoilCat,IF($B92=DrainCat,IF(H$3=ESALCat,Design!$BB$34:$BK$57))))","v":4},{"$f":"SUM(IF($A92=SoilCat,IF($B92=DrainCat,IF(I$3=ESALCat,Design!$BB$34:$BK$57))))","v":4},{"$f":"SUM(IF($A92=SoilCat,IF($B92=DrainCat,IF(J$3=ESALCat,Design!$BB$34:$BK$57))))","v":4},{"$f":"SUM(IF($A92=SoilCat,IF($B92=DrainCat,IF(K$3=ESALCat,Design!$BB$34:$BK$57))))","v":6},{"$f":"SUM(IF($A92=SoilCat,IF($B92=DrainCat,IF(L$3=ESALCat,Design!$BB$34:$BK$57))))","v":6},{"$f":"SUM(IF($A92=SoilCat,IF($B92=DrainCat,IF(M$3=ESALCat,Design!$BB$34:$BK$57))))","v":6},{"$f":"SUM(IF($A92=SoilCat,IF($B92=DrainCat,IF(N$3=ESALCat,Design!$BB$34:$BK$57))))","v":6},{"$f":"SUM(IF($A92=SoilCat,IF($B92=DrainCat,IF(O$3=ESALCat,Design!$BB$34:$BK$57))))","v":6}]
[8,"Good",null,null,"Unbound Dense Graded Subbase",{"$f":"SUM(IF($A93=SoilCat,IF($B93=DrainCat,IF(F$3=ESALCat,Design!$BV$34:$CE$57))))","v":0},{"$f":"SUM(IF($A93=SoilCat,IF($B93=DrainCat,IF(G$3=ESALCat,Design!$BV$34:$CE$57))))","v":0},{"$f":"SUM(IF($A93=SoilCat,IF($B93=DrainCat,IF(H$3=ESALCat,Design!$BV$34:$CE$57))))","v":0},{"$f":"SUM(IF($A93=SoilCat,IF($B93=DrainCat,IF(I$3=ESALCat,Design!$BV$34:$CE$57))))","v":0},{"$f":"SUM(IF($A93=SoilCat,IF($B93=DrainCat,IF(J$3=ESALCat,Design!$BV$34:$CE$57))))","v":0},{"$f":"SUM(IF($A93=SoilCat,IF($B93=DrainCat,IF(K$3=ESALCat,Design!$BV$34:$CE$57))))","v":0},{"$f":"SUM(IF($A93=SoilCat,IF($B93=DrainCat,IF(L$3=ESALCat,Design!$BV$34:$CE$57))))","v":6},{"$f":"SUM(IF($A93=SoilCat,IF($B93=DrainCat,IF(M$3=ESALCat,Design!$BV$34:$CE$57))))","v":10},{"$f":"SUM(IF($A93=SoilCat,IF($B93=DrainCat,IF(N$3=ESALCat,Design!$BV$34:$CE$57))))","v":17},{"$f":"SUM(IF($A93=SoilCat,IF($B93=DrainCat,IF(O$3=ESALCat,Design!$BV$34:$CE$57))))","v":23}]
[8,"Fair",null,"Fair","Pavers and Bedding",{"$f":"SUM(IF($A94=SoilCat,IF($B94=DrainCat,IF(F$3=ESALCat,Design!$N$34:$W$57))))","v":4.125},{"$f":"SUM(IF($A94=SoilCat,IF($B94=DrainCat,IF(G$3=ESALCat,Design!$N$34:$W$57))))","v":4.125},{"$f":"SUM(IF($A94=SoilCat,IF($B94=DrainCat,IF(H$3=ESALCat,Design!$N$34:$W$57))))","v":4.125},{"$f":"SUM(IF($A94=SoilCat,IF($B94=DrainCat,IF(I$3=ESALCat,Design!$N$34:$W$57))))","v":4.125},{"$f":"SUM(IF($A94=SoilCat,IF($B94=DrainCat,IF(J$3=ESALCat,Design!$N$34:$W$57))))","v":4.125},{"$f":"SUM(IF($A94=SoilCat,IF($B94=DrainCat,IF(K$3=ESALCat,Design!$N$34:$W$57))))","v":4.125},{"$f":"SUM(IF($A94=SoilCat,IF($B94=DrainCat,IF(L$3=ESALCat,Design!$N$34:$W$57))))","v":4.125},{"$f":"SUM(IF($A94=SoilCat,IF($B94=DrainCat,IF(M$3=ESALCat,Design!$N$34:$W$57))))","v":4.125},{"$f":"SUM(IF($A94=SoilCat,IF($B94=DrainCat,IF(N$3=ESALCat,Design!$N$34:$W$57))))","v":4.125},{"$f":"SUM(IF($A94=SoilCat,IF($B94=DrainCat,IF(O$3=ESALCat,Design!$N$34:$W$57))))","v":4.125}]
[8,"Fair",null,null,"Asphalt Treated Base",{"$f":"SUM(IF($A95=SoilCat,IF($B95=DrainCat,IF(F$3=ESALCat,Design!$AH$34:$AQ$57))))","v":4},{"$f":"SUM(IF($A95=SoilCat,IF($B95=DrainCat,IF(G$3=ESALCat,Design!$AH$34:$AQ$57))))","v":4},{"$f":"SUM(IF($A95=SoilCat,IF($B95=DrainCat,IF(H$3=ESALCat,Design!$AH$34:$AQ$57))))","v":4},{"$f":"SUM(IF($A95=SoilCat,IF($B95=DrainCat,IF(I$3=ESALCat,Design!$AH$34:$AQ$57))))","v":4},{"$f":"SUM(IF($A95=SoilCat,IF($B95=DrainCat,IF(J$3=ESALCat,Design!$AH$34:$AQ$57))))","v":4},{"$f":"SUM(IF($A95=SoilCat,IF($B95=DrainCat,IF(K$3=ESALCat,Design!$AH$34:$AQ$57))))","v":4},{"$f":"SUM(IF($A95=SoilCat,IF($B95=DrainCat,IF(L$3=ESALCat,Design!$AH$34:$AQ$57))))","v":4},{"$f":"SUM(IF($A95=SoilCat,IF($B95=DrainCat,IF(M$3=ESALCat,Design!$AH$34:$AQ$57))))","v":4},{"$f":"SUM(IF($A95=SoilCat,IF($B95=DrainCat,IF(N$3=ESALCat,Design!$AH$34:$AQ$57))))","v":4},{"$f":"SUM(IF($A95=SoilCat,IF($B95=DrainCat,IF(O$3=ESALCat,Design!$AH$34:$AQ$57))))","v":4}]
[8,"Fair",null,null,"Unbound Dense Graded Base",{"$f":"SUM(IF($A96=SoilCat,IF($B96=DrainCat,IF(F$3=ESALCat,Design!$BB$34:$BK$57))))","v":4},{"$f":"SUM(IF($A96=SoilCat,IF($B96=DrainCat,IF(G$3=ESALCat,Design!$BB$34:$BK$57))))","v":4},{"$f":"SUM(IF($A96=SoilCat,IF($B96=DrainCat,IF(H$3=ESALCat,Design!$BB$34:$BK$57))))","v":4},{"$f":"SUM(IF($A96=SoilCat,IF($B96=DrainCat,IF(I$3=ESALCat,Design!$BB$34:$BK$57))))","v":4},{"$f":"SUM(IF($A96=SoilCat,IF($B96=DrainCat,IF(J$3=ESALCat,Design!$BB$34:$BK$57))))","v":4},{"$f":"SUM(IF($A96=SoilCat,IF($B96=DrainCat,IF(K$3=ESALCat,Design!$BB$34:$BK$57))))","v":8},{"$f":"SUM(IF($A96=SoilCat,IF($B96=DrainCat,IF(L$3=ESALCat,Design!$BB$34:$BK$57))))","v":6},{"$f":"SUM(IF($A96=SoilCat,IF($B96=DrainCat,IF(M$3=ESALCat,Design!$BB$34:$BK$57))))","v":6},{"$f":"SUM(IF($A96=SoilCat,IF($B96=DrainCat,IF(N$3=ESALCat,Design!$BB$34:$BK$57))))","v":6},{"$f":"SUM(IF($A96=SoilCat,IF($B96=DrainCat,IF(O$3=ESALCat,Design!$BB$34:$BK$57))))","v":6}]
[8,"Fair",null,null,"Unbound Dense Graded Subbase",{"$f":"SUM(IF($A97=SoilCat,IF($B97=DrainCat,IF(F$3=ESALCat,Design!$BV$34:$CE$57))))","v":0},{"$f":"SUM(IF($A97=SoilCat,IF($B97=DrainCat,IF(G$3=ESALCat,Design!$BV$34:$CE$57))))","v":0},{"$f":"SUM(IF($A97=SoilCat,IF($B97=DrainCat,IF(H$3=ESALCat,Design!$BV$34:$CE$57))))","v":0},{"$f":"SUM(IF($A97=SoilCat,IF($B97=DrainCat,IF(I$3=ESALCat,Design!$BV$34:$CE$57))))","v":0},{"$f":"SUM(IF($A97=SoilCat,IF($B97=DrainCat,IF(J$3=ESALCat,Design!$BV$34:$CE$57))))","v":0},{"$f":"SUM(IF($A97=SoilCat,IF($B97=DrainCat,IF(K$3=ESALCat,Design!$BV$34:$CE$57))))","v":0},{"$f":"SUM(IF($A97=SoilCat,IF($B97=DrainCat,IF(L$3=ESALCat,Design!$BV$34:$CE$57))))","v":7},{"$f":"SUM(IF($A97=SoilCat,IF($B97=DrainCat,IF(M$3=ESALCat,Design!$BV$34:$CE$57))))","v":13},{"$f":"SUM(IF($A97=SoilCat,IF($B97=DrainCat,IF(N$3=ESALCat,Design!$BV$34:$CE$57))))","v":20},{"$f":"SUM(IF($A97=SoilCat,IF($B97=DrainCat,IF(O$3=ESALCat,Design!$BV$34:$CE$57))))","v":26}]
[8,"Poor",null,"Poor","Pavers and Bedding",{"$f":"SUM(IF($A98=SoilCat,IF($B98=DrainCat,IF(F$3=ESALCat,Design!$N$34:$W$57))))","v":4.125},{"$f":"SUM(IF($A98=SoilCat,IF($B98=DrainCat,IF(G$3=ESALCat,Design!$N$34:$W$57))))","v":4.125},{"$f":"SUM(IF($A98=SoilCat,IF($B98=DrainCat,IF(H$3=ESALCat,Design!$N$34:$W$57))))","v":4.125},{"$f":"SUM(IF($A98=SoilCat,IF($B98=DrainCat,IF(I$3=ESALCat,Design!$N$34:$W$57))))","v":4.125},{"$f":"SUM(IF($A98=SoilCat,IF($B98=DrainCat,IF(J$3=ESALCat,Design!$N$34:$W$57))))","v":4.125},{"$f":"SUM(IF($A98=SoilCat,IF($B98=DrainCat,IF(K$3=ESALCat,Design!$N$34:$W$57))))","v":4.125},{"$f":"SUM(IF($A98=SoilCat,IF($B98=DrainCat,IF(L$3=ESALCat,Design!$N$34:$W$57))))","v":4.125},{"$f":"SUM(IF($A98=SoilCat,IF($B98=DrainCat,IF(M$3=ESALCat,Design!$N$34:$W$57))))","v":4.125},{"$f":"SUM(IF($A98=SoilCat,IF($B98=DrainCat,IF(N$3=ESALCat,Design!$N$34:$W$57))))","v":4.125},{"$f":"SUM(IF($A98=SoilCat,IF($B98=DrainCat,IF(O$3=ESALCat,Design!$N$34:$W$57))))","v":4.125}]
[8,"Poor",null,null,"Asphalt Treated Base",{"$f":"SUM(IF($A99=SoilCat,IF($B99=DrainCat,IF(F$3=ESALCat,Design!$AH$34:$AQ$57))))","v":4},{"$f":"SUM(IF($A99=SoilCat,IF($B99=DrainCat,IF(G$3=ESALCat,Design!$AH$34:$AQ$57))))","v":4},{"$f":"SUM(IF($A99=SoilCat,IF($B99=DrainCat,IF(H$3=ESALCat,Design!$AH$34:$AQ$57))))","v":4},{"$f":"SUM(IF($A99=SoilCat,IF($B99=DrainCat,IF(I$3=ESALCat,Design!$AH$34:$AQ$57))))","v":4},{"$f":"SUM(IF($A99=SoilCat,IF($B99=DrainCat,IF(J$3=ESALCat,Design!$AH$34:$AQ$57))))","v":4},{"$f":"SUM(IF($A99=SoilCat,IF($B99=DrainCat,IF(K$3=ESALCat,Design!$AH$34:$AQ$57))))","v":4},{"$f":"SUM(IF($A99=SoilCat,IF($B99=DrainCat,IF(L$3=ESALCat,Design!$AH$34:$AQ$57))))","v":4},{"$f":"SUM(IF($A99=SoilCat,IF($B99=DrainCat,IF(M$3=ESALCat,Design!$AH$34:$AQ$57))))","v":4},{"$f":"SUM(IF($A99=SoilCat,IF($B99=DrainCat,IF(N$3=ESALCat,Design!$AH$34:$AQ$57))))","v":4},{"$f":"SUM(IF($A99=SoilCat,IF($B99=DrainCat,IF(O$3=ESALCat,Design!$AH$34:$AQ$57))))","v":4}]
[8,"Poor",null,null,"Unbound Dense Graded Base",{"$f":"SUM(IF($A100=SoilCat,IF($B100=DrainCat,IF(F$3=ESALCat,Design!$BB$34:$BK$57))))","v":4},{"$f":"SUM(IF($A100=SoilCat,IF($B100=DrainCat,IF(G$3=ESALCat,Design!$BB$34:$BK$57))))","v":4},{"$f":"SUM(IF($A100=SoilCat,IF($B100=DrainCat,IF(H$3=ESALCat,Design!$BB$34:$BK$57))))","v":4},{"$f":"SUM(IF($A100=SoilCat,IF($B100=DrainCat,IF(I$3=ESALCat,Design!$BB$34:$BK$57))))","v":5},{"$f":"SUM(IF($A100=SoilCat,IF($B100=DrainCat,IF(J$3=ESALCat,Design!$BB$34:$BK$57))))","v":8},{"$f":"SUM(IF($A100=SoilCat,IF($B100=DrainCat,IF(K$3=ESALCat,Design!$BB$34:$BK$57))))","v":6},{"$f":"SUM(IF($A100=SoilCat,IF($B100=DrainCat,IF(L$3=ESALCat,Design!$BB$34:$BK$57))))","v":6},{"$f":"SUM(IF($A100=SoilCat,IF($B100=DrainCat,IF(M$3=ESALCat,Design!$BB$34:$BK$57))))","v":6},{"$f":"SUM(IF($A100=SoilCat,IF($B100=DrainCat,IF(N$3=ESALCat,Design!$BB$34:$BK$57))))","v":6},{"$f":"SUM(IF($A100=SoilCat,IF($B100=DrainCat,IF(O$3=ESALCat,Design!$BB$34:$BK$57))))","v":6}]
[8,"Poor",null,null,"Unbound Dense Graded Subbase",{"$f":"SUM(IF($A101=SoilCat,IF($B101=DrainCat,IF(F$3=ESALCat,Design!$BV$34:$CE$57))))","v":0},{"$f":"SUM(IF($A101=SoilCat,IF($B101=DrainCat,IF(G$3=ESALCat,Design!$BV$34:$CE$57))))","v":0},{"$f":"SUM(IF($A101=SoilCat,IF($B101=DrainCat,IF(H$3=ESALCat,Design!$BV$34:$CE$57))))","v":0},{"$f":"SUM(IF($A101=SoilCat,IF($B101=DrainCat,IF(I$3=ESALCat,Design!$BV$34:$CE$57))))","v":0},{"$f":"SUM(IF($A101=SoilCat,IF($B101=DrainCat,IF(J$3=ESALCat,Design!$BV$34:$CE$57))))","v":0},{"$f":"SUM(IF($A101=SoilCat,IF($B101=DrainCat,IF(K$3=ESALCat,Design!$BV$34:$CE$57))))","v":9},{"$f":"SUM(IF($A101=SoilCat,IF($B101=DrainCat,IF(L$3=ESALCat,Design!$BV$34:$CE$57))))","v":15},{"$f":"SUM(IF($A101=SoilCat,IF($B101=DrainCat,IF(M$3=ESALCat,Design!$BV$34:$CE$57))))","v":20},{"$f":"SUM(IF($A101=SoilCat,IF($B101=DrainCat,IF(N$3=ESALCat,Design!$BV$34:$CE$57))))","v":28},{"$f":"SUM(IF($A101=SoilCat,IF($B101=DrainCat,IF(O$3=ESALCat,Design!$BV$34:$CE$57))))","v":35}]

{"sheet":"CTB","index":5,"n_rows":101,"n_cols":15,"rows_kept":101,"cut":false,"hidden":false,"merged":[[65,2,76,2],[65,3,68,3],[69,3,72,3],[73,3,76,3],[41,2,52,2],[41,3,44,3],[45,3,48,3],[49,3,52,3],[53,2,64,2],[53,3,56,3],[57,3,60,3],[61,3,64,3],[17,2,28,2],[17,3,20,3],[21,3,24,3],[25,3,28,3],[29,2,40,2],[29,3,32,3],[33,3,36,3],[37,3,40,3],[5,2,16,2],[5,3,8,3],[9,3,12,3],[13,3,16,3],[0,2,1,14],[2,2,4,2],[2,3,4,3],[4,5,4,14],[89,2,100,2],[89,3,92,3],[93,3,96,3],[97,3,100,3],[77,2,88,2],[77,3,80,3],[81,3,84,3],[85,3,88,3]]}
[null,null,"CEMENT TREATED BASE\nSTRUCTURE THICKNESSES (in)"]
[]
[null,null,null,"Drainage","ESALs",10000,20000,50000,100000,200000,500000,1000000,2000000,5000000,10000000]
[null,null,null,null,"TI",{"$f":"9*(F3/1000000)^0.119","v":5.2028644266514625},{"$f":"9*(G3/1000000)^0.119","v":5.6502163682481852},6.301151766600797,6.8429364924616367,7.4313048747790562,8.2874312748453587,9,9.7738367069006493,10.899835407763195,11.837023489730147]
[null,null,null,null,"Layer Type"]
[1,"Good","Category 1","Good","Pavers and Bedding",{"$f":"SUM(IF($A6=SoilCat,IF($B6=DrainCat,IF(F$3=ESALCat,Design!$N$64:$W$87))))","v":4.125},{"$f":"SUM(IF($A6=SoilCat,IF($B6=DrainCat,IF(G$3=ESALCat,Design!$N$64:$W$87))))","v":4.125},{"$f":"SUM(IF($A6=SoilCat,IF($B6=DrainCat,IF(H$3=ESALCat,Design!$N$64:$W$87))))","v":4.125},{"$f":"SUM(IF($A6=SoilCat,IF($B6=DrainCat,IF(I$3=ESALCat,Design!$N$64:$W$87))))","v":4.125},{"$f":"SUM(IF($A6=SoilCat,IF($B6=DrainCat,IF(J$3=ESALCat,Design!$N$64:$W$87))))","v":4.125},{"$f":"SUM(IF($A6=SoilCat,IF($B6=DrainCat,IF(K$3=ESALCat,Design!$N$64:$W$87))))","v":4.125},{"$f":"SUM(IF($A6=SoilCat,IF($B6=DrainCat,IF(L$3=ESALCat,Design!$N$64:$W$87))))","v":4.125},{"$f":"SUM(IF($A6=SoilCat,IF($B6=DrainCat,IF(M$3=ESALCat,Design!$N$64:$W$87))))","v":4.125},{"$f":"SUM(IF($A6=SoilCat,IF($B6=DrainCat,IF(N$3=ESALCat,Design!$N$64:$W$87))))","v":4.125},{"$f":"SUM(IF($A6=SoilCat,IF($B6=DrainCat,IF(O$3=ESALCat,Design!$N$64:$W$87))))","v":4.125}]
[1,"Good",null,null,"Cement Treated Base",{"$f":"SUM(IF($A7=SoilCat,IF($B7=DrainCat,IF(F$3=ESALCat,Design!$AH$64:$AQ$87))))","v":4},{"$f":"SUM(IF($A7=SoilCat,IF($B7=DrainCat,IF(G$3=ESALCat,Design!$AH$64:$AQ$87))))","v":4},{"$f":"SUM(IF($A7=SoilCat,IF($B7=DrainCat,IF(H$3=ESALCat,Design!$AH$64:$AQ$87))))","v":4},{"$f":"SUM(IF($A7=SoilCat,IF($B7=DrainCat,IF(I$3=ESALCat,Design!$AH$64:$AQ$87))))","v":4},{"$f":"SUM(IF($A7=SoilCat,IF($B7=DrainCat,IF(J$3=ESALCat,Design!$AH$64:$AQ$87))))","v":4},{"$f":"SUM(IF($A7=SoilCat,IF($B7=DrainCat,IF(K$3=ESALCat,Design!$AH$64:$AQ$87))))","v":4},{"$f":"SUM(IF($A7=SoilCat,IF($B7=DrainCat,IF(L$3=ESALCat,Design!$AH$64:$AQ$87))))","v":4},{"$f":"SUM(IF($A7=SoilCat,IF($B7=DrainCat,IF(M$3=ESALCat,Design!$AH$64:$AQ$87))))","v":4},{"$f":"SUM(IF($A7=SoilCat,IF($B7=DrainCat,IF(N$3=ESALCat,Design!$AH$64:$AQ$87))))","v":4},{"$f":"SUM(IF($A7=SoilCat,IF($B7=DrainCat,IF(O$3=ESALCat,Design!$AH$64:$AQ$87))))","v":4}]
[1,"Good",null,null,"Unbound Dense Graded Base",{"$f":"SUM(IF($A8=SoilCat,IF($B8=DrainCat,IF(F$3=ESALCat,Design!$BB$64:$BK$87))))","v":4},{"$f":"SUM(IF($A8=SoilCat,IF($B8=DrainCat,IF(G$3=ESALCat,Design!$BB$64:$BK$87))))","v":4},{"$f":"SUM(IF($A8=SoilCat,IF($B8=DrainCat,IF(H$3=ESALCat,Design!$BB$64:$BK$87))))","v":4},{"$f":"SUM(IF($A8=SoilCat,IF($B8=DrainCat,IF(I$3=ESALCat,Design!$BB$64:$BK$87))))","v":4},{"$f":"SUM(IF($A8=SoilCat,IF($B8=DrainCat,IF(J$3=ESALCat,Design!$BB$64:$BK$87))))","v":4},{"$f":"SUM(IF($A8=SoilCat,IF($B8=DrainCat,IF(K$3=ESALCat,Design!$BB$64:$BK$87))))","v":6},{"$f":"SUM(IF($A8=SoilCat,IF($B8=DrainCat,IF(L$3=ESALCat,Design!$BB$64:$BK$87))))","v":6},{"$f":"SUM(IF($A8=SoilCat,IF($B8=DrainCat,IF(M$3=ESALCat,Design!$BB$64:$BK$87))))","v":6},{"$f":"SUM(IF($A8=SoilCat,IF($B8=DrainCat,IF(N$3=ESALCat,Design!$BB$64:$BK$87))))","v":6},{"$f":"SUM(IF($A8=SoilCat,IF($B8=DrainCat,IF(O$3=ESALCat,Design!$BB$64:$BK$87))))","v":6}]
[1,"Good",null,null,"Unbound Dense Graded Subbase",{"$f":"SUM(IF($A9=SoilCat,IF($B9=DrainCat,IF(F$3=ESALCat,Design!$BV$64:$CE$87))))","v":0},{"$f":"SUM(IF($A9=SoilCat,IF($B9=DrainCat,IF(G$3=ESALCat,Design!$BV$64:$CE$87))))","v":0},{"$f":"SUM(IF($A9=SoilCat,IF($B9=DrainCat,IF(H$3=ESALCat,Design!$BV$64:$CE$87))))","v":0},{"$f":"SUM(IF($A9=SoilCat,IF($B9=DrainCat,IF(I$3=ESALCat,Design!$BV$64:$CE$87))))","v":0},{"$f":"SUM(IF($A9=SoilCat,IF($B9=DrainCat,IF(J$3=ESALCat,Design!$BV$64:$CE$87))))","v":0},{"$f":"SUM(IF($A9=SoilCat,IF($B9=DrainCat,IF(K$3=ESALCat,Design!$BV$64:$CE$87))))","v":0},{"$f":"SUM(IF($A9=SoilCat,IF($B9=DrainCat,IF(L$3=ESALCat,Design!$BV$64:$CE$87))))","v":0},{"$f":"SUM(IF($A9=SoilCat,IF($B9=DrainCat,IF(M$3=ESALCat,Design!$BV$64:$CE$87))))","v":0},{"$f":"SUM(IF($A9=SoilCat,IF($B9=DrainCat,IF(N$3=ESALCat,Design!$BV$64:$CE$87))))","v":0},{"$f":"SUM(IF($A9=SoilCat,IF($B9=DrainCat,IF(O$3=ESALCat,Design!$BV$64:$CE$87))))","v":6}]
[1,"Fair",null,"Fair","Pavers and Bedding",{"$f":"SUM(IF($A10=SoilCat,IF($B10=DrainCat,IF(F$3=ESALCat,Design!$N$64:$W$87))))","v":4.125},{"$f":"SUM(IF($A10=SoilCat,IF($B10=DrainCat,IF(G$3=ESALCat,Design!$N$64:$W$87))))","v":4.125},{"$f":"SUM(IF($A10=SoilCat,IF($B10=DrainCat,IF(H$3=ESALCat,Design!$N$64:$W$87))))","v":4.125},{"$f":"SUM(IF($A10=SoilCat,IF($B10=DrainCat,IF(I$3=ESALCat,Design!$N$64:$W$87))))","v":4.125},{"$f":"SUM(IF($A10=SoilCat,IF($B10=DrainCat,IF(J$3=ESALCat,Design!$N$64:$W$87))))","v":4.125},{"$f":"SUM(IF($A10=SoilCat,IF($B10=DrainCat,IF(K$3=ESALCat,Design!$N$64:$W$87))))","v":4.125},{"$f":"SUM(IF($A10=SoilCat,IF($B10=DrainCat,IF(L$3=ESALCat,Design!$N$64:$W$87))))","v":4.125},{"$f":"SUM(IF($A10=SoilCat,IF($B10=DrainCat,IF(M$3=ESALCat,Design!$N$64:$W$87))))","v":4.125},{"$f":"SUM(IF($A10=SoilCat,IF($B10=DrainCat,IF(N$3=ESALCat,Design!$N$64:$W$87))))","v":4.125},{"$f":"SUM(IF($A10=SoilCat,IF($B10=DrainCat,IF(O$3=ESALCat,Design!$N$64:$W$87))))","v":4.125}]
[1,"Fair",null,null,"Cement Treated Base",{"$f":"SUM(IF($A11=SoilCat,IF($B11=DrainCat,IF(F$3=ESALCat,Design!$AH$64:$AQ$87))))","v":4},{"$f":"SUM(IF($A11=SoilCat,IF($B11=DrainCat,IF(G$3=ESALCat,Design!$AH$64:$AQ$87))))","v":4},{"$f":"SUM(IF($A11=SoilCat,IF($B11=DrainCat,IF(H$3=ESALCat,Design!$AH$64:$AQ$87))))","v":4},{"$f":"SUM(IF($A11=SoilCat,IF($B11=DrainCat,IF(I$3=ESALCat,Design!$AH$64:$AQ$87))))","v":4},{"$f":"SUM(IF($A11=SoilCat,IF($B11=DrainCat,IF(J$3=ESALCat,Design!$AH$64:$AQ$87))))","v":4},{"$f":"SUM(IF($A11=SoilCat,IF($B11=DrainCat,IF(K$3=ESALCat,Design!$AH$64:$AQ$87))))","v":4},{"$f":"SUM(IF($A11=SoilCat,IF($B11=DrainCat,IF(L$3=ESALCat,Design!$AH$64:$AQ$87))))","v":4},{"$f":"SUM(IF($A11=SoilCat,IF($B11=DrainCat,IF(M$3=ESALCat,Design!$AH$64:$AQ$87))))","v":4},{"$f":"SUM(IF($A11=SoilCat,IF($B11=DrainCat,IF(N$3=ESALCat,Design!$AH$64:$AQ$87))))","v":4},{"$f":"SUM(IF($A11=SoilCat,IF($B11=DrainCat,IF(O$3=ESALCat,Design!$AH$64:$AQ$87))))","v":4}]
[1,"Fair",null,null,"Unbound Dense Graded Base",{"$f":"SUM(IF($A12=SoilCat,IF($B12=DrainCat,IF(F$3=ESALCat,Design!$BB$64:$BK$87))))","v":4},{"$f":"SUM(IF($A12=SoilCat,IF($B12=DrainCat,IF(G$3=ESALCat,Design!$BB$64:$BK$87))))","v":4},{"$f":"SUM(IF($A12=SoilCat,IF($B12=DrainCat,IF(H$3=ESALCat,Design!$BB$64:$BK$87))))","v":4},{"$f":"SUM(IF($A12=SoilCat,IF($B12=DrainCat,IF(I$3=ESALCat,Design!$BB$64:$BK$87))))","v":4},{"$f":"SUM(IF($A12=SoilCat,IF($B12=DrainCat,IF(J$3=ESALCat,Design!$BB$64:$BK$87))))","v":4},{"$f":"SUM(IF($A12=SoilCat,IF($B12=DrainCat,IF(K$3=ESALCat,Design!$BB$64:$BK$87))))","v":6},{"$f":"SUM(IF($A12=SoilCat,IF($B12=DrainCat,IF(L$3=ESALCat,Design!$BB$64:$BK$87))))","v":6},{"$f":"SUM(IF($A12=SoilCat,IF($B12=DrainCat,IF(M$3=ESALCat,Design!$BB$64:$BK$87))))","v":6},{"$f":"SUM(IF($A12=SoilCat,IF($B12=DrainCat,IF(N$3=ESALCat,Design!$BB$64:$BK$87))))","v":7},{"$f":"SUM(IF($A12=SoilCat,IF($B12=DrainCat,IF(O$3=ESALCat,Design!$BB$64:$BK$87))))","v":6}]
[1,"Fair",null,null,"Unbound Dense Graded Subbase",{"$f":"SUM(IF($A13=SoilCat,IF($B13=DrainCat,IF(F$3=ESALCat,Design!$BV$64:$CE$87))))","v":0},{"$f":"SUM(IF($A13=SoilCat,IF($B13=DrainCat,IF(G$3=ESALCat,Design!$BV$64:$CE$87))))","v":0},{"$f":"SUM(IF($A13=SoilCat,IF($B13=DrainCat,IF(H$3=ESALCat,Design!$BV$64:$CE$87))))","v":0},{"$f":"SUM(IF($A13=SoilCat,IF($B13=DrainCat,IF(I$3=ESALCat,Design!$BV$64:$CE$87))))","v":0},{"$f":"SUM(IF($A13=SoilCat,IF($B13=DrainCat,IF(J$3=ESALCat,Design!$BV$64:$CE$87))))","v":0},{"$f":"SUM(IF($A13=SoilCat,IF($B13=DrainCat,IF(K$3=ESALCat,Design!$BV$64:$CE$87))))","v":0},{"$f":"SUM(IF($A13=SoilCat,IF($B13=DrainCat,IF(L$3=ESALCat,Design!$BV$64:$CE$87))))","v":0},{"$f":"SUM(IF($A13=SoilCat,IF($B13=DrainCat,IF(M$3=ESALCat,Design!$BV$64:$CE$87))))","v":0},{"$f":"SUM(IF($A13=SoilCat,IF($B13=DrainCat,IF(N$3=ESALCat,Design!$BV$64:$CE$87))))","v":0},{"$f":"SUM(IF($A13=SoilCat,IF($B13=DrainCat,IF(O$3=ESALCat,Design!$BV$64:$CE$87))))","v":6}]
[1,"Poor",null,"Poor","Pavers and Bedding",{"$f":"SUM(IF($A14=SoilCat,IF($B14=DrainCat,IF(F$3=ESALCat,Design!$N$64:$W$87))))","v":4.125},{"$f":"SUM(IF($A14=SoilCat,IF($B14=DrainCat,IF(G$3=ESALCat,Design!$N$64:$W$87))))","v":4.125},{"$f":"SUM(IF($A14=SoilCat,IF($B14=DrainCat,IF(H$3=ESALCat,Design!$N$64:$W$87))))","v":4.125},{"$f":"SUM(IF($A14=SoilCat,IF($B14=DrainCat,IF(I$3=ESALCat,Design!$N$64:$W$87))))","v":4.125},{"$f":"SUM(IF($A14=SoilCat,IF($B14=DrainCat,IF(J$3=ESALCat,Design!$N$64:$W$87))))","v":4.125},{"$f":"SUM(IF($A14=SoilCat,IF($B14=DrainCat,IF(K$3=ESALCat,Design!$N$64:$W$87))))","v":4.125},{"$f":"SUM(IF($A14=SoilCat,IF($B14=DrainCat,IF(L$3=ESALCat,Design!$N$64:$W$87))))","v":4.125},{"$f":"SUM(IF($A14=SoilCat,IF($B14=DrainCat,IF(M$3=ESALCat,Design!$N$64:$W$87))))","v":4.125},{"$f":"SUM(IF($A14=SoilCat,IF($B14=DrainCat,IF(N$3=ESALCat,Design!$N$64:$W$87))))","v":4.125},{"$f":"SUM(IF($A14=SoilCat,IF($B14=DrainCat,IF(O$3=ESALCat,Design!$N$64:$W$87))))","v":4.125}]
[1,"Poor",null,null,"Cement Treated Base",{"$f":"SUM(IF($A15=SoilCat,IF($B15=DrainCat,IF(F$3=ESALCat,Design!$AH$64:$AQ$87))))","v":4},{"$f":"SUM(IF($A15=SoilCat,IF($B15=DrainCat,IF(G$3=ESALCat,Design!$AH$64:$AQ$87))))","v":4},{"$f":"SUM(IF($A15=SoilCat,IF($B15=DrainCat,IF(H$3=ESALCat,Design!$AH$64:$AQ$87))))","v":4},{"$f":"SUM(IF($A15=SoilCat,IF($B15=DrainCat,IF(I$3=ESALCat,Design!$AH$64:$AQ$87))))","v":4},{"$f":"SUM(IF($A15=SoilCat,IF($B15=DrainCat,IF(J$3=ESALCat,Design!$AH$64:$AQ$87))))","v":4},{"$f":"SUM(IF($A15=SoilCat,IF($B15=DrainCat,IF(K$3=ESALCat,Design!$AH$64:$AQ$87))))","v":4},{"$f":"SUM(IF($A15=SoilCat,IF($B15=DrainCat,IF(L$3=ESALCat,Design!$AH$64:$AQ$87))))","v":4},{"$f":"SUM(IF($A15=SoilCat,IF($B15=DrainCat,IF(M$3=ESALCat,Design!$AH$64:$AQ$87))))","v":4},{"$f":"SUM(IF($A15=SoilCat,IF($B15=DrainCat,IF(N$3=ESALCat,Design!$AH$64:$AQ$87))))","v":4},{"$f":"SUM(IF($A15=SoilCat,IF($B15=DrainCat,IF(O$3=ESALCat,Design!$AH$64:$AQ$87))))","v":4}]
[1,"Poor",null,null,"Unbound Dense Graded Base",{"$f":"SUM(IF($A16=SoilCat,IF($B16=DrainCat,IF(F$3=ESALCat,Design!$BB$64:$BK$87))))","v":4},{"$f":"SUM(IF($A16=SoilCat,IF($B16=DrainCat,IF(G$3=ESALCat,Design!$BB$64:$BK$87))))","v":4},{"$f":"SUM(IF($A16=SoilCat,IF($B16=DrainCat,IF(H$3=ESALCat,Design!$BB$64:$BK$87))))","v":4},{"$f":"SUM(IF($A16=SoilCat,IF($B16=DrainCat,IF(I$3=ESALCat,Design!$BB$64:$BK$87))))","v":4},{"$f":"SUM(IF($A16=SoilCat,IF($B16=DrainCat,IF(J$3=ESALCat,Design!$BB$64:$BK$87))))","v":4},{"$f":"SUM(IF($A16=SoilCat,IF($B16=DrainCat,IF(K$3=ESALCat,Design!$BB$64:$BK$87))))","v":6},{"$f":"SUM(IF($A16=SoilCat,IF($B16=DrainCat,IF(L$3=ESALCat,Design!$BB$64:$BK$87))))","v":6},{"$f":"SUM(IF($A16=SoilCat,IF($B16=DrainCat,IF(M$3=ESALCat,Design!$BB$64:$BK$87))))","v":6},{"$f":"SUM(IF($A16=SoilCat,IF($B16=DrainCat,IF(N$3=ESALCat,Design!$BB$64:$BK$87))))","v":8},{"$f":"SUM(IF($A16=SoilCat,IF($B16=DrainCat,IF(O$3=ESALCat,Design!$BB$64:$BK$87))))","v":6}]
[1,"Poor",null,null,"Unbound Dense Graded Subbase",{"$f":"SUM(IF($A17=SoilCat,IF($B17=DrainCat,IF(F$3=ESALCat,Design!$BV$64:$CE$87))))","v":0},{"$f":"SUM(IF($A17=SoilCat,IF($B17=DrainCat,IF(G$3=ESALCat,Design!$BV$64:$CE$87))))","v":0},{"$f":"SUM(IF($A17=SoilCat,IF($B17=DrainCat,IF(H$3=ESALCat,Design!$BV$64:$CE$87))))","v":0},{"$f":"SUM(IF($A17=SoilCat,IF($B17=DrainCat,IF(I$3=ESALCat,Design!$BV$64:$CE$87))))","v":0},{"$f":"SUM(IF($A17=SoilCat,IF($B17=DrainCat,IF(J$3=ESALCat,Design!$BV$64:$CE$87))))","v":0},{"$f":"SUM(IF($A17=SoilCat,IF($B17=DrainCat,IF(K$3=ESALCat,Design!$BV$64:$CE$87))))","v":0},{"$f":"SUM(IF($A17=SoilCat,IF($B17=DrainCat,IF(L$3=ESALCat,Design!$BV$64:$CE$87))))","v":0},{"$f":"SUM(IF($A17=SoilCat,IF($B17=DrainCat,IF(M$3=ESALCat,Design!$BV$64:$CE$87))))","v":0},{"$f":"SUM(IF($A17=SoilCat,IF($B17=DrainCat,IF(N$3=ESALCat,Design!$BV$64:$CE$87))))","v":0},{"$f":"SUM(IF($A17=SoilCat,IF($B17=DrainCat,IF(O$3=ESALCat,Design!$BV$64:$CE$87))))","v":7}]
[2,"Good","Category 2","Good","Pavers and Bedding",{"$f":"SUM(IF($A18=SoilCat,IF($B18=DrainCat,IF(F$3=ESALCat,Design!$N$64:$W$87))))","v":4.125},{"$f":"SUM(IF($A18=SoilCat,IF($B18=DrainCat,IF(G$3=ESALCat,Design!$N$64:$W$87))))","v":4.125},{"$f":"SUM(IF($A18=SoilCat,IF($B18=DrainCat,IF(H$3=ESALCat,Design!$N$64:$W$87))))","v":4.125},{"$f":"SUM(IF($A18=SoilCat,IF($B18=DrainCat,IF(I$3=ESALCat,Design!$N$64:$W$87))))","v":4.125},{"$f":"SUM(IF($A18=SoilCat,IF($B18=DrainCat,IF(J$3=ESALCat,Design!$N$64:$W$87))))","v":4.125},{"$f":"SUM(IF($A18=SoilCat,IF($B18=DrainCat,IF(K$3=ESALCat,Design!$N$64:$W$87))))","v":4.125},{"$f":"SUM(IF($A18=SoilCat,IF($B18=DrainCat,IF(L$3=ESALCat,Design!$N$64:$W$87))))","v":4.125},{"$f":"SUM(IF($A18=SoilCat,IF($B18=DrainCat,IF(M$3=ESALCat,Design!$N$64:$W$87))))","v":4.125},{"$f":"SUM(IF($A18=SoilCat,IF($B18=DrainCat,IF(N$3=ESALCat,Design!$N$64:$W$87))))","v":4.125},{"$f":"SUM(IF($A18=SoilCat,IF($B18=DrainCat,IF(O$3=ESALCat,Design!$N$64:$W$87))))","v":4.125}]
[2,"Good",null,null,"Cement Treated Base",{"$f":"SUM(IF($A19=SoilCat,IF($B19=DrainCat,IF(F$3=ESALCat,Design!$AH$64:$AQ$87))))","v":4},{"$f":"SUM(IF($A19=SoilCat,IF($B19=DrainCat,IF(G$3=ESALCat,Design!$AH$64:$AQ$87))))","v":4},{"$f":"SUM(IF($A19=SoilCat,IF($B19=DrainCat,IF(H$3=ESALCat,Design!$AH$64:$AQ$87))))","v":4},{"$f":"SUM(IF($A19=SoilCat,IF($B19=DrainCat,IF(I$3=ESALCat,Design!$AH$64:$AQ$87))))","v":4},{"$f":"SUM(IF($A19=SoilCat,IF($B19=DrainCat,IF(J$3=ESALCat,Design!$AH$64:$AQ$87))))","v":4},{"$f":"SUM(IF($A19=SoilCat,IF($B19=DrainCat,IF(K$3=ESALCat,Design!$AH$64:$AQ$87))))","v":4},{"$f":"SUM(IF($A19=SoilCat,IF($B19=DrainCat,IF(L$3=ESALCat,Design!$AH$64:$AQ$87))))","v":4},{"$f":"SUM(IF($A19=SoilCat,IF($B19=DrainCat,IF(M$3=ESALCat,Design!$AH$64:$AQ$87))))","v":4},{"$f":"SUM(IF($A19=SoilCat,IF($B19=DrainCat,IF(N$3=ESALCat,Design!$AH$64:$AQ$87))))","v":4},{"$f":"SUM(IF($A19=SoilCat,IF($B19=DrainCat,IF(O$3=ESALCat,Design!$AH$64:$AQ$87))))","v":4}]
[2,"Good",null,null,"Unbound Dense Graded Base",{"$f":"SUM(IF($A20=SoilCat,IF($B20=DrainCat,IF(F$3=ESALCat,Design!$BB$64:$BK$87))))","v":4},{"$f":"SUM(IF($A20=SoilCat,IF($B20=DrainCat,IF(G$3=ESALCat,Design!$BB$64:$BK$87))))","v":4},{"$f":"SUM(IF($A20=SoilCat,IF($B20=DrainCat,IF(H$3=ESALCat,Design!$BB$64:$BK$87))))","v":4},{"$f":"SUM(IF($A20=SoilCat,IF($B20=DrainCat,IF(I$3=ESALCat,Design!$BB$64:$BK$87))))","v":4},{"$f":"SUM(IF($A20=SoilCat,IF($B20=DrainCat,IF(J$3=ESALCat,Design!$BB$64:$BK$87))))","v":4},{"$f":"SUM(IF($A20=SoilCat,IF($B20=DrainCat,IF(K$3=ESALCat,Design!$BB$64:$BK$87))))","v":6},{"$f":"SUM(IF($A20=SoilCat,IF($B20=DrainCat,IF(L$3=ESALCat,Design!$BB$64:$BK$87))))","v":6},{"$f":"SUM(IF($A20=SoilCat,IF($B20=DrainCat,IF(M$3=ESALCat,Design!$BB$64:$BK$87))))","v":6},{"$f":"SUM(IF($A20=SoilCat,IF($B20=DrainCat,IF(N$3=ESALCat,Design!$BB$64:$BK$87))))","v":7},{"$f":"SUM(IF($A20=SoilCat,IF($B20=DrainCat,IF(O$3=ESALCat,Design!$BB$64:$BK$87))))","v":6}]
[2,"Good",null,null,"Unbound Dense Graded Subbase",{"$f":"SUM(IF($A21=SoilCat,IF($B21=DrainCat,IF(F$3=ESALCat,Design!$BV$64:$CE$87))))","v":0},{"$f":"SUM(IF($A21=SoilCat,IF($B21=DrainCat,IF(G$3=ESALCat,Design!$BV$64:$CE$87))))","v":0},{"$f":"SUM(IF($A21=SoilCat,IF($B21=DrainCat,IF(H$3=ESALCat,Design!$BV$64:$CE$87))))","v":0},{"$f":"SUM(IF($A21=SoilCat,IF($B21=DrainCat,IF(I$3=ESALCat,Design!$BV$64:$CE$87))))","v":0},{"$f":"SUM(IF($A21=SoilCat,IF($B21=DrainCat,IF(J$3=ESALCat,Design!$BV$64:$CE$87))))","v":0},{"$f":"SUM(IF($A21=SoilCat,IF($B21=DrainCat,IF(K$3=ESALCat,Design!$BV$64:$CE$87))))","v":0},{"$f":"SUM(IF($A21=SoilCat,IF($B21=DrainCat,IF(L$3=ESALCat,Design!$BV$64:$CE$87))))","v":0},{"$f":"SUM(IF($A21=SoilCat,IF($B21=DrainCat,IF(M$3=ESALCat,Design!$BV$64:$CE$87))))","v":0},{"$f":"SUM(IF($A21=SoilCat,IF($B21=DrainCat,IF(N$3=ESALCat,Design!$BV$64:$CE$87))))","v":0},{"$f":"SUM(IF($A21=SoilCat,IF($B21=DrainCat,IF(O$3=ESALCat,Design!$BV$64:$CE$87))))","v":6}]
[2,"Fair",null,"Fair","Pavers and Bedding",{"$f":"SUM(IF($A22=SoilCat,IF($B22=DrainCat,IF(F$3=ESALCat,Design!$N$64:$W$87))))","v":4.125},{"$f":"SUM(IF($A22=SoilCat,IF($B22=DrainCat,IF(G$3=ESALCat,Design!$N$64:$W$87))))","v":4.125},{"$f":"SUM(IF($A22=SoilCat,IF($B22=DrainCat,IF(H$3=ESALCat,Design!$N$64:$W$87))))","v":4.125},{"$f":"SUM(IF($A22=SoilCat,IF($B22=DrainCat,IF(I$3=ESALCat,Design!$N$64:$W$87))))","v":4.125},{"$f":"SUM(IF($A22=SoilCat,IF($B22=DrainCat,IF(J$3=ESALCat,Design!$N$64:$W$87))))","v":4.125},{"$f":"SUM(IF($A22=SoilCat,IF($B22=DrainCat,IF(K$3=ESALCat,Design!$N$64:$W$87))))","v":4.125},{"$f":"SUM(IF($A22=SoilCat,IF($B22=DrainCat,IF(L$3=ESALCat,Design!$N$64:$W$87))))","v":4.125},{"$f":"SUM(IF($A22=SoilCat,IF($B22=DrainCat,IF(M$3=ESALCat,Design!$N$64:$W$87))))","v":4.125},{"$f":"SUM(IF($A22=SoilCat,IF($B22=DrainCat,IF(N$3=ESALCat,Design!$N$64:$W$87))))","v":4.125},{"$f":"SUM(IF($A22=SoilCat,IF($B22=DrainCat,IF(O$3=ESALCat,Design!$N$64:$W$87))))","v":4.125}]
[2,"Fair",null,null,"Cement Treated Base",{"$f":"SUM(IF($A23=SoilCat,IF($B23=DrainCat,IF(F$3=ESALCat,Design!$AH$64:$AQ$87))))","v":4},{"$f":"SUM(IF($A23=SoilCat,IF($B23=DrainCat,IF(G$3=ESALCat,Design!$AH$64:$AQ$87))))","v":4},{"$f":"SUM(IF($A23=SoilCat,IF($B23=DrainCat,IF(H$3=ESALCat,Design!$AH$64:$AQ$87))))","v":4},{"$f":"SUM(IF($A23=SoilCat,IF($B23=DrainCat,IF(I$3=ESALCat,Design!$AH$64:$AQ$87))))","v":4},{"$f":"SUM(IF($A23=SoilCat,IF($B23=DrainCat,IF(J$3=ESALCat,Design!$AH$64:$AQ$87))))","v":4},{"$f":"SUM(IF($A23=SoilCat,IF($B23=DrainCat,IF(K$3=ESALCat,Design!$AH$64:$AQ$87))))","v":4},{"$f":"SUM(IF($A23=SoilCat,IF($B23=DrainCat,IF(L$3=ESALCat,Design!$AH$64:$AQ$87))))","v":4},{"$f":"SUM(IF($A23=SoilCat,IF($B23=DrainCat,IF(M$3=ESALCat,Design!$AH$64:$AQ$87))))","v":4},{"$f":"SUM(IF($A23=SoilCat,IF($B23=DrainCat,IF(N$3=ESALCat,Design!$AH$64:$AQ$87))))","v":4},{"$f":"SUM(IF($A23=SoilCat,IF($B23=DrainCat,IF(O$3=ESALCat,Design!$AH$64:$AQ$87))))","v":4}]
[2,"Fair",null,null,"Unbound Dense Graded Base",{"$f":"SUM(IF($A24=SoilCat,IF($B24=DrainCat,IF(F$3=ESALCat,Design!$BB$64:$BK$87))))","v":4},{"$f":"SUM(IF($A24=SoilCat,IF($B24=DrainCat,IF(G$3=ESALCat,Design!$BB$64:$BK$87))))","v":4},{"$f":"SUM(IF($A24=SoilCat,IF($B24=DrainCat,IF(H$3=ESALCat,Design!$BB$64:$BK$87))))","v":4},{"$f":"SUM(IF($A24=SoilCat,IF($B24=DrainCat,IF(I$3=ESALCat,Design!$BB$64:$BK$87))))","v":4},{"$f":"SUM(IF($A24=SoilCat,IF($B24=DrainCat,IF(J$3=ESALCat,Design!$BB$64:$BK$87))))","v":4},{"$f":"SUM(IF($A24=SoilCat,IF($B24=DrainCat,IF(K$3=ESALCat,Design!$BB$64:$BK$87))))","v":6},{"$f":"SUM(IF($A24=SoilCat,IF($B24=DrainCat,IF(L$3=ESALCat,Design!$BB$64:$BK$87))))","v":6},{"$f":"SUM(IF($A24=SoilCat,IF($B24=DrainCat,IF(M$3=ESALCat,Design!$BB$64:$BK$87))))","v":6},{"$f":"SUM(IF($A24=SoilCat,IF($B24=DrainCat,IF(N$3=ESALCat,Design!$BB$64:$BK$87))))","v":8},{"$f":"SUM(IF($A24=SoilCat,IF($B24=DrainCat,IF(O$3=ESALCat,Design!$BB$64:$BK$87))))","v":6}]
[2,"Fair",null,null,"Unbound Dense Graded Subbase",{"$f":"SUM(IF($A25=SoilCat,IF($B25=DrainCat,IF(F$3=ESALCat,Design!$BV$64:$CE$87))))","v":0},{"$f":"SUM(IF($A25=SoilCat,IF($B25=DrainCat,IF(G$3=ESALCat,Design!$BV$64:$CE$87))))","v":0},{"$f":"SUM(IF($A25=SoilCat,IF($B25=DrainCat,IF(H$3=ESALCat,Design!$BV$64:$CE$87))))","v":0},{"$f":"SUM(IF($A25=SoilCat,IF($B25=DrainCat,IF(I$3=ESALCat,Design!$BV$64:$CE$87))))","v":0},{"$f":"SUM(IF($A25=SoilCat,IF($B25=DrainCat,IF(J$3=ESALCat,Design!$BV$64:$CE$87))))","v":0},{"$f":"SUM(IF($A25=SoilCat,IF($B25=DrainCat,IF(K$3=ESALCat,Design!$BV$64:$CE$87))))","v":0},{"$f":"SUM(IF($A25=SoilCat,IF($B25=DrainCat,IF(L$3=ESALCat,Design!$BV$64:$CE$87))))","v":0},{"$f":"SUM(IF($A25=SoilCat,IF($B25=DrainCat,IF(M$3=ESALCat,Design!$BV$64:$CE$87))))","v":0},{"$f":"SUM(IF($A25=SoilCat,IF($B25=DrainCat,IF(N$3=ESALCat,Design!$BV$64:$CE$87))))","v":0},{"$f":"SUM(IF($A25=SoilCat,IF($B25=DrainCat,IF(O$3=ESALCat,Design!$BV$64:$CE$87))))","v":7}]
[2,"Poor",null,"Poor","Pavers and Bedding",{"$f":"SUM(IF($A26=SoilCat,IF($B26=DrainCat,IF(F$3=ESALCat,Design!$N$64:$W$87))))","v":4.125},{"$f":"SUM(IF($A26=SoilCat,IF($B26=DrainCat,IF(G$3=ESALCat,Design!$N$64:$W$87))))","v":4.125},{"$f":"SUM(IF($A26=SoilCat,IF($B26=DrainCat,IF(H$3=ESALCat,Design!$N$64:$W$87))))","v":4.125},{"$f":"SUM(IF($A26=SoilCat,IF($B26=DrainCat,IF(I$3=ESALCat,Design!$N$64:$W$87))))","v":4.125},{"$f":"SUM(IF($A26=SoilCat,IF($B26=DrainCat,IF(J$3=ESALCat,Design!$N$64:$W$87))))","v":4.125},{"$f":"SUM(IF($A26=SoilCat,IF($B26=DrainCat,IF(K$3=ESALCat,Design!$N$64:$W$87))))","v":4.125},{"$f":"SUM(IF($A26=SoilCat,IF($B26=DrainCat,IF(L$3=ESALCat,Design!$N$64:$W$87))))","v":4.125},{"$f":"SUM(IF($A26=SoilCat,IF($B26=DrainCat,IF(M$3=ESALCat,Design!$N$64:$W$87))))","v":4.125},{"$f":"SUM(IF($A26=SoilCat,IF($B26=DrainCat,IF(N$3=ESALCat,Design!$N$64:$W$87))))","v":4.125},{"$f":"SUM(IF($A26=SoilCat,IF($B26=DrainCat,IF(O$3=ESALCat,Design!$N$64:$W$87))))","v":4.125}]
[2,"Poor",null,null,"Cement Treated Base",{"$f":"SUM(IF($A27=SoilCat,IF($B27=DrainCat,IF(F$3=ESALCat,Design!$AH$64:$AQ$87))))","v":4},{"$f":"SUM(IF($A27=SoilCat,IF($B27=DrainCat,IF(G$3=ESALCat,Design!$AH$64:$AQ$87))))","v":4},{"$f":"SUM(IF($A27=SoilCat,IF($B27=DrainCat,IF(H$3=ESALCat,Design!$AH$64:$AQ$87))))","v":4},{"$f":"SUM(IF($A27=SoilCat,IF($B27=DrainCat,IF(I$3=ESALCat,Design!$AH$64:$AQ$87))))","v":4},{"$f":"SUM(IF($A27=SoilCat,IF($B27=DrainCat,IF(J$3=ESALCat,Design!$AH$64:$AQ$87))))","v":4},{"$f":"SUM(IF($A27=SoilCat,IF($B27=DrainCat,IF(K$3=ESALCat,Design!$AH$64:$AQ$87))))","v":4},{"$f":"SUM(IF($A27=SoilCat,IF($B27=DrainCat,IF(L$3=ESALCat,Design!$AH$64:$AQ$87))))","v":4},{"$f":"SUM(IF($A27=SoilCat,IF($B27=DrainCat,IF(M$3=ESALCat,Design!$AH$64:$AQ$87))))","v":4},{"$f":"SUM(IF($A27=SoilCat,IF($B27=DrainCat,IF(N$3=ESALCat,Design!$AH$64:$AQ$87))))","v":4},{"$f":"SUM(IF($A27=SoilCat,IF($B27=DrainCat,IF(O$3=ESALCat,Design!$AH$64:$AQ$87))))","v":4}]
[2,"Poor",null,null,"Unbound Dense Graded Base",{"$f":"SUM(IF($A28=SoilCat,IF($B28=DrainCat,IF(F$3=ESALCat,Design!$BB$64:$BK$87))))","v":4},{"$f":"SUM(IF($A28=SoilCat,IF($B28=DrainCat,IF(G$3=ESALCat,Design!$BB$64:$BK$87))))","v":4},{"$f":"SUM(IF($A28=SoilCat,IF($B28=DrainCat,IF(H$3=ESALCat,Design!$BB$64:$BK$87))))","v":4},{"$f":"SUM(IF($A28=SoilCat,IF($B28=DrainCat,IF(I$3=ESALCat,Design!$BB$64:$BK$87))))","v":4},{"$f":"SUM(IF($A28=SoilCat,IF($B28=DrainCat,IF(J$3=ESALCat,Design!$BB$64:$BK$87))))","v":4},{"$f":"SUM(IF($A28=SoilCat,IF($B28=DrainCat,IF(K$3=ESALCat,Design!$BB$64:$BK$87))))","v":6},{"$f":"SUM(IF($A28=SoilCat,IF($B28=DrainCat,IF(L$3=ESALCat,Design!$BB$64:$BK$87))))","v":6},{"$f":"SUM(IF($A28=SoilCat,IF($B28=DrainCat,IF(M$3=ESALCat,Design!$BB$64:$BK$87))))","v":8},{"$f":"SUM(IF($A28=SoilCat,IF($B28=DrainCat,IF(N$3=ESALCat,Design!$BB$64:$BK$87))))","v":6},{"$f":"SUM(IF($A28=SoilCat,IF($B28=DrainCat,IF(O$3=ESALCat,Design!$BB$64:$BK$87))))","v":6}]
[2,"Poor",null,null,"Unbound Dense Graded Subbase",{"$f":"SUM(IF($A29=SoilCat,IF($B29=DrainCat,IF(F$3=ESALCat,Design!$BV$64:$CE$87))))","v":0},{"$f":"SUM(IF($A29=SoilCat,IF($B29=DrainCat,IF(G$3=ESALCat,Design!$BV$64:$CE$87))))","v":0},{"$f":"SUM(IF($A29=SoilCat,IF($B29=DrainCat,IF(H$3=ESALCat,Design!$BV$64:$CE$87))))","v":0},{"$f":"SUM(IF($A29=SoilCat,IF($B29=DrainCat,IF(I$3=ESALCat,Design!$BV$64:$CE$87))))","v":0},{"$f":"SUM(IF($A29=SoilCat,IF($B29=DrainCat,IF(J$3=ESALCat,Design!$BV$64:$CE$87))))","v":0},{"$f":"SUM(IF($A29=SoilCat,IF($B29=DrainCat,IF(K$3=ESALCat,Design!$BV$64:$CE$87))))","v":0},{"$f":"SUM(IF($A29=SoilCat,IF($B29=DrainCat,IF(L$3=ESALCat,Design!$BV$64:$CE$87))))","v":0},{"$f":"SUM(IF($A29=SoilCat,IF($B29=DrainCat,IF(M$3=ESALCat,Design!$BV$64:$CE$87))))","v":0},{"$f":"SUM(IF($A29=SoilCat,IF($B29=DrainCat,IF(N$3=ESALCat,Design!$BV$64:$CE$87))))","v":8},{"$f":"SUM(IF($A29=SoilCat,IF($B29=DrainCat,IF(O$3=ESALCat,Design!$BV$64:$CE$87))))","v":14}]
[3,"Good","Category 3","Good","Pavers and Bedding",{"$f":"SUM(IF($A30=SoilCat,IF($B30=DrainCat,IF(F$3=ESALCat,Design!$N$64:$W$87))))","v":4.125},{"$f":"SUM(IF($A30=SoilCat,IF($B30=DrainCat,IF(G$3=ESALCat,Design!$N$64:$W$87))))","v":4.125},{"$f":"SUM(IF($A30=SoilCat,IF($B30=DrainCat,IF(H$3=ESALCat,Design!$N$64:$W$87))))","v":4.125},{"$f":"SUM(IF($A30=SoilCat,IF($B30=DrainCat,IF(I$3=ESALCat,Design!$N$64:$W$87))))","v":4.125},{"$f":"SUM(IF($A30=SoilCat,IF($B30=DrainCat,IF(J$3=ESALCat,Design!$N$64:$W$87))))","v":4.125},{"$f":"SUM(IF($A30=SoilCat,IF($B30=DrainCat,IF(K$3=ESALCat,Design!$N$64:$W$87))))","v":4.125},{"$f":"SUM(IF($A30=SoilCat,IF($B30=DrainCat,IF(L$3=ESALCat,Design!$N$64:$W$87))))","v":4.125},{"$f":"SUM(IF($A30=SoilCat,IF($B30=DrainCat,IF(M$3=ESALCat,Design!$N$64:$W$87))))","v":4.125},{"$f":"SUM(IF($A30=SoilCat,IF($B30=DrainCat,IF(N$3=ESALCat,Design!$N$64:$W$87))))","v":4.125},{"$f":"SUM(IF($A30=SoilCat,IF($B30=DrainCat,IF(O$3=ESALCat,Design!$N$64:$W$87))))","v":4.125}]
[3,"Good",null,null,"Cement Treated Base",{"$f":"SUM(IF($A31=SoilCat,IF($B31=DrainCat,IF(F$3=ESALCat,Design!$AH$64:$AQ$87))))","v":4},{"$f":"SUM(IF($A31=SoilCat,IF($B31=DrainCat,IF(G$3=ESALCat,Design!$AH$64:$AQ$87))))","v":4},{"$f":"SUM(IF($A31=SoilCat,IF($B31=DrainCat,IF(H$3=ESALCat,Design!$AH$64:$AQ$87))))","v":4},{"$f":"SUM(IF($A31=SoilCat,IF($B31=DrainCat,IF(I$3=ESALCat,Design!$AH$64:$AQ$87))))","v":4},{"$f":"SUM(IF($A31=SoilCat,IF($B31=DrainCat,IF(J$3=ESALCat,Design!$AH$64:$AQ$87))))","v":4},{"$f":"SUM(IF($A31=SoilCat,IF($B31=DrainCat,IF(K$3=ESALCat,Design!$AH$64:$AQ$87))))","v":4},{"$f":"SUM(IF($A31=SoilCat,IF($B31=DrainCat,IF(L$3=ESALCat,Design!$AH$64:$AQ$87))))","v":4},{"$f":"SUM(IF($A31=SoilCat,IF($B31=DrainCat,IF(M$3=ESALCat,Design!$AH$64:$AQ$87))))","v":4},{"$f":"SUM(IF($A31=SoilCat,IF($B31=DrainCat,IF(N$3=ESALCat,Design!$AH$64:$AQ$87))))","v":4},{"$f":"SUM(IF($A31=SoilCat,IF($B31=DrainCat,IF(O$3=ESALCat,Design!$AH$64:$AQ$87))))","v":4}]
[3,"Good",null,null,"Unbound Dense Graded Base",{"$f":"SUM(IF($A32=SoilCat,IF($B32=DrainCat,IF(F$3=ESALCat,Design!$BB$64:$BK$87))))","v":4},{"$f":"SUM(IF($A32=SoilCat,IF($B32=DrainCat,IF(G$3=ESALCat,Design!$BB$64:$BK$87))))","v":4},{"$f":"SUM(IF($A32=SoilCat,IF($B32=DrainCat,IF(H$3=ESALCat,Design!$BB$64:$BK$87))))","v":4},{"$f":"SUM(IF($A32=SoilCat,IF($B32=DrainCat,IF(I$3=ESALCat,Design!$BB$64:$BK$87))))","v":4},{"$f":"SUM(IF($A32=SoilCat,IF($B32=DrainCat,IF(J$3=ESALCat,Design!$BB$64:$BK$87))))","v":4},{"$f":"SUM(IF($A32=SoilCat,IF($B32=DrainCat,IF(K$3=ESALCat,Design!$BB$64:$BK$87))))","v":6},{"$f":"SUM(IF($A32=SoilCat,IF($B32=DrainCat,IF(L$3=ESALCat,Design!$BB$64:$BK$87))))","v":6},{"$f":"SUM(IF($A32=SoilCat,IF($B32=DrainCat,IF(M$3=ESALCat,Design!$BB$64:$BK$87))))","v":6},{"$f":"SUM(IF($A32=SoilCat,IF($B32=DrainCat,IF(N$3=ESALCat,Design!$BB$64:$BK$87))))","v":8},{"$f":"SUM(IF($A32=SoilCat,IF($B32=DrainCat,IF(O$3=ESALCat,Design!$BB$64:$BK$87))))","v":6}]
[3,"Good",null,null,"Unbound Dense Graded Subbase",{"$f":"SUM(IF($A33=SoilCat,IF($B33=DrainCat,IF(F$3=ESALCat,Design!$BV$64:$CE$87))))","v":0},{"$f":"SUM(IF($A33=SoilCat,IF($B33=DrainCat,IF(G$3=ESALCat,Design!$BV$64:$CE$87))))","v":0},{"$f":"SUM(IF($A33=SoilCat,IF($B33=DrainCat,IF(H$3=ESALCat,Design!$BV$64:$CE$87))))","v":0},{"$f":"SUM(IF($A33=SoilCat,IF($B33=DrainCat,IF(I$3=ESALCat,Design!$BV$64:$CE$87))))","v":0},{"$f":"SUM(IF($A33=SoilCat,IF($B33=DrainCat,IF(J$3=ESALCat,Design!$BV$64:$CE$87))))","v":0},{"$f":"SUM(IF($A33=SoilCat,IF($B33=DrainCat,IF(K$3=ESALCat,Design!$BV$64:$CE$87))))","v":0},{"$f":"SUM(IF($A33=SoilCat,IF($B33=DrainCat,IF(L$3=ESALCat,Design!$BV$64:$CE$87))))","v":0},{"$f":"SUM(IF($A33=SoilCat,IF($B33=DrainCat,IF(M$3=ESALCat,Design!$BV$64:$CE$87))))","v":0},{"$f":"SUM(IF($A33=SoilCat,IF($B33=DrainCat,IF(N$3=ESALCat,Design!$BV$64:$CE$87))))","v":0},{"$f":"SUM(IF($A33=SoilCat,IF($B33=DrainCat,IF(O$3=ESALCat,Design!$BV$64:$CE$87))))","v":7}]
[3,"Fair",null,"Fair","Pavers and Bedding",{"$f":"SUM(IF($A34=SoilCat,IF($B34=DrainCat,IF(F$3=ESALCat,Design!$N$64:$W$87))))","v":4.125},{"$f":"SUM(IF($A34=SoilCat,IF($B34=DrainCat,IF(G$3=ESALCat,Design!$N$64:$W$87))))","v":4.125},{"$f":"SUM(IF($A34=SoilCat,IF($B34=DrainCat,IF(H$3=ESALCat,Design!$N$64:$W$87))))","v":4.125},{"$f":"SUM(IF($A34=SoilCat,IF($B34=DrainCat,IF(I$3=ESALCat,Design!$N$64:$W$87))))","v":4.125},{"$f":"SUM(IF($A34=SoilCat,IF($B34=DrainCat,IF(J$3=ESALCat,Design!$N$64:$W$87))))","v":4.125},{"$f":"SUM(IF($A34=SoilCat,IF($B34=DrainCat,IF(K$3=ESALCat,Design!$N$64:$W$87))))","v":4.125},{"$f":"SUM(IF($A34=SoilCat,IF($B34=DrainCat,IF(L$3=ESALCat,Design!$N$64:$W$87))))","v":4.125},{"$f":"SUM(IF($A34=SoilCat,IF($B34=DrainCat,IF(M$3=ESALCat,Design!$N$64:$W$87))))","v":4.125},{"$f":"SUM(IF($A34=SoilCat,IF($B34=DrainCat,IF(N$3=ESALCat,Design!$N$64:$W$87))))","v":4.125},{"$f":"SUM(IF($A34=SoilCat,IF($B34=DrainCat,IF(O$3=ESALCat,Design!$N$64:$W$87))))","v":4.125}]
[3,"Fair",null,null,"Cement Treated Base",{"$f":"SUM(IF($A35=SoilCat,IF($B35=DrainCat,IF(F$3=ESALCat,Design!$AH$64:$AQ$87))))","v":4},{"$f":"SUM(IF($A35=SoilCat,IF($B35=DrainCat,IF(G$3=ESALCat,Design!$AH$64:$AQ$87))))","v":4},{"$f":"SUM(IF($A35=SoilCat,IF($B35=DrainCat,IF(H$3=ESALCat,Design!$AH$64:$AQ$87))))","v":4},{"$f":"SUM(IF($A35=SoilCat,IF($B35=DrainCat,IF(I$3=ESALCat,Design!$AH$64:$AQ$87))))","v":4},{"$f":"SUM(IF($A35=SoilCat,IF($B35=DrainCat,IF(J$3=ESALCat,Design!$AH$64:$AQ$87))))","v":4},{"$f":"SUM(IF($A35=SoilCat,IF($B35=DrainCat,IF(K$3=ESALCat,Design!$AH$64:$AQ$87))))","v":4},{"$f":"SUM(IF($A35=SoilCat,IF($B35=DrainCat,IF(L$3=ESALCat,Design!$AH$64:$AQ$87))))","v":4},{"$f":"SUM(IF($A35=SoilCat,IF($B35=DrainCat,IF(M$3=ESALCat,Design!$AH$64:$AQ$87))))","v":4},{"$f":"SUM(IF($A35=SoilCat,IF($B35=DrainCat,IF(N$3=ESALCat,Design!$AH$64:$AQ$87))))","v":4},{"$f":"SUM(IF($A35=SoilCat,IF($B35=DrainCat,IF(O$3=ESALCat,Design!$AH$64:$AQ$87))))","v":4}]
[3,"Fair",null,null,"Unbound Dense Graded Base",{"$f":"SUM(IF($A36=SoilCat,IF($B36=DrainCat,IF(F$3=ESALCat,Design!$BB$64:$BK$87))))","v":4},{"$f":"SUM(IF($A36=SoilCat,IF($B36=DrainCat,IF(G$3=ESALCat,Design!$BB$64:$BK$87))))","v":4},{"$f":"SUM(IF($A36=SoilCat,IF($B36=DrainCat,IF(H$3=ESALCat,Design!$BB$64:$BK$87))))","v":4},{"$f":"SUM(IF($A36=SoilCat,IF($B36=DrainCat,IF(I$3=ESALCat,Design!$BB$64:$BK$87))))","v":4},{"$f":"SUM(IF($A36=SoilCat,IF($B36=DrainCat,IF(J$3=ESALCat,Design!$BB$64:$BK$87))))","v":4},{"$f":"SUM(IF($A36=SoilCat,IF($B36=DrainCat,IF(K$3=ESALCat,Design!$BB$64:$BK$87))))","v":6},{"$f":"SUM(IF($A36=SoilCat,IF($B36=DrainCat,IF(L$3=ESALCat,Design!$BB$64:$BK$87))))","v":6},{"$f":"SUM(IF($A36=SoilCat,IF($B36=DrainCat,IF(M$3=ESALCat,Design!$BB$64:$BK$87))))","v":6},{"$f":"SUM(IF($A36=SoilCat,IF($B36=DrainCat,IF(N$3=ESALCat,Design!$BB$64:$BK$87))))","v":6},{"$f":"SUM(IF($A36=SoilCat,IF($B36=DrainCat,IF(O$3=ESALCat,Design!$BB$64:$BK$87))))","v":6}]
[3,"Fair",null,null,"Unbound Dense Graded Subbase",{"$f":"SUM(IF($A37=SoilCat,IF($B37=DrainCat,IF(F$3=ESALCat,Design!$BV$64:$CE$87))))","v":0},{"$f":"SUM(IF($A37=SoilCat,IF($B37=DrainCat,IF(G$3=ESALCat,Design!$BV$64:$CE$87))))","v":0},{"$f":"SUM(IF($A37=SoilCat,IF($B37=DrainCat,IF(H$3=ESALCat,Design!$BV$64:$CE$87))))","v":0},{"$f":"SUM(IF($A37=SoilCat,IF($B37=DrainCat,IF(I$3=ESALCat,Design!$BV$64:$CE$87))))","v":0},{"$f":"SUM(IF($A37=SoilCat,IF($B37=DrainCat,IF(J$3=ESALCat,Design!$BV$64:$CE$87))))","v":0},{"$f":"SUM(IF($A37=SoilCat,IF($B37=DrainCat,IF(K$3=ESALCat,Design!$BV$64:$CE$87))))","v":0},{"$f":"SUM(IF($A37=SoilCat,IF($B37=DrainCat,IF(L$3=ESALCat,Design!$BV$64:$CE$87))))","v":0},{"$f":"SUM(IF($A37=SoilCat,IF($B37=DrainCat,IF(M$3=ESALCat,Design!$BV$64:$CE$87))))","v":0},{"$f":"SUM(IF($A37=SoilCat,IF($B37=DrainCat,IF(N$3=ESALCat,Design!$BV$64:$CE$87))))","v":6},{"$f":"SUM(IF($A37=SoilCat,IF($B37=DrainCat,IF(O$3=ESALCat,Design!$BV$64:$CE$87))))","v":11}]
[3,"Poor",null,"Poor","Pavers and Bedding",{"$f":"SUM(IF($A38=SoilCat,IF($B38=DrainCat,IF(F$3=ESALCat,Design!$N$64:$W$87))))","v":4.125},{"$f":"SUM(IF($A38=SoilCat,IF($B38=DrainCat,IF(G$3=ESALCat,Design!$N$64:$W$87))))","v":4.125},{"$f":"SUM(IF($A38=SoilCat,IF($B38=DrainCat,IF(H$3=ESALCat,Design!$N$64:$W$87))))","v":4.125},{"$f":"SUM(IF($A38=SoilCat,IF($B38=DrainCat,IF(I$3=ESALCat,Design!$N$64:$W$87))))","v":4.125},{"$f":"SUM(IF($A38=SoilCat,IF($B38=DrainCat,IF(J$3=ESALCat,Design!$N$64:$W$87))))","v":4.125},{"$f":"SUM(IF($A38=SoilCat,IF($B38=DrainCat,IF(K$3=ESALCat,Design!$N$64:$W$87))))","v":4.125},{"$f":"SUM(IF($A38=SoilCat,IF($B38=DrainCat,IF(L$3=ESALCat,Design!$N$64:$W$87))))","v":4.125},{"$f":"SUM(IF($A38=SoilCat,IF($B38=DrainCat,IF(M$3=ESALCat,Design!$N$64:$W$87))))","v":4.125},{"$f":"SUM(IF($A38=SoilCat,IF($B38=DrainCat,IF(N$3=ESALCat,Design!$N$64:$W$87))))","v":4.125},{"$f":"SUM(IF($A38=SoilCat,IF($B38=DrainCat,IF(O$3=ESALCat,Design!$N$64:$W$87))))","v":4.125}]
[3,"Poor",null,null,"Cement Treated Base",{"$f":"SUM(IF($A39=SoilCat,IF($B39=DrainCat,IF(F$3=ESALCat,Design!$AH$64:$AQ$87))))","v":4},{"$f":"SUM(IF($A39=SoilCat,IF($B39=DrainCat,IF(G$3=ESALCat,Design!$AH$64:$AQ$87))))","v":4},{"$f":"SUM(IF($A39=SoilCat,IF($B39=DrainCat,IF(H$3=ESALCat,Design!$AH$64:$AQ$87))))","v":4},{"$f":"SUM(IF($A39=SoilCat,IF($B39=DrainCat,IF(I$3=ESALCat,Design!$AH$64:$AQ$87))))","v":4},{"$f":"SUM(IF($A39=SoilCat,IF($B39=DrainCat,IF(J$3=ESALCat,Design!$AH$64:$AQ$87))))","v":4},{"$f":"SUM(IF($A39=SoilCat,IF($B39=DrainCat,IF(K$3=ESALCat,Design!$AH$64:$AQ$87))))","v":4},{"$f":"SUM(IF($A39=SoilCat,IF($B39=DrainCat,IF(L$3=ESALCat,Design!$AH$64:$AQ$87))))","v":4},{"$f":"SUM(IF($A39=SoilCat,IF($B39=DrainCat,IF(M$3=ESALCat,Design!$AH$64:$AQ$87))))","v":4},{"$f":"SUM(IF($A39=SoilCat,IF($B39=DrainCat,IF(N$3=ESALCat,Design!$AH$64:$AQ$87))))","v":4},{"$f":"SUM(IF($A39=SoilCat,IF($B39=DrainCat,IF(O$3=ESALCat,Design!$AH$64:$AQ$87))))","v":4}]
[3,"Poor",null,null,"Unbound Dense Graded Base",{"$f":"SUM(IF($A40=SoilCat,IF($B40=DrainCat,IF(F$3=ESALCat,Design!$BB$64:$BK$87))))","v":4},{"$f":"SUM(IF($A40=SoilCat,IF($B40=DrainCat,IF(G$3=ESALCat,Design!$BB$64:$BK$87))))","v":4},{"$f":"SUM(IF($A40=SoilCat,IF($B40=DrainCat,IF(H$3=ESALCat,Design!$BB$64:$BK$87))))","v":4},{"$f":"SUM(IF($A40=SoilCat,IF($B40=DrainCat,IF(I$3=ESALCat,Design!$BB$64:$BK$87))))","v":4},{"$f":"SUM(IF($A40=SoilCat,IF($B40=DrainCat,IF(J$3=ESALCat,Design!$BB$64:$BK$87))))","v":4},{"$f":"SUM(IF($A40=SoilCat,IF($B40=DrainCat,IF(K$3=ESALCat,Design!$BB$64:$BK$87))))","v":6},{"$f":"SUM(IF($A40=SoilCat,IF($B40=DrainCat,IF(L$3=ESALCat,Design!$BB$64:$BK$87))))","v":8},{"$f":"SUM(IF($A40=SoilCat,IF($B40=DrainCat,IF(M$3=ESALCat,Design!$BB$64:$BK$87))))","v":6},{"$f":"SUM(IF($A40=SoilCat,IF($B40=DrainCat,IF(N$3=ESALCat,Design!$BB$64:$BK$87))))","v":6},{"$f":"SUM(IF($A40=SoilCat,IF($B40=DrainCat,IF(O$3=ESALCat,Design!$BB$64:$BK$87))))","v":6}]
[3,"Poor",null,null,"Unbound Dense Graded Subbase",{"$f":"SUM(IF($A41=SoilCat,IF($B41=DrainCat,IF(F$3=ESALCat,Design!$BV$64:$CE$87))))","v":0},{"$f":"SUM(IF($A41=SoilCat,IF($B41=DrainCat,IF(G$3=ESALCat,Design!$BV$64:$CE$87))))","v":0},{"$f":"SUM(IF($A41=SoilCat,IF($B41=DrainCat,IF(H$3=ESALCat,Design!$BV$64:$CE$87))))","v":0},{"$f":"SUM(IF($A41=SoilCat,IF($B41=DrainCat,IF(I$3=ESALCat,Design!$BV$64:$CE$87))))","v":0},{"$f":"SUM(IF($A41=SoilCat,IF($B41=DrainCat,IF(J$3=ESALCat,Design!$BV$64:$CE$87))))","v":0},{"$f":"SUM(IF($A41=SoilCat,IF($B41=DrainCat,IF(K$3=ESALCat,Design!$BV$64:$CE$87))))","v":0},{"$f":"SUM(IF($A41=SoilCat,IF($B41=DrainCat,IF(L$3=ESALCat,Design!$BV$64:$CE$87))))","v":0},{"$f":"SUM(IF($A41=SoilCat,IF($B41=DrainCat,IF(M$3=ESALCat,Design!$BV$64:$CE$87))))","v":7},{"$f":"SUM(IF($A41=SoilCat,IF($B41=DrainCat,IF(N$3=ESALCat,Design!$BV$64:$CE$87))))","v":14},{"$f":"SUM(IF($A41=SoilCat,IF($B41=DrainCat,IF(O$3=ESALCat,Design!$BV$64:$CE$87))))","v":20}]
[4,"Good","Category 4","Good","Pavers and Bedding",{"$f":"SUM(IF($A42=SoilCat,IF($B42=DrainCat,IF(F$3=ESALCat,Design!$N$64:$W$87))))","v":4.125},{"$f":"SUM(IF($A42=SoilCat,IF($B42=DrainCat,IF(G$3=ESALCat,Design!$N$64:$W$87))))","v":4.125},{"$f":"SUM(IF($A42=SoilCat,IF($B42=DrainCat,IF(H$3=ESALCat,Design!$N$64:$W$87))))","v":4.125},{"$f":"SUM(IF($A42=SoilCat,IF($B42=DrainCat,IF(I$3=ESALCat,Design!$N$64:$W$87))))","v":4.125},{"$f":"SUM(IF($A42=SoilCat,IF($B42=DrainCat,IF(J$3=ESALCat,Design!$N$64:$W$87))))","v":4.125},{"$f":"SUM(IF($A42=SoilCat,IF($B42=DrainCat,IF(K$3=ESALCat,Design!$N$64:$W$87))))","v":4.125},{"$f":"SUM(IF($A42=SoilCat,IF($B42=DrainCat,IF(L$3=ESALCat,Design!$N$64:$W$87))))","v":4.125},{"$f":"SUM(IF($A42=SoilCat,IF($B42=DrainCat,IF(M$3=ESALCat,Design!$N$64:$W$87))))","v":4.125},{"$f":"SUM(IF($A42=SoilCat,IF($B42=DrainCat,IF(N$3=ESALCat,Design!$N$64:$W$87))))","v":4.125},{"$f":"SUM(IF($A42=SoilCat,IF($B42=DrainCat,IF(O$3=ESALCat,Design!$N$64:$W$87))))","v":4.125}]
[4,"Good",null,null,"Cement Treated Base",{"$f":"SUM(IF($A43=SoilCat,IF($B43=DrainCat,IF(F$3=ESALCat,Design!$AH$64:$AQ$87))))","v":4},{"$f":"SUM(IF($A43=SoilCat,IF($B43=DrainCat,IF(G$3=ESALCat,Design!$AH$64:$AQ$87))))","v":4},{"$f":"SUM(IF($A43=SoilCat,IF($B43=DrainCat,IF(H$3=ESALCat,Design!$AH$64:$AQ$87))))","v":4},{"$f":"SUM(IF($A43=SoilCat,IF($B43=DrainCat,IF(I$3=ESALCat,Design!$AH$64:$AQ$87))))","v":4},{"$f":"SUM(IF($A43=SoilCat,IF($B43=DrainCat,IF(J$3=ESALCat,Design!$AH$64:$AQ$87))))","v":4},{"$f":"SUM(IF($A43=SoilCat,IF($B43=DrainCat,IF(K$3=ESALCat,Design!$AH$64:$AQ$87))))","v":4},{"$f":"SUM(IF($A43=SoilCat,IF($B43=DrainCat,IF(L$3=ESALCat,Design!$AH$64:$AQ$87))))","v":4},{"$f":"SUM(IF($A43=SoilCat,IF($B43=DrainCat,IF(M$3=ESALCat,Design!$AH$64:$AQ$87))))","v":4},{"$f":"SUM(IF($A43=SoilCat,IF($B43=DrainCat,IF(N$3=ESALCat,Design!$AH$64:$AQ$87))))","v":4},{"$f":"SUM(IF($A43=SoilCat,IF($B43=DrainCat,IF(O$3=ESALCat,Design!$AH$64:$AQ$87))))","v":4}]
[4,"Good",null,null,"Unbound Dense Graded Base",{"$f":"SUM(IF($A44=SoilCat,IF($B44=DrainCat,IF(F$3=ESALCat,Design!$BB$64:$BK$87))))","v":4},{"$f":"SUM(IF($A44=SoilCat,IF($B44=DrainCat,IF(G$3=ESALCat,Design!$BB$64:$BK$87))))","v":4},{"$f":"SUM(IF($A44=SoilCat,IF($B44=DrainCat,IF(H$3=ESALCat,Design!$BB$64:$BK$87))))","v":4},{"$f":"SUM(IF($A44=SoilCat,IF($B44=DrainCat,IF(I$3=ESALCat,Design!$BB$64:$BK$87))))","v":4},{"$f":"SUM(IF($A44=SoilCat,IF($B44=DrainCat,IF(J$3=ESALCat,Design!$BB$64:$BK$87))))","v":4},{"$f":"SUM(IF($A44=SoilCat,IF($B44=DrainCat,IF(K$3=ESALCat,Design!$BB$64:$BK$87))))","v":6},{"$f":"SUM(IF($A44=SoilCat,IF($B44=DrainCat,IF(L$3=ESALCat,Design!$BB$64:$BK$87))))","v":6},{"$f":"SUM(IF($A44=SoilCat,IF($B44=DrainCat,IF(M$3=ESALCat,Design!$BB$64:$BK$87))))","v":6},{"$f":"SUM(IF($A44=SoilCat,IF($B44=DrainCat,IF(N$3=ESALCat,Design!$BB$64:$BK$87))))","v":6},{"$f":"SUM(IF($A44=SoilCat,IF($B44=DrainCat,IF(O$3=ESALCat,Design!$BB$64:$BK$87))))","v":6}]
[4,"Good",null,null,"Unbound Dense Graded Subbase",{"$f":"SUM(IF($A45=SoilCat,IF($B45=DrainCat,IF(F$3=ESALCat,Design!$BV$64:$CE$87))))","v":0},{"$f":"SUM(IF($A45=SoilCat,IF($B45=DrainCat,IF(G$3=ESALCat,Design!$BV$64:$CE$87))))","v":0},{"$f":"SUM(IF($A45=SoilCat,IF($B45=DrainCat,IF(H$3=ESALCat,Design!$BV$64:$CE$87))))","v":0},{"$f":"SUM(IF($A45=SoilCat,IF($B45=DrainCat,IF(I$3=ESALCat,Design!$BV$64:$CE$87))))","v":0},{"$f":"SUM(IF($A45=SoilCat,IF($B45=DrainCat,IF(J$3=ESALCat,Design!$BV$64:$CE$87))))","v":0},{"$f":"SUM(IF($A45=SoilCat,IF($B45=DrainCat,IF(K$3=ESALCat,Design!$BV$64:$CE$87))))","v":0},{"$f":"SUM(IF($A45=SoilCat,IF($B45=DrainCat,IF(L$3=ESALCat,Design!$BV$64:$CE$87))))","v":0},{"$f":"SUM(IF($A45=SoilCat,IF($B45=DrainCat,IF(M$3=ESALCat,Design!$BV$64:$CE$87))))","v":0},{"$f":"SUM(IF($A45=SoilCat,IF($B45=DrainCat,IF(N$3=ESALCat,Design!$BV$64:$CE$87))))","v":6},{"$f":"SUM(IF($A45=SoilCat,IF($B45=DrainCat,IF(O$3=ESALCat,Design!$BV$64:$CE$87))))","v":11}]
[4,"Fair",null,"Fair","Pavers and Bedding",{"$f":"SUM(IF($A46=SoilCat,IF($B46=DrainCat,IF(F$3=ESALCat,Design!$N$64:$W$87))))","v":4.125},{"$f":"SUM(IF($A46=SoilCat,IF($B46=DrainCat,IF(G$3=ESALCat,Design!$N$64:$W$87))))","v":4.125},{"$f":"SUM(IF($A46=SoilCat,IF($B46=DrainCat,IF(H$3=ESALCat,Design!$N$64:$W$87))))","v":4.125},{"$f":"SUM(IF($A46=SoilCat,IF($B46=DrainCat,IF(I$3=ESALCat,Design!$N$64:$W$87))))","v":4.125},{"$f":"SUM(IF($A46=SoilCat,IF($B46=DrainCat,IF(J$3=ESALCat,Design!$N$64:$W$87))))","v":4.125},{"$f":"SUM(IF($A46=SoilCat,IF($B46=DrainCat,IF(K$3=ESALCat,Design!$N$64:$W$87))))","v":4.125},{"$f":"SUM(IF($A46=SoilCat,IF($B46=DrainCat,IF(L$3=ESALCat,Design!$N$64:$W$87))))","v":4.125},{"$f":"SUM(IF($A46=SoilCat,IF($B46=DrainCat,IF(M$3=ESALCat,Design!$N$64:$W$87))))","v":4.125},{"$f":"SUM(IF($A46=SoilCat,IF($B46=DrainCat,IF(N$3=ESALCat,Design!$N$64:$W$87))))","v":4.125},{"$f":"SUM(IF($A46=SoilCat,IF($B46=DrainCat,IF(O$3=ESALCat,Design!$N$64:$W$87))))","v":4.125}]
[4,"Fair",null,null,"Cement Treated Base",{"$f":"SUM(IF($A47=SoilCat,IF($B47=DrainCat,IF(F$3=ESALCat,Design!$AH$64:$AQ$87))))","v":4},{"$f":"SUM(IF($A47=SoilCat,IF($B47=DrainCat,IF(G$3=ESALCat,Design!$AH$64:$AQ$87))))","v":4},{"$f":"SUM(IF($A47=SoilCat,IF($B47=DrainCat,IF(H$3=ESALCat,Design!$AH$64:$AQ$87))))","v":4},{"$f":"SUM(IF($A47=SoilCat,IF($B47=DrainCat,IF(I$3=ESALCat,Design!$AH$64:$AQ$87))))","v":4},{"$f":"SUM(IF($A47=SoilCat,IF($B47=DrainCat,IF(J$3=ESALCat,Design!$AH$64:$AQ$87))))","v":4},{"$f":"SUM(IF($A47=SoilCat,IF($B47=DrainCat,IF(K$3=ESALCat,Design!$AH$64:$AQ$87))))","v":4},{"$f":"SUM(IF($A47=SoilCat,IF($B47=DrainCat,IF(L$3=ESALCat,Design!$AH$64:$AQ$87))))","v":4},{"$f":"SUM(IF($A47=SoilCat,IF($B47=DrainCat,IF(M$3=ESALCat,Design!$AH$64:$AQ$87))))","v":4},{"$f":"SUM(IF($A47=SoilCat,IF($B47=DrainCat,IF(N$3=ESALCat,Design!$AH$64:$AQ$87))))","v":4},{"$f":"SUM(IF($A47=SoilCat,IF($B47=DrainCat,IF(O$3=ESALCat,Design!$AH$64:$AQ$87))))","v":4}]
[4,"Fair",null,null,"Unbound Dense Graded Base",{"$f":"SUM(IF($A48=SoilCat,IF($B48=DrainCat,IF(F$3=ESALCat,Design!$BB$64:$BK$87))))","v":4},{"$f":"SUM(IF($A48=SoilCat,IF($B48=DrainCat,IF(G$3=ESALCat,Design!$BB$64:$BK$87))))","v":4},{"$f":"SUM(IF($A48=SoilCat,IF($B48=DrainCat,IF(H$3=ESALCat,Design!$BB$64:$BK$87))))","v":4},{"$f":"SUM(IF($A48=SoilCat,IF($B48=DrainCat,IF(I$3=ESALCat,Design!$BB$64:$BK$87))))","v":4},{"$f":"SUM(IF($A48=SoilCat,IF($B48=DrainCat,IF(J$3=ESALCat,Design!$BB$64:$BK$87))))","v":4},{"$f":"SUM(IF($A48=SoilCat,IF($B48=DrainCat,IF(K$3=ESALCat,Design!$BB$64:$BK$87))))","v":6},{"$f":"SUM(IF($A48=SoilCat,IF($B48=DrainCat,IF(L$3=ESALCat,Design!$BB$64:$BK$87))))","v":8},{"$f":"SUM(IF($A48=SoilCat,IF($B48=DrainCat,IF(M$3=ESALCat,Design!$BB$64:$BK$87))))","v":6},{"$f":"SUM(IF($A48=SoilCat,IF($B48=DrainCat,IF(N$3=ESALCat,Design!$BB$64:$BK$87))))","v":6},{"$f":"SUM(IF($A48=SoilCat,IF($B48=DrainCat,IF(O$3=ESALCat,Design!$BB$64:$BK$87))))","v":6}]
[4,"Fair",null,null,"Unbound Dense Graded Subbase",{"$f":"SUM(IF($A49=SoilCat,IF($B49=DrainCat,IF(F$3=ESALCat,Design!$BV$64:$CE$87))))","v":0},{"$f":"SUM(IF($A49=SoilCat,IF($B49=DrainCat,IF(G$3=ESALCat,Design!$BV$64:$CE$87))))","v":0},{"$f":"SUM(IF($A49=SoilCat,IF($B49=DrainCat,IF(H$3=ESALCat,Design!$BV$64:$CE$87))))","v":0},{"$f":"SUM(IF($A49=SoilCat,IF($B49=DrainCat,IF(I$3=ESALCat,Design!$BV$64:$CE$87))))","v":0},{"$f":"SUM(IF($A49=SoilCat,IF($B49=DrainCat,IF(J$3=ESALCat,Design!$BV$64:$CE$87))))","v":0},{"$f":"SUM(IF($A49=SoilCat,IF($B49=DrainCat,IF(K$3=ESALCat,Design!$BV$64:$CE$87))))","v":0},{"$f":"SUM(IF($A49=SoilCat,IF($B49=DrainCat,IF(L$3=ESALCat,Design!$BV$64:$CE$87))))","v":0},{"$f":"SUM(IF($A49=SoilCat,IF($B49=DrainCat,IF(M$3=ESALCat,Design!$BV$64:$CE$87))))","v":7},{"$f":"SUM(IF($A49=SoilCat,IF($B49=DrainCat,IF(N$3=ESALCat,Design!$BV$64:$CE$87))))","v":14},{"$f":"SUM(IF($A49=SoilCat,IF($B49=DrainCat,IF(O$3=ESALCat,Design!$BV$64:$CE$87))))","v":20}]
[4,"Poor",null,"Poor","Pavers and Bedding",{"$f":"SUM(IF($A50=SoilCat,IF($B50=DrainCat,IF(F$3=ESALCat,Design!$N$64:$W$87))))","v":4.125},{"$f":"SUM(IF($A50=SoilCat,IF($B50=DrainCat,IF(G$3=ESALCat,Design!$N$64:$W$87))))","v":4.125},{"$f":"SUM(IF($A50=SoilCat,IF($B50=DrainCat,IF(H$3=ESALCat,Design!$N$64:$W$87))))","v":4.125},{"$f":"SUM(IF($A50=SoilCat,IF($B50=DrainCat,IF(I$3=ESALCat,Design!$N$64:$W$87))))","v":4.125},{"$f":"SUM(IF($A50=SoilCat,IF($B50=DrainCat,IF(J$3=ESALCat,Design!$N$64:$W$87))))","v":4.125},{"$f":"SUM(IF($A50=SoilCat,IF($B50=DrainCat,IF(K$3=ESALCat,Design!$N$64:$W$87))))","v":4.125},{"$f":"SUM(IF($A50=SoilCat,IF($B50=DrainCat,IF(L$3=ESALCat,Design!$N$64:$W$87))))","v":4.125},{"$f":"SUM(IF($A50=SoilCat,IF($B50=DrainCat,IF(M$3=ESALCat,Design!$N$64:$W$87))))","v":4.125},{"$f":"SUM(IF($A50=SoilCat,IF($B50=DrainCat,IF(N$3=ESALCat,Design!$N$64:$W$87))))","v":4.125},{"$f":"SUM(IF($A50=SoilCat,IF($B50=DrainCat,IF(O$3=ESALCat,Design!$N$64:$W$87))))","v":4.125}]
[4,"Poor",null,null,"Cement Treated Base",{"$f":"SUM(IF($A51=SoilCat,IF($B51=DrainCat,IF(F$3=ESALCat,Design!$AH$64:$AQ$87))))","v":4},{"$f":"SUM(IF($A51=SoilCat,IF($B51=DrainCat,IF(G$3=ESALCat,Design!$AH$64:$AQ$87))))","v":4},{"$f":"SUM(IF($A51=SoilCat,IF($B51=DrainCat,IF(H$3=ESALCat,Design!$AH$64:$AQ$87))))","v":4},{"$f":"SUM(IF($A51=SoilCat,IF($B51=DrainCat,IF(I$3=ESALCat,Design!$AH$64:$AQ$87))))","v":4},{"$f":"SUM(IF($A51=SoilCat,IF($B51=DrainCat,IF(J$3=ESALCat,Design!$AH$64:$AQ$87))))","v":4},{"$f":"SUM(IF($A51=SoilCat,IF($B51=DrainCat,IF(K$3=ESALCat,Design!$AH$64:$AQ$87))))","v":4},{"$f":"SUM(IF($A51=SoilCat,IF($B51=DrainCat,IF(L$3=ESALCat,Design!$AH$64:$AQ$87))))","v":4},{"$f":"SUM(IF($A51=SoilCat,IF($B51=DrainCat,IF(M$3=ESALCat,Design!$AH$64:$AQ$87))))","v":4},{"$f":"SUM(IF($A51=SoilCat,IF($B51=DrainCat,IF(N$3=ESALCat,Design!$AH$64:$AQ$87))))","v":4},{"$f":"SUM(IF($A51=SoilCat,IF($B51=DrainCat,IF(O$3=ESALCat,Design!$AH$64:$AQ$87))))","v":4}]
[4,"Poor",null,null,"Unbound Dense Graded Base",{"$f":"SUM(IF($A52=SoilCat,IF($B52=DrainCat,IF(F$3=ESALCat,Design!$BB$64:$BK$87))))","v":4},{"$f":"SUM(IF($A52=SoilCat,IF($B52=DrainCat,IF(G$3=ESALCat,Design!$BB$64:$BK$87))))","v":4},{"$f":"SUM(IF($A52=SoilCat,IF($B52=DrainCat,IF(H$3=ESALCat,Design!$BB$64:$BK$87))))","v":4},{"$f":"SUM(IF($A52=SoilCat,IF($B52=DrainCat,IF(I$3=ESALCat,Design!$BB$64:$BK$87))))","v":4},{"$f":"SUM(IF($A52=SoilCat,IF($B52=DrainCat,IF(J$3=ESALCat,Design!$BB$64:$BK$87))))","v":4},{"$f":"SUM(IF($A52=SoilCat,IF($B52=DrainCat,IF(K$3=ESALCat,Design!$BB$64:$BK$87))))","v":6},{"$f":"SUM(IF($A52=SoilCat,IF($B52=DrainCat,IF(L$3=ESALCat,Design!$BB$64:$BK$87))))","v":6},{"$f":"SUM(IF($A52=SoilCat,IF($B52=DrainCat,IF(M$3=ESALCat,Design!$BB$64:$BK$87))))","v":6},{"$f":"SUM(IF($A52=SoilCat,IF($B52=DrainCat,IF(N$3=ESALCat,Design!$BB$64:$BK$87))))","v":6},{"$f":"SUM(IF($A52=SoilCat,IF($B52=DrainCat,IF(O$3=ESALCat,Design!$BB$64:$BK$87))))","v":6}]
[4,"Poor",null,null,"Unbound Dense Graded Subbase",{"$f":"SUM(IF($A53=SoilCat,IF($B53=DrainCat,IF(F$3=ESALCat,Design!$BV$64:$CE$87))))","v":0},{"$f":"SUM(IF($A53=SoilCat,IF($B53=DrainCat,IF(G$3=ESALCat,Design!$BV$64:$CE$87))))","v":0},{"$f":"SUM(IF($A53=SoilCat,IF($B53=DrainCat,IF(H$3=ESALCat,Design!$BV$64:$CE$87))))","v":0},{"$f":"SUM(IF($A53=SoilCat,IF($B53=DrainCat,IF(I$3=ESALCat,Design!$BV$64:$CE$87))))","v":0},{"$f":"SUM(IF($A53=SoilCat,IF($B53=DrainCat,IF(J$3=ESALCat,Design!$BV$64:$CE$87))))","v":0},{"$f":"SUM(IF($A53=SoilCat,IF($B53=DrainCat,IF(K$3=ESALCat,Design!$BV$64:$CE$87))))","v":0},{"$f":"SUM(IF($A53=SoilCat,IF($B53=DrainCat,IF(L$3=ESALCat,Design!$BV$64:$CE$87))))","v":6},{"$f":"SUM(IF($A53=SoilCat,IF($B53=DrainCat,IF(M$3=ESALCat,Design!$BV$64:$CE$87))))","v":9},{"$f":"SUM(IF($A53=SoilCat,IF($B53=DrainCat,IF(N$3=ESALCat,Design!$BV$64:$CE$87))))","v":16},{"$f":"SUM(IF($A53=SoilCat,IF($B53=DrainCat,IF(O$3=ESALCat,Design!$BV$64:$CE$87))))","v":22}]
[5,"Good","Category 5","Good","Pavers and Bedding",{"$f":"SUM(IF($A54=SoilCat,IF($B54=DrainCat,IF(F$3=ESALCat,Design!$N$64:$W$87))))","v":4.125},{"$f":"SUM(IF($A54=SoilCat,IF($B54=DrainCat,IF(G$3=ESALCat,Design!$N$64:$W$87))))","v":4.125},{"$f":"SUM(IF($A54=SoilCat,IF($B54=DrainCat,IF(H$3=ESALCat,Design!$N$64:$W$87))))","v":4.125},{"$f":"SUM(IF($A54=SoilCat,IF($B54=DrainCat,IF(I$3=ESALCat,Design!$N$64:$W$87))))","v":4.125},{"$f":"SUM(IF($A54=SoilCat,IF($B54=DrainCat,IF(J$3=ESALCat,Design!$N$64:$W$87))))","v":4.125},{"$f":"SUM(IF($A54=SoilCat,IF($B54=DrainCat,IF(K$3=ESALCat,Design!$N$64:$W$87))))","v":4.125},{"$f":"SUM(IF($A54=SoilCat,IF($B54=DrainCat,IF(L$3=ESALCat,Design!$N$64:$W$87))))","v":4.125},{"$f":"SUM(IF($A54=SoilCat,IF($B54=DrainCat,IF(M$3=ESALCat,Design!$N$64:$W$87))))","v":4.125},{"$f":"SUM(IF($A54=SoilCat,IF($B54=DrainCat,IF(N$3=ESALCat,Design!$N$64:$W$87))))","v":4.125},{"$f":"SUM(IF($A54=SoilCat,IF($B54=DrainCat,IF(O$3=ESALCat,Design!$N$64:$W$87))))","v":4.125}]
[5,"Good",null,null,"Cement Treated Base",{"$f":"SUM(IF($A55=SoilCat,IF($B55=DrainCat,IF(F$3=ESALCat,Design!$AH$64:$AQ$87))))","v":4},{"$f":"SUM(IF($A55=SoilCat,IF($B55=DrainCat,IF(G$3=ESALCat,Design!$AH$64:$AQ$87))))","v":4},{"$f":"SUM(IF($A55=SoilCat,IF($B55=DrainCat,IF(H$3=ESALCat,Design!$AH$64:$AQ$87))))","v":4},{"$f":"SUM(IF($A55=SoilCat,IF($B55=DrainCat,IF(I$3=ESALCat,Design!$AH$64:$AQ$87))))","v":4},{"$f":"SUM(IF($A55=SoilCat,IF($B55=DrainCat,IF(J$3=ESALCat,Design!$AH$64:$AQ$87))))","v":4},{"$f":"SUM(IF($A55=SoilCat,IF($B55=DrainCat,IF(K$3=ESALCat,Design!$AH$64:$AQ$87))))","v":4},{"$f":"SUM(IF($A55=SoilCat,IF($B55=DrainCat,IF(L$3=ESALCat,Design!$AH$64:$AQ$87))))","v":4},{"$f":"SUM(IF($A55=SoilCat,IF($B55=DrainCat,IF(M$3=ESALCat,Design!$AH$64:$AQ$87))))","v":4},{"$f":"SUM(IF($A55=SoilCat,IF($B55=DrainCat,IF(N$3=ESALCat,Design!$AH$64:$AQ$87))))","v":4},{"$f":"SUM(IF($A55=SoilCat,IF($B55=DrainCat,IF(O$3=ESALCat,Design!$AH$64:$AQ$87))))","v":4}]
[5,"Good",null,null,"Unbound Dense Graded Base",{"$f":"SUM(IF($A56=SoilCat,IF($B56=DrainCat,IF(F$3=ESALCat,Design!$BB$64:$BK$87))))","v":4},{"$f":"SUM(IF($A56=SoilCat,IF($B56=DrainCat,IF(G$3=ESALCat,Design!$BB$64:$BK$87))))","v":4},{"$f":"SUM(IF($A56=SoilCat,IF($B56=DrainCat,IF(H$3=ESALCat,Design!$BB$64:$BK$87))))","v":4},{"$f":"SUM(IF($A56=SoilCat,IF($B56=DrainCat,IF(I$3=ESALCat,Design!$BB$64:$BK$87))))","v":4},{"$f":"SUM(IF($A56=SoilCat,IF($B56=DrainCat,IF(J$3=ESALCat,Design!$BB$64:$BK$87))))","v":4},{"$f":"SUM(IF($A56=SoilCat,IF($B56=DrainCat,IF(K$3=ESALCat,Design!$BB$64:$BK$87))))","v":6},{"$f":"SUM(IF($A56=SoilCat,IF($B56=DrainCat,IF(L$3=ESALCat,Design!$BB$64:$BK$87))))","v":6},{"$f":"SUM(IF($A56=SoilCat,IF($B56=DrainCat,IF(M$3=ESALCat,Design!$BB$64:$BK$87))))","v":6},{"$f":"SUM(IF($A56=SoilCat,IF($B56=DrainCat,IF(N$3=ESALCat,Design!$BB$64:$BK$87))))","v":6},{"$f":"SUM(IF($A56=SoilCat,IF($B56=DrainCat,IF(O$3=ESALCat,Design!$BB$64:$BK$87))))","v":6}]
[5,"Good",null,null,"Unbound Dense Graded Subbase",{"$f":"SUM(IF($A57=SoilCat,IF($B57=DrainCat,IF(F$3=ESALCat,Design!$BV$64:$CE$87))))","v":0},{"$f":"SUM(IF($A57=SoilCat,IF($B57=DrainCat,IF(G$3=ESALCat,Design!$BV$64:$CE$87))))","v":0},{"$f":"SUM(IF($A57=SoilCat,IF($B57=DrainCat,IF(H$3=ESALCat,Design!$BV$64:$CE$87))))","v":0},{"$f":"SUM(IF($A57=SoilCat,IF($B57=DrainCat,IF(I$3=ESALCat,Design!$BV$64:$CE$87))))","v":0},{"$f":"SUM(IF($A57=SoilCat,IF($B57=DrainCat,IF(J$3=ESALCat,Design!$BV$64:$CE$87))))","v":0},{"$f":"SUM(IF($A57=SoilCat,IF($B57=DrainCat,IF(K$3=ESALCat,Design!$BV$64:$CE$87))))","v":0},{"$f":"SUM(IF($A57=SoilCat,IF($B57=DrainCat,IF(L$3=ESALCat,Design!$BV$64:$CE$87))))","v":0},{"$f":"SUM(IF($A57=SoilCat,IF($B57=DrainCat,IF(M$3=ESALCat,Design!$BV$64:$CE$87))))","v":6},{"$f":"SUM(IF($A57=SoilCat,IF($B57=DrainCat,IF(N$3=ESALCat,Design!$BV$64:$CE$87))))","v":11},{"$f":"SUM(IF($A57=SoilCat,IF($B57=DrainCat,IF(O$3=ESALCat,Design!$BV$64:$CE$87))))","v":16}]
[5,"Fair",null,"Fair","Pavers and Bedding",{"$f":"SUM(IF($A58=SoilCat,IF($B58=DrainCat,IF(F$3=ESALCat,Design!$N$64:$W$87))))","v":4.125},{"$f":"SUM(IF($A58=SoilCat,IF($B58=DrainCat,IF(G$3=ESALCat,Design!$N$64:$W$87))))","v":4.125},{"$f":"SUM(IF($A58=SoilCat,IF($B58=DrainCat,IF(H$3=ESALCat,Design!$N$64:$W$87))))","v":4.125},{"$f":"SUM(IF($A58=SoilCat,IF($B58=DrainCat,IF(I$3=ESALCat,Design!$N$64:$W$87))))","v":4.125},{"$f":"SUM(IF($A58=SoilCat,IF($B58=DrainCat,IF(J$3=ESALCat,Design!$N$64:$W$87))))","v":4.125},{"$f":"SUM(IF($A58=SoilCat,IF($B58=DrainCat,IF(K$3=ESALCat,Design!$N$64:$W$87))))","v":4.125},{"$f":"SUM(IF($A58=SoilCat,IF($B58=DrainCat,IF(L$3=ESALCat,Design!$N$64:$W$87))))","v":4.125},{"$f":"SUM(IF($A58=SoilCat,IF($B58=DrainCat,IF(M$3=ESALCat,Design!$N$64:$W$87))))","v":4.125},{"$f":"SUM(IF($A58=SoilCat,IF($B58=DrainCat,IF(N$3=ESALCat,Design!$N$64:$W$87))))","v":4.125},{"$f":"SUM(IF($A58=SoilCat,IF($B58=DrainCat,IF(O$3=ESALCat,Design!$N$64:$W$87))))","v":4.125}]
[5,"Fair",null,null,"Cement Treated Base",{"$f":"SUM(IF($A59=SoilCat,IF($B59=DrainCat,IF(F$3=ESALCat,Design!$AH$64:$AQ$87))))","v":4},{"$f":"SUM(IF($A59=SoilCat,IF($B59=DrainCat,IF(G$3=ESALCat,Design!$AH$64:$AQ$87))))","v":4},{"$f":"SUM(IF($A59=SoilCat,IF($B59=DrainCat,IF(H$3=ESALCat,Design!$AH$64:$AQ$87))))","v":4},{"$f":"SUM(IF($A59=SoilCat,IF($B59=DrainCat,IF(I$3=ESALCat,Design!$AH$64:$AQ$87))))","v":4},{"$f":"SUM(IF($A59=SoilCat,IF($B59=DrainCat,IF(J$3=ESALCat,Design!$AH$64:$AQ$87))))","v":4},{"$f":"SUM(IF($A59=SoilCat,IF($B59=DrainCat,IF(K$3=ESALCat,Design!$AH$64:$AQ$87))))","v":4},{"$f":"SUM(IF($A59=SoilCat,IF($B59=DrainCat,IF(L$3=ESALCat,Design!$AH$64:$AQ$87))))","v":4},{"$f":"SUM(IF($A59=SoilCat,IF($B59=DrainCat,IF(M$3=ESALCat,Design!$AH$64:$AQ$87))))","v":4},{"$f":"SUM(IF($A59=SoilCat,IF($B59=DrainCat,IF(N$3=ESALCat,Design!$AH$64:$AQ$87))))","v":4},{"$f":"SUM(IF($A59=SoilCat,IF($B59=DrainCat,IF(O$3=ESALCat,Design!$AH$64:$AQ$87))))","v":4}]
[5,"Fair",null,null,"Unbound Dense Graded Base",{"$f":"SUM(IF($A60=SoilCat,IF($B60=DrainCat,IF(F$3=ESALCat,Design!$BB$64:$BK$87))))","v":4},{"$f":"SUM(IF($A60=SoilCat,IF($B60=DrainCat,IF(G$3=ESALCat,Design!$BB$64:$BK$87))))","v":4},{"$f":"SUM(IF($A60=SoilCat,IF($B60=DrainCat,IF(H$3=ESALCat,Design!$BB$64:$BK$87))))","v":4},{"$f":"SUM(IF($A60=SoilCat,IF($B60=DrainCat,IF(I$3=ESALCat,Design!$BB$64:$BK$87))))","v":4},{"$f":"SUM(IF($A60=SoilCat,IF($B60=DrainCat,IF(J$3=ESALCat,Design!$BB$64:$BK$87))))","v":4},{"$f":"SUM(IF($A60=SoilCat,IF($B60=DrainCat,IF(K$3=ESALCat,Design!$BB$64:$BK$87))))","v":6},{"$f":"SUM(IF($A60=SoilCat,IF($B60=DrainCat,IF(L$3=ESALCat,Design!$BB$64:$BK$87))))","v":6},{"$f":"SUM(IF($A60=SoilCat,IF($B60=DrainCat,IF(M$3=ESALCat,Design!$BB$64:$BK$87))))","v":6},{"$f":"SUM(IF($A60=SoilCat,IF($B60=DrainCat,IF(N$3=ESALCat,Design!$BB$64:$BK$87))))","v":6},{"$f":"SUM(IF($A60=SoilCat,IF($B60=DrainCat,IF(O$3=ESALCat,Design!$BB$64:$BK$87))))","v":6}]
[5,"Fair",null,null,"Unbound Dense Graded Subbase",{"$f":"SUM(IF($A61=SoilCat,IF($B61=DrainCat,IF(F$3=ESALCat,Design!$BV$64:$CE$87))))","v":0},{"$f":"SUM(IF($A61=SoilCat,IF($B61=DrainCat,IF(G$3=ESALCat,Design!$BV$64:$CE$87))))","v":0},{"$f":"SUM(IF($A61=SoilCat,IF($B61=DrainCat,IF(H$3=ESALCat,Design!$BV$64:$CE$87))))","v":0},{"$f":"SUM(IF($A61=SoilCat,IF($B61=DrainCat,IF(I$3=ESALCat,Design!$BV$64:$CE$87))))","v":0},{"$f":"SUM(IF($A61=SoilCat,IF($B61=DrainCat,IF(J$3=ESALCat,Design!$BV$64:$CE$87))))","v":0},{"$f":"SUM(IF($A61=SoilCat,IF($B61=DrainCat,IF(K$3=ESALCat,Design!$BV$64:$CE$87))))","v":0},{"$f":"SUM(IF($A61=SoilCat,IF($B61=DrainCat,IF(L$3=ESALCat,Design!$BV$64:$CE$87))))","v":6},{"$f":"SUM(IF($A61=SoilCat,IF($B61=DrainCat,IF(M$3=ESALCat,Design!$BV$64:$CE$87))))","v":9},{"$f":"SUM(IF($A61=SoilCat,IF($B61=DrainCat,IF(N$3=ESALCat,Design!$BV$64:$CE$87))))","v":16},{"$f":"SUM(IF($A61=SoilCat,IF($B61=DrainCat,IF(O$3=ESALCat,Design!$BV$64:$CE$87))))","v":22}]
[5,"Poor",null,"Poor","Pavers and Bedding",{"$f":"SUM(IF($A62=SoilCat,IF($B62=DrainCat,IF(F$3=ESALCat,Design!$N$64:$W$87))))","v":4.125},{"$f":"SUM(IF($A62=SoilCat,IF($B62=DrainCat,IF(G$3=ESALCat,Design!$N$64:$W$87))))","v":4.125},{"$f":"SUM(IF($A62=SoilCat,IF($B62=DrainCat,IF(H$3=ESALCat,Design!$N$64:$W$87))))","v":4.125},{"$f":"SUM(IF($A62=SoilCat,IF($B62=DrainCat,IF(I$3=ESALCat,Design!$N$64:$W$87))))","v":4.125},{"$f":"SUM(IF($A62=SoilCat,IF($B62=DrainCat,IF(J$3=ESALCat,Design!$N$64:$W$87))))","v":4.125},{"$f":"SUM(IF($A62=SoilCat,IF($B62=DrainCat,IF(K$3=ESALCat,Design!$N$64:$W$87))))","v":4.125},{"$f":"SUM(IF($A62=SoilCat,IF($B62=DrainCat,IF(L$3=ESALCat,Design!$N$64:$W$87))))","v":4.125},{"$f":"SUM(IF($A62=SoilCat,IF($B62=DrainCat,IF(M$3=ESALCat,Design!$N$64:$W$87))))","v":4.125},{"$f":"SUM(IF($A62=SoilCat,IF($B62=DrainCat,IF(N$3=ESALCat,Design!$N$64:$W$87))))","v":4.125},{"$f":"SUM(IF($A62=SoilCat,IF($B62=DrainCat,IF(O$3=ESALCat,Design!$N$64:$W$87))))","v":4.125}]
[5,"Poor",null,null,"Cement Treated Base",{"$f":"SUM(IF($A63=SoilCat,IF($B63=DrainCat,IF(F$3=ESALCat,Design!$AH$64:$AQ$87))))","v":4},{"$f":"SUM(IF($A63=SoilCat,IF($B63=DrainCat,IF(G$3=ESALCat,Design!$AH$64:$AQ$87))))","v":4},{"$f":"SUM(IF($A63=SoilCat,IF($B63=DrainCat,IF(H$3=ESALCat,Design!$AH$64:$AQ$87))))","v":4},{"$f":"SUM(IF($A63=SoilCat,IF($B63=DrainCat,IF(I$3=ESALCat,Design!$AH$64:$AQ$87))))","v":4},{"$f":"SUM(IF($A63=SoilCat,IF($B63=DrainCat,IF(J$3=ESALCat,Design!$AH$64:$AQ$87))))","v":4},{"$f":"SUM(IF($A63=SoilCat,IF($B63=DrainCat,IF(K$3=ESALCat,Design!$AH$64:$AQ$87))))","v":4},{"$f":"SUM(IF($A63=SoilCat,IF($B63=DrainCat,IF(L$3=ESALCat,Design!$AH$64:$AQ$87))))","v":4},{"$f":"SUM(IF($A63=SoilCat,IF($B63=DrainCat,IF(M$3=ESALCat,Design!$AH$64:$AQ$87))))","v":4},{"$f":"SUM(IF($A63=SoilCat,IF($B63=DrainCat,IF(N$3=ESALCat,Design!$AH$64:$AQ$87))))","v":4},{"$f":"SUM(IF($A63=SoilCat,IF($B63=DrainCat,IF(O$3=ESALCat,Design!$AH$64:$AQ$87))))","v":4}]
[5,"Poor",null,null,"Unbound Dense Graded Base",{"$f":"SUM(IF($A64=SoilCat,IF($B64=DrainCat,IF(F$3=ESALCat,Design!$BB$64:$BK$87))))","v":4},{"$f":"SUM(IF($A64=SoilCat,IF($B64=DrainCat,IF(G$3=ESALCat,Design!$BB$64:$BK$87))))","v":4},{"$f":"SUM(IF($A64=SoilCat,IF($B64=DrainCat,IF(H$3=ESALCat,Design!$BB$64:$BK$87))))","v":4},{"$f":"SUM(IF($A64=SoilCat,IF($B64=DrainCat,IF(I$3=ESALCat,Design!$BB$64:$BK$87))))","v":4},{"$f":"SUM(IF($A64=SoilCat,IF($B64=DrainCat,IF(J$3=ESALCat,Design!$BB$64:$BK$87))))","v":5},{"$f":"SUM(IF($A64=SoilCat,IF($B64=DrainCat,IF(K$3=ESALCat,Design!$BB$64:$BK$87))))","v":6},{"$f":"SUM(IF($A64=SoilCat,IF($B64=DrainCat,IF(L$3=ESALCat,Design!$BB$64:$BK$87))))","v":6},{"$f":"SUM(IF($A64=SoilCat,IF($B64=DrainCat,IF(M$3=ESALCat,Design!$BB$64:$BK$87))))","v":6},{"$f":"SUM(IF($A64=SoilCat,IF($B64=DrainCat,IF(N$3=ESALCat,Design!$BB$64:$BK$87))))","v":6},{"$f":"SUM(IF($A64=SoilCat,IF($B64=DrainCat,IF(O$3=ESALCat,Design!$BB$64:$BK$87))))","v":6}]
[5,"Poor",null,null,"Unbound Dense Graded Subbase",{"$f":"SUM(IF($A65=SoilCat,IF($B65=DrainCat,IF(F$3=ESALCat,Design!$BV$64:$CE$87))))","v":0},{"$f":"SUM(IF($A65=SoilCat,IF($B65=DrainCat,IF(G$3=ESALCat,Design!$BV$64:$CE$87))))","v":0},{"$f":"SUM(IF($A65=SoilCat,IF($B65=DrainCat,IF(H$3=ESALCat,Design!$BV$64:$CE$87))))","v":0},{"$f":"SUM(IF($A65=SoilCat,IF($B65=DrainCat,IF(I$3=ESALCat,Design!$BV$64:$CE$87))))","v":0},{"$f":"SUM(IF($A65=SoilCat,IF($B65=DrainCat,IF(J$3=ESALCat,Design!$BV$64:$CE$87))))","v":0},{"$f":"SUM(IF($A65=SoilCat,IF($B65=DrainCat,IF(K$3=ESALCat,Design!$BV$64:$CE$87))))","v":6},{"$f":"SUM(IF($A65=SoilCat,IF($B65=DrainCat,IF(L$3=ESALCat,Design!$BV$64:$CE$87))))","v":8},{"$f":"SUM(IF($A65=SoilCat,IF($B65=DrainCat,IF(M$3=ESALCat,Design!$BV$64:$CE$87))))","v":14},{"$f":"SUM(IF($A65=SoilCat,IF($B65=DrainCat,IF(N$3=ESALCat,Design!$BV$64:$CE$87))))","v":21},{"$f":"SUM(IF($A65=SoilCat,IF($B65=DrainCat,IF(O$3=ESALCat,Design!$BV$64:$CE$87))))","v":27}]
[6,"Good","Category 6","Good","Pavers and Bedding",{"$f":"SUM(IF($A66=SoilCat,IF($B66=DrainCat,IF(F$3=ESALCat,Design!$N$64:$W$87))))","v":4.125},{"$f":"SUM(IF($A66=SoilCat,IF($B66=DrainCat,IF(G$3=ESALCat,Design!$N$64:$W$87))))","v":4.125},{"$f":"SUM(IF($A66=SoilCat,IF($B66=DrainCat,IF(H$3=ESALCat,Design!$N$64:$W$87))))","v":4.125},{"$f":"SUM(IF($A66=SoilCat,IF($B66=DrainCat,IF(I$3=ESALCat,Design!$N$64:$W$87))))","v":4.125},{"$f":"SUM(IF($A66=SoilCat,IF($B66=DrainCat,IF(J$3=ESALCat,Design!$N$64:$W$87))))","v":4.125},{"$f":"SUM(IF($A66=SoilCat,IF($B66=DrainCat,IF(K$3=ESALCat,Design!$N$64:$W$87))))","v":4.125},{"$f":"SUM(IF($A66=SoilCat,IF($B66=DrainCat,IF(L$3=ESALCat,Design!$N$64:$W$87))))","v":4.125},{"$f":"SUM(IF($A66=SoilCat,IF($B66=DrainCat,IF(M$3=ESALCat,Design!$N$64:$W$87))))","v":4.125},{"$f":"SUM(IF($A66=SoilCat,IF($B66=DrainCat,IF(N$3=ESALCat,Design!$N$64:$W$87))))","v":4.125},{"$f":"SUM(IF($A66=SoilCat,IF($B66=DrainCat,IF(O$3=ESALCat,Design!$N$64:$W$87))))","v":4.125}]
[6,"Good",null,null,"Cement Treated Base",{"$f":"SUM(IF($A67=SoilCat,IF($B67=DrainCat,IF(F$3=ESALCat,Design!$AH$64:$AQ$87))))","v":4},{"$f":"SUM(IF($A67=SoilCat,IF($B67=DrainCat,IF(G$3=ESALCat,Design!$AH$64:$AQ$87))))","v":4},{"$f":"SUM(IF($A67=SoilCat,IF($B67=DrainCat,IF(H$3=ESALCat,Design!$AH$64:$AQ$87))))","v":4},{"$f":"SUM(IF($A67=SoilCat,IF($B67=DrainCat,IF(I$3=ESALCat,Design!$AH$64:$AQ$87))))","v":4},{"$f":"SUM(IF($A67=SoilCat,IF($B67=DrainCat,IF(J$3=ESALCat,Design!$AH$64:$AQ$87))))","v":4},{"$f":"SUM(IF($A67=SoilCat,IF($B67=DrainCat,IF(K$3=ESALCat,Design!$AH$64:$AQ$87))))","v":4},{"$f":"SUM(IF($A67=SoilCat,IF($B67=DrainCat,IF(L$3=ESALCat,Design!$AH$64:$AQ$87))))","v":4},{"$f":"SUM(IF($A67=SoilCat,IF($B67=DrainCat,IF(M$3=ESALCat,Design!$AH$64:$AQ$87))))","v":4},{"$f":"SUM(IF($A67=SoilCat,IF($B67=DrainCat,IF(N$3=ESALCat,Design!$AH$64:$AQ$87))))","v":4},{"$f":"SUM(IF($A67=SoilCat,IF($B67=DrainCat,IF(O$3=ESALCat,Design!$AH$64:$AQ$87))))","v":4}]
[6,"Good",null,null,"Unbound Dense Graded Base",{"$f":"SUM(IF($A68=SoilCat,IF($B68=DrainCat,IF(F$3=ESALCat,Design!$BB$64:$BK$87))))","v":4},{"$f":"SUM(IF($A68=SoilCat,IF($B68=DrainCat,IF(G$3=ESALCat,Design!$BB$64:$BK$87))))","v":4},{"$f":"SUM(IF($A68=SoilCat,IF($B68=DrainCat,IF(H$3=ESALCat,Design!$BB$64:$BK$87))))","v":4},{"$f":"SUM(IF($A68=SoilCat,IF($B68=DrainCat,IF(I$3=ESALCat,Design!$BB$64:$BK$87))))","v":4},{"$f":"SUM(IF($A68=SoilCat,IF($B68=DrainCat,IF(J$3=ESALCat,Design!$BB$64:$BK$87))))","v":4},{"$f":"SUM(IF($A68=SoilCat,IF($B68=DrainCat,IF(K$3=ESALCat,Design!$BB$64:$BK$87))))","v":6},{"$f":"SUM(IF($A68=SoilCat,IF($B68=DrainCat,IF(L$3=ESALCat,Design!$BB$64:$BK$87))))","v":8},{"$f":"SUM(IF($A68=SoilCat,IF($B68=DrainCat,IF(M$3=ESALCat,Design!$BB$64:$BK$87))))","v":6},{"$f":"SUM(IF($A68=SoilCat,IF($B68=DrainCat,IF(N$3=ESALCat,Design!$BB$64:$BK$87))))","v":6},{"$f":"SUM(IF($A68=SoilCat,IF($B68=DrainCat,IF(O$3=ESALCat,Design!$BB$64:$BK$87))))","v":6}]
[6,"Good",null,null,"Unbound Dense Graded Subbase",{"$f":"SUM(IF($A69=SoilCat,IF($B69=DrainCat,IF(F$3=ESALCat,Design!$BV$64:$CE$87))))","v":0},{"$f":"SUM(IF($A69=SoilCat,IF($B69=DrainCat,IF(G$3=ESALCat,Design!$BV$64:$CE$87))))","v":0},{"$f":"SUM(IF($A69=SoilCat,IF($B69=DrainCat,IF(H$3=ESALCat,Design!$BV$64:$CE$87))))","v":0},{"$f":"SUM(IF($A69=SoilCat,IF($B69=DrainCat,IF(I$3=ESALCat,Design!$BV$64:$CE$87))))","v":0},{"$f":"SUM(IF($A69=SoilCat,IF($B69=DrainCat,IF(J$3=ESALCat,Design!$BV$64:$CE$87))))","v":0},{"$f":"SUM(IF($A69=SoilCat,IF($B69=DrainCat,IF(K$3=ESALCat,Design!$BV$64:$CE$87))))","v":0},{"$f":"SUM(IF($A69=SoilCat,IF($B69=DrainCat,IF(L$3=ESALCat,Design!$BV$64:$CE$87))))","v":0},{"$f":"SUM(IF($A69=SoilCat,IF($B69=DrainCat,IF(M$3=ESALCat,Design!$BV$64:$CE$87))))","v":7},{"$f":"SUM(IF($A69=SoilCat,IF($B69=DrainCat,IF(N$3=ESALCat,Design!$BV$64:$CE$87))))","v":14},{"$f":"SUM(IF($A69=SoilCat,IF($B69=DrainCat,IF(O$3=ESALCat,Design!$BV$64:$CE$87))))","v":20}]
[6,"Fair",null,"Fair","Pavers and Bedding",{"$f":"SUM(IF($A70=SoilCat,IF($B70=DrainCat,IF(F$3=ESALCat,Design!$N$64:$W$87))))","v":4.125},{"$f":"SUM(IF($A70=SoilCat,IF($B70=DrainCat,IF(G$3=ESALCat,Design!$N$64:$W$87))))","v":4.125},{"$f":"SUM(IF($A70=SoilCat,IF($B70=DrainCat,IF(H$3=ESALCat,Design!$N$64:$W$87))))","v":4.125},{"$f":"SUM(IF($A70=SoilCat,IF($B70=DrainCat,IF(I$3=ESALCat,Design!$N$64:$W$87))))","v":4.125},{"$f":"SUM(IF($A70=SoilCat,IF($B70=DrainCat,IF(J$3=ESALCat,Design!$N$64:$W$87))))","v":4.125},{"$f":"SUM(IF($A70=SoilCat,IF($B70=DrainCat,IF(K$3=ESALCat,Design!$N$64:$W$87))))","v":4.125},{"$f":"SUM(IF($A70=SoilCat,IF($B70=DrainCat,IF(L$3=ESALCat,Design!$N$64:$W$87))))","v":4.125},{"$f":"SUM(IF($A70=SoilCat,IF($B70=DrainCat,IF(M$3=ESALCat,Design!$N$64:$W$87))))","v":4.125},{"$f":"SUM(IF($A70=SoilCat,IF($B70=DrainCat,IF(N$3=ESALCat,Design!$N$64:$W$87))))","v":4.125},{"$f":"SUM(IF($A70=SoilCat,IF($B70=DrainCat,IF(O$3=ESALCat,Design!$N$64:$W$87))))","v":4.125}]
[6,"Fair",null,null,"Cement Treated Base",{"$f":"SUM(IF($A71=SoilCat,IF($B71=DrainCat,IF(F$3=ESALCat,Design!$AH$64:$AQ$87))))","v":4},{"$f":"SUM(IF($A71=SoilCat,IF($B71=DrainCat,IF(G$3=ESALCat,Design!$AH$64:$AQ$87))))","v":4},{"$f":"SUM(IF($A71=SoilCat,IF($B71=DrainCat,IF(H$3=ESALCat,Design!$AH$64:$AQ$87))))","v":4},{"$f":"SUM(IF($A71=SoilCat,IF($B71=DrainCat,IF(I$3=ESALCat,Design!$AH$64:$AQ$87))))","v":4},{"$f":"SUM(IF($A71=SoilCat,IF($B71=DrainCat,IF(J$3=ESALCat,Design!$AH$64:$AQ$87))))","v":4},{"$f":"SUM(IF($A71=SoilCat,IF($B71=DrainCat,IF(K$3=ESALCat,Design!$AH$64:$AQ$87))))","v":4},{"$f":"SUM(IF($A71=SoilCat,IF($B71=DrainCat,IF(L$3=ESALCat,Design!$AH$64:$AQ$87))))","v":4},{"$f":"SUM(IF($A71=SoilCat,IF($B71=DrainCat,IF(M$3=ESALCat,Design!$AH$64:$AQ$87))))","v":4},{"$f":"SUM(IF($A71=SoilCat,IF($B71=DrainCat,IF(N$3=ESALCat,Design!$AH$64:$AQ$87))))","v":4},{"$f":"SUM(IF($A71=SoilCat,IF($B71=DrainCat,IF(O$3=ESALCat,Design!$AH$64:$AQ$87))))","v":4}]
[6,"Fair",null,null,"Unbound Dense Graded Base",{"$f":"SUM(IF($A72=SoilCat,IF($B72=DrainCat,IF(F$3=ESALCat,Design!$BB$64:$BK$87))))","v":4},{"$f":"SUM(IF($A72=SoilCat,IF($B72=DrainCat,IF(G$3=ESALCat,Design!$BB$64:$BK$87))))","v":4},{"$f":"SUM(IF($A72=SoilCat,IF($B72=DrainCat,IF(H$3=ESALCat,Design!$BB$64:$BK$87))))","v":4},{"$f":"SUM(IF($A72=SoilCat,IF($B72=DrainCat,IF(I$3=ESALCat,Design!$BB$64:$BK$87))))","v":4},{"$f":"SUM(IF($A72=SoilCat,IF($B72=DrainCat,IF(J$3=ESALCat,Design!$BB$64:$BK$87))))","v":5},{"$f":"SUM(IF($A72=SoilCat,IF($B72=DrainCat,IF(K$3=ESALCat,Design!$BB$64:$BK$87))))","v":6},{"$f":"SUM(IF($A72=SoilCat,IF($B72=DrainCat,IF(L$3=ESALCat,Design!$BB$64:$BK$87))))","v":6},{"$f":"SUM(IF($A72=SoilCat,IF($B72=DrainCat,IF(M$3=ESALCat,Design!$BB$64:$BK$87))))","v":6},{"$f":"SUM(IF($A72=SoilCat,IF($B72=DrainCat,IF(N$3=ESALCat,Design!$BB$64:$BK$87))))","v":6},{"$f":"SUM(IF($A72=SoilCat,IF($B72=DrainCat,IF(O$3=ESALCat,Design!$BB$64:$BK$87))))","v":6}]
[6,"Fair",null,null,"Unbound Dense Graded Subbase",{"$f":"SUM(IF($A73=SoilCat,IF($B73=DrainCat,IF(F$3=ESALCat,Design!$BV$64:$CE$87))))","v":0},{"$f":"SUM(IF($A73=SoilCat,IF($B73=DrainCat,IF(G$3=ESALCat,Design!$BV$64:$CE$87))))","v":0},{"$f":"SUM(IF($A73=SoilCat,IF($B73=DrainCat,IF(H$3=ESALCat,Design!$BV$64:$CE$87))))","v":0},{"$f":"SUM(IF($A73=SoilCat,IF($B73=DrainCat,IF(I$3=ESALCat,Design!$BV$64:$CE$87))))","v":0},{"$f":"SUM(IF($A73=SoilCat,IF($B73=DrainCat,IF(J$3=ESALCat,Design!$BV$64:$CE$87))))","v":0},{"$f":"SUM(IF($A73=SoilCat,IF($B73=DrainCat,IF(K$3=ESALCat,Design!$BV$64:$CE$87))))","v":6},{"$f":"SUM(IF($A73=SoilCat,IF($B73=DrainCat,IF(L$3=ESALCat,Design!$BV$64:$CE$87))))","v":8},{"$f":"SUM(IF($A73=SoilCat,IF($B73=DrainCat,IF(M$3=ESALCat,Design!$BV$64:$CE$87))))","v":14},{"$f":"SUM(IF($A73=SoilCat,IF($B73=DrainCat,IF(N$3=ESALCat,Design!$BV$64:$CE$87))))","v":21},{"$f":"SUM(IF($A73=SoilCat,IF($B73=DrainCat,IF(O$3=ESALCat,Design!$BV$64:$CE$87))))","v":27}]
[6,"Poor",null,"Poor","Pavers and Bedding",{"$f":"SUM(IF($A74=SoilCat,IF($B74=DrainCat,IF(F$3=ESALCat,Design!$N$64:$W$87))))","v":4.125},{"$f":"SUM(IF($A74=SoilCat,IF($B74=DrainCat,IF(G$3=ESALCat,Design!$N$64:$W$87))))","v":4.125},{"$f":"SUM(IF($A74=SoilCat,IF($B74=DrainCat,IF(H$3=ESALCat,Design!$N$64:$W$87))))","v":4.125},{"$f":"SUM(IF($A74=SoilCat,IF($B74=DrainCat,IF(I$3=ESALCat,Design!$N$64:$W$87))))","v":4.125},{"$f":"SUM(IF($A74=SoilCat,IF($B74=DrainCat,IF(J$3=ESALCat,Design!$N$64:$W$87))))","v":4.125},{"$f":"SUM(IF($A74=SoilCat,IF($B74=DrainCat,IF(K$3=ESALCat,Design!$N$64:$W$87))))","v":4.125},{"$f":"SUM(IF($A74=SoilCat,IF($B74=DrainCat,IF(L$3=ESALCat,Design!$N$64:$W$87))))","v":4.125},{"$f":"SUM(IF($A74=SoilCat,IF($B74=DrainCat,IF(M$3=ESALCat,Design!$N$64:$W$87))))","v":4.125},{"$f":"SUM(IF($A74=SoilCat,IF($B74=DrainCat,IF(N$3=ESALCat,Design!$N$64:$W$87))))","v":4.125},{"$f":"SUM(IF($A74=SoilCat,IF($B74=DrainCat,IF(O$3=ESALCat,Design!$N$64:$W$87))))","v":4.125}]
[6,"Poor",null,null,"Cement Treated Base",{"$f":"SUM(IF($A75=SoilCat,IF($B75=DrainCat,IF(F$3=ESALCat,Design!$AH$64:$AQ$87))))","v":4},{"$f":"SUM(IF($A75=SoilCat,IF($B75=DrainCat,IF(G$3=ESALCat,Design!$AH$64:$AQ$87))))","v":4},{"$f":"SUM(IF($A75=SoilCat,IF($B75=DrainCat,IF(H$3=ESALCat,Design!$AH$64:$AQ$87))))","v":4},{"$f":"SUM(IF($A75=SoilCat,IF($B75=DrainCat,IF(I$3=ESALCat,Design!$AH$64:$AQ$87))))","v":4},{"$f":"SUM(IF($A75=SoilCat,IF($B75=DrainCat,IF(J$3=ESALCat,Design!$AH$64:$AQ$87))))","v":4},{"$f":"SUM(IF($A75=SoilCat,IF($B75=DrainCat,IF(K$3=ESALCat,Design!$AH$64:$AQ$87))))","v":4},{"$f":"SUM(IF($A75=SoilCat,IF($B75=DrainCat,IF(L$3=ESALCat,Design!$AH$64:$AQ$87))))","v":4},{"$f":"SUM(IF($A75=SoilCat,IF($B75=DrainCat,IF(M$3=ESALCat,Design!$AH$64:$AQ$87))))","v":4},{"$f":"SUM(IF($A75=SoilCat,IF($B75=DrainCat,IF(N$3=ESALCat,Design!$AH$64:$AQ$87))))","v":4},{"$f":"SUM(IF($A75=SoilCat,IF($B75=DrainCat,IF(O$3=ESALCat,Design!$AH$64:$AQ$87))))","v":4}]
[6,"Poor",null,null,"Unbound Dense Graded Base",{"$f":"SUM(IF($A76=SoilCat,IF($B76=DrainCat,IF(F$3=ESALCat,Design!$BB$64:$BK$87))))","v":4},{"$f":"SUM(IF($A76=SoilCat,IF($B76=DrainCat,IF(G$3=ESALCat,Design!$BB$64:$BK$87))))","v":4},{"$f":"SUM(IF($A76=SoilCat,IF($B76=DrainCat,IF(H$3=ESALCat,Design!$BB$64:$BK$87))))","v":4},{"$f":"SUM(IF($A76=SoilCat,IF($B76=DrainCat,IF(I$3=ESALCat,Design!$BB$64:$BK$87))))","v":5},{"$f":"SUM(IF($A76=SoilCat,IF($B76=DrainCat,IF(J$3=ESALCat,Design!$BB$64:$BK$87))))","v":8},{"$f":"SUM(IF($A76=SoilCat,IF($B76=DrainCat,IF(K$3=ESALCat,Design!$BB$64:$BK$87))))","v":6},{"$f":"SUM(IF($A76=SoilCat,IF($B76=DrainCat,IF(L$3=ESALCat,Design!$BB$64:$BK$87))))","v":6},{"$f":"SUM(IF($A76=SoilCat,IF($B76=DrainCat,IF(M$3=ESALCat,Design!$BB$64:$BK$87))))","v":6},{"$f":"SUM(IF($A76=SoilCat,IF($B76=DrainCat,IF(N$3=ESALCat,Design!$BB$64:$BK$87))))","v":6},{"$f":"SUM(IF($A76=SoilCat,IF($B76=DrainCat,IF(O$3=ESALCat,Design!$BB$64:$BK$87))))","v":6}]
[6,"Poor",null,null,"Unbound Dense Graded Subbase",{"$f":"SUM(IF($A77=SoilCat,IF($B77=DrainCat,IF(F$3=ESALCat,Design!$BV$64:$CE$87))))","v":0},{"$f":"SUM(IF($A77=SoilCat,IF($B77=DrainCat,IF(G$3=ESALCat,Design!$BV$64:$CE$87))))","v":0},{"$f":"SUM(IF($A77=SoilCat,IF($B77=DrainCat,IF(H$3=ESALCat,Design!$BV$64:$CE$87))))","v":0},{"$f":"SUM(IF($A77=SoilCat,IF($B77=DrainCat,IF(I$3=ESALCat,Design!$BV$64:$CE$87))))","v":0},{"$f":"SUM(IF($A77=SoilCat,IF($B77=DrainCat,IF(J$3=ESALCat,Design!$BV$64:$CE$87))))","v":0},{"$f":"SUM(IF($A77=SoilCat,IF($B77=DrainCat,IF(K$3=ESALCat,Design!$BV$64:$CE$87))))","v":9},{"$f":"SUM(IF($A77=SoilCat,IF($B77=DrainCat,IF(L$3=ESALCat,Design!$BV$64:$CE$87))))","v":14},{"$f":"SUM(IF($A77=SoilCat,IF($B77=DrainCat,IF(M$3=ESALCat,Design!$BV$64:$CE$87))))","v":20},{"$f":"SUM(IF($A77=SoilCat,IF($B77=DrainCat,IF(N$3=ESALCat,Design!$BV$64:$CE$87))))","v":27},{"$f":"SUM(IF($A77=SoilCat,IF($B77=DrainCat,IF(O$3=ESALCat,Design!$BV$64:$CE$87))))","v":34}]
[7,"Good","Category 7","Good","Pavers and Bedding",{"$f":"SUM(IF($A78=SoilCat,IF($B78=DrainCat,IF(F$3=ESALCat,Design!$N$64:$W$87))))","v":4.125},{"$f":"SUM(IF($A78=SoilCat,IF($B78=DrainCat,IF(G$3=ESALCat,Design!$N$64:$W$87))))","v":4.125},{"$f":"SUM(IF($A78=SoilCat,IF($B78=DrainCat,IF(H$3=ESALCat,Design!$N$64:$W$87))))","v":4.125},{"$f":"SUM(IF($A78=SoilCat,IF($B78=DrainCat,IF(I$3=ESALCat,Design!$N$64:$W$87))))","v":4.125},{"$f":"SUM(IF($A78=SoilCat,IF($B78=DrainCat,IF(J$3=ESALCat,Design!$N$64:$W$87))))","v":4.125},{"$f":"SUM(IF($A78=SoilCat,IF($B78=DrainCat,IF(K$3=ESALCat,Design!$N$64:$W$87))))","v":4.125},{"$f":"SUM(IF($A78=SoilCat,IF($B78=DrainCat,IF(L$3=ESALCat,Design!$N$64:$W$87))))","v":4.125},{"$f":"SUM(IF($A78=SoilCat,IF($B78=DrainCat,IF(M$3=ESALCat,Design!$N$64:$W$87))))","v":4.125},{"$f":"SUM(IF($A78=SoilCat,IF($B78=DrainCat,IF(N$3=ESALCat,Design!$N$64:$W$87))))","v":4.125},{"$f":"SUM(IF($A78=SoilCat,IF($B78=DrainCat,IF(O$3=ESALCat,Design!$N$64:$W$87))))","v":4.125}]
[7,"Good",null,null,"Cement Treated Base",{"$f":"SUM(IF($A79=SoilCat,IF($B79=DrainCat,IF(F$3=ESALCat,Design!$AH$64:$AQ$87))))","v":4},{"$f":"SUM(IF($A79=SoilCat,IF($B79=DrainCat,IF(G$3=ESALCat,Design!$AH$64:$AQ$87))))","v":4},{"$f":"SUM(IF($A79=SoilCat,IF($B79=DrainCat,IF(H$3=ESALCat,Design!$AH$64:$AQ$87))))","v":4},{"$f":"SUM(IF($A79=SoilCat,IF($B79=DrainCat,IF(I$3=ESALCat,Design!$AH$64:$AQ$87))))","v":4},{"$f":"SUM(IF($A79=SoilCat,IF($B79=DrainCat,IF(J$3=ESALCat,Design!$AH$64:$AQ$87))))","v":4},{"$f":"SUM(IF($A79=SoilCat,IF($B79=DrainCat,IF(K$3=ESALCat,Design!$AH$64:$AQ$87))))","v":4},{"$f":"SUM(IF($A79=SoilCat,IF($B79=DrainCat,IF(L$3=ESALCat,Design!$AH$64:$AQ$87))))","v":4},{"$f":"SUM(IF($A79=SoilCat,IF($B79=DrainCat,IF(M$3=ESALCat,Design!$AH$64:$AQ$87))))","v":4},{"$f":"SUM(IF($A79=SoilCat,IF($B79=DrainCat,IF(N$3=ESALCat,Design!$AH$64:$AQ$87))))","v":4},{"$f":"SUM(IF($A79=SoilCat,IF($B79=DrainCat,IF(O$3=ESALCat,Design!$AH$64:$AQ$87))))","v":4}]
[7,"Good",null,null,"Unbound Dense Graded Base",{"$f":"SUM(IF($A80=SoilCat,IF($B80=DrainCat,IF(F$3=ESALCat,Design!$BB$64:$BK$87))))","v":4},{"$f":"SUM(IF($A80=SoilCat,IF($B80=DrainCat,IF(G$3=ESALCat,Design!$BB$64:$BK$87))))","v":4},{"$f":"SUM(IF($A80=SoilCat,IF($B80=DrainCat,IF(H$3=ESALCat,Design!$BB$64:$BK$87))))","v":4},{"$f":"SUM(IF($A80=SoilCat,IF($B80=DrainCat,IF(I$3=ESALCat,Design!$BB$64:$BK$87))))","v":4},{"$f":"SUM(IF($A80=SoilCat,IF($B80=DrainCat,IF(J$3=ESALCat,Design!$BB$64:$BK$87))))","v":4},{"$f":"SUM(IF($A80=SoilCat,IF($B80=DrainCat,IF(K$3=ESALCat,Design!$BB$64:$BK$87))))","v":7},{"$f":"SUM(IF($A80=SoilCat,IF($B80=DrainCat,IF(L$3=ESALCat,Design!$BB$64:$BK$87))))","v":6},{"$f":"SUM(IF($A80=SoilCat,IF($B80=DrainCat,IF(M$3=ESALCat,Design!$BB$64:$BK$87))))","v":6},{"$f":"SUM(IF($A80=SoilCat,IF($B80=DrainCat,IF(N$3=ESALCat,Design!$BB$64:$BK$87))))","v":6},{"$f":"SUM(IF($A80=SoilCat,IF($B80=DrainCat,IF(O$3=ESALCat,Design!$BB$64:$BK$87))))","v":6}]
[7,"Good",null,null,"Unbound Dense Graded Subbase",{"$f":"SUM(IF($A81=SoilCat,IF($B81=DrainCat,IF(F$3=ESALCat,Design!$BV$64:$CE$87))))","v":0},{"$f":"SUM(IF($A81=SoilCat,IF($B81=DrainCat,IF(G$3=ESALCat,Design!$BV$64:$CE$87))))","v":0},{"$f":"SUM(IF($A81=SoilCat,IF($B81=DrainCat,IF(H$3=ESALCat,Design!$BV$64:$CE$87))))","v":0},{"$f":"SUM(IF($A81=SoilCat,IF($B81=DrainCat,IF(I$3=ESALCat,Design!$BV$64:$CE$87))))","v":0},{"$f":"SUM(IF($A81=SoilCat,IF($B81=DrainCat,IF(J$3=ESALCat,Design!$BV$64:$CE$87))))","v":0},{"$f":"SUM(IF($A81=SoilCat,IF($B81=DrainCat,IF(K$3=ESALCat,Design!$BV$64:$CE$87))))","v":0},{"$f":"SUM(IF($A81=SoilCat,IF($B81=DrainCat,IF(L$3=ESALCat,Design!$BV$64:$CE$87))))","v":6},{"$f":"SUM(IF($A81=SoilCat,IF($B81=DrainCat,IF(M$3=ESALCat,Design!$BV$64:$CE$87))))","v":11},{"$f":"SUM(IF($A81=SoilCat,IF($B81=DrainCat,IF(N$3=ESALCat,Design!$BV$64:$CE$87))))","v":18},{"$f":"SUM(IF($A81=SoilCat,IF($B81=DrainCat,IF(O$3=ESALCat,Design!$BV$64:$CE$87))))","v":24}]
[7,"Fair",null,"Fair","Pavers and Bedding",{"$f":"SUM(IF($A82=SoilCat,IF($B82=DrainCat,IF(F$3=ESALCat,Design!$N$64:$W$87))))","v":4.125},{"$f":"SUM(IF($A82=SoilCat,IF($B82=DrainCat,IF(G$3=ESALCat,Design!$N$64:$W$87))))","v":4.125},{"$f":"SUM(IF($A82=SoilCat,IF($B82=DrainCat,IF(H$3=ESALCat,Design!$N$64:$W$87))))","v":4.125},{"$f":"SUM(IF($A82=SoilCat,IF($B82=DrainCat,IF(I$3=ESALCat,Design!$N$64:$W$87))))","v":4.125},{"$f":"SUM(IF($A82=SoilCat,IF($B82=DrainCat,IF(J$3=ESALCat,Design!$N$64:$W$87))))","v":4.125},{"$f":"SUM(IF($A82=SoilCat,IF($B82=DrainCat,IF(K$3=ESALCat,Design!$N$64:$W$87))))","v":4.125},{"$f":"SUM(IF($A82=SoilCat,IF($B82=DrainCat,IF(L$3=ESALCat,Design!$N$64:$W$87))))","v":4.125},{"$f":"SUM(IF($A82=SoilCat,IF($B82=DrainCat,IF(M$3=ESALCat,Design!$N$64:$W$87))))","v":4.125},{"$f":"SUM(IF($A82=SoilCat,IF($B82=DrainCat,IF(N$3=ESALCat,Design!$N$64:$W$87))))","v":4.125},{"$f":"SUM(IF($A82=SoilCat,IF($B82=DrainCat,IF(O$3=ESALCat,Design!$N$64:$W$87))))","v":4.125}]
[7,"Fair",null,null,"Cement Treated Base",{"$f":"SUM(IF($A83=SoilCat,IF($B83=DrainCat,IF(F$3=ESALCat,Design!$AH$64:$AQ$87))))","v":4},{"$f":"SUM(IF($A83=SoilCat,IF($B83=DrainCat,IF(G$3=ESALCat,Design!$AH$64:$AQ$87))))","v":4},{"$f":"SUM(IF($A83=SoilCat,IF($B83=DrainCat,IF(H$3=ESALCat,Design!$AH$64:$AQ$87))))","v":4},{"$f":"SUM(IF($A83=SoilCat,IF($B83=DrainCat,IF(I$3=ESALCat,Design!$AH$64:$AQ$87))))","v":4},{"$f":"SUM(IF($A83=SoilCat,IF($B83=DrainCat,IF(J$3=ESALCat,Design!$AH$64:$AQ$87))))","v":4},{"$f":"SUM(IF($A83=SoilCat,IF($B83=DrainCat,IF(K$3=ESALCat,Design!$AH$64:$AQ$87))))","v":4},{"$f":"SUM(IF($A83=SoilCat,IF($B83=DrainCat,IF(L$3=ESALCat,Design!$AH$64:$AQ$87))))","v":4},{"$f":"SUM(IF($A83=SoilCat,IF($B83=DrainCat,IF(M$3=ESALCat,Design!$AH$64:$AQ$87))))","v":4},{"$f":"SUM(IF($A83=SoilCat,IF($B83=DrainCat,IF(N$3=ESALCat,Design!$AH$64:$AQ$87))))","v":4},{"$f":"SUM(IF($A83=SoilCat,IF($B83=DrainCat,IF(O$3=ESALCat,Design!$AH$64:$AQ$87))))","v":4}]
[7,"Fair",null,null,"Unbound Dense Graded Base",{"$f":"SUM(IF($A84=SoilCat,IF($B84=DrainCat,IF(F$3=ESALCat,Design!$BB$64:$BK$87))))","v":4},{"$f":"SUM(IF($A84=SoilCat,IF($B84=DrainCat,IF(G$3=ESALCat,Design!$BB$64:$BK$87))))","v":4},{"$f":"SUM(IF($A84=SoilCat,IF($B84=DrainCat,IF(H$3=ESALCat,Design!$BB$64:$BK$87))))","v":4},{"$f":"SUM(IF($A84=SoilCat,IF($B84=DrainCat,IF(I$3=ESALCat,Design!$BB$64:$BK$87))))","v":4},{"$f":"SUM(IF($A84=SoilCat,IF($B84=DrainCat,IF(J$3=ESALCat,Design!$BB$64:$BK$87))))","v":6},{"$f":"SUM(IF($A84=SoilCat,IF($B84=DrainCat,IF(K$3=ESALCat,Design!$BB$64:$BK$87))))","v":6},{"$f":"SUM(IF($A84=SoilCat,IF($B84=DrainCat,IF(L$3=ESALCat,Design!$BB$64:$BK$87))))","v":6},{"$f":"SUM(IF($A84=SoilCat,IF($B84=DrainCat,IF(M$3=ESALCat,Design!$BB$64:$BK$87))))","v":6},{"$f":"SUM(IF($A84=SoilCat,IF($B84=DrainCat,IF(N$3=ESALCat,Design!$BB$64:$BK$87))))","v":6},{"$f":"SUM(IF($A84=SoilCat,IF($B84=DrainCat,IF(O$3=ESALCat,Design!$BB$64:$BK$87))))","v":6}]
[7,"Fair",null,null,"Unbound Dense Graded Subbase",{"$f":"SUM(IF($A85=SoilCat,IF($B85=DrainCat,IF(F$3=ESALCat,Design!$BV$64:$CE$87))))","v":0},{"$f":"SUM(IF($A85=SoilCat,IF($B85=DrainCat,IF(G$3=ESALCat,Design!$BV$64:$CE$87))))","v":0},{"$f":"SUM(IF($A85=SoilCat,IF($B85=DrainCat,IF(H$3=ESALCat,Design!$BV$64:$CE$87))))","v":0},{"$f":"SUM(IF($A85=SoilCat,IF($B85=DrainCat,IF(I$3=ESALCat,Design!$BV$64:$CE$87))))","v":0},{"$f":"SUM(IF($A85=SoilCat,IF($B85=DrainCat,IF(J$3=ESALCat,Design!$BV$64:$CE$87))))","v":0},{"$f":"SUM(IF($A85=SoilCat,IF($B85=DrainCat,IF(K$3=ESALCat,Design!$BV$64:$CE$87))))","v":6},{"$f":"SUM(IF($A85=SoilCat,IF($B85=DrainCat,IF(L$3=ESALCat,Design!$BV$64:$CE$87))))","v":11},{"$f":"SUM(IF($A85=SoilCat,IF($B85=DrainCat,IF(M$3=ESALCat,Design!$BV$64:$CE$87))))","v":16},{"$f":"SUM(IF($A85=SoilCat,IF($B85=DrainCat,IF(N$3=ESALCat,Design!$BV$64:$CE$87))))","v":24},{"$f":"SUM(IF($A85=SoilCat,IF($B85=DrainCat,IF(O$3=ESALCat,Design!$BV$64:$CE$87))))","v":30}]
[7,"Poor",null,"Poor","Pavers and Bedding",{"$f":"SUM(IF($A86=SoilCat,IF($B86=DrainCat,IF(F$3=ESALCat,Design!$N$64:$W$87))))","v":4.125},{"$f":"SUM(IF($A86=SoilCat,IF($B86=DrainCat,IF(G$3=ESALCat,Design!$N$64:$W$87))))","v":4.125},{"$f":"SUM(IF($A86=SoilCat,IF($B86=DrainCat,IF(H$3=ESALCat,Design!$N$64:$W$87))))","v":4.125},{"$f":"SUM(IF($A86=SoilCat,IF($B86=DrainCat,IF(I$3=ESALCat,Design!$N$64:$W$87))))","v":4.125},{"$f":"SUM(IF($A86=SoilCat,IF($B86=DrainCat,IF(J$3=ESALCat,Design!$N$64:$W$87))))","v":4.125},{"$f":"SUM(IF($A86=SoilCat,IF($B86=DrainCat,IF(K$3=ESALCat,Design!$N$64:$W$87))))","v":4.125},{"$f":"SUM(IF($A86=SoilCat,IF($B86=DrainCat,IF(L$3=ESALCat,Design!$N$64:$W$87))))","v":4.125},{"$f":"SUM(IF($A86=SoilCat,IF($B86=DrainCat,IF(M$3=ESALCat,Design!$N$64:$W$87))))","v":4.125},{"$f":"SUM(IF($A86=SoilCat,IF($B86=DrainCat,IF(N$3=ESALCat,Design!$N$64:$W$87))))","v":4.125},{"$f":"SUM(IF($A86=SoilCat,IF($B86=DrainCat,IF(O$3=ESALCat,Design!$N$64:$W$87))))","v":4.125}]
[7,"Poor",null,null,"Cement Treated Base",{"$f":"SUM(IF($A87=SoilCat,IF($B87=DrainCat,IF(F$3=ESALCat,Design!$AH$64:$AQ$87))))","v":4},{"$f":"SUM(IF($A87=SoilCat,IF($B87=DrainCat,IF(G$3=ESALCat,Design!$AH$64:$AQ$87))))","v":4},{"$f":"SUM(IF($A87=SoilCat,IF($B87=DrainCat,IF(H$3=ESALCat,Design!$AH$64:$AQ$87))))","v":4},{"$f":"SUM(IF($A87=SoilCat,IF($B87=DrainCat,IF(I$3=ESALCat,Design!$AH$64:$AQ$87))))","v":4},{"$f":"SUM(IF($A87=SoilCat,IF($B87=DrainCat,IF(J$3=ESALCat,Design!$AH$64:$AQ$87))))","v":4},{"$f":"SUM(IF($A87=SoilCat,IF($B87=DrainCat,IF(K$3=ESALCat,Design!$AH$64:$AQ$87))))","v":4},{"$f":"SUM(IF($A87=SoilCat,IF($B87=DrainCat,IF(L$3=ESALCat,Design!$AH$64:$AQ$87))))","v":4},{"$f":"SUM(IF($A87=SoilCat,IF($B87=DrainCat,IF(M$3=ESALCat,Design!$AH$64:$AQ$87))))","v":4},{"$f":"SUM(IF($A87=SoilCat,IF($B87=DrainCat,IF(N$3=ESALCat,Design!$AH$64:$AQ$87))))","v":4},{"$f":"SUM(IF($A87=SoilCat,IF($B87=DrainCat,IF(O$3=ESALCat,Design!$AH$64:$AQ$87))))","v":4}]
[7,"Poor",null,null,"Unbound Dense Graded Base",{"$f":"SUM(IF($A88=SoilCat,IF($B88=DrainCat,IF(F$3=ESALCat,Design!$BB$64:$BK$87))))","v":4},{"$f":"SUM(IF($A88=SoilCat,IF($B88=DrainCat,IF(G$3=ESALCat,Design!$BB$64:$BK$87))))","v":4},{"$f":"SUM(IF($A88=SoilCat,IF($B88=DrainCat,IF(H$3=ESALCat,Design!$BB$64:$BK$87))))","v":4},{"$f":"SUM(IF($A88=SoilCat,IF($B88=DrainCat,IF(I$3=ESALCat,Design!$BB$64:$BK$87))))","v":7},{"$f":"SUM(IF($A88=SoilCat,IF($B88=DrainCat,IF(J$3=ESALCat,Design!$BB$64:$BK$87))))","v":4},{"$f":"SUM(IF($A88=SoilCat,IF($B88=DrainCat,IF(K$3=ESALCat,Design!$BB$64:$BK$87))))","v":6},{"$f":"SUM(IF($A88=SoilCat,IF($B88=DrainCat,IF(L$3=ESALCat,Design!$BB$64:$BK$87))))","v":6},{"$f":"SUM(IF($A88=SoilCat,IF($B88=DrainCat,IF(M$3=ESALCat,Design!$BB$64:$BK$87))))","v":6},{"$f":"SUM(IF($A88=SoilCat,IF($B88=DrainCat,IF(N$3=ESALCat,Design!$BB$64:$BK$87))))","v":6},{"$f":"SUM(IF($A88=SoilCat,IF($B88=DrainCat,IF(O$3=ESALCat,Design!$BB$64:$BK$87))))","v":6}]
[7,"Poor",null,null,"Unbound Dense Graded Subbase",{"$f":"SUM(IF($A89=SoilCat,IF($B89=DrainCat,IF(F$3=ESALCat,Design!$BV$64:$CE$87))))","v":0},{"$f":"SUM(IF($A89=SoilCat,IF($B89=DrainCat,IF(G$3=ESALCat,Design!$BV$64:$CE$87))))","v":0},{"$f":"SUM(IF($A89=SoilCat,IF($B89=DrainCat,IF(H$3=ESALCat,Design!$BV$64:$CE$87))))","v":0},{"$f":"SUM(IF($A89=SoilCat,IF($B89=DrainCat,IF(I$3=ESALCat,Design!$BV$64:$CE$87))))","v":0},{"$f":"SUM(IF($A89=SoilCat,IF($B89=DrainCat,IF(J$3=ESALCat,Design!$BV$64:$CE$87))))","v":9},{"$f":"SUM(IF($A89=SoilCat,IF($B89=DrainCat,IF(K$3=ESALCat,Design!$BV$64:$CE$87))))","v":13},{"$f":"SUM(IF($A89=SoilCat,IF($B89=DrainCat,IF(L$3=ESALCat,Design!$BV$64:$CE$87))))","v":18},{"$f":"SUM(IF($A89=SoilCat,IF($B89=DrainCat,IF(M$3=ESALCat,Design!$BV$64:$CE$87))))","v":24},{"$f":"SUM(IF($A89=SoilCat,IF($B89=DrainCat,IF(N$3=ESALCat,Design!$BV$64:$CE$87))))","v":32},{"$f":"SUM(IF($A89=SoilCat,IF($B89=DrainCat,IF(O$3=ESALCat,Design!$BV$64:$CE$87))))","v":38}]
[8,"Good","Category 8","Good","Pavers and Bedding",{"$f":"SUM(IF($A90=SoilCat,IF($B90=DrainCat,IF(F$3=ESALCat,Design!$N$64:$W$87))))","v":4.125},{"$f":"SUM(IF($A90=SoilCat,IF($B90=DrainCat,IF(G$3=ESALCat,Design!$N$64:$W$87))))","v":4.125},{"$f":"SUM(IF($A90=SoilCat,IF($B90=DrainCat,IF(H$3=ESALCat,Design!$N$64:$W$87))))","v":4.125},{"$f":"SUM(IF($A90=SoilCat,IF($B90=DrainCat,IF(I$3=ESALCat,Design!$N$64:$W$87))))","v":4.125},{"$f":"SUM(IF($A90=SoilCat,IF($B90=DrainCat,IF(J$3=ESALCat,Design!$N$64:$W$87))))","v":4.125},{"$f":"SUM(IF($A90=SoilCat,IF($B90=DrainCat,IF(K$3=ESALCat,Design!$N$64:$W$87))))","v":4.125},{"$f":"SUM(IF($A90=SoilCat,IF($B90=DrainCat,IF(L$3=ESALCat,Design!$N$64:$W$87))))","v":4.125},{"$f":"SUM(IF($A90=SoilCat,IF($B90=DrainCat,IF(M$3=ESALCat,Design!$N$64:$W$87))))","v":4.125},{"$f":"SUM(IF($A90=SoilCat,IF($B90=DrainCat,IF(N$3=ESALCat,Design!$N$64:$W$87))))","v":4.125},{"$f":"SUM(IF($A90=SoilCat,IF($B90=DrainCat,IF(O$3=ESALCat,Design!$N$64:$W$87))))","v":4.125}]
[8,"Good",null,null,"Cement Treated Base",{"$f":"SUM(IF($A91=SoilCat,IF($B91=DrainCat,IF(F$3=ESALCat,Design!$AH$64:$AQ$87))))","v":4},{"$f":"SUM(IF($A91=SoilCat,IF($B91=DrainCat,IF(G$3=ESALCat,Design!$AH$64:$AQ$87))))","v":4},{"$f":"SUM(IF($A91=SoilCat,IF($B91=DrainCat,IF(H$3=ESALCat,Design!$AH$64:$AQ$87))))","v":4},{"$f":"SUM(IF($A91=SoilCat,IF($B91=DrainCat,IF(I$3=ESALCat,Design!$AH$64:$AQ$87))))","v":4},{"$f":"SUM(IF($A91=SoilCat,IF($B91=DrainCat,IF(J$3=ESALCat,Design!$AH$64:$AQ$87))))","v":4},{"$f":"SUM(IF($A91=SoilCat,IF($B91=DrainCat,IF(K$3=ESALCat,Design!$AH$64:$AQ$87))))","v":4},{"$f":"SUM(IF($A91=SoilCat,IF($B91=DrainCat,IF(L$3=ESALCat,Design!$AH$64:$AQ$87))))","v":4},{"$f":"SUM(IF($A91=SoilCat,IF($B91=DrainCat,IF(M$3=ESALCat,Design!$AH$64:$AQ$87))))","v":4},{"$f":"SUM(IF($A91=SoilCat,IF($B91=DrainCat,IF(N$3=ESALCat,Design!$AH$64:$AQ$87))))","v":4},{"$f":"SUM(IF($A91=SoilCat,IF($B91=DrainCat,IF(O$3=ESALCat,Design!$AH$64:$AQ$87))))","v":4}]
[8,"Good",null,null,"Unbound Dense Graded Base",{"$f":"SUM(IF($A92=SoilCat,IF($B92=DrainCat,IF(F$3=ESALCat,Design!$BB$64:$BK$87))))","v":4},{"$f":"SUM(IF($A92=SoilCat,IF($B92=DrainCat,IF(G$3=ESALCat,Design!$BB$64:$BK$87))))","v":4},{"$f":"SUM(IF($A92=SoilCat,IF($B92=DrainCat,IF(H$3=ESALCat,Design!$BB$64:$BK$87))))","v":4},{"$f":"SUM(IF($A92=SoilCat,IF($B92=DrainCat,IF(I$3=ESALCat,Design!$BB$64:$BK$87))))","v":4},{"$f":"SUM(IF($A92=SoilCat,IF($B92=DrainCat,IF(J$3=ESALCat,Design!$BB$64:$BK$87))))","v":5},{"$f":"SUM(IF($A92=SoilCat,IF($B92=DrainCat,IF(K$3=ESALCat,Design!$BB$64:$BK$87))))","v":6},{"$f":"SUM(IF($A92=SoilCat,IF($B92=DrainCat,IF(L$3=ESALCat,Design!$BB$64:$BK$87))))","v":6},{"$f":"SUM(IF($A92=SoilCat,IF($B92=DrainCat,IF(M$3=ESALCat,Design!$BB$64:$BK$87))))","v":6},{"$f":"SUM(IF($A92=SoilCat,IF($B92=DrainCat,IF(N$3=ESALCat,Design!$BB$64:$BK$87))))","v":6},{"$f":"SUM(IF($A92=SoilCat,IF($B92=DrainCat,IF(O$3=ESALCat,Design!$BB$64:$BK$87))))","v":6}]
[8,"Good",null,null,"Unbound Dense Graded Subbase",{"$f":"SUM(IF($A93=SoilCat,IF($B93=DrainCat,IF(F$3=ESALCat,Design!$BV$64:$CE$87))))","v":0},{"$f":"SUM(IF($A93=SoilCat,IF($B93=DrainCat,IF(G$3=ESALCat,Design!$BV$64:$CE$87))))","v":0},{"$f":"SUM(IF($A93=SoilCat,IF($B93=DrainCat,IF(H$3=ESALCat,Design!$BV$64:$CE$87))))","v":0},{"$f":"SUM(IF($A93=SoilCat,IF($B93=DrainCat,IF(I$3=ESALCat,Design!$BV$64:$CE$87))))","v":0},{"$f":"SUM(IF($A93=SoilCat,IF($B93=DrainCat,IF(J$3=ESALCat,Design!$BV$64:$CE$87))))","v":0},{"$f":"SUM(IF($A93=SoilCat,IF($B93=DrainCat,IF(K$3=ESALCat,Design!$BV$64:$CE$87))))","v":6},{"$f":"SUM(IF($A93=SoilCat,IF($B93=DrainCat,IF(L$3=ESALCat,Design!$BV$64:$CE$87))))","v":8},{"$f":"SUM(IF($A93=SoilCat,IF($B93=DrainCat,IF(M$3=ESALCat,Design!$BV$64:$CE$87))))","v":14},{"$f":"SUM(IF($A93=SoilCat,IF($B93=DrainCat,IF(N$3=ESALCat,Design!$BV$64:$CE$87))))","v":21},{"$f":"SUM(IF($A93=SoilCat,IF($B93=DrainCat,IF(O$3=ESALCat,Design!$BV$64:$CE$87))))","v":27}]
[8,"Fair",null,"Fair","Pavers and Bedding",{"$f":"SUM(IF($A94=SoilCat,IF($B94=DrainCat,IF(F$3=ESALCat,Design!$N$64:$W$87))))","v":4.125},{"$f":"SUM(IF($A94=SoilCat,IF($B94=DrainCat,IF(G$3=ESALCat,Design!$N$64:$W$87))))","v":4.125},{"$f":"SUM(IF($A94=SoilCat,IF($B94=DrainCat,IF(H$3=ESALCat,Design!$N$64:$W$87))))","v":4.125},{"$f":"SUM(IF($A94=SoilCat,IF($B94=DrainCat,IF(I$3=ESALCat,Design!$N$64:$W$87))))","v":4.125},{"$f":"SUM(IF($A94=SoilCat,IF($B94=DrainCat,IF(J$3=ESALCat,Design!$N$64:$W$87))))","v":4.125},{"$f":"SUM(IF($A94=SoilCat,IF($B94=DrainCat,IF(K$3=ESALCat,Design!$N$64:$W$87))))","v":4.125},{"$f":"SUM(IF($A94=SoilCat,IF($B94=DrainCat,IF(L$3=ESALCat,Design!$N$64:$W$87))))","v":4.125},{"$f":"SUM(IF($A94=SoilCat,IF($B94=DrainCat,IF(M$3=ESALCat,Design!$N$64:$W$87))))","v":4.125},{"$f":"SUM(IF($A94=SoilCat,IF($B94=DrainCat,IF(N$3=ESALCat,Design!$N$64:$W$87))))","v":4.125},{"$f":"SUM(IF($A94=SoilCat,IF($B94=DrainCat,IF(O$3=ESALCat,Design!$N$64:$W$87))))","v":4.125}]
[8,"Fair",null,null,"Cement Treated Base",{"$f":"SUM(IF($A95=SoilCat,IF($B95=DrainCat,IF(F$3=ESALCat,Design!$AH$64:$AQ$87))))","v":4},{"$f":"SUM(IF($A95=SoilCat,IF($B95=DrainCat,IF(G$3=ESALCat,Design!$AH$64:$AQ$87))))","v":4},{"$f":"SUM(IF($A95=SoilCat,IF($B95=DrainCat,IF(H$3=ESALCat,Design!$AH$64:$AQ$87))))","v":4},{"$f":"SUM(IF($A95=SoilCat,IF($B95=DrainCat,IF(I$3=ESALCat,Design!$AH$64:$AQ$87))))","v":4},{"$f":"SUM(IF($A95=SoilCat,IF($B95=DrainCat,IF(J$3=ESALCat,Design!$AH$64:$AQ$87))))","v":4},{"$f":"SUM(IF($A95=SoilCat,IF($B95=DrainCat,IF(K$3=ESALCat,Design!$AH$64:$AQ$87))))","v":4},{"$f":"SUM(IF($A95=SoilCat,IF($B95=DrainCat,IF(L$3=ESALCat,Design!$AH$64:$AQ$87))))","v":4},{"$f":"SUM(IF($A95=SoilCat,IF($B95=DrainCat,IF(M$3=ESALCat,Design!$AH$64:$AQ$87))))","v":4},{"$f":"SUM(IF($A95=SoilCat,IF($B95=DrainCat,IF(N$3=ESALCat,Design!$AH$64:$AQ$87))))","v":4},{"$f":"SUM(IF($A95=SoilCat,IF($B95=DrainCat,IF(O$3=ESALCat,Design!$AH$64:$AQ$87))))","v":4}]
[8,"Fair",null,null,"Unbound Dense Graded Base",{"$f":"SUM(IF($A96=SoilCat,IF($B96=DrainCat,IF(F$3=ESALCat,Design!$BB$64:$BK$87))))","v":4},{"$f":"SUM(IF($A96=SoilCat,IF($B96=DrainCat,IF(G$3=ESALCat,Design!$BB$64:$BK$87))))","v":4},{"$f":"SUM(IF($A96=SoilCat,IF($B96=DrainCat,IF(H$3=ESALCat,Design!$BB$64:$BK$87))))","v":4},{"$f":"SUM(IF($A96=SoilCat,IF($B96=DrainCat,IF(I$3=ESALCat,Design!$BB$64:$BK$87))))","v":4},{"$f":"SUM(IF($A96=SoilCat,IF($B96=DrainCat,IF(J$3=ESALCat,Design!$BB$64:$BK$87))))","v":6},{"$f":"SUM(IF($A96=SoilCat,IF($B96=DrainCat,IF(K$3=ESALCat,Design!$BB$64:$BK$87))))","v":6},{"$f":"SUM(IF($A96=SoilCat,IF($B96=DrainCat,IF(L$3=ESALCat,Design!$BB$64:$BK$87))))","v":6},{"$f":"SUM(IF($A96=SoilCat,IF($B96=DrainCat,IF(M$3=ESALCat,Design!$BB$64:$BK$87))))","v":6},{"$f":"SUM(IF($A96=SoilCat,IF($B96=DrainCat,IF(N$3=ESALCat,Design!$BB$64:$BK$87))))","v":6},{"$f":"SUM(IF($A96=SoilCat,IF($B96=DrainCat,IF(O$3=ESALCat,Design!$BB$64:$BK$87))))","v":6}]
[8,"Fair",null,null,"Unbound Dense Graded Subbase",{"$f":"SUM(IF($A97=SoilCat,IF($B97=DrainCat,IF(F$3=ESALCat,Design!$BV$64:$CE$87))))","v":0},{"$f":"SUM(IF($A97=SoilCat,IF($B97=DrainCat,IF(G$3=ESALCat,Design!$BV$64:$CE$87))))","v":0},{"$f":"SUM(IF($A97=SoilCat,IF($B97=DrainCat,IF(H$3=ESALCat,Design!$BV$64:$CE$87))))","v":0},{"$f":"SUM(IF($A97=SoilCat,IF($B97=DrainCat,IF(I$3=ESALCat,Design!$BV$64:$CE$87))))","v":0},{"$f":"SUM(IF($A97=SoilCat,IF($B97=DrainCat,IF(J$3=ESALCat,Design!$BV$64:$CE$87))))","v":0},{"$f":"SUM(IF($A97=SoilCat,IF($B97=DrainCat,IF(K$3=ESALCat,Design!$BV$64:$CE$87))))","v":6},{"$f":"SUM(IF($A97=SoilCat,IF($B97=DrainCat,IF(L$3=ESALCat,Design!$BV$64:$CE$87))))","v":11},{"$f":"SUM(IF($A97=SoilCat,IF($B97=DrainCat,IF(M$3=ESALCat,Design!$BV$64:$CE$87))))","v":16},{"$f":"SUM(IF($A97=SoilCat,IF($B97=DrainCat,IF(N$3=ESALCat,Design!$BV$64:$CE$87))))","v":24},{"$f":"SUM(IF($A97=SoilCat,IF($B97=DrainCat,IF(O$3=ESALCat,Design!$BV$64:$CE$87))))","v":30}]
[8,"Poor",null,"Poor","Pavers and Bedding",{"$f":"SUM(IF($A98=SoilCat,IF($B98=DrainCat,IF(F$3=ESALCat,Design!$N$64:$W$87))))","v":4.125},{"$f":"SUM(IF($A98=SoilCat,IF($B98=DrainCat,IF(G$3=ESALCat,Design!$N$64:$W$87))))","v":4.125},{"$f":"SUM(IF($A98=SoilCat,IF($B98=DrainCat,IF(H$3=ESALCat,Design!$N$64:$W$87))))","v":4.125},{"$f":"SUM(IF($A98=SoilCat,IF($B98=DrainCat,IF(I$3=ESALCat,Design!$N$64:$W$87))))","v":4.125},{"$f":"SUM(IF($A98=SoilCat,IF($B98=DrainCat,IF(J$3=ESALCat,Design!$N$64:$W$87))))","v":4.125},{"$f":"SUM(IF($A98=SoilCat,IF($B98=DrainCat,IF(K$3=ESALCat,Design!$N$64:$W$87))))","v":4.125},{"$f":"SUM(IF($A98=SoilCat,IF($B98=DrainCat,IF(L$3=ESALCat,Design!$N$64:$W$87))))","v":4.125},{"$f":"SUM(IF($A98=SoilCat,IF($B98=DrainCat,IF(M$3=ESALCat,Design!$N$64:$W$87))))","v":4.125},{"$f":"SUM(IF($A98=SoilCat,IF($B98=DrainCat,IF(N$3=ESALCat,Design!$N$64:$W$87))))","v":4.125},{"$f":"SUM(IF($A98=SoilCat,IF($B98=DrainCat,IF(O$3=ESALCat,Design!$N$64:$W$87))))","v":4.125}]
[8,"Poor",null,null,"Cement Treated Base",{"$f":"SUM(IF($A99=SoilCat,IF($B99=DrainCat,IF(F$3=ESALCat,Design!$AH$64:$AQ$87))))","v":4},{"$f":"SUM(IF($A99=SoilCat,IF($B99=DrainCat,IF(G$3=ESALCat,Design!$AH$64:$AQ$87))))","v":4},{"$f":"SUM(IF($A99=SoilCat,IF($B99=DrainCat,IF(H$3=ESALCat,Design!$AH$64:$AQ$87))))","v":4},{"$f":"SUM(IF($A99=SoilCat,IF($B99=DrainCat,IF(I$3=ESALCat,Design!$AH$64:$AQ$87))))","v":4},{"$f":"SUM(IF($A99=SoilCat,IF($B99=DrainCat,IF(J$3=ESALCat,Design!$AH$64:$AQ$87))))","v":4},{"$f":"SUM(IF($A99=SoilCat,IF($B99=DrainCat,IF(K$3=ESALCat,Design!$AH$64:$AQ$87))))","v":4},{"$f":"SUM(IF($A99=SoilCat,IF($B99=DrainCat,IF(L$3=ESALCat,Design!$AH$64:$AQ$87))))","v":4},{"$f":"SUM(IF($A99=SoilCat,IF($B99=DrainCat,IF(M$3=ESALCat,Design!$AH$64:$AQ$87))))","v":4},{"$f":"SUM(IF($A99=SoilCat,IF($B99=DrainCat,IF(N$3=ESALCat,Design!$AH$64:$AQ$87))))","v":4},{"$f":"SUM(IF($A99=SoilCat,IF($B99=DrainCat,IF(O$3=ESALCat,Design!$AH$64:$AQ$87))))","v":4}]
[8,"Poor",null,null,"Unbound Dense Graded Base",{"$f":"SUM(IF($A100=SoilCat,IF($B100=DrainCat,IF(F$3=ESALCat,Design!$BB$64:$BK$87))))","v":4},{"$f":"SUM(IF($A100=SoilCat,IF($B100=DrainCat,IF(G$3=ESALCat,Design!$BB$64:$BK$87))))","v":4},{"$f":"SUM(IF($A100=SoilCat,IF($B100=DrainCat,IF(H$3=ESALCat,Design!$BB$64:$BK$87))))","v":4},{"$f":"SUM(IF($A100=SoilCat,IF($B100=DrainCat,IF(I$3=ESALCat,Design!$BB$64:$BK$87))))","v":7},{"$f":"SUM(IF($A100=SoilCat,IF($B100=DrainCat,IF(J$3=ESALCat,Design!$BB$64:$BK$87))))","v":4},{"$f":"SUM(IF($A100=SoilCat,IF($B100=DrainCat,IF(K$3=ESALCat,Design!$BB$64:$BK$87))))","v":6},{"$f":"SUM(IF($A100=SoilCat,IF($B100=DrainCat,IF(L$3=ESALCat,Design!$BB$64:$BK$87))))","v":6},{"$f":"SUM(IF($A100=SoilCat,IF($B100=DrainCat,IF(M$3=ESALCat,Design!$BB$64:$BK$87))))","v":6},{"$f":"SUM(IF($A100=SoilCat,IF($B100=DrainCat,IF(N$3=ESALCat,Design!$BB$64:$BK$87))))","v":6},{"$f":"SUM(IF($A100=SoilCat,IF($B100=DrainCat,IF(O$3=ESALCat,Design!$BB$64:$BK$87))))","v":6}]
[8,"Poor",null,null,"Unbound Dense Graded Subbase",{"$f":"SUM(IF($A101=SoilCat,IF($B101=DrainCat,IF(F$3=ESALCat,Design!$BV$64:$CE$87))))","v":0},{"$f":"SUM(IF($A101=SoilCat,IF($B101=DrainCat,IF(G$3=ESALCat,Design!$BV$64:$CE$87))))","v":0},{"$f":"SUM(IF($A101=SoilCat,IF($B101=DrainCat,IF(H$3=ESALCat,Design!$BV$64:$CE$87))))","v":0},{"$f":"SUM(IF($A101=SoilCat,IF($B101=DrainCat,IF(I$3=ESALCat,Design!$BV$64:$CE$87))))","v":0},{"$f":"SUM(IF($A101=SoilCat,IF($B101=DrainCat,IF(J$3=ESALCat,Design!$BV$64:$CE$87))))","v":9},{"$f":"SUM(IF($A101=SoilCat,IF($B101=DrainCat,IF(K$3=ESALCat,Design!$BV$64:$CE$87))))","v":13},{"$f":"SUM(IF($A101=SoilCat,IF($B101=DrainCat,IF(L$3=ESALCat,Design!$BV$64:$CE$87))))","v":18},{"$f":"SUM(IF($A101=SoilCat,IF($B101=DrainCat,IF(M$3=ESALCat,Design!$BV$64:$CE$87))))","v":24},{"$f":"SUM(IF($A101=SoilCat,IF($B101=DrainCat,IF(N$3=ESALCat,Design!$BV$64:$CE$87))))","v":32},{"$f":"SUM(IF($A101=SoilCat,IF($B101=DrainCat,IF(O$3=ESALCat,Design!$BV$64:$CE$87))))","v":38}]

{"sheet":"AC","index":6,"n_rows":77,"n_cols":15,"rows_kept":77,"cut":false,"hidden":false,"merged":[[14,2,22,2],[14,3,16,3],[17,3,19,3],[20,3,22,3],[0,2,1,14],[5,2,13,2],[5,3,7,3],[8,3,10,3],[11,3,13,3],[2,3,4,3],[2,2,4,2],[4,5,4,14],[32,2,40,2],[32,3,34,3],[35,3,37,3],[38,3,40,3],[23,2,31,2],[23,3,25,3],[26,3,28,3],[29,3,31,3],[50,2,58,2],[50,3,52,3],[53,3,55,3],[56,3,58,3],[41,2,49,2],[41,3,43,3],[44,3,46,3],[47,3,49,3],[68,2,76,2],[68,3,70,3],[71,3,73,3],[74,3,76,3],[59,2,67,2],[59,3,61,3],[62,3,64,3],[65,3,67,3]]}
[null,null,"ASPHALT CONCRETE BASE\nSTRUCTURE THICKNESSES (in)"]
[]
[null,null,null,"Drainage","ESALs",10000,20000,50000,100000,200000,500000,1000000,2000000,5000000,10000000]
[null,null,null,null,"TI",{"$f":"9*(F3/1000000)^0.119","v":5.2028644266514625},{"$f":"9*(G3/1000000)^0.119","v":5.6502163682481852},6.301151766600797,6.8429364924616367,7.4313048747790562,8.2874312748453587,9,9.7738367069006493,10.899835407763195,11.837023489730147]
[null,null,null,null,"Layer Type"]
[1,"Good","Category 1","Good","Pavers and Bedding",{"$f":"SUM(IF($A6=SoilCat,IF($B6=DrainCat,IF(F$3=ESALCat,Design!$N$4:$W$27))))","v":4.125},{"$f":"SUM(IF($A6=SoilCat,IF($B6=DrainCat,IF(G$3=ESALCat,Design!$N$4:$W$27))))","v":4.125},{"$f":"SUM(IF($A6=SoilCat,IF($B6=DrainCat,IF(H$3=ESALCat,Design!$N$4:$W$27))))","v":4.125},{"$f":"SUM(IF($A6=SoilCat,IF($B6=DrainCat,IF(I$3=ESALCat,Design!$N$4:$W$27))))","v":4.125},{"$f":"SUM(IF($A6=SoilCat,IF($B6=DrainCat,IF(J$3=ESALCat,Design!$N$4:$W$27))))","v":4.125},{"$f":"SUM(IF($A6=SoilCat,IF($B6=DrainCat,IF(K$3=ESALCat,Design!$N$4:$W$27))))","v":4.125},{"$f":"SUM(IF($A6=SoilCat,IF($B6=DrainCat,IF(L$3=ESALCat,Design!$N$4:$W$27))))","v":4.125},{"$f":"SUM(IF($A6=SoilCat,IF($B6=DrainCat,IF(M$3=ESALCat,Design!$N$4:$W$27))))","v":4.125},{"$f":"SUM(IF($A6=SoilCat,IF($B6=DrainCat,IF(N$3=ESALCat,Design!$N$4:$W$27))))","v":4.125},{"$f":"SUM(IF($A6=SoilCat,IF($B6=DrainCat,IF(O$3=ESALCat,Design!$N$4:$W$27))))","v":4.125}]
[1,"Good",null,null,"Asphalt Concrete Base",{"$f":"SUM(IF($A7=SoilCat,IF($B7=DrainCat,IF(F$3=ESALCat,Design!$BB$94:$BK$117))))","v":2},{"$f":"SUM(IF($A7=SoilCat,IF($B7=DrainCat,IF(G$3=ESALCat,Design!$BB$94:$BK$117))))","v":2},{"$f":"SUM(IF($A7=SoilCat,IF($B7=DrainCat,IF(H$3=ESALCat,Design!$BB$94:$BK$117))))","v":2},{"$f":"SUM(IF($A7=SoilCat,IF($B7=DrainCat,IF(I$3=ESALCat,Design!$BB$94:$BK$117))))","v":2},{"$f":"SUM(IF($A7=SoilCat,IF($B7=DrainCat,IF(J$3=ESALCat,Design!$BB$94:$BK$117))))","v":2},{"$f":"SUM(IF($A7=SoilCat,IF($B7=DrainCat,IF(K$3=ESALCat,Design!$BB$94:$BK$117))))","v":2},{"$f":"SUM(IF($A7=SoilCat,IF($B7=DrainCat,IF(L$3=ESALCat,Design!$BB$94:$BK$117))))","v":2},{"$f":"SUM(IF($A7=SoilCat,IF($B7=DrainCat,IF(M$3=ESALCat,Design!$BB$94:$BK$117))))","v":2},{"$f":"SUM(IF($A7=SoilCat,IF($B7=DrainCat,IF(N$3=ESALCat,Design!$BB$94:$BK$117))))","v":2},{"$f":"SUM(IF($A7=SoilCat,IF($B7=DrainCat,IF(O$3=ESALCat,Design!$BB$94:$BK$117))))","v":3}]
[1,"Good",null,null,"Unbound Dense Graded Base",{"$f":"SUM(IF($A8=SoilCat,IF($B8=DrainCat,IF(F$3=ESALCat,Design!$AH$94:$AQ$117))))","v":4},{"$f":"SUM(IF($A8=SoilCat,IF($B8=DrainCat,IF(G$3=ESALCat,Design!$AH$94:$AQ$117))))","v":4},{"$f":"SUM(IF($A8=SoilCat,IF($B8=DrainCat,IF(H$3=ESALCat,Design!$AH$94:$AQ$117))))","v":4},{"$f":"SUM(IF($A8=SoilCat,IF($B8=DrainCat,IF(I$3=ESALCat,Design!$AH$94:$AQ$117))))","v":4},{"$f":"SUM(IF($A8=SoilCat,IF($B8=DrainCat,IF(J$3=ESALCat,Design!$AH$94:$AQ$117))))","v":4},{"$f":"SUM(IF($A8=SoilCat,IF($B8=DrainCat,IF(K$3=ESALCat,Design!$AH$94:$AQ$117))))","v":6},{"$f":"SUM(IF($A8=SoilCat,IF($B8=DrainCat,IF(L$3=ESALCat,Design!$AH$94:$AQ$117))))","v":6},{"$f":"SUM(IF($A8=SoilCat,IF($B8=DrainCat,IF(M$3=ESALCat,Design!$AH$94:$AQ$117))))","v":6},{"$f":"SUM(IF($A8=SoilCat,IF($B8=DrainCat,IF(N$3=ESALCat,Design!$AH$94:$AQ$117))))","v":6},{"$f":"SUM(IF($A8=SoilCat,IF($B8=DrainCat,IF(O$3=ESALCat,Design!$AH$94:$AQ$117))))","v":6}]
[1,"Fair",null,"Fair","Pavers and Bedding",{"$f":"SUM(IF($A9=SoilCat,IF($B9=DrainCat,IF(F$3=ESALCat,Design!$N$4:$W$27))))","v":4.125},{"$f":"SUM(IF($A9=SoilCat,IF($B9=DrainCat,IF(G$3=ESALCat,Design!$N$4:$W$27))))","v":4.125},{"$f":"SUM(IF($A9=SoilCat,IF($B9=DrainCat,IF(H$3=ESALCat,Design!$N$4:$W$27))))","v":4.125},{"$f":"SUM(IF($A9=SoilCat,IF($B9=DrainCat,IF(I$3=ESALCat,Design!$N$4:$W$27))))","v":4.125},{"$f":"SUM(IF($A9=SoilCat,IF($B9=DrainCat,IF(J$3=ESALCat,Design!$N$4:$W$27))))","v":4.125},{"$f":"SUM(IF($A9=SoilCat,IF($B9=DrainCat,IF(K$3=ESALCat,Design!$N$4:$W$27))))","v":4.125},{"$f":"SUM(IF($A9=SoilCat,IF($B9=DrainCat,IF(L$3=ESALCat,Design!$N$4:$W$27))))","v":4.125},{"$f":"SUM(IF($A9=SoilCat,IF($B9=DrainCat,IF(M$3=ESALCat,Design!$N$4:$W$27))))","v":4.125},{"$f":"SUM(IF($A9=SoilCat,IF($B9=DrainCat,IF(N$3=ESALCat,Design!$N$4:$W$27))))","v":4.125},{"$f":"SUM(IF($A9=SoilCat,IF($B9=DrainCat,IF(O$3=ESALCat,Design!$N$4:$W$27))))","v":4.125}]
[1,"Fair",null,null,"Asphalt Concrete Base",{"$f":"SUM(IF($A10=SoilCat,IF($B10=DrainCat,IF(F$3=ESALCat,Design!$BB$94:$BK$117))))","v":2},{"$f":"SUM(IF($A10=SoilCat,IF($B10=DrainCat,IF(G$3=ESALCat,Design!$BB$94:$BK$117))))","v":2},{"$f":"SUM(IF($A10=SoilCat,IF($B10=DrainCat,IF(H$3=ESALCat,Design!$BB$94:$BK$117))))","v":2},{"$f":"SUM(IF($A10=SoilCat,IF($B10=DrainCat,IF(I$3=ESALCat,Design!$BB$94:$BK$117))))","v":2},{"$f":"SUM(IF($A10=SoilCat,IF($B10=DrainCat,IF(J$3=ESALCat,Design!$BB$94:$BK$117))))","v":2},{"$f":"SUM(IF($A10=SoilCat,IF($B10=DrainCat,IF(K$3=ESALCat,Design!$BB$94:$BK$117))))","v":2},{"$f":"SUM(IF($A10=SoilCat,IF($B10=DrainCat,IF(L$3=ESALCat,Design!$BB$94:$BK$117))))","v":2},{"$f":"SUM(IF($A10=SoilCat,IF($B10=DrainCat,IF(M$3=ESALCat,Design!$BB$94:$BK$117))))","v":2},{"$f":"SUM(IF($A10=SoilCat,IF($B10=DrainCat,IF(N$3=ESALCat,Design!$BB$94:$BK$117))))","v":2.5},{"$f":"SUM(IF($A10=SoilCat,IF($B10=DrainCat,IF(O$3=ESALCat,Design!$BB$94:$BK$117))))","v":3.5}]
[1,"Fair",null,null,"Unbound Dense Graded Base",{"$f":"SUM(IF($A11=SoilCat,IF($B11=DrainCat,IF(F$3=ESALCat,Design!$AH$94:$AQ$117))))","v":4},{"$f":"SUM(IF($A11=SoilCat,IF($B11=DrainCat,IF(G$3=ESALCat,Design!$AH$94:$AQ$117))))","v":4},{"$f":"SUM(IF($A11=SoilCat,IF($B11=DrainCat,IF(H$3=ESALCat,Design!$AH$94:$AQ$117))))","v":4},{"$f":"SUM(IF($A11=SoilCat,IF($B11=DrainCat,IF(I$3=ESALCat,Design!$AH$94:$AQ$117))))","v":4},{"$f":"SUM(IF($A11=SoilCat,IF($B11=DrainCat,IF(J$3=ESALCat,Design!$AH$94:$AQ$117))))","v":4},{"$f":"SUM(IF($A11=SoilCat,IF($B11=DrainCat,IF(K$3=ESALCat,Design!$AH$94:$AQ$117))))","v":6},{"$f":"SUM(IF($A11=SoilCat,IF($B11=DrainCat,IF(L$3=ESALCat,Design!$AH$94:$AQ$117))))","v":6},{"$f":"SUM(IF($A11=SoilCat,IF($B11=DrainCat,IF(M$3=ESALCat,Design!$AH$94:$AQ$117))))","v":6},{"$f":"SUM(IF($A11=SoilCat,IF($B11=DrainCat,IF(N$3=ESALCat,Design!$AH$94:$AQ$117))))","v":6},{"$f":"SUM(IF($A11=SoilCat,IF($B11=DrainCat,IF(O$3=ESALCat,Design!$AH$94:$AQ$117))))","v":6}]
[1,"Poor",null,"Poor","Pavers and Bedding",{"$f":"SUM(IF($A12=SoilCat,IF($B12=DrainCat,IF(F$3=ESALCat,Design!$N$4:$W$27))))","v":4.125},{"$f":"SUM(IF($A12=SoilCat,IF($B12=DrainCat,IF(G$3=ESALCat,Design!$N$4:$W$27))))","v":4.125},{"$f":"SUM(IF($A12=SoilCat,IF($B12=DrainCat,IF(H$3=ESALCat,Design!$N$4:$W$27))))","v":4.125},{"$f":"SUM(IF($A12=SoilCat,IF($B12=DrainCat,IF(I$3=ESALCat,Design!$N$4:$W$27))))","v":4.125},{"$f":"SUM(IF($A12=SoilCat,IF($B12=DrainCat,IF(J$3=ESALCat,Design!$N$4:$W$27))))","v":4.125},{"$f":"SUM(IF($A12=SoilCat,IF($B12=DrainCat,IF(K$3=ESALCat,Design!$N$4:$W$27))))","v":4.125},{"$f":"SUM(IF($A12=SoilCat,IF($B12=DrainCat,IF(L$3=ESALCat,Design!$N$4:$W$27))))","v":4.125},{"$f":"SUM(IF($A12=SoilCat,IF($B12=DrainCat,IF(M$3=ESALCat,Design!$N$4:$W$27))))","v":4.125},{"$f":"SUM(IF($A12=SoilCat,IF($B12=DrainCat,IF(N$3=ESALCat,Design!$N$4:$W$27))))","v":4.125},{"$f":"SUM(IF($A12=SoilCat,IF($B12=DrainCat,IF(O$3=ESALCat,Design!$N$4:$W$27))))","v":4.125}]
[1,"Poor",null,null,"Asphalt Concrete Base",{"$f":"SUM(IF($A13=SoilCat,IF($B13=DrainCat,IF(F$3=ESALCat,Design!$BB$94:$BK$117))))","v":2},{"$f":"SUM(IF($A13=SoilCat,IF($B13=DrainCat,IF(G$3=ESALCat,Design!$BB$94:$BK$117))))","v":2},{"$f":"SUM(IF($A13=SoilCat,IF($B13=DrainCat,IF(H$3=ESALCat,Design!$BB$94:$BK$117))))","v":2},{"$f":"SUM(IF($A13=SoilCat,IF($B13=DrainCat,IF(I$3=ESALCat,Design!$BB$94:$BK$117))))","v":2},{"$f":"SUM(IF($A13=SoilCat,IF($B13=DrainCat,IF(J$3=ESALCat,Design!$BB$94:$BK$117))))","v":2},{"$f":"SUM(IF($A13=SoilCat,IF($B13=DrainCat,IF(K$3=ESALCat,Design!$BB$94:$BK$117))))","v":2},{"$f":"SUM(IF($A13=SoilCat,IF($B13=DrainCat,IF(L$3=ESALCat,Design!$BB$94:$BK$117))))","v":2},{"$f":"SUM(IF($A13=SoilCat,IF($B13=DrainCat,IF(M$3=ESALCat,Design!$BB$94:$BK$117))))","v":2},{"$f":"SUM(IF($A13=SoilCat,IF($B13=DrainCat,IF(N$3=ESALCat,Design!$BB$94:$BK$117))))","v":2.5},{"$f":"SUM(IF($A13=SoilCat,IF($B13=DrainCat,IF(O$3=ESALCat,Design!$BB$94:$BK$117))))","v":3.5}]
[1,"Poor",null,null,"Unbound Dense Graded Base",{"$f":"SUM(IF($A14=SoilCat,IF($B14=DrainCat,IF(F$3=ESALCat,Design!$AH$94:$AQ$117))))","v":4},{"$f":"SUM(IF($A14=SoilCat,IF($B14=DrainCat,IF(G$3=ESALCat,Design!$AH$94:$AQ$117))))","v":4},{"$f":"SUM(IF($A14=SoilCat,IF($B14=DrainCat,IF(H$3=ESALCat,Design!$AH$94:$AQ$117))))","v":4},{"$f":"SUM(IF($A14=SoilCat,IF($B14=DrainCat,IF(I$3=ESALCat,Design!$AH$94:$AQ$117))))","v":4},{"$f":"SUM(IF($A14=SoilCat,IF($B14=DrainCat,IF(J$3=ESALCat,Design!$AH$94:$AQ$117))))","v":4},{"$f":"SUM(IF($A14=SoilCat,IF($B14=DrainCat,IF(K$3=ESALCat,Design!$AH$94:$AQ$117))))","v":6},{"$f":"SUM(IF($A14=SoilCat,IF($B14=DrainCat,IF(L$3=ESALCat,Design!$AH$94:$AQ$117))))","v":6},{"$f":"SUM(IF($A14=SoilCat,IF($B14=DrainCat,IF(M$3=ESALCat,Design!$AH$94:$AQ$117))))","v":6},{"$f":"SUM(IF($A14=SoilCat,IF($B14=DrainCat,IF(N$3=ESALCat,Design!$AH$94:$AQ$117))))","v":6},{"$f":"SUM(IF($A14=SoilCat,IF($B14=DrainCat,IF(O$3=ESALCat,Design!$AH$94:$AQ$117))))","v":6}]
[2,"Good","Category 2","Good","Pavers and Bedding",{"$f":"SUM(IF($A15=SoilCat,IF($B15=DrainCat,IF(F$3=ESALCat,Design!$N$4:$W$27))))","v":4.125},{"$f":"SUM(IF($A15=SoilCat,IF($B15=DrainCat,IF(G$3=ESALCat,Design!$N$4:$W$27))))","v":4.125},{"$f":"SUM(IF($A15=SoilCat,IF($B15=DrainCat,IF(H$3=ESALCat,Design!$N$4:$W$27))))","v":4.125},{"$f":"SUM(IF($A15=SoilCat,IF($B15=DrainCat,IF(I$3=ESALCat,Design!$N$4:$W$27))))","v":4.125},{"$f":"SUM(IF($A15=SoilCat,IF($B15=DrainCat,IF(J$3=ESALCat,Design!$N$4:$W$27))))","v":4.125},{"$f":"SUM(IF($A15=SoilCat,IF($B15=DrainCat,IF(K$3=ESALCat,Design!$N$4:$W$27))))","v":4.125},{"$f":"SUM(IF($A15=SoilCat,IF($B15=DrainCat,IF(L$3=ESALCat,Design!$N$4:$W$27))))","v":4.125},{"$f":"SUM(IF($A15=SoilCat,IF($B15=DrainCat,IF(M$3=ESALCat,Design!$N$4:$W$27))))","v":4.125},{"$f":"SUM(IF($A15=SoilCat,IF($B15=DrainCat,IF(N$3=ESALCat,Design!$N$4:$W$27))))","v":4.125},{"$f":"SUM(IF($A15=SoilCat,IF($B15=DrainCat,IF(O$3=ESALCat,Design!$N$4:$W$27))))","v":4.125}]
[2,"Good",null,null,"Asphalt Concrete Base",{"$f":"SUM(IF($A16=SoilCat,IF($B16=DrainCat,IF(F$3=ESALCat,Design!$BB$94:$BK$117))))","v":2},{"$f":"SUM(IF($A16=SoilCat,IF($B16=DrainCat,IF(G$3=ESALCat,Design!$BB$94:$BK$117))))","v":2},{"$f":"SUM(IF($A16=SoilCat,IF($B16=DrainCat,IF(H$3=ESALCat,Design!$BB$94:$BK$117))))","v":2},{"$f":"SUM(IF($A16=SoilCat,IF($B16=DrainCat,IF(I$3=ESALCat,Design!$BB$94:$BK$117))))","v":2},{"$f":"SUM(IF($A16=SoilCat,IF($B16=DrainCat,IF(J$3=ESALCat,Design!$BB$94:$BK$117))))","v":2},{"$f":"SUM(IF($A16=SoilCat,IF($B16=DrainCat,IF(K$3=ESALCat,Design!$BB$94:$BK$117))))","v":2},{"$f":"SUM(IF($A16=SoilCat,IF($B16=DrainCat,IF(L$3=ESALCat,Design!$BB$94:$BK$117))))","v":2},{"$f":"SUM(IF($A16=SoilCat,IF($B16=DrainCat,IF(M$3=ESALCat,Design!$BB$94:$BK$117))))","v":2},{"$f":"SUM(IF($A16=SoilCat,IF($B16=DrainCat,IF(N$3=ESALCat,Design!$BB$94:$BK$117))))","v":2.5},{"$f":"SUM(IF($A16=SoilCat,IF($B16=DrainCat,IF(O$3=ESALCat,Design!$BB$94:$BK$117))))","v":3.5}]
[2,"Good",null,null,"Unbound Dense Graded Base",{"$f":"SUM(IF($A17=SoilCat,IF($B17=DrainCat,IF(F$3=ESALCat,Design!$AH$94:$AQ$117))))","v":4},{"$f":"SUM(IF($A17=SoilCat,IF($B17=DrainCat,IF(G$3=ESALCat,Design!$AH$94:$AQ$117))))","v":4},{"$f":"SUM(IF($A17=SoilCat,IF($B17=DrainCat,IF(H$3=ESALCat,Design!$AH$94:$AQ$117))))","v":4},{"$f":"SUM(IF($A17=SoilCat,IF($B17=DrainCat,IF(I$3=ESALCat,Design!$AH$94:$AQ$117))))","v":4},{"$f":"SUM(IF($A17=SoilCat,IF($B17=DrainCat,IF(J$3=ESALCat,Design!$AH$94:$AQ$117))))","v":4},{"$f":"SUM(IF($A17=SoilCat,IF($B17=DrainCat,IF(K$3=ESALCat,Design!$AH$94:$AQ$117))))","v":6},{"$f":"SUM(IF($A17=SoilCat,IF($B17=DrainCat,IF(L$3=ESALCat,Design!$AH$94:$AQ$117))))","v":6},{"$f":"SUM(IF($A17=SoilCat,IF($B17=DrainCat,IF(M$3=ESALCat,Design!$AH$94:$AQ$117))))","v":6},{"$f":"SUM(IF($A17=SoilCat,IF($B17=DrainCat,IF(N$3=ESALCat,Design!$AH$94:$AQ$117))))","v":6},{"$f":"SUM(IF($A17=SoilCat,IF($B17=DrainCat,IF(O$3=ESALCat,Design!$AH$94:$AQ$117))))","v":6}]
[2,"Fair",null,"Fair","Pavers and Bedding",{"$f":"SUM(IF($A18=SoilCat,IF($B18=DrainCat,IF(F$3=ESALCat,Design!$N$4:$W$27))))","v":4.125},{"$f":"SUM(IF($A18=SoilCat,IF($B18=DrainCat,IF(G$3=ESALCat,Design!$N$4:$W$27))))","v":4.125},{"$f":"SUM(IF($A18=SoilCat,IF($B18=DrainCat,IF(H$3=ESALCat,Design!$N$4:$W$27))))","v":4.125},{"$f":"SUM(IF($A18=SoilCat,IF($B18=DrainCat,IF(I$3=ESALCat,Design!$N$4:$W$27))))","v":4.125},{"$f":"SUM(IF($A18=SoilCat,IF($B18=DrainCat,IF(J$3=ESALCat,Design!$N$4:$W$27))))","v":4.125},{"$f":"SUM(IF($A18=SoilCat,IF($B18=DrainCat,IF(K$3=ESALCat,Design!$N$4:$W$27))))","v":4.125},{"$f":"SUM(IF($A18=SoilCat,IF($B18=DrainCat,IF(L$3=ESALCat,Design!$N$4:$W$27))))","v":4.125},{"$f":"SUM(IF($A18=SoilCat,IF($B18=DrainCat,IF(M$3=ESALCat,Design!$N$4:$W$27))))","v":4.125},{"$f":"SUM(IF($A18=SoilCat,IF($B18=DrainCat,IF(N$3=ESALCat,Design!$N$4:$W$27))))","v":4.125},{"$f":"SUM(IF($A18=SoilCat,IF($B18=DrainCat,IF(O$3=ESALCat,Design!$N$4:$W$27))))","v":4.125}]
[2,"Fair",null,null,"Asphalt Concrete Base",{"$f":"SUM(IF($A19=SoilCat,IF($B19=DrainCat,IF(F$3=ESALCat,Design!$BB$94:$BK$117))))","v":2},{"$f":"SUM(IF($A19=SoilCat,IF($B19=DrainCat,IF(G$3=ESALCat,Design!$BB$94:$BK$117))))","v":2},{"$f":"SUM(IF($A19=SoilCat,IF($B19=DrainCat,IF(H$3=ESALCat,Design!$BB$94:$BK$117))))","v":2},{"$f":"SUM(IF($A19=SoilCat,IF($B19=DrainCat,IF(I$3=ESALCat,Design!$BB$94:$BK$117))))","v":2},{"$f":"SUM(IF($A19=SoilCat,IF($B19=DrainCat,IF(J$3=ESALCat,Design!$BB$94:$BK$117))))","v":2},{"$f":"SUM(IF($A19=SoilCat,IF($B19=DrainCat,IF(K$3=ESALCat,Design!$BB$94:$BK$117))))","v":2},{"$f":"SUM(IF($A19=SoilCat,IF($B19=DrainCat,IF(L$3=ESALCat,Design!$BB$94:$BK$117))))","v":2},{"$f":"SUM(IF($A19=SoilCat,IF($B19=DrainCat,IF(M$3=ESALCat,Design!$BB$94:$BK$117))))","v":2},{"$f":"SUM(IF($A19=SoilCat,IF($B19=DrainCat,IF(N$3=ESALCat,Design!$BB$94:$BK$117))))","v":2.5},{"$f":"SUM(IF($A19=SoilCat,IF($B19=DrainCat,IF(O$3=ESALCat,Design!$BB$94:$BK$117))))","v":3.5}]
[2,"Fair",null,null,"Unbound Dense Graded Base",{"$f":"SUM(IF($A20=SoilCat,IF($B20=DrainCat,IF(F$3=ESALCat,Design!$AH$94:$AQ$117))))","v":4},{"$f":"SUM(IF($A20=SoilCat,IF($B20=DrainCat,IF(G$3=ESALCat,Design!$AH$94:$AQ$117))))","v":4},{"$f":"SUM(IF($A20=SoilCat,IF($B20=DrainCat,IF(H$3=ESALCat,Design!$AH$94:$AQ$117))))","v":4},{"$f":"SUM(IF($A20=SoilCat,IF($B20=DrainCat,IF(I$3=ESALCat,Design!$AH$94:$AQ$117))))","v":4},{"$f":"SUM(IF($A20=SoilCat,IF($B20=DrainCat,IF(J$3=ESALCat,Design!$AH$94:$AQ$117))))","v":4},{"$f":"SUM(IF($A20=SoilCat,IF($B20=DrainCat,IF(K$3=ESALCat,Design!$AH$94:$AQ$117))))","v":6},{"$f":"SUM(IF($A20=SoilCat,IF($B20=DrainCat,IF(L$3=ESALCat,Design!$AH$94:$AQ$117))))","v":6},{"$f":"SUM(IF($A20=SoilCat,IF($B20=DrainCat,IF(M$3=ESALCat,Design!$AH$94:$AQ$117))))","v":6},{"$f":"SUM(IF($A20=SoilCat,IF($B20=DrainCat,IF(N$3=ESALCat,Design!$AH$94:$AQ$117))))","v":6},{"$f":"SUM(IF($A20=SoilCat,IF($B20=DrainCat,IF(O$3=ESALCat,Design!$AH$94:$AQ$117))))","v":6}]
[2,"Poor",null,"Poor","Pavers and Bedding",{"$f":"SUM(IF($A21=SoilCat,IF($B21=DrainCat,IF(F$3=ESALCat,Design!$N$4:$W$27))))","v":4.125},{"$f":"SUM(IF($A21=SoilCat,IF($B21=DrainCat,IF(G$3=ESALCat,Design!$N$4:$W$27))))","v":4.125},{"$f":"SUM(IF($A21=SoilCat,IF($B21=DrainCat,IF(H$3=ESALCat,Design!$N$4:$W$27))))","v":4.125},{"$f":"SUM(IF($A21=SoilCat,IF($B21=DrainCat,IF(I$3=ESALCat,Design!$N$4:$W$27))))","v":4.125},{"$f":"SUM(IF($A21=SoilCat,IF($B21=DrainCat,IF(J$3=ESALCat,Design!$N$4:$W$27))))","v":4.125},{"$f":"SUM(IF($A21=SoilCat,IF($B21=DrainCat,IF(K$3=ESALCat,Design!$N$4:$W$27))))","v":4.125},{"$f":"SUM(IF($A21=SoilCat,IF($B21=DrainCat,IF(L$3=ESALCat,Design!$N$4:$W$27))))","v":4.125},{"$f":"SUM(IF($A21=SoilCat,IF($B21=DrainCat,IF(M$3=ESALCat,Design!$N$4:$W$27))))","v":4.125},{"$f":"SUM(IF($A21=SoilCat,IF($B21=DrainCat,IF(N$3=ESALCat,Design!$N$4:$W$27))))","v":4.125},{"$f":"SUM(IF($A21=SoilCat,IF($B21=DrainCat,IF(O$3=ESALCat,Design!$N$4:$W$27))))","v":4.125}]
[2,"Poor",null,null,"Asphalt Concrete Base",{"$f":"SUM(IF($A22=SoilCat,IF($B22=DrainCat,IF(F$3=ESALCat,Design!$BB$94:$BK$117))))","v":2},{"$f":"SUM(IF($A22=SoilCat,IF($B22=DrainCat,IF(G$3=ESALCat,Design!$BB$94:$BK$117))))","v":2},{"$f":"SUM(IF($A22=SoilCat,IF($B22=DrainCat,IF(H$3=ESALCat,Design!$BB$94:$BK$117))))","v":2},{"$f":"SUM(IF($A22=SoilCat,IF($B22=DrainCat,IF(I$3=ESALCat,Design!$BB$94:$BK$117))))","v":2},{"$f":"SUM(IF($A22=SoilCat,IF($B22=DrainCat,IF(J$3=ESALCat,Design!$BB$94:$BK$117))))","v":2},{"$f":"SUM(IF($A22=SoilCat,IF($B22=DrainCat,IF(K$3=ESALCat,Design!$BB$94:$BK$117))))","v":2},{"$f":"SUM(IF($A22=SoilCat,IF($B22=DrainCat,IF(L$3=ESALCat,Design!$BB$94:$BK$117))))","v":2},{"$f":"SUM(IF($A22=SoilCat,IF($B22=DrainCat,IF(M$3=ESALCat,Design!$BB$94:$BK$117))))","v":2.5},{"$f":"SUM(IF($A22=SoilCat,IF($B22=DrainCat,IF(N$3=ESALCat,Design!$BB$94:$BK$117))))","v":4},{"$f":"SUM(IF($A22=SoilCat,IF($B22=DrainCat,IF(O$3=ESALCat,Design!$BB$94:$BK$117))))","v":5}]
[2,"Poor",null,null,"Unbound Dense Graded Base",{"$f":"SUM(IF($A23=SoilCat,IF($B23=DrainCat,IF(F$3=ESALCat,Design!$AH$94:$AQ$117))))","v":4},{"$f":"SUM(IF($A23=SoilCat,IF($B23=DrainCat,IF(G$3=ESALCat,Design!$AH$94:$AQ$117))))","v":4},{"$f":"SUM(IF($A23=SoilCat,IF($B23=DrainCat,IF(H$3=ESALCat,Design!$AH$94:$AQ$117))))","v":4},{"$f":"SUM(IF($A23=SoilCat,IF($B23=DrainCat,IF(I$3=ESALCat,Design!$AH$94:$AQ$117))))","v":4},{"$f":"SUM(IF($A23=SoilCat,IF($B23=DrainCat,IF(J$3=ESALCat,Design!$AH$94:$AQ$117))))","v":4},{"$f":"SUM(IF($A23=SoilCat,IF($B23=DrainCat,IF(K$3=ESALCat,Design!$AH$94:$AQ$117))))","v":6},{"$f":"SUM(IF($A23=SoilCat,IF($B23=DrainCat,IF(L$3=ESALCat,Design!$AH$94:$AQ$117))))","v":6},{"$f":"SUM(IF($A23=SoilCat,IF($B23=DrainCat,IF(M$3=ESALCat,Design!$AH$94:$AQ$117))))","v":6},{"$f":"SUM(IF($A23=SoilCat,IF($B23=DrainCat,IF(N$3=ESALCat,Design!$AH$94:$AQ$117))))","v":6},{"$f":"SUM(IF($A23=SoilCat,IF($B23=DrainCat,IF(O$3=ESALCat,Design!$AH$94:$AQ$117))))","v":6}]
[3,"Good","Category 3","Good","Pavers and Bedding",{"$f":"SUM(IF($A24=SoilCat,IF($B24=DrainCat,IF(F$3=ESALCat,Design!$N$4:$W$27))))","v":4.125},{"$f":"SUM(IF($A24=SoilCat,IF($B24=DrainCat,IF(G$3=ESALCat,Design!$N$4:$W$27))))","v":4.125},{"$f":"SUM(IF($A24=SoilCat,IF($B24=DrainCat,IF(H$3=ESALCat,Design!$N$4:$W$27))))","v":4.125},{"$f":"SUM(IF($A24=SoilCat,IF($B24=DrainCat,IF(I$3=ESALCat,Design!$N$4:$W$27))))","v":4.125},{"$f":"SUM(IF($A24=SoilCat,IF($B24=DrainCat,IF(J$3=ESALCat,Design!$N$4:$W$27))))","v":4.125},{"$f":"SUM(IF($A24=SoilCat,IF($B24=DrainCat,IF(K$3=ESALCat,Design!$N$4:$W$27))))","v":4.125},{"$f":"SUM(IF($A24=SoilCat,IF($B24=DrainCat,IF(L$3=ESALCat,Design!$N$4:$W$27))))","v":4.125},{"$f":"SUM(IF($A24=SoilCat,IF($B24=DrainCat,IF(M$3=ESALCat,Design!$N$4:$W$27))))","v":4.125},{"$f":"SUM(IF($A24=SoilCat,IF($B24=DrainCat,IF(N$3=ESALCat,Design!$N$4:$W$27))))","v":4.125},{"$f":"SUM(IF($A24=SoilCat,IF($B24=DrainCat,IF(O$3=ESALCat,Design!$N$4:$W$27))))","v":4.125}]
[3,"Good",null,null,"Asphalt Concrete Base",{"$f":"SUM(IF($A25=SoilCat,IF($B25=DrainCat,IF(F$3=ESALCat,Design!$BB$94:$BK$117))))","v":2},{"$f":"SUM(IF($A25=SoilCat,IF($B25=DrainCat,IF(G$3=ESALCat,Design!$BB$94:$BK$117))))","v":2},{"$f":"SUM(IF($A25=SoilCat,IF($B25=DrainCat,IF(H$3=ESALCat,Design!$BB$94:$BK$117))))","v":2},{"$f":"SUM(IF($A25=SoilCat,IF($B25=DrainCat,IF(I$3=ESALCat,Design!$BB$94:$BK$117))))","v":2},{"$f":"SUM(IF($A25=SoilCat,IF($B25=DrainCat,IF(J$3=ESALCat,Design!$BB$94:$BK$117))))","v":2},{"$f":"SUM(IF($A25=SoilCat,IF($B25=DrainCat,IF(K$3=ESALCat,Design!$BB$94:$BK$117))))","v":2},{"$f":"SUM(IF($A25=SoilCat,IF($B25=DrainCat,IF(L$3=ESALCat,Design!$BB$94:$BK$117))))","v":2},{"$f":"SUM(IF($A25=SoilCat,IF($B25=DrainCat,IF(M$3=ESALCat,Design!$BB$94:$BK$117))))","v":2},{"$f":"SUM(IF($A25=SoilCat,IF($B25=DrainCat,IF(N$3=ESALCat,Design!$BB$94:$BK$117))))","v":2.5},{"$f":"SUM(IF($A25=SoilCat,IF($B25=DrainCat,IF(O$3=ESALCat,Design!$BB$94:$BK$117))))","v":3.5}]
[3,"Good",null,null,"Unbound Dense Graded Base",{"$f":"SUM(IF($A26=SoilCat,IF($B26=DrainCat,IF(F$3=ESALCat,Design!$AH$94:$AQ$117))))","v":4},{"$f":"SUM(IF($A26=SoilCat,IF($B26=DrainCat,IF(G$3=ESALCat,Design!$AH$94:$AQ$117))))","v":4},{"$f":"SUM(IF($A26=SoilCat,IF($B26=DrainCat,IF(H$3=ESALCat,Design!$AH$94:$AQ$117))))","v":4},{"$f":"SUM(IF($A26=SoilCat,IF($B26=DrainCat,IF(I$3=ESALCat,Design!$AH$94:$AQ$117))))","v":4},{"$f":"SUM(IF($A26=SoilCat,IF($B26=DrainCat,IF(J$3=ESALCat,Design!$AH$94:$AQ$117))))","v":4},{"$f":"SUM(IF($A26=SoilCat,IF($B26=DrainCat,IF(K$3=ESALCat,Design!$AH$94:$AQ$117))))","v":6},{"$f":"SUM(IF($A26=SoilCat,IF($B26=DrainCat,IF(L$3=ESALCat,Design!$AH$94:$AQ$117))))","v":6},{"$f":"SUM(IF($A26=SoilCat,IF($B26=DrainCat,IF(M$3=ESALCat,Design!$AH$94:$AQ$117))))","v":6},{"$f":"SUM(IF($A26=SoilCat,IF($B26=DrainCat,IF(N$3=ESALCat,Design!$AH$94:$AQ$117))))","v":6},{"$f":"SUM(IF($A26=SoilCat,IF($B26=DrainCat,IF(O$3=ESALCat,Design!$AH$94:$AQ$117))))","v":6}]
[3,"Fair",null,"Fair","Pavers and Bedding",{"$f":"SUM(IF($A27=SoilCat,IF($B27=DrainCat,IF(F$3=ESALCat,Design!$N$4:$W$27))))","v":4.125},{"$f":"SUM(IF($A27=SoilCat,IF($B27=DrainCat,IF(G$3=ESALCat,Design!$N$4:$W$27))))","v":4.125},{"$f":"SUM(IF($A27=SoilCat,IF($B27=DrainCat,IF(H$3=ESALCat,Design!$N$4:$W$27))))","v":4.125},{"$f":"SUM(IF($A27=SoilCat,IF($B27=DrainCat,IF(I$3=ESALCat,Design!$N$4:$W$27))))","v":4.125},{"$f":"SUM(IF($A27=SoilCat,IF($B27=DrainCat,IF(J$3=ESALCat,Design!$N$4:$W$27))))","v":4.125},{"$f":"SUM(IF($A27=SoilCat,IF($B27=DrainCat,IF(K$3=ESALCat,Design!$N$4:$W$27))))","v":4.125},{"$f":"SUM(IF($A27=SoilCat,IF($B27=DrainCat,IF(L$3=ESALCat,Design!$N$4:$W$27))))","v":4.125},{"$f":"SUM(IF($A27=SoilCat,IF($B27=DrainCat,IF(M$3=ESALCat,Design!$N$4:$W$27))))","v":4.125},{"$f":"SUM(IF($A27=SoilCat,IF($B27=DrainCat,IF(N$3=ESALCat,Design!$N$4:$W$27))))","v":4.125},{"$f":"SUM(IF($A27=SoilCat,IF($B27=DrainCat,IF(O$3=ESALCat,Design!$N$4:$W$27))))","v":4.125}]
[3,"Fair",null,null,"Asphalt Concrete Base",{"$f":"SUM(IF($A28=SoilCat,IF($B28=DrainCat,IF(F$3=ESALCat,Design!$BB$94:$BK$117))))","v":2},{"$f":"SUM(IF($A28=SoilCat,IF($B28=DrainCat,IF(G$3=ESALCat,Design!$BB$94:$BK$117))))","v":2},{"$f":"SUM(IF($A28=SoilCat,IF($B28=DrainCat,IF(H$3=ESALCat,Design!$BB$94:$BK$117))))","v":2},{"$f":"SUM(IF($A28=SoilCat,IF($B28=DrainCat,IF(I$3=ESALCat,Design!$BB$94:$BK$117))))","v":2},{"$f":"SUM(IF($A28=SoilCat,IF($B28=DrainCat,IF(J$3=ESALCat,Design!$BB$94:$BK$117))))","v":2},{"$f":"SUM(IF($A28=SoilCat,IF($B28=DrainCat,IF(K$3=ESALCat,Design!$BB$94:$BK$117))))","v":2},{"$f":"SUM(IF($A28=SoilCat,IF($B28=DrainCat,IF(L$3=ESALCat,Design!$BB$94:$BK$117))))","v":2},{"$f":"SUM(IF($A28=SoilCat,IF($B28=DrainCat,IF(M$3=ESALCat,Design!$BB$94:$BK$117))))","v":2},{"$f":"SUM(IF($A28=SoilCat,IF($B28=DrainCat,IF(N$3=ESALCat,Design!$BB$94:$BK$117))))","v":3.5},{"$f":"SUM(IF($A28=SoilCat,IF($B28=DrainCat,IF(O$3=ESALCat,Design!$BB$94:$BK$117))))","v":4.5}]
[3,"Fair",null,null,"Unbound Dense Graded Base",{"$f":"SUM(IF($A29=SoilCat,IF($B29=DrainCat,IF(F$3=ESALCat,Design!$AH$94:$AQ$117))))","v":4},{"$f":"SUM(IF($A29=SoilCat,IF($B29=DrainCat,IF(G$3=ESALCat,Design!$AH$94:$AQ$117))))","v":4},{"$f":"SUM(IF($A29=SoilCat,IF($B29=DrainCat,IF(H$3=ESALCat,Design!$AH$94:$AQ$117))))","v":4},{"$f":"SUM(IF($A29=SoilCat,IF($B29=DrainCat,IF(I$3=ESALCat,Design!$AH$94:$AQ$117))))","v":4},{"$f":"SUM(IF($A29=SoilCat,IF($B29=DrainCat,IF(J$3=ESALCat,Design!$AH$94:$AQ$117))))","v":4},{"$f":"SUM(IF($A29=SoilCat,IF($B29=DrainCat,IF(K$3=ESALCat,Design!$AH$94:$AQ$117))))","v":6},{"$f":"SUM(IF($A29=SoilCat,IF($B29=DrainCat,IF(L$3=ESALCat,Design!$AH$94:$AQ$117))))","v":6},{"$f":"SUM(IF($A29=SoilCat,IF($B29=DrainCat,IF(M$3=ESALCat,Design!$AH$94:$AQ$117))))","v":6},{"$f":"SUM(IF($A29=SoilCat,IF($B29=DrainCat,IF(N$3=ESALCat,Design!$AH$94:$AQ$117))))","v":6},{"$f":"SUM(IF($A29=SoilCat,IF($B29=DrainCat,IF(O$3=ESALCat,Design!$AH$94:$AQ$117))))","v":6}]
[3,"Poor",null,"Poor","Pavers and Bedding",{"$f":"SUM(IF($A30=SoilCat,IF($B30=DrainCat,IF(F$3=ESALCat,Design!$N$4:$W$27))))","v":4.125},{"$f":"SUM(IF($A30=SoilCat,IF($B30=DrainCat,IF(G$3=ESALCat,Design!$N$4:$W$27))))","v":4.125},{"$f":"SUM(IF($A30=SoilCat,IF($B30=DrainCat,IF(H$3=ESALCat,Design!$N$4:$W$27))))","v":4.125},{"$f":"SUM(IF($A30=SoilCat,IF($B30=DrainCat,IF(I$3=ESALCat,Design!$N$4:$W$27))))","v":4.125},{"$f":"SUM(IF($A30=SoilCat,IF($B30=DrainCat,IF(J$3=ESALCat,Design!$N$4:$W$27))))","v":4.125},{"$f":"SUM(IF($A30=SoilCat,IF($B30=DrainCat,IF(K$3=ESALCat,Design!$N$4:$W$27))))","v":4.125},{"$f":"SUM(IF($A30=SoilCat,IF($B30=DrainCat,IF(L$3=ESALCat,Design!$N$4:$W$27))))","v":4.125},{"$f":"SUM(IF($A30=SoilCat,IF($B30=DrainCat,IF(M$3=ESALCat,Design!$N$4:$W$27))))","v":4.125},{"$f":"SUM(IF($A30=SoilCat,IF($B30=DrainCat,IF(N$3=ESALCat,Design!$N$4:$W$27))))","v":4.125},{"$f":"SUM(IF($A30=SoilCat,IF($B30=DrainCat,IF(O$3=ESALCat,Design!$N$4:$W$27))))","v":4.125}]
[3,"Poor",null,null,"Asphalt Concrete Base",{"$f":"SUM(IF($A31=SoilCat,IF($B31=DrainCat,IF(F$3=ESALCat,Design!$BB$94:$BK$117))))","v":2},{"$f":"SUM(IF($A31=SoilCat,IF($B31=DrainCat,IF(G$3=ESALCat,Design!$BB$94:$BK$117))))","v":2},{"$f":"SUM(IF($A31=SoilCat,IF($B31=DrainCat,IF(H$3=ESALCat,Design!$BB$94:$BK$117))))","v":2},{"$f":"SUM(IF($A31=SoilCat,IF($B31=DrainCat,IF(I$3=ESALCat,Design!$BB$94:$BK$117))))","v":2},{"$f":"SUM(IF($A31=SoilCat,IF($B31=DrainCat,IF(J$3=ESALCat,Design!$BB$94:$BK$117))))","v":2},{"$f":"SUM(IF($A31=SoilCat,IF($B31=DrainCat,IF(K$3=ESALCat,Design!$BB$94:$BK$117))))","v":2},{"$f":"SUM(IF($A31=SoilCat,IF($B31=DrainCat,IF(L$3=ESALCat,Design!$BB$94:$BK$117))))","v":2.5},{"$f":"SUM(IF($A31=SoilCat,IF($B31=DrainCat,IF(M$3=ESALCat,Design!$BB$94:$BK$117))))","v":3.5},{"$f":"SUM(IF($A31=SoilCat,IF($B31=DrainCat,IF(N$3=ESALCat,Design!$BB$94:$BK$117))))","v":5},{"$f":"SUM(IF($A31=SoilCat,IF($B31=DrainCat,IF(O$3=ESALCat,Design!$BB$94:$BK$117))))","v":6.5}]
[3,"Poor",null,null,"Unbound Dense Graded Base",{"$f":"SUM(IF($A32=SoilCat,IF($B32=DrainCat,IF(F$3=ESALCat,Design!$AH$94:$AQ$117))))","v":4},{"$f":"SUM(IF($A32=SoilCat,IF($B32=DrainCat,IF(G$3=ESALCat,Design!$AH$94:$AQ$117))))","v":4},{"$f":"SUM(IF($A32=SoilCat,IF($B32=DrainCat,IF(H$3=ESALCat,Design!$AH$94:$AQ$117))))","v":4},{"$f":"SUM(IF($A32=SoilCat,IF($B32=DrainCat,IF(I$3=ESALCat,Design!$AH$94:$AQ$117))))","v":4},{"$f":"SUM(IF($A32=SoilCat,IF($B32=DrainCat,IF(J$3=ESALCat,Design!$AH$94:$AQ$117))))","v":4},{"$f":"SUM(IF($A32=SoilCat,IF($B32=DrainCat,IF(K$3=ESALCat,Design!$AH$94:$AQ$117))))","v":6},{"$f":"SUM(IF($A32=SoilCat,IF($B32=DrainCat,IF(L$3=ESALCat,Design!$AH$94:$AQ$117))))","v":6},{"$f":"SUM(IF($A32=SoilCat,IF($B32=DrainCat,IF(M$3=ESALCat,Design!$AH$94:$AQ$117))))","v":6},{"$f":"SUM(IF($A32=SoilCat,IF($B32=DrainCat,IF(N$3=ESALCat,Design!$AH$94:$AQ$117))))","v":6},{"$f":"SUM(IF($A32=SoilCat,IF($B32=DrainCat,IF(O$3=ESALCat,Design!$AH$94:$AQ$117))))","v":6}]
[4,"Good","Category 4","Good","Pavers and Bedding",{"$f":"SUM(IF($A33=SoilCat,IF($B33=DrainCat,IF(F$3=ESALCat,Design!$N$4:$W$27))))","v":4.125},{"$f":"SUM(IF($A33=SoilCat,IF($B33=DrainCat,IF(G$3=ESALCat,Design!$N$4:$W$27))))","v":4.125},{"$f":"SUM(IF($A33=SoilCat,IF($B33=DrainCat,IF(H$3=ESALCat,Design!$N$4:$W$27))))","v":4.125},{"$f":"SUM(IF($A33=SoilCat,IF($B33=DrainCat,IF(I$3=ESALCat,Design!$N$4:$W$27))))","v":4.125},{"$f":"SUM(IF($A33=SoilCat,IF($B33=DrainCat,IF(J$3=ESALCat,Design!$N$4:$W$27))))","v":4.125},{"$f":"SUM(IF($A33=SoilCat,IF($B33=DrainCat,IF(K$3=ESALCat,Design!$N$4:$W$27))))","v":4.125},{"$f":"SUM(IF($A33=SoilCat,IF($B33=DrainCat,IF(L$3=ESALCat,Design!$N$4:$W$27))))","v":4.125},{"$f":"SUM(IF($A33=SoilCat,IF($B33=DrainCat,IF(M$3=ESALCat,Design!$N$4:$W$27))))","v":4.125},{"$f":"SUM(IF($A33=SoilCat,IF($B33=DrainCat,IF(N$3=ESALCat,Design!$N$4:$W$27))))","v":4.125},{"$f":"SUM(IF($A33=SoilCat,IF($B33=DrainCat,IF(O$3=ESALCat,Design!$N$4:$W$27))))","v":4.125}]
[4,"Good",null,null,"Asphalt Concrete Base",{"$f":"SUM(IF($A34=SoilCat,IF($B34=DrainCat,IF(F$3=ESALCat,Design!$BB$94:$BK$117))))","v":2},{"$f":"SUM(IF($A34=SoilCat,IF($B34=DrainCat,IF(G$3=ESALCat,Design!$BB$94:$BK$117))))","v":2},{"$f":"SUM(IF($A34=SoilCat,IF($B34=DrainCat,IF(H$3=ESALCat,Design!$BB$94:$BK$117))))","v":2},{"$f":"SUM(IF($A34=SoilCat,IF($B34=DrainCat,IF(I$3=ESALCat,Design!$BB$94:$BK$117))))","v":2},{"$f":"SUM(IF($A34=SoilCat,IF($B34=DrainCat,IF(J$3=ESALCat,Design!$BB$94:$BK$117))))","v":2},{"$f":"SUM(IF($A34=SoilCat,IF($B34=DrainCat,IF(K$3=ESALCat,Design!$BB$94:$BK$117))))","v":2},{"$f":"SUM(IF($A34=SoilCat,IF($B34=DrainCat,IF(L$3=ESALCat,Design!$BB$94:$BK$117))))","v":2},{"$f":"SUM(IF($A34=SoilCat,IF($B34=DrainCat,IF(M$3=ESALCat,Design!$BB$94:$BK$117))))","v":2},{"$f":"SUM(IF($A34=SoilCat,IF($B34=DrainCat,IF(N$3=ESALCat,Design!$BB$94:$BK$117))))","v":3.5},{"$f":"SUM(IF($A34=SoilCat,IF($B34=DrainCat,IF(O$3=ESALCat,Design!$BB$94:$BK$117))))","v":4.5}]
[4,"Good",null,null,"Unbound Dense Graded Base",{"$f":"SUM(IF($A35=SoilCat,IF($B35=DrainCat,IF(F$3=ESALCat,Design!$AH$94:$AQ$117))))","v":4},{"$f":"SUM(IF($A35=SoilCat,IF($B35=DrainCat,IF(G$3=ESALCat,Design!$AH$94:$AQ$117))))","v":4},{"$f":"SUM(IF($A35=SoilCat,IF($B35=DrainCat,IF(H$3=ESALCat,Design!$AH$94:$AQ$117))))","v":4},{"$f":"SUM(IF($A35=SoilCat,IF($B35=DrainCat,IF(I$3=ESALCat,Design!$AH$94:$AQ$117))))","v":4},{"$f":"SUM(IF($A35=SoilCat,IF($B35=DrainCat,IF(J$3=ESALCat,Design!$AH$94:$AQ$117))))","v":4},{"$f":"SUM(IF($A35=SoilCat,IF($B35=DrainCat,IF(K$3=ESALCat,Design!$AH$94:$AQ$117))))","v":6},{"$f":"SUM(IF($A35=SoilCat,IF($B35=DrainCat,IF(L$3=ESALCat,Design!$AH$94:$AQ$117))))","v":6},{"$f":"SUM(IF($A35=SoilCat,IF($B35=DrainCat,IF(M$3=ESALCat,Design!$AH$94:$AQ$117))))","v":6},{"$f":"SUM(IF($A35=SoilCat,IF($B35=DrainCat,IF(N$3=ESALCat,Design!$AH$94:$AQ$117))))","v":6},{"$f":"SUM(IF($A35=SoilCat,IF($B35=DrainCat,IF(O$3=ESALCat,Design!$AH$94:$AQ$117))))","v":6}]
[4,"Fair",null,"Fair","Pavers and Bedding",{"$f":"SUM(IF($A36=SoilCat,IF($B36=DrainCat,IF(F$3=ESALCat,Design!$N$4:$W$27))))","v":4.125},{"$f":"SUM(IF($A36=SoilCat,IF($B36=DrainCat,IF(G$3=ESALCat,Design!$N$4:$W$27))))","v":4.125},{"$f":"SUM(IF($A36=SoilCat,IF($B36=DrainCat,IF(H$3=ESALCat,Design!$N$4:$W$27))))","v":4.125},{"$f":"SUM(IF($A36=SoilCat,IF($B36=DrainCat,IF(I$3=ESALCat,Design!$N$4:$W$27))))","v":4.125},{"$f":"SUM(IF($A36=SoilCat,IF($B36=DrainCat,IF(J$3=ESALCat,Design!$N$4:$W$27))))","v":4.125},{"$f":"SUM(IF($A36=SoilCat,IF($B36=DrainCat,IF(K$3=ESALCat,Design!$N$4:$W$27))))","v":4.125},{"$f":"SUM(IF($A36=SoilCat,IF($B36=DrainCat,IF(L$3=ESALCat,Design!$N$4:$W$27))))","v":4.125},{"$f":"SUM(IF($A36=SoilCat,IF($B36=DrainCat,IF(M$3=ESALCat,Design!$N$4:$W$27))))","v":4.125},{"$f":"SUM(IF($A36=SoilCat,IF($B36=DrainCat,IF(N$3=ESALCat,Design!$N$4:$W$27))))","v":4.125},{"$f":"SUM(IF($A36=SoilCat,IF($B36=DrainCat,IF(O$3=ESALCat,Design!$N$4:$W$27))))","v":4.125}]
[4,"Fair",null,null,"Asphalt Concrete Base",{"$f":"SUM(IF($A37=SoilCat,IF($B37=DrainCat,IF(F$3=ESALCat,Design!$BB$94:$BK$117))))","v":2},{"$f":"SUM(IF($A37=SoilCat,IF($B37=DrainCat,IF(G$3=ESALCat,Design!$BB$94:$BK$117))))","v":2},{"$f":"SUM(IF($A37=SoilCat,IF($B37=DrainCat,IF(H$3=ESALCat,Design!$BB$94:$BK$117))))","v":2},{"$f":"SUM(IF($A37=SoilCat,IF($B37=DrainCat,IF(I$3=ESALCat,Design!$BB$94:$BK$117))))","v":2},{"$f":"SUM(IF($A37=SoilCat,IF($B37=DrainCat,IF(J$3=ESALCat,Design!$BB$94:$BK$117))))","v":2},{"$f":"SUM(IF($A37=SoilCat,IF($B37=DrainCat,IF(K$3=ESALCat,Design!$BB$94:$BK$117))))","v":2},{"$f":"SUM(IF($A37=SoilCat,IF($B37=DrainCat,IF(L$3=ESALCat,Design!$BB$94:$BK$117))))","v":2.5},{"$f":"SUM(IF($A37=SoilCat,IF($B37=DrainCat,IF(M$3=ESALCat,Design!$BB$94:$BK$117))))","v":3.5},{"$f":"SUM(IF($A37=SoilCat,IF($B37=DrainCat,IF(N$3=ESALCat,Design!$BB$94:$BK$117))))","v":5},{"$f":"SUM(IF($A37=SoilCat,IF($B37=DrainCat,IF(O$3=ESALCat,Design!$BB$94:$BK$117))))","v":6.5}]
[4,"Fair",null,null,"Unbound Dense Graded Base",{"$f":"SUM(IF($A38=SoilCat,IF($B38=DrainCat,IF(F$3=ESALCat,Design!$AH$94:$AQ$117))))","v":4},{"$f":"SUM(IF($A38=SoilCat,IF($B38=DrainCat,IF(G$3=ESALCat,Design!$AH$94:$AQ$117))))","v":4},{"$f":"SUM(IF($A38=SoilCat,IF($B38=DrainCat,IF(H$3=ESALCat,Design!$AH$94:$AQ$117))))","v":4},{"$f":"SUM(IF($A38=SoilCat,IF($B38=DrainCat,IF(I$3=ESALCat,Design!$AH$94:$AQ$117))))","v":4},{"$f":"SUM(IF($A38=SoilCat,IF($B38=DrainCat,IF(J$3=ESALCat,Design!$AH$94:$AQ$117))))","v":4},{"$f":"SUM(IF($A38=SoilCat,IF($B38=DrainCat,IF(K$3=ESALCat,Design!$AH$94:$AQ$117))))","v":6},{"$f":"SUM(IF($A38=SoilCat,IF($B38=DrainCat,IF(L$3=ESALCat,Design!$AH$94:$AQ$117))))","v":6},{"$f":"SUM(IF($A38=SoilCat,IF($B38=DrainCat,IF(M$3=ESALCat,Design!$AH$94:$AQ$117))))","v":6},{"$f":"SUM(IF($A38=SoilCat,IF($B38=DrainCat,IF(N$3=ESALCat,Design!$AH$94:$AQ$117))))","v":6},{"$f":"SUM(IF($A38=SoilCat,IF($B38=DrainCat,IF(O$3=ESALCat,Design!$AH$94:$AQ$117))))","v":6}]
[4,"Poor",null,"Poor","Pavers and Bedding",{"$f":"SUM(IF($A39=SoilCat,IF($B39=DrainCat,IF(F$3=ESALCat,Design!$N$4:$W$27))))","v":4.125},{"$f":"SUM(IF($A39=SoilCat,IF($B39=DrainCat,IF(G$3=ESALCat,Design!$N$4:$W$27))))","v":4.125},{"$f":"SUM(IF($A39=SoilCat,IF($B39=DrainCat,IF(H$3=ESALCat,Design!$N$4:$W$27))))","v":4.125},{"$f":"SUM(IF($A39=SoilCat,IF($B39=DrainCat,IF(I$3=ESALCat,Design!$N$4:$W$27))))","v":4.125},{"$f":"SUM(IF($A39=SoilCat,IF($B39=DrainCat,IF(J$3=ESALCat,Design!$N$4:$W$27))))","v":4.125},{"$f":"SUM(IF($A39=SoilCat,IF($B39=DrainCat,IF(K$3=ESALCat,Design!$N$4:$W$27))))","v":4.125},{"$f":"SUM(IF($A39=SoilCat,IF($B39=DrainCat,IF(L$3=ESALCat,Design!$N$4:$W$27))))","v":4.125},{"$f":"SUM(IF($A39=SoilCat,IF($B39=DrainCat,IF(M$3=ESALCat,Design!$N$4:$W$27))))","v":4.125},{"$f":"SUM(IF($A39=SoilCat,IF($B39=DrainCat,IF(N$3=ESALCat,Design!$N$4:$W$27))))","v":4.125},{"$f":"SUM(IF($A39=SoilCat,IF($B39=DrainCat,IF(O$3=ESALCat,Design!$N$4:$W$27))))","v":4.125}]
[4,"Poor",null,null,"Asphalt Concrete Base",{"$f":"SUM(IF($A40=SoilCat,IF($B40=DrainCat,IF(F$3=ESALCat,Design!$BB$94:$BK$117))))","v":2},{"$f":"SUM(IF($A40=SoilCat,IF($B40=DrainCat,IF(G$3=ESALCat,Design!$BB$94:$BK$117))))","v":2},{"$f":"SUM(IF($A40=SoilCat,IF($B40=DrainCat,IF(H$3=ESALCat,Design!$BB$94:$BK$117))))","v":2},{"$f":"SUM(IF($A40=SoilCat,IF($B40=DrainCat,IF(I$3=ESALCat,Design!$BB$94:$BK$117))))","v":2},{"$f":"SUM(IF($A40=SoilCat,IF($B40=DrainCat,IF(J$3=ESALCat,Design!$BB$94:$BK$117))))","v":2},{"$f":"SUM(IF($A40=SoilCat,IF($B40=DrainCat,IF(K$3=ESALCat,Design!$BB$94:$BK$117))))","v":2},{"$f":"SUM(IF($A40=SoilCat,IF($B40=DrainCat,IF(L$3=ESALCat,Design!$BB$94:$BK$117))))","v":3},{"$f":"SUM(IF($A40=SoilCat,IF($B40=DrainCat,IF(M$3=ESALCat,Design!$BB$94:$BK$117))))","v":4},{"$f":"SUM(IF($A40=SoilCat,IF($B40=DrainCat,IF(N$3=ESALCat,Design!$BB$94:$BK$117))))","v":5.5},{"$f":"SUM(IF($A40=SoilCat,IF($B40=DrainCat,IF(O$3=ESALCat,Design!$BB$94:$BK$117))))","v":6.5}]
[4,"Poor",null,null,"Unbound Dense Graded Base",{"$f":"SUM(IF($A41=SoilCat,IF($B41=DrainCat,IF(F$3=ESALCat,Design!$AH$94:$AQ$117))))","v":4},{"$f":"SUM(IF($A41=SoilCat,IF($B41=DrainCat,IF(G$3=ESALCat,Design!$AH$94:$AQ$117))))","v":4},{"$f":"SUM(IF($A41=SoilCat,IF($B41=DrainCat,IF(H$3=ESALCat,Design!$AH$94:$AQ$117))))","v":4},{"$f":"SUM(IF($A41=SoilCat,IF($B41=DrainCat,IF(I$3=ESALCat,Design!$AH$94:$AQ$117))))","v":4},{"$f":"SUM(IF($A41=SoilCat,IF($B41=DrainCat,IF(J$3=ESALCat,Design!$AH$94:$AQ$117))))","v":4},{"$f":"SUM(IF($A41=SoilCat,IF($B41=DrainCat,IF(K$3=ESALCat,Design!$AH$94:$AQ$117))))","v":6},{"$f":"SUM(IF($A41=SoilCat,IF($B41=DrainCat,IF(L$3=ESALCat,Design!$AH$94:$AQ$117))))","v":6},{"$f":"SUM(IF($A41=SoilCat,IF($B41=DrainCat,IF(M$3=ESALCat,Design!$AH$94:$AQ$117))))","v":6},{"$f":"SUM(IF($A41=SoilCat,IF($B41=DrainCat,IF(N$3=ESALCat,Design!$AH$94:$AQ$117))))","v":6},{"$f":"SUM(IF($A41=SoilCat,IF($B41=DrainCat,IF(O$3=ESALCat,Design!$AH$94:$AQ$117))))","v":6}]
[5,"Good","Category 5","Good","Pavers and Bedding",{"$f":"SUM(IF($A42=SoilCat,IF($B42=DrainCat,IF(F$3=ESALCat,Design!$N$4:$W$27))))","v":4.125},{"$f":"SUM(IF($A42=SoilCat,IF($B42=DrainCat,IF(G$3=ESALCat,Design!$N$4:$W$27))))","v":4.125},{"$f":"SUM(IF($A42=SoilCat,IF($B42=DrainCat,IF(H$3=ESALCat,Design!$N$4:$W$27))))","v":4.125},{"$f":"SUM(IF($A42=SoilCat,IF($B42=DrainCat,IF(I$3=ESALCat,Design!$N$4:$W$27))))","v":4.125},{"$f":"SUM(IF($A42=SoilCat,IF($B42=DrainCat,IF(J$3=ESALCat,Design!$N$4:$W$27))))","v":4.125},{"$f":"SUM(IF($A42=SoilCat,IF($B42=DrainCat,IF(K$3=ESALCat,Design!$N$4:$W$27))))","v":4.125},{"$f":"SUM(IF($A42=SoilCat,IF($B42=DrainCat,IF(L$3=ESALCat,Design!$N$4:$W$27))))","v":4.125},{"$f":"SUM(IF($A42=SoilCat,IF($B42=DrainCat,IF(M$3=ESALCat,Design!$N$4:$W$27))))","v":4.125},{"$f":"SUM(IF($A42=SoilCat,IF($B42=DrainCat,IF(N$3=ESALCat,Design!$N$4:$W$27))))","v":4.125},{"$f":"SUM(IF($A42=SoilCat,IF($B42=DrainCat,IF(O$3=ESALCat,Design!$N$4:$W$27))))","v":4.125}]
[5,"Good",null,null,"Asphalt Concrete Base",{"$f":"SUM(IF($A43=SoilCat,IF($B43=DrainCat,IF(F$3=ESALCat,Design!$BB$94:$BK$117))))","v":2},{"$f":"SUM(IF($A43=SoilCat,IF($B43=DrainCat,IF(G$3=ESALCat,Design!$BB$94:$BK$117))))","v":2},{"$f":"SUM(IF($A43=SoilCat,IF($B43=DrainCat,IF(H$3=ESALCat,Design!$BB$94:$BK$117))))","v":2},{"$f":"SUM(IF($A43=SoilCat,IF($B43=DrainCat,IF(I$3=ESALCat,Design!$BB$94:$BK$117))))","v":2},{"$f":"SUM(IF($A43=SoilCat,IF($B43=DrainCat,IF(J$3=ESALCat,Design!$BB$94:$BK$117))))","v":2},{"$f":"SUM(IF($A43=SoilCat,IF($B43=DrainCat,IF(K$3=ESALCat,Design!$BB$94:$BK$117))))","v":2},{"$f":"SUM(IF($A43=SoilCat,IF($B43=DrainCat,IF(L$3=ESALCat,Design!$BB$94:$BK$117))))","v":2},{"$f":"SUM(IF($A43=SoilCat,IF($B43=DrainCat,IF(M$3=ESALCat,Design!$BB$94:$BK$117))))","v":3},{"$f":"SUM(IF($A43=SoilCat,IF($B43=DrainCat,IF(N$3=ESALCat,Design!$BB$94:$BK$117))))","v":4.5},{"$f":"SUM(IF($A43=SoilCat,IF($B43=DrainCat,IF(O$3=ESALCat,Design!$BB$94:$BK$117))))","v":5.5}]
[5,"Good",null,null,"Unbound Dense Graded Base",{"$f":"SUM(IF($A44=SoilCat,IF($B44=DrainCat,IF(F$3=ESALCat,Design!$AH$94:$AQ$117))))","v":4},{"$f":"SUM(IF($A44=SoilCat,IF($B44=DrainCat,IF(G$3=ESALCat,Design!$AH$94:$AQ$117))))","v":4},{"$f":"SUM(IF($A44=SoilCat,IF($B44=DrainCat,IF(H$3=ESALCat,Design!$AH$94:$AQ$117))))","v":4},{"$f":"SUM(IF($A44=SoilCat,IF($B44=DrainCat,IF(I$3=ESALCat,Design!$AH$94:$AQ$117))))","v":4},{"$f":"SUM(IF($A44=SoilCat,IF($B44=DrainCat,IF(J$3=ESALCat,Design!$AH$94:$AQ$117))))","v":4},{"$f":"SUM(IF($A44=SoilCat,IF($B44=DrainCat,IF(K$3=ESALCat,Design!$AH$94:$AQ$117))))","v":6},{"$f":"SUM(IF($A44=SoilCat,IF($B44=DrainCat,IF(L$3=ESALCat,Design!$AH$94:$AQ$117))))","v":6},{"$f":"SUM(IF($A44=SoilCat,IF($B44=DrainCat,IF(M$3=ESALCat,Design!$AH$94:$AQ$117))))","v":6},{"$f":"SUM(IF($A44=SoilCat,IF($B44=DrainCat,IF(N$3=ESALCat,Design!$AH$94:$AQ$117))))","v":6},{"$f":"SUM(IF($A44=SoilCat,IF($B44=DrainCat,IF(O$3=ESALCat,Design!$AH$94:$AQ$117))))","v":6}]
[5,"Fair",null,"Fair","Pavers and Bedding",{"$f":"SUM(IF($A45=SoilCat,IF($B45=DrainCat,IF(F$3=ESALCat,Design!$N$4:$W$27))))","v":4.125},{"$f":"SUM(IF($A45=SoilCat,IF($B45=DrainCat,IF(G$3=ESALCat,Design!$N$4:$W$27))))","v":4.125},{"$f":"SUM(IF($A45=SoilCat,IF($B45=DrainCat,IF(H$3=ESALCat,Design!$N$4:$W$27))))","v":4.125},{"$f":"SUM(IF($A45=SoilCat,IF($B45=DrainCat,IF(I$3=ESALCat,Design!$N$4:$W$27))))","v":4.125},{"$f":"SUM(IF($A45=SoilCat,IF($B45=DrainCat,IF(J$3=ESALCat,Design!$N$4:$W$27))))","v":4.125},{"$f":"SUM(IF($A45=SoilCat,IF($B45=DrainCat,IF(K$3=ESALCat,Design!$N$4:$W$27))))","v":4.125},{"$f":"SUM(IF($A45=SoilCat,IF($B45=DrainCat,IF(L$3=ESALCat,Design!$N$4:$W$27))))","v":4.125},{"$f":"SUM(IF($A45=SoilCat,IF($B45=DrainCat,IF(M$3=ESALCat,Design!$N$4:$W$27))))","v":4.125},{"$f":"SUM(IF($A45=SoilCat,IF($B45=DrainCat,IF(N$3=ESALCat,Design!$N$4:$W$27))))","v":4.125},{"$f":"SUM(IF($A45=SoilCat,IF($B45=DrainCat,IF(O$3=ESALCat,Design!$N$4:$W$27))))","v":4.125}]
[5,"Fair",null,null,"Asphalt Concrete Base",{"$f":"SUM(IF($A46=SoilCat,IF($B46=DrainCat,IF(F$3=ESALCat,Design!$BB$94:$BK$117))))","v":2},{"$f":"SUM(IF($A46=SoilCat,IF($B46=DrainCat,IF(G$3=ESALCat,Design!$BB$94:$BK$117))))","v":2},{"$f":"SUM(IF($A46=SoilCat,IF($B46=DrainCat,IF(H$3=ESALCat,Design!$BB$94:$BK$117))))","v":2},{"$f":"SUM(IF($A46=SoilCat,IF($B46=DrainCat,IF(I$3=ESALCat,Design!$BB$94:$BK$117))))","v":2},{"$f":"SUM(IF($A46=SoilCat,IF($B46=DrainCat,IF(J$3=ESALCat,Design!$BB$94:$BK$117))))","v":2},{"$f":"SUM(IF($A46=SoilCat,IF($B46=DrainCat,IF(K$3=ESALCat,Design!$BB$94:$BK$117))))","v":2},{"$f":"SUM(IF($A46=SoilCat,IF($B46=DrainCat,IF(L$3=ESALCat,Design!$BB$94:$BK$117))))","v":3},{"$f":"SUM(IF($A46=SoilCat,IF($B46=DrainCat,IF(M$3=ESALCat,Design!$BB$94:$BK$117))))","v":4},{"$f":"SUM(IF($A46=SoilCat,IF($B46=DrainCat,IF(N$3=ESALCat,Design!$BB$94:$BK$117))))","v":5.5},{"$f":"SUM(IF($A46=SoilCat,IF($B46=DrainCat,IF(O$3=ESALCat,Design!$BB$94:$BK$117))))","v":6.5}]
[5,"Fair",null,null,"Unbound Dense Graded Base",{"$f":"SUM(IF($A47=SoilCat,IF($B47=DrainCat,IF(F$3=ESALCat,Design!$AH$94:$AQ$117))))","v":4},{"$f":"SUM(IF($A47=SoilCat,IF($B47=DrainCat,IF(G$3=ESALCat,Design!$AH$94:$AQ$117))))","v":4},{"$f":"SUM(IF($A47=SoilCat,IF($B47=DrainCat,IF(H$3=ESALCat,Design!$AH$94:$AQ$117))))","v":4},{"$f":"SUM(IF($A47=SoilCat,IF($B47=DrainCat,IF(I$3=ESALCat,Design!$AH$94:$AQ$117))))","v":4},{"$f":"SUM(IF($A47=SoilCat,IF($B47=DrainCat,IF(J$3=ESALCat,Design!$AH$94:$AQ$117))))","v":4},{"$f":"SUM(IF($A47=SoilCat,IF($B47=DrainCat,IF(K$3=ESALCat,Design!$AH$94:$AQ$117))))","v":6},{"$f":"SUM(IF($A47=SoilCat,IF($B47=DrainCat,IF(L$3=ESALCat,Design!$AH$94:$AQ$117))))","v":6},{"$f":"SUM(IF($A47=SoilCat,IF($B47=DrainCat,IF(M$3=ESALCat,Design!$AH$94:$AQ$117))))","v":6},{"$f":"SUM(IF($A47=SoilCat,IF($B47=DrainCat,IF(N$3=ESALCat,Design!$AH$94:$AQ$117))))","v":6},{"$f":"SUM(IF($A47=SoilCat,IF($B47=DrainCat,IF(O$3=ESALCat,Design!$AH$94:$AQ$117))))","v":6}]
[5,"Poor",null,"Poor","Pavers and Bedding",{"$f":"SUM(IF($A48=SoilCat,IF($B48=DrainCat,IF(F$3=ESALCat,Design!$N$4:$W$27))))","v":4.125},{"$f":"SUM(IF($A48=SoilCat,IF($B48=DrainCat,IF(G$3=ESALCat,Design!$N$4:$W$27))))","v":4.125},{"$f":"SUM(IF($A48=SoilCat,IF($B48=DrainCat,IF(H$3=ESALCat,Design!$N$4:$W$27))))","v":4.125},{"$f":"SUM(IF($A48=SoilCat,IF($B48=DrainCat,IF(I$3=ESALCat,Design!$N$4:$W$27))))","v":4.125},{"$f":"SUM(IF($A48=SoilCat,IF($B48=DrainCat,IF(J$3=ESALCat,Design!$N$4:$W$27))))","v":4.125},{"$f":"SUM(IF($A48=SoilCat,IF($B48=DrainCat,IF(K$3=ESALCat,Design!$N$4:$W$27))))","v":4.125},{"$f":"SUM(IF($A48=SoilCat,IF($B48=DrainCat,IF(L$3=ESALCat,Design!$N$4:$W$27))))","v":4.125},{"$f":"SUM(IF($A48=SoilCat,IF($B48=DrainCat,IF(M$3=ESALCat,Design!$N$4:$W$27))))","v":4.125},{"$f":"SUM(IF($A48=SoilCat,IF($B48=DrainCat,IF(N$3=ESALCat,Design!$N$4:$W$27))))","v":4.125},{"$f":"SUM(IF($A48=SoilCat,IF($B48=DrainCat,IF(O$3=ESALCat,Design!$N$4:$W$27))))","v":4.125}]
[5,"Poor",null,null,"Asphalt Concrete Base",{"$f":"SUM(IF($A49=SoilCat,IF($B49=DrainCat,IF(F$3=ESALCat,Design!$BB$94:$BK$117))))","v":2},{"$f":"SUM(IF($A49=SoilCat,IF($B49=DrainCat,IF(G$3=ESALCat,Design!$BB$94:$BK$117))))","v":2},{"$f":"SUM(IF($A49=SoilCat,IF($B49=DrainCat,IF(H$3=ESALCat,Design!$BB$94:$BK$117))))","v":2},{"$f":"SUM(IF($A49=SoilCat,IF($B49=DrainCat,IF(I$3=ESALCat,Design!$BB$94:$BK$117))))","v":2},{"$f":"SUM(IF($A49=SoilCat,IF($B49=DrainCat,IF(J$3=ESALCat,Design!$BB$94:$BK$117))))","v":2.5},{"$f":"SUM(IF($A49=SoilCat,IF($B49=DrainCat,IF(K$3=ESALCat,Design!$BB$94:$BK$117))))","v":3},{"$f":"SUM(IF($A49=SoilCat,IF($B49=DrainCat,IF(L$3=ESALCat,Design!$BB$94:$BK$117))))","v":4},{"$f":"SUM(IF($A49=SoilCat,IF($B49=DrainCat,IF(M$3=ESALCat,Design!$BB$94:$BK$117))))","v":5},{"$f":"SUM(IF($A49=SoilCat,IF($B49=DrainCat,IF(N$3=ESALCat,Design!$BB$94:$BK$117))))","v":6.5},{"$f":"SUM(IF($A49=SoilCat,IF($B49=DrainCat,IF(O$3=ESALCat,Design!$BB$94:$BK$117))))","v":8}]
[5,"Poor",null,null,"Unbound Dense Graded Base",{"$f":"SUM(IF($A50=SoilCat,IF($B50=DrainCat,IF(F$3=ESALCat,Design!$AH$94:$AQ$117))))","v":4},{"$f":"SUM(IF($A50=SoilCat,IF($B50=DrainCat,IF(G$3=ESALCat,Design!$AH$94:$AQ$117))))","v":4},{"$f":"SUM(IF($A50=SoilCat,IF($B50=DrainCat,IF(H$3=ESALCat,Design!$AH$94:$AQ$117))))","v":4},{"$f":"SUM(IF($A50=SoilCat,IF($B50=DrainCat,IF(I$3=ESALCat,Design!$AH$94:$AQ$117))))","v":4},{"$f":"SUM(IF($A50=SoilCat,IF($B50=DrainCat,IF(J$3=ESALCat,Design!$AH$94:$AQ$117))))","v":4},{"$f":"SUM(IF($A50=SoilCat,IF($B50=DrainCat,IF(K$3=ESALCat,Design!$AH$94:$AQ$117))))","v":6},{"$f":"SUM(IF($A50=SoilCat,IF($B50=DrainCat,IF(L$3=ESALCat,Design!$AH$94:$AQ$117))))","v":6},{"$f":"SUM(IF($A50=SoilCat,IF($B50=DrainCat,IF(M$3=ESALCat,Design!$AH$94:$AQ$117))))","v":6},{"$f":"SUM(IF($A50=SoilCat,IF($B50=DrainCat,IF(N$3=ESALCat,Design!$AH$94:$AQ$117))))","v":6},{"$f":"SUM(IF($A50=SoilCat,IF($B50=DrainCat,IF(O$3=ESALCat,Design!$AH$94:$AQ$117))))","v":6}]
[6,"Good","Category 6","Good","Pavers and Bedding",{"$f":"SUM(IF($A51=SoilCat,IF($B51=DrainCat,IF(F$3=ESALCat,Design!$N$4:$W$27))))","v":4.125},{"$f":"SUM(IF($A51=SoilCat,IF($B51=DrainCat,IF(G$3=ESALCat,Design!$N$4:$W$27))))","v":4.125},{"$f":"SUM(IF($A51=SoilCat,IF($B51=DrainCat,IF(H$3=ESALCat,Design!$N$4:$W$27))))","v":4.125},{"$f":"SUM(IF($A51=SoilCat,IF($B51=DrainCat,IF(I$3=ESALCat,Design!$N$4:$W$27))))","v":4.125},{"$f":"SUM(IF($A51=SoilCat,IF($B51=DrainCat,IF(J$3=ESALCat,Design!$N$4:$W$27))))","v":4.125},{"$f":"SUM(IF($A51=SoilCat,IF($B51=DrainCat,IF(K$3=ESALCat,Design!$N$4:$W$27))))","v":4.125},{"$f":"SUM(IF($A51=SoilCat,IF($B51=DrainCat,IF(L$3=ESALCat,Design!$N$4:$W$27))))","v":4.125},{"$f":"SUM(IF($A51=SoilCat,IF($B51=DrainCat,IF(M$3=ESALCat,Design!$N$4:$W$27))))","v":4.125},{"$f":"SUM(IF($A51=SoilCat,IF($B51=DrainCat,IF(N$3=ESALCat,Design!$N$4:$W$27))))","v":4.125},{"$f":"SUM(IF($A51=SoilCat,IF($B51=DrainCat,IF(O$3=ESALCat,Design!$N$4:$W$27))))","v":4.125}]
[6,"Good",null,null,"Asphalt Concrete Base",{"$f":"SUM(IF($A52=SoilCat,IF($B52=DrainCat,IF(F$3=ESALCat,Design!$BB$94:$BK$117))))","v":2},{"$f":"SUM(IF($A52=SoilCat,IF($B52=DrainCat,IF(G$3=ESALCat,Design!$BB$94:$BK$117))))","v":2},{"$f":"SUM(IF($A52=SoilCat,IF($B52=DrainCat,IF(H$3=ESALCat,Design!$BB$94:$BK$117))))","v":2},{"$f":"SUM(IF($A52=SoilCat,IF($B52=DrainCat,IF(I$3=ESALCat,Design!$BB$94:$BK$117))))","v":2},{"$f":"SUM(IF($A52=SoilCat,IF($B52=DrainCat,IF(J$3=ESALCat,Design!$BB$94:$BK$117))))","v":2},{"$f":"SUM(IF($A52=SoilCat,IF($B52=DrainCat,IF(K$3=ESALCat,Design!$BB$94:$BK$117))))","v":2},{"$f":"SUM(IF($A52=SoilCat,IF($B52=DrainCat,IF(L$3=ESALCat,Design!$BB$94:$BK$117))))","v":2.5},{"$f":"SUM(IF($A52=SoilCat,IF($B52=DrainCat,IF(M$3=ESALCat,Design!$BB$94:$BK$117))))","v":3.5},{"$f":"SUM(IF($A52=SoilCat,IF($B52=DrainCat,IF(N$3=ESALCat,Design!$BB$94:$BK$117))))","v":5},{"$f":"SUM(IF($A52=SoilCat,IF($B52=DrainCat,IF(O$3=ESALCat,Design!$BB$94:$BK$117))))","v":6.5}]
[6,"Good",null,null,"Unbound Dense Graded Base",{"$f":"SUM(IF($A53=SoilCat,IF($B53=DrainCat,IF(F$3=ESALCat,Design!$AH$94:$AQ$117))))","v":4},{"$f":"SUM(IF($A53=SoilCat,IF($B53=DrainCat,IF(G$3=ESALCat,Design!$AH$94:$AQ$117))))","v":4},{"$f":"SUM(IF($A53=SoilCat,IF($B53=DrainCat,IF(H$3=ESALCat,Design!$AH$94:$AQ$117))))","v":4},{"$f":"SUM(IF($A53=SoilCat,IF($B53=DrainCat,IF(I$3=ESALCat,Design!$AH$94:$AQ$117))))","v":4},{"$f":"SUM(IF($A53=SoilCat,IF($B53=DrainCat,IF(J$3=ESALCat,Design!$AH$94:$AQ$117))))","v":4},{"$f":"SUM(IF($A53=SoilCat,IF($B53=DrainCat,IF(K$3=ESALCat,Design!$AH$94:$AQ$117))))","v":6},{"$f":"SUM(IF($A53=SoilCat,IF($B53=DrainCat,IF(L$3=ESALCat,Design!$AH$94:$AQ$117))))","v":6},{"$f":"SUM(IF($A53=SoilCat,IF($B53=DrainCat,IF(M$3=ESALCat,Design!$AH$94:$AQ$117))))","v":6},{"$f":"SUM(IF($A53=SoilCat,IF($B53=DrainCat,IF(N$3=ESALCat,Design!$AH$94:$AQ$117))))","v":6},{"$f":"SUM(IF($A53=SoilCat,IF($B53=DrainCat,IF(O$3=ESALCat,Design!$AH$94:$AQ$117))))","v":6}]
[6,"Fair",null,"Fair","Pavers and Bedding",{"$f":"SUM(IF($A54=SoilCat,IF($B54=DrainCat,IF(F$3=ESALCat,Design!$N$4:$W$27))))","v":4.125},{"$f":"SUM(IF($A54=SoilCat,IF($B54=DrainCat,IF(G$3=ESALCat,Design!$N$4:$W$27))))","v":4.125},{"$f":"SUM(IF($A54=SoilCat,IF($B54=DrainCat,IF(H$3=ESALCat,Design!$N$4:$W$27))))","v":4.125},{"$f":"SUM(IF($A54=SoilCat,IF($B54=DrainCat,IF(I$3=ESALCat,Design!$N$4:$W$27))))","v":4.125},{"$f":"SUM(IF($A54=SoilCat,IF($B54=DrainCat,IF(J$3=ESALCat,Design!$N$4:$W$27))))","v":4.125},{"$f":"SUM(IF($A54=SoilCat,IF($B54=DrainCat,IF(K$3=ESALCat,Design!$N$4:$W$27))))","v":4.125},{"$f":"SUM(IF($A54=SoilCat,IF($B54=DrainCat,IF(L$3=ESALCat,Design!$N$4:$W$27))))","v":4.125},{"$f":"SUM(IF($A54=SoilCat,IF($B54=DrainCat,IF(M$3=ESALCat,Design!$N$4:$W$27))))","v":4.125},{"$f":"SUM(IF($A54=SoilCat,IF($B54=DrainCat,IF(N$3=ESALCat,Design!$N$4:$W$27))))","v":4.125},{"$f":"SUM(IF($A54=SoilCat,IF($B54=DrainCat,IF(O$3=ESALCat,Design!$N$4:$W$27))))","v":4.125}]
[6,"Fair",null,null,"Asphalt Concrete Base",{"$f":"SUM(IF($A55=SoilCat,IF($B55=DrainCat,IF(F$3=ESALCat,Design!$BB$94:$BK$117))))","v":2},{"$f":"SUM(IF($A55=SoilCat,IF($B55=DrainCat,IF(G$3=ESALCat,Design!$BB$94:$BK$117))))","v":2},{"$f":"SUM(IF($A55=SoilCat,IF($B55=DrainCat,IF(H$3=ESALCat,Design!$BB$94:$BK$117))))","v":2},{"$f":"SUM(IF($A55=SoilCat,IF($B55=DrainCat,IF(I$3=ESALCat,Design!$BB$94:$BK$117))))","v":2},{"$f":"SUM(IF($A55=SoilCat,IF($B55=DrainCat,IF(J$3=ESALCat,Design!$BB$94:$BK$117))))","v":2.5},{"$f":"SUM(IF($A55=SoilCat,IF($B55=DrainCat,IF(K$3=ESALCat,Design!$BB$94:$BK$117))))","v":3},{"$f":"SUM(IF($A55=SoilCat,IF($B55=DrainCat,IF(L$3=ESALCat,Design!$BB$94:$BK$117))))","v":4},{"$f":"SUM(IF($A55=SoilCat,IF($B55=DrainCat,IF(M$3=ESALCat,Design!$BB$94:$BK$117))))","v":5},{"$f":"SUM(IF($A55=SoilCat,IF($B55=DrainCat,IF(N$3=ESALCat,Design!$BB$94:$BK$117))))","v":6.5},{"$f":"SUM(IF($A55=SoilCat,IF($B55=DrainCat,IF(O$3=ESALCat,Design!$BB$94:$BK$117))))","v":8}]
[6,"Fair",null,null,"Unbound Dense Graded Base",{"$f":"SUM(IF($A56=SoilCat,IF($B56=DrainCat,IF(F$3=ESALCat,Design!$AH$94:$AQ$117))))","v":4},{"$f":"SUM(IF($A56=SoilCat,IF($B56=DrainCat,IF(G$3=ESALCat,Design!$AH$94:$AQ$117))))","v":4},{"$f":"SUM(IF($A56=SoilCat,IF($B56=DrainCat,IF(H$3=ESALCat,Design!$AH$94:$AQ$117))))","v":4},{"$f":"SUM(IF($A56=SoilCat,IF($B56=DrainCat,IF(I$3=ESALCat,Design!$AH$94:$AQ$117))))","v":4},{"$f":"SUM(IF($A56=SoilCat,IF($B56=DrainCat,IF(J$3=ESALCat,Design!$AH$94:$AQ$117))))","v":4},{"$f":"SUM(IF($A56=SoilCat,IF($B56=DrainCat,IF(K$3=ESALCat,Design!$AH$94:$AQ$117))))","v":6},{"$f":"SUM(IF($A56=SoilCat,IF($B56=DrainCat,IF(L$3=ESALCat,Design!$AH$94:$AQ$117))))","v":6},{"$f":"SUM(IF($A56=SoilCat,IF($B56=DrainCat,IF(M$3=ESALCat,Design!$AH$94:$AQ$117))))","v":6},{"$f":"SUM(IF($A56=SoilCat,IF($B56=DrainCat,IF(N$3=ESALCat,Design!$AH$94:$AQ$117))))","v":6},{"$f":"SUM(IF($A56=SoilCat,IF($B56=DrainCat,IF(O$3=ESALCat,Design!$AH$94:$AQ$117))))","v":6}]
[6,"Poor",null,"Poor","Pavers and Bedding",{"$f":"SUM(IF($A57=SoilCat,IF($B57=DrainCat,IF(F$3=ESALCat,Design!$N$4:$W$27))))","v":4.125},{"$f":"SUM(IF($A57=SoilCat,IF($B57=DrainCat,IF(G$3=ESALCat,Design!$N$4:$W$27))))","v":4.125},{"$f":"SUM(IF($A57=SoilCat,IF($B57=DrainCat,IF(H$3=ESALCat,Design!$N$4:$W$27))))","v":4.125},{"$f":"SUM(IF($A57=SoilCat,IF($B57=DrainCat,IF(I$3=ESALCat,Design!$N$4:$W$27))))","v":4.125},{"$f":"SUM(IF($A57=SoilCat,IF($B57=DrainCat,IF(J$3=ESALCat,Design!$N$4:$W$27))))","v":4.125},{"$f":"SUM(IF($A57=SoilCat,IF($B57=DrainCat,IF(K$3=ESALCat,Design!$N$4:$W$27))))","v":4.125},{"$f":"SUM(IF($A57=SoilCat,IF($B57=DrainCat,IF(L$3=ESALCat,Design!$N$4:$W$27))))","v":4.125},{"$f":"SUM(IF($A57=SoilCat,IF($B57=DrainCat,IF(M$3=ESALCat,Design!$N$4:$W$27))))","v":4.125},{"$f":"SUM(IF($A57=SoilCat,IF($B57=DrainCat,IF(N$3=ESALCat,Design!$N$4:$W$27))))","v":4.125},{"$f":"SUM(IF($A57=SoilCat,IF($B57=DrainCat,IF(O$3=ESALCat,Design!$N$4:$W$27))))","v":4.125}]
[6,"Poor",null,null,"Asphalt Concrete Base",{"$f":"SUM(IF($A58=SoilCat,IF($B58=DrainCat,IF(F$3=ESALCat,Design!$BB$94:$BK$117))))","v":2},{"$f":"SUM(IF($A58=SoilCat,IF($B58=DrainCat,IF(G$3=ESALCat,Design!$BB$94:$BK$117))))","v":2},{"$f":"SUM(IF($A58=SoilCat,IF($B58=DrainCat,IF(H$3=ESALCat,Design!$BB$94:$BK$117))))","v":2},{"$f":"SUM(IF($A58=SoilCat,IF($B58=DrainCat,IF(I$3=ESALCat,Design!$BB$94:$BK$117))))","v":2.5},{"$f":"SUM(IF($A58=SoilCat,IF($B58=DrainCat,IF(J$3=ESALCat,Design!$BB$94:$BK$117))))","v":3.5},{"$f":"SUM(IF($A58=SoilCat,IF($B58=DrainCat,IF(K$3=ESALCat,Design!$BB$94:$BK$117))))","v":4},{"$f":"SUM(IF($A58=SoilCat,IF($B58=DrainCat,IF(L$3=ESALCat,Design!$BB$94:$BK$117))))","v":5},{"$f":"SUM(IF($A58=SoilCat,IF($B58=DrainCat,IF(M$3=ESALCat,Design!$BB$94:$BK$117))))","v":6.5},{"$f":"SUM(IF($A58=SoilCat,IF($B58=DrainCat,IF(N$3=ESALCat,Design!$BB$94:$BK$117))))","v":8},{"$f":"SUM(IF($A58=SoilCat,IF($B58=DrainCat,IF(O$3=ESALCat,Design!$BB$94:$BK$117))))","v":9}]
[6,"Poor",null,null,"Unbound Dense Graded Base",{"$f":"SUM(IF($A59=SoilCat,IF($B59=DrainCat,IF(F$3=ESALCat,Design!$AH$94:$AQ$117))))","v":4},{"$f":"SUM(IF($A59=SoilCat,IF($B59=DrainCat,IF(G$3=ESALCat,Design!$AH$94:$AQ$117))))","v":4},{"$f":"SUM(IF($A59=SoilCat,IF($B59=DrainCat,IF(H$3=ESALCat,Design!$AH$94:$AQ$117))))","v":4},{"$f":"SUM(IF($A59=SoilCat,IF($B59=DrainCat,IF(I$3=ESALCat,Design!$AH$94:$AQ$117))))","v":4},{"$f":"SUM(IF($A59=SoilCat,IF($B59=DrainCat,IF(J$3=ESALCat,Design!$AH$94:$AQ$117))))","v":4},{"$f":"SUM(IF($A59=SoilCat,IF($B59=DrainCat,IF(K$3=ESALCat,Design!$AH$94:$AQ$117))))","v":6},{"$f":"SUM(IF($A59=SoilCat,IF($B59=DrainCat,IF(L$3=ESALCat,Design!$AH$94:$AQ$117))))","v":6},{"$f":"SUM(IF($A59=SoilCat,IF($B59=DrainCat,IF(M$3=ESALCat,Design!$AH$94:$AQ$117))))","v":6},{"$f":"SUM(IF($A59=SoilCat,IF($B59=DrainCat,IF(N$3=ESALCat,Design!$AH$94:$AQ$117))))","v":6},{"$f":"SUM(IF($A59=SoilCat,IF($B59=DrainCat,IF(O$3=ESALCat,Design!$AH$94:$AQ$117))))","v":6}]
[7,"Good","Category 7","Good","Pavers and Bedding",{"$f":"SUM(IF($A60=SoilCat,IF($B60=DrainCat,IF(F$3=ESALCat,Design!$N$4:$W$27))))","v":4.125},{"$f":"SUM(IF($A60=SoilCat,IF($B60=DrainCat,IF(G$3=ESALCat,Design!$N$4:$W$27))))","v":4.125},{"$f":"SUM(IF($A60=SoilCat,IF($B60=DrainCat,IF(H$3=ESALCat,Design!$N$4:$W$27))))","v":4.125},{"$f":"SUM(IF($A60=SoilCat,IF($B60=DrainCat,IF(I$3=ESALCat,Design!$N$4:$W$27))))","v":4.125},{"$f":"SUM(IF($A60=SoilCat,IF($B60=DrainCat,IF(J$3=ESALCat,Design!$N$4:$W$27))))","v":4.125},{"$f":"SUM(IF($A60=SoilCat,IF($B60=DrainCat,IF(K$3=ESALCat,Design!$N$4:$W$27))))","v":4.125},{"$f":"SUM(IF($A60=SoilCat,IF($B60=DrainCat,IF(L$3=ESALCat,Design!$N$4:$W$27))))","v":4.125},{"$f":"SUM(IF($A60=SoilCat,IF($B60=DrainCat,IF(M$3=ESALCat,Design!$N$4:$W$27))))","v":4.125},{"$f":"SUM(IF($A60=SoilCat,IF($B60=DrainCat,IF(N$3=ESALCat,Design!$N$4:$W$27))))","v":4.125},{"$f":"SUM(IF($A60=SoilCat,IF($B60=DrainCat,IF(O$3=ESALCat,Design!$N$4:$W$27))))","v":4.125}]
[7,"Good",null,null,"Asphalt Concrete Base",{"$f":"SUM(IF($A61=SoilCat,IF($B61=DrainCat,IF(F$3=ESALCat,Design!$BB$94:$BK$117))))","v":2},{"$f":"SUM(IF($A61=SoilCat,IF($B61=DrainCat,IF(G$3=ESALCat,Design!$BB$94:$BK$117))))","v":2},{"$f":"SUM(IF($A61=SoilCat,IF($B61=DrainCat,IF(H$3=ESALCat,Design!$BB$94:$BK$117))))","v":2},{"$f":"SUM(IF($A61=SoilCat,IF($B61=DrainCat,IF(I$3=ESALCat,Design!$BB$94:$BK$117))))","v":2},{"$f":"SUM(IF($A61=SoilCat,IF($B61=DrainCat,IF(J$3=ESALCat,Design!$BB$94:$BK$117))))","v":2},{"$f":"SUM(IF($A61=SoilCat,IF($B61=DrainCat,IF(K$3=ESALCat,Design!$BB$94:$BK$117))))","v":2.5},{"$f":"SUM(IF($A61=SoilCat,IF($B61=DrainCat,IF(L$3=ESALCat,Design!$BB$94:$BK$117))))","v":3.5},{"$f":"SUM(IF($A61=SoilCat,IF($B61=DrainCat,IF(M$3=ESALCat,Design!$BB$94:$BK$117))))","v":4.5},{"$f":"SUM(IF($A61=SoilCat,IF($B61=DrainCat,IF(N$3=ESALCat,Design!$BB$94:$BK$117))))","v":6},{"$f":"SUM(IF($A61=SoilCat,IF($B61=DrainCat,IF(O$3=ESALCat,Design!$BB$94:$BK$117))))","v":7}]
[7,"Good",null,null,"Unbound Dense Graded Base",{"$f":"SUM(IF($A62=SoilCat,IF($B62=DrainCat,IF(F$3=ESALCat,Design!$AH$94:$AQ$117))))","v":4},{"$f":"SUM(IF($A62=SoilCat,IF($B62=DrainCat,IF(G$3=ESALCat,Design!$AH$94:$AQ$117))))","v":4},{"$f":"SUM(IF($A62=SoilCat,IF($B62=DrainCat,IF(H$3=ESALCat,Design!$AH$94:$AQ$117))))","v":4},{"$f":"SUM(IF($A62=SoilCat,IF($B62=DrainCat,IF(I$3=ESALCat,Design!$AH$94:$AQ$117))))","v":4},{"$f":"SUM(IF($A62=SoilCat,IF($B62=DrainCat,IF(J$3=ESALCat,Design!$AH$94:$AQ$117))))","v":4},{"$f":"SUM(IF($A62=SoilCat,IF($B62=DrainCat,IF(K$3=ESALCat,Design!$AH$94:$AQ$117))))","v":6},{"$f":"SUM(IF($A62=SoilCat,IF($B62=DrainCat,IF(L$3=ESALCat,Design!$AH$94:$AQ$117))))","v":6},{"$f":"SUM(IF($A62=SoilCat,IF($B62=DrainCat,IF(M$3=ESALCat,Design!$AH$94:$AQ$117))))","v":6},{"$f":"SUM(IF($A62=SoilCat,IF($B62=DrainCat,IF(N$3=ESALCat,Design!$AH$94:$AQ$117))))","v":6},{"$f":"SUM(IF($A62=SoilCat,IF($B62=DrainCat,IF(O$3=ESALCat,Design!$AH$94:$AQ$117))))","v":6}]
[7,"Fair",null,"Fair","Pavers and Bedding",{"$f":"SUM(IF($A63=SoilCat,IF($B63=DrainCat,IF(F$3=ESALCat,Design!$N$4:$W$27))))","v":4.125},{"$f":"SUM(IF($A63=SoilCat,IF($B63=DrainCat,IF(G$3=ESALCat,Design!$N$4:$W$27))))","v":4.125},{"$f":"SUM(IF($A63=SoilCat,IF($B63=DrainCat,IF(H$3=ESALCat,Design!$N$4:$W$27))))","v":4.125},{"$f":"SUM(IF($A63=SoilCat,IF($B63=DrainCat,IF(I$3=ESALCat,Design!$N$4:$W$27))))","v":4.125},{"$f":"SUM(IF($A63=SoilCat,IF($B63=DrainCat,IF(J$3=ESALCat,Design!$N$4:$W$27))))","v":4.125},{"$f":"SUM(IF($A63=SoilCat,IF($B63=DrainCat,IF(K$3=ESALCat,Design!$N$4:$W$27))))","v":4.125},{"$f":"SUM(IF($A63=SoilCat,IF($B63=DrainCat,IF(L$3=ESALCat,Design!$N$4:$W$27))))","v":4.125},{"$f":"SUM(IF($A63=SoilCat,IF($B63=DrainCat,IF(M$3=ESALCat,Design!$N$4:$W$27))))","v":4.125},{"$f":"SUM(IF($A63=SoilCat,IF($B63=DrainCat,IF(N$3=ESALCat,Design!$N$4:$W$27))))","v":4.125},{"$f":"SUM(IF($A63=SoilCat,IF($B63=DrainCat,IF(O$3=ESALCat,Design!$N$4:$W$27))))","v":4.125}]
[7,"Fair",null,null,"Asphalt Concrete Base",{"$f":"SUM(IF($A64=SoilCat,IF($B64=DrainCat,IF(F$3=ESALCat,Design!$BB$94:$BK$117))))","v":2},{"$f":"SUM(IF($A64=SoilCat,IF($B64=DrainCat,IF(G$3=ESALCat,Design!$BB$94:$BK$117))))","v":2},{"$f":"SUM(IF($A64=SoilCat,IF($B64=DrainCat,IF(H$3=ESALCat,Design!$BB$94:$BK$117))))","v":2},{"$f":"SUM(IF($A64=SoilCat,IF($B64=DrainCat,IF(I$3=ESALCat,Design!$BB$94:$BK$117))))","v":2},{"$f":"SUM(IF($A64=SoilCat,IF($B64=DrainCat,IF(J$3=ESALCat,Design!$BB$94:$BK$117))))","v":2.5},{"$f":"SUM(IF($A64=SoilCat,IF($B64=DrainCat,IF(K$3=ESALCat,Design!$BB$94:$BK$117))))","v":3.5},{"$f":"SUM(IF($A64=SoilCat,IF($B64=DrainCat,IF(L$3=ESALCat,Design!$BB$94:$BK$117))))","v":4.5},{"$f":"SUM(IF($A64=SoilCat,IF($B64=DrainCat,IF(M$3=ESALCat,Design!$BB$94:$BK$117))))","v":5.5},{"$f":"SUM(IF($A64=SoilCat,IF($B64=DrainCat,IF(N$3=ESALCat,Design!$BB$94:$BK$117))))","v":7},{"$f":"SUM(IF($A64=SoilCat,IF($B64=DrainCat,IF(O$3=ESALCat,Design!$BB$94:$BK$117))))","v":8.5}]
[7,"Fair",null,null,"Unbound Dense Graded Base",{"$f":"SUM(IF($A65=SoilCat,IF($B65=DrainCat,IF(F$3=ESALCat,Design!$AH$94:$AQ$117))))","v":4},{"$f":"SUM(IF($A65=SoilCat,IF($B65=DrainCat,IF(G$3=ESALCat,Design!$AH$94:$AQ$117))))","v":4},{"$f":"SUM(IF($A65=SoilCat,IF($B65=DrainCat,IF(H$3=ESALCat,Design!$AH$94:$AQ$117))))","v":4},{"$f":"SUM(IF($A65=SoilCat,IF($B65=DrainCat,IF(I$3=ESALCat,Design!$AH$94:$AQ$117))))","v":4},{"$f":"SUM(IF($A65=SoilCat,IF($B65=DrainCat,IF(J$3=ESALCat,Design!$AH$94:$AQ$117))))","v":4},{"$f":"SUM(IF($A65=SoilCat,IF($B65=DrainCat,IF(K$3=ESALCat,Design!$AH$94:$AQ$117))))","v":6},{"$f":"SUM(IF($A65=SoilCat,IF($B65=DrainCat,IF(L$3=ESALCat,Design!$AH$94:$AQ$117))))","v":6},{"$f":"SUM(IF($A65=SoilCat,IF($B65=DrainCat,IF(M$3=ESALCat,Design!$AH$94:$AQ$117))))","v":6},{"$f":"SUM(IF($A65=SoilCat,IF($B65=DrainCat,IF(N$3=ESALCat,Design!$AH$94:$AQ$117))))","v":6},{"$f":"SUM(IF($A65=SoilCat,IF($B65=DrainCat,IF(O$3=ESALCat,Design!$AH$94:$AQ$117))))","v":6}]
[7,"Poor",null,"Poor","Pavers and Bedding",{"$f":"SUM(IF($A66=SoilCat,IF($B66=DrainCat,IF(F$3=ESALCat,Design!$N$4:$W$27))))","v":4.125},{"$f":"SUM(IF($A66=SoilCat,IF($B66=DrainCat,IF(G$3=ESALCat,Design!$N$4:$W$27))))","v":4.125},{"$f":"SUM(IF($A66=SoilCat,IF($B66=DrainCat,IF(H$3=ESALCat,Design!$N$4:$W$27))))","v":4.125},{"$f":"SUM(IF($A66=SoilCat,IF($B66=DrainCat,IF(I$3=ESALCat,Design!$N$4:$W$27))))","v":4.125},{"$f":"SUM(IF($A66=SoilCat,IF($B66=DrainCat,IF(J$3=ESALCat,Design!$N$4:$W$27))))","v":4.125},{"$f":"SUM(IF($A66=SoilCat,IF($B66=DrainCat,IF(K$3=ESALCat,Design!$N$4:$W$27))))","v":4.125},{"$f":"SUM(IF($A66=SoilCat,IF($B66=DrainCat,IF(L$3=ESALCat,Design!$N$4:$W$27))))","v":4.125},{"$f":"SUM(IF($A66=SoilCat,IF($B66=DrainCat,IF(M$3=ESALCat,Design!$N$4:$W$27))))","v":4.125},{"$f":"SUM(IF($A66=SoilCat,IF($B66=DrainCat,IF(N$3=ESALCat,Design!$N$4:$W$27))))","v":4.125},{"$f":"SUM(IF($A66=SoilCat,IF($B66=DrainCat,IF(O$3=ESALCat,Design!$N$4:$W$27))))","v":4.125}]
[7,"Poor",null,null,"Asphalt Concrete Base",{"$f":"SUM(IF($A67=SoilCat,IF($B67=DrainCat,IF(F$3=ESALCat,Design!$BB$94:$BK$117))))","v":2},{"$f":"SUM(IF($A67=SoilCat,IF($B67=DrainCat,IF(G$3=ESALCat,Design!$BB$94:$BK$117))))","v":2},{"$f":"SUM(IF($A67=SoilCat,IF($B67=DrainCat,IF(H$3=ESALCat,Design!$BB$94:$BK$117))))","v":2},{"$f":"SUM(IF($A67=SoilCat,IF($B67=DrainCat,IF(I$3=ESALCat,Design!$BB$94:$BK$117))))","v":3},{"$f":"SUM(IF($A67=SoilCat,IF($B67=DrainCat,IF(J$3=ESALCat,Design!$BB$94:$BK$117))))","v":4},{"$f":"SUM(IF($A67=SoilCat,IF($B67=DrainCat,IF(K$3=ESALCat,Design!$BB$94:$BK$117))))","v":5},{"$f":"SUM(IF($A67=SoilCat,IF($B67=DrainCat,IF(L$3=ESALCat,Design!$BB$94:$BK$117))))","v":6},{"$f":"SUM(IF($A67=SoilCat,IF($B67=DrainCat,IF(M$3=ESALCat,Design!$BB$94:$BK$117))))","v":7},{"$f":"SUM(IF($A67=SoilCat,IF($B67=DrainCat,IF(N$3=ESALCat,Design!$BB$94:$BK$117))))","v":9},{"$f":"SUM(IF($A67=SoilCat,IF($B67=DrainCat,IF(O$3=ESALCat,Design!$BB$94:$BK$117))))","v":10.5}]
[7,"Poor",null,null,"Unbound Dense Graded Base",{"$f":"SUM(IF($A68=SoilCat,IF($B68=DrainCat,IF(F$3=ESALCat,Design!$AH$94:$AQ$117))))","v":4},{"$f":"SUM(IF($A68=SoilCat,IF($B68=DrainCat,IF(G$3=ESALCat,Design!$AH$94:$AQ$117))))","v":4},{"$f":"SUM(IF($A68=SoilCat,IF($B68=DrainCat,IF(H$3=ESALCat,Design!$AH$94:$AQ$117))))","v":4},{"$f":"SUM(IF($A68=SoilCat,IF($B68=DrainCat,IF(I$3=ESALCat,Design!$AH$94:$AQ$117))))","v":4},{"$f":"SUM(IF($A68=SoilCat,IF($B68=DrainCat,IF(J$3=ESALCat,Design!$AH$94:$AQ$117))))","v":4},{"$f":"SUM(IF($A68=SoilCat,IF($B68=DrainCat,IF(K$3=ESALCat,Design!$AH$94:$AQ$117))))","v":6},{"$f":"SUM(IF($A68=SoilCat,IF($B68=DrainCat,IF(L$3=ESALCat,Design!$AH$94:$AQ$117))))","v":6},{"$f":"SUM(IF($A68=SoilCat,IF($B68=DrainCat,IF(M$3=ESALCat,Design!$AH$94:$AQ$117))))","v":6},{"$f":"SUM(IF($A68=SoilCat,IF($B68=DrainCat,IF(N$3=ESALCat,Design!$AH$94:$AQ$117))))","v":6},{"$f":"SUM(IF($A68=SoilCat,IF($B68=DrainCat,IF(O$3=ESALCat,Design!$AH$94:$AQ$117))))","v":6}]
[8,"Good","Category 8","Good","Pavers and Bedding",{"$f":"SUM(IF($A69=SoilCat,IF($B69=DrainCat,IF(F$3=ESALCat,Design!$N$4:$W$27))))","v":4.125},{"$f":"SUM(IF($A69=SoilCat,IF($B69=DrainCat,IF(G$3=ESALCat,Design!$N$4:$W$27))))","v":4.125},{"$f":"SUM(IF($A69=SoilCat,IF($B69=DrainCat,IF(H$3=ESALCat,Design!$N$4:$W$27))))","v":4.125},{"$f":"SUM(IF($A69=SoilCat,IF($B69=DrainCat,IF(I$3=ESALCat,Design!$N$4:$W$27))))","v":4.125},{"$f":"SUM(IF($A69=SoilCat,IF($B69=DrainCat,IF(J$3=ESALCat,Design!$N$4:$W$27))))","v":4.125},{"$f":"SUM(IF($A69=SoilCat,IF($B69=DrainCat,IF(K$3=ESALCat,Design!$N$4:$W$27))))","v":4.125},{"$f":"SUM(IF($A69=SoilCat,IF($B69=DrainCat,IF(L$3=ESALCat,Design!$N$4:$W$27))))","v":4.125},{"$f":"SUM(IF($A69=SoilCat,IF($B69=DrainCat,IF(M$3=ESALCat,Design!$N$4:$W$27))))","v":4.125},{"$f":"SUM(IF($A69=SoilCat,IF($B69=DrainCat,IF(N$3=ESALCat,Design!$N$4:$W$27))))","v":4.125},{"$f":"SUM(IF($A69=SoilCat,IF($B69=DrainCat,IF(O$3=ESALCat,Design!$N$4:$W$27))))","v":4.125}]
[8,"Good",null,null,"Asphalt Concrete Base",{"$f":"SUM(IF($A70=SoilCat,IF($B70=DrainCat,IF(F$3=ESALCat,Design!$BB$94:$BK$117))))","v":2},{"$f":"SUM(IF($A70=SoilCat,IF($B70=DrainCat,IF(G$3=ESALCat,Design!$BB$94:$BK$117))))","v":2},{"$f":"SUM(IF($A70=SoilCat,IF($B70=DrainCat,IF(H$3=ESALCat,Design!$BB$94:$BK$117))))","v":2},{"$f":"SUM(IF($A70=SoilCat,IF($B70=DrainCat,IF(I$3=ESALCat,Design!$BB$94:$BK$117))))","v":2},{"$f":"SUM(IF($A70=SoilCat,IF($B70=DrainCat,IF(J$3=ESALCat,Design!$BB$94:$BK$117))))","v":2.5},{"$f":"SUM(IF($A70=SoilCat,IF($B70=DrainCat,IF(K$3=ESALCat,Design!$BB$94:$BK$117))))","v":3},{"$f":"SUM(IF($A70=SoilCat,IF($B70=DrainCat,IF(L$3=ESALCat,Design!$BB$94:$BK$117))))","v":4},{"$f":"SUM(IF($A70=SoilCat,IF($B70=DrainCat,IF(M$3=ESALCat,Design!$BB$94:$BK$117))))","v":5},{"$f":"SUM(IF($A70=SoilCat,IF($B70=DrainCat,IF(N$3=ESALCat,Design!$BB$94:$BK$117))))","v":6.5},{"$f":"SUM(IF($A70=SoilCat,IF($B70=DrainCat,IF(O$3=ESALCat,Design!$BB$94:$BK$117))))","v":8}]
[8,"Good",null,null,"Unbound Dense Graded Base",{"$f":"SUM(IF($A71=SoilCat,IF($B71=DrainCat,IF(F$3=ESALCat,Design!$AH$94:$AQ$117))))","v":4},{"$f":"SUM(IF($A71=SoilCat,IF($B71=DrainCat,IF(G$3=ESALCat,Design!$AH$94:$AQ$117))))","v":4},{"$f":"SUM(IF($A71=SoilCat,IF($B71=DrainCat,IF(H$3=ESALCat,Design!$AH$94:$AQ$117))))","v":4},{"$f":"SUM(IF($A71=SoilCat,IF($B71=DrainCat,IF(I$3=ESALCat,Design!$AH$94:$AQ$117))))","v":4},{"$f":"SUM(IF($A71=SoilCat,IF($B71=DrainCat,IF(J$3=ESALCat,Design!$AH$94:$AQ$117))))","v":4},{"$f":"SUM(IF($A71=SoilCat,IF($B71=DrainCat,IF(K$3=ESALCat,Design!$AH$94:$AQ$117))))","v":6},{"$f":"SUM(IF($A71=SoilCat,IF($B71=DrainCat,IF(L$3=ESALCat,Design!$AH$94:$AQ$117))))","v":6},{"$f":"SUM(IF($A71=SoilCat,IF($B71=DrainCat,IF(M$3=ESALCat,Design!$AH$94:$AQ$117))))","v":6},{"$f":"SUM(IF($A71=SoilCat,IF($B71=DrainCat,IF(N$3=ESALCat,Design!$AH$94:$AQ$117))))","v":6},{"$f":"SUM(IF($A71=SoilCat,IF($B71=DrainCat,IF(O$3=ESALCat,Design!$AH$94:$AQ$117))))","v":6}]
[8,"Fair",null,"Fair","Pavers and Bedding",{"$f":"SUM(IF($A72=SoilCat,IF($B72=DrainCat,IF(F$3=ESALCat,Design!$N$4:$W$27))))","v":4.125},{"$f":"SUM(IF($A72=SoilCat,IF($B72=DrainCat,IF(G$3=ESALCat,Design!$N$4:$W$27))))","v":4.125},{"$f":"SUM(IF($A72=SoilCat,IF($B72=DrainCat,IF(H$3=ESALCat,Design!$N$4:$W$27))))","v":4.125},{"$f":"SUM(IF($A72=SoilCat,IF($B72=DrainCat,IF(I$3=ESALCat,Design!$N$4:$W$27))))","v":4.125},{"$f":"SUM(IF($A72=SoilCat,IF($B72=DrainCat,IF(J$3=ESALCat,Design!$N$4:$W$27))))","v":4.125},{"$f":"SUM(IF($A72=SoilCat,IF($B72=DrainCat,IF(K$3=ESALCat,Design!$N$4:$W$27))))","v":4.125},{"$f":"SUM(IF($A72=SoilCat,IF($B72=DrainCat,IF(L$3=ESALCat,Design!$N$4:$W$27))))","v":4.125},{"$f":"SUM(IF($A72=SoilCat,IF($B72=DrainCat,IF(M$3=ESALCat,Design!$N$4:$W$27))))","v":4.125},{"$f":"SUM(IF($A72=SoilCat,IF($B72=DrainCat,IF(N$3=ESALCat,Design!$N$4:$W$27))))","v":4.125},{"$f":"SUM(IF($A72=SoilCat,IF($B72=DrainCat,IF(O$3=ESALCat,Design!$N$4:$W$27))))","v":4.125}]
[8,"Fair",null,null,"Asphalt Concrete Base",{"$f":"SUM(IF($A73=SoilCat,IF($B73=DrainCat,IF(F$3=ESALCat,Design!$BB$94:$BK$117))))","v":2},{"$f":"SUM(IF($A73=SoilCat,IF($B73=DrainCat,IF(G$3=ESALCat,Design!$BB$94:$BK$117))))","v":2},{"$f":"SUM(IF($A73=SoilCat,IF($B73=DrainCat,IF(H$3=ESALCat,Design!$BB$94:$BK$117))))","v":2},{"$f":"SUM(IF($A73=SoilCat,IF($B73=DrainCat,IF(I$3=ESALCat,Design!$BB$94:$BK$117))))","v":2},{"$f":"SUM(IF($A73=SoilCat,IF($B73=DrainCat,IF(J$3=ESALCat,Design!$BB$94:$BK$117))))","v":2.5},{"$f":"SUM(IF($A73=SoilCat,IF($B73=DrainCat,IF(K$3=ESALCat,Design!$BB$94:$BK$117))))","v":3.5},{"$f":"SUM(IF($A73=SoilCat,IF($B73=DrainCat,IF(L$3=ESALCat,Design!$BB$94:$BK$117))))","v":4.5},{"$f":"SUM(IF($A73=SoilCat,IF($B73=DrainCat,IF(M$3=ESALCat,Design!$BB$94:$BK$117))))","v":5.5},{"$f":"SUM(IF($A73=SoilCat,IF($B73=DrainCat,IF(N$3=ESALCat,Design!$BB$94:$BK$117))))","v":7},{"$f":"SUM(IF($A73=SoilCat,IF($B73=DrainCat,IF(O$3=ESALCat,Design!$BB$94:$BK$117))))","v":8.5}]
[8,"Fair",null,null,"Unbound Dense Graded Base",{"$f":"SUM(IF($A74=SoilCat,IF($B74=DrainCat,IF(F$3=ESALCat,Design!$AH$94:$AQ$117))))","v":4},{"$f":"SUM(IF($A74=SoilCat,IF($B74=DrainCat,IF(G$3=ESALCat,Design!$AH$94:$AQ$117))))","v":4},{"$f":"SUM(IF($A74=SoilCat,IF($B74=DrainCat,IF(H$3=ESALCat,Design!$AH$94:$AQ$117))))","v":4},{"$f":"SUM(IF($A74=SoilCat,IF($B74=DrainCat,IF(I$3=ESALCat,Design!$AH$94:$AQ$117))))","v":4},{"$f":"SUM(IF($A74=SoilCat,IF($B74=DrainCat,IF(J$3=ESALCat,Design!$AH$94:$AQ$117))))","v":4},{"$f":"SUM(IF($A74=SoilCat,IF($B74=DrainCat,IF(K$3=ESALCat,Design!$AH$94:$AQ$117))))","v":6},{"$f":"SUM(IF($A74=SoilCat,IF($B74=DrainCat,IF(L$3=ESALCat,Design!$AH$94:$AQ$117))))","v":6},{"$f":"SUM(IF($A74=SoilCat,IF($B74=DrainCat,IF(M$3=ESALCat,Design!$AH$94:$AQ$117))))","v":6},{"$f":"SUM(IF($A74=SoilCat,IF($B74=DrainCat,IF(N$3=ESALCat,Design!$AH$94:$AQ$117))))","v":6},{"$f":"SUM(IF($A74=SoilCat,IF($B74=DrainCat,IF(O$3=ESALCat,Design!$AH$94:$AQ$117))))","v":6}]
[8,"Poor",null,"Poor","Pavers and Bedding",{"$f":"SUM(IF($A75=SoilCat,IF($B75=DrainCat,IF(F$3=ESALCat,Design!$N$4:$W$27))))","v":4.125},{"$f":"SUM(IF($A75=SoilCat,IF($B75=DrainCat,IF(G$3=ESALCat,Design!$N$4:$W$27))))","v":4.125},{"$f":"SUM(IF($A75=SoilCat,IF($B75=DrainCat,IF(H$3=ESALCat,Design!$N$4:$W$27))))","v":4.125},{"$f":"SUM(IF($A75=SoilCat,IF($B75=DrainCat,IF(I$3=ESALCat,Design!$N$4:$W$27))))","v":4.125},{"$f":"SUM(IF($A75=SoilCat,IF($B75=DrainCat,IF(J$3=ESALCat,Design!$N$4:$W$27))))","v":4.125},{"$f":"SUM(IF($A75=SoilCat,IF($B75=DrainCat,IF(K$3=ESALCat,Design!$N$4:$W$27))))","v":4.125},{"$f":"SUM(IF($A75=SoilCat,IF($B75=DrainCat,IF(L$3=ESALCat,Design!$N$4:$W$27))))","v":4.125},{"$f":"SUM(IF($A75=SoilCat,IF($B75=DrainCat,IF(M$3=ESALCat,Design!$N$4:$W$27))))","v":4.125},{"$f":"SUM(IF($A75=SoilCat,IF($B75=DrainCat,IF(N$3=ESALCat,Design!$N$4:$W$27))))","v":4.125},{"$f":"SUM(IF($A75=SoilCat,IF($B75=DrainCat,IF(O$3=ESALCat,Design!$N$4:$W$27))))","v":4.125}]
[8,"Poor",null,null,"Asphalt Concrete Base",{"$f":"SUM(IF($A76=SoilCat,IF($B76=DrainCat,IF(F$3=ESALCat,Design!$BB$94:$BK$117))))","v":2},{"$f":"SUM(IF($A76=SoilCat,IF($B76=DrainCat,IF(G$3=ESALCat,Design!$BB$94:$BK$117))))","v":2},{"$f":"SUM(IF($A76=SoilCat,IF($B76=DrainCat,IF(H$3=ESALCat,Design!$BB$94:$BK$117))))","v":2},{"$f":"SUM(IF($A76=SoilCat,IF($B76=DrainCat,IF(I$3=ESALCat,Design!$BB$94:$BK$117))))","v":3},{"$f":"SUM(IF($A76=SoilCat,IF($B76=DrainCat,IF(J$3=ESALCat,Design!$BB$94:$BK$117))))","v":4},{"$f":"SUM(IF($A76=SoilCat,IF($B76=DrainCat,IF(K$3=ESALCat,Design!$BB$94:$BK$117))))","v":5},{"$f":"SUM(IF($A76=SoilCat,IF($B76=DrainCat,IF(L$3=ESALCat,Design!$BB$94:$BK$117))))","v":6},{"$f":"SUM(IF($A76=SoilCat,IF($B76=DrainCat,IF(M$3=ESALCat,Design!$BB$94:$BK$117))))","v":7},{"$f":"SUM(IF($A76=SoilCat,IF($B76=DrainCat,IF(N$3=ESALCat,Design!$BB$94:$BK$117))))","v":9},{"$f":"SUM(IF($A76=SoilCat,IF($B76=DrainCat,IF(O$3=ESALCat,Design!$BB$94:$BK$117))))","v":10.5}]
[8,"Poor",null,null,"Unbound Dense Graded Base",{"$f":"SUM(IF($A77=SoilCat,IF($B77=DrainCat,IF(F$3=ESALCat,Design!$AH$94:$AQ$117))))","v":4},{"$f":"SUM(IF($A77=SoilCat,IF($B77=DrainCat,IF(G$3=ESALCat,Design!$AH$94:$AQ$117))))","v":4},{"$f":"SUM(IF($A77=SoilCat,IF($B77=DrainCat,IF(H$3=ESALCat,Design!$AH$94:$AQ$117))))","v":4},{"$f":"SUM(IF($A77=SoilCat,IF($B77=DrainCat,IF(I$3=ESALCat,Design!$AH$94:$AQ$117))))","v":4},{"$f":"SUM(IF($A77=SoilCat,IF($B77=DrainCat,IF(J$3=ESALCat,Design!$AH$94:$AQ$117))))","v":4},{"$f":"SUM(IF($A77=SoilCat,IF($B77=DrainCat,IF(K$3=ESALCat,Design!$AH$94:$AQ$117))))","v":6},{"$f":"SUM(IF($A77=SoilCat,IF($B77=DrainCat,IF(L$3=ESALCat,Design!$AH$94:$AQ$117))))","v":6},{"$f":"SUM(IF($A77=SoilCat,IF($B77=DrainCat,IF(M$3=ESALCat,Design!$AH$94:$AQ$117))))","v":6},{"$f":"SUM(IF($A77=SoilCat,IF($B77=DrainCat,IF(N$3=ESALCat,Design!$AH$94:$AQ$117))))","v":6},{"$f":"SUM(IF($A77=SoilCat,IF($B77=DrainCat,IF(O$3=ESALCat,Design!$AH$94:$AQ$117))))","v":6}]