{"text_format":"1","workbook":"xlsx","n_sheets":7,"sheets":["Introduction","Design Inputs","Design","Gran","ATB","CTB","AC"],"not_rendered":{"charts":0,"images":2,"macros":1,"external_links":0,"defined_names":33,"comments":0,"pivot_tables":0},"unopened":[],"bounds":{"document_bytes":16777216,"sheet_cells":100000,"rows_first":2000,"rows_last":500,"rows_between":2000,"halvings":0,"cell_chars":16384,"cell_head_chars":4096},"cells_cut":0,"cells_raw":0,"read":"whole","date_system":"1900"}

{"sheet":"Introduction","index":0,"n_rows":21,"n_cols":1,"rows_kept":21,"cut":false,"hidden":false,"merged":[[5,0,5,6],[6,0,6,6],[10,0,10,6],[16,0,16,6],[20,0,20,6]]}
[]
[]
[]
[]
[]
["Interlocking Concrete Pavement Design Chart"]
["2011-02-11"]
[]
["Purpose:"]
[]
["The purpose of this worksheet is to estimate the adequate pavement design structures.  Designs are based on factors such as traffic, subgrade, relaibility, and service life expectations.  This spreadsheet is designed to work with ASCE 58-10:  Structural Design of Interlocking Concrete Pavement for Municipal Streets and Roadways."]
["www.asce.org"]
["ASCE 58-10:  Structural Design of Interlocking Concrete Pavement for Municipal Streets and Roadways"]
[]
["Use of Macros:"]
[]
["This spreadsheet uses embedded macros to help solve iterative design equations.  If prompted, it is necessary to enable the macros within this spreadsheet."]
[]
["License Information:"]
[]
["All software and computer program specifications, documentation, procedure manuals,\ndisks and tapes utilized, processed or developed by ARA in connection with this Agreement\nshall be and remain the exclusive and confidential property of ARA, or of third parties\nfrom whom ARA has secured the right to use.\n\nARA grants Licencee a nonexclusive, nontransferable Licence to use the software contained\nin this package.  Licencee owns the media on which the software is loaded, but ARA retains\ntitle to the software and related documentation.\n\nFrom the date of receipt, Licencee agrees to use its best efforts to protect the Software\nand Related Materials from unauthorized use, reproduction, distribution, or publication."]

{"sheet":"Design Inputs","index":1,"n_rows":37,"n_cols":9,"rows_kept":37,"cut":false,"hidden":false,"merged":[[27,4,27,6],[7,0,7,1],[2,0,2,1],[3,0,3,1],[4,0,4,1],[5,0,5,1],[6,0,6,1],[27,2,28,2],[27,3,28,3],[9,0,9,1],[10,0,13,0],[14,0,14,1],[27,0,28,0],[27,1,28,1]]}
["Design Information"]
[null,null,null,null,null,"Design Assistant"]
["Design Life (years)",null,20]
["Initial Serviceability",null,4.2,null,null,"ESALs",200000]
["Terminal Serviceability",null,2.5,null,null,"Subgrade Classification","GC, SC",{"$f":"VLOOKUP(G5,$B$30:$H$37,7,FALSE)","v":5}]
["Reliability",null,0.75,null,null,"Subgrade Conditions","Fair"]
["ZR",null,{"$f":"-NORMSINV(C6)","v":-0.67448975019608193},null,null,null,{"$f":"IF(G8=B11,\"Gran\",IF(G8=B12,\"ATB\",IF(G8=B13,\"CTB\",IF(G8=B14,\"AC\",\"Error\"))))","v":"CTB"},"Subgrade Type","Traffic"]
["Standard Deviation",null,0.45,null,null,"Base Type","Cement Treated Base",{"$f":"CONCATENATE(G7,\"!$A$6:$A$\",IF(OR(G8=B11,G8=B14),77,101))","v":"CTB!$A$6:$A$101"},{"$f":"CONCATENATE(G7,\"!\",\"$F$3:$O$3\")","v":"CTB!$F$3:$O$3"}]
[null,null,"Layer Coefficient","Thickness"]
["Pavers and Bedding",null,0.44,105,null,"Recommended Design"]
["Base","Unbound Dense Graded Base",0.14000000000000001,150]
[null,"Asphalt Treated Base",0.28000000000000003,100,null,"Pavers and Bedding",{"$f":"SUM(IF(F12=OFFSET(INDIRECT($H$8),0,4),IF('Design Inputs'!$G$6=OFFSET(INDIRECT($H$8),0,1),IF('Design Inputs'!$H$5=INDIRECT($H$8),IF('Design Inputs'!$G$4=INDIRECT($I$8),OFFSET(INDIRECT($H$8),0,5,,10))))))","v":105}]
[null,"Cement Treated Base",0.2,100,null,{"$f":"G8","v":"Cement Treated Base"},{"$f":"SUM(IF(F13=OFFSET(INDIRECT($H$8),0,4),IF('Design Inputs'!$G$6=OFFSET(INDIRECT($H$8),0,1),IF('Design Inputs'!$H$5=INDIRECT($H$8),IF('Design Inputs'!$G$4=INDIRECT($I$8),OFFSET(INDIRECT($H$8),0,5,,10))))))","v":100}]
[null,"Asphalt Concrete Base",0.42,50,null,{"$f":"IF(OR($G$8=$B$12,$G$8=$B$13),B11,IF(G8=B14,B11,A15))","v":"Unbound Dense Graded Base"},{"$f":"SUM(IF(F14=OFFSET(INDIRECT($H$8),0,4),IF('Design Inputs'!$G$6=OFFSET(INDIRECT($H$8),0,1),IF('Design Inputs'!$H$5=INDIRECT($H$8),IF('Design Inputs'!$G$4=INDIRECT($I$8),OFFSET(INDIRECT($H$8),0,5,,10))))))","v":100}]
["Unbound Dense Graded Subbase",null,0.09,null,null,{"$f":"IF(OR($G$8=$B$12,$G$8=$B$13),$A$15,\"\")","v":"Unbound Dense Graded Subbase"},{"$f":"SUM(IF(F15=OFFSET(INDIRECT($H$8),0,4),IF('Design Inputs'!$G$6=OFFSET(INDIRECT($H$8),0,1),IF('Design Inputs'!$H$5=INDIRECT($H$8),IF('Design Inputs'!$G$4=INDIRECT($I$8),OFFSET(INDIRECT($H$8),0,5,,10))))))","v":0}]
[]
["Traffic Estimates"]
["AADT","Functional Category","Percent Commercial","# Lanes","Estimated ESALs","Total ESALs"]
[500,"Local",5.0000000000000001E-3,2,{"$f":"182.5*A19*C19*1.15*(1.57-0.083*LOG(A19/2))","v":719.33133569109089},{"$f":"E19*$C$3","v":14386.626713821817}]
[1000,"Local",0.01,2,2824.8870463821818,{"$f":"E20*$C$3","v":56497.740927643637}]
[5000,"Local",0.01,2,13515.645463821818,270312.90927643637]
[10000,"Minor Arterial/Collector",0.03,2,79520.723891465444,1590414.4778293089]
[15000,"Major Arterial/Collector",0.05,2,196501.22695476777,3930024.5390953552]
[20000,"Principal Arterial",0.05,2,259825.24999999997,5196504.9999999991]
[40000,"Principal Arterial",0.05,2,509162.84072356363,10183256.814471273]
[]
["Subgrade Support"]
["Category No.","Classification","Drainage Characteristics","Susceptibility to Frost Action","Resilient Modulus (MR) for Typical Subgrade Conditions (MPa)"]
[null,null,null,null,"Good","Fair","Poor"]
[1,"Boulders/coubbles","Excellent","None",90,80,70,1]
[2,"GW, SW","Excellent","Negligible",80,70,50,2]
[3,"GP, SP","Excellent to fair","Negligible to slight",70,50,35,3]
[4,"GM, SM","Fair to semi-impervious","Slight to moderate",50,35,30,4]
[5,"GC, SC","Practically impervious","Negligible to slight",40,30,25,5]
[6,"ML, MI","Typically poor","Severe",30,25,18,6]
[7,"CL, MH","Practically impervious","Slight to severe",27,20,15,7]
[8,"CI, CH","Semi-impervious to impervious","Negligible to severe",25,20,15,8]

{"sheet":"Design","index":2,"n_rows":117,"n_cols":83,"rows_kept":117,"cut":false,"hidden":false,"merged":[[91,0,92,0],[91,1,92,1],[91,2,92,2],[31,0,32,0],[31,1,32,1],[31,2,32,2],[61,0,62,0],[61,1,62,1],[61,2,62,2],[1,1,2,1],[1,0,2,0],[1,2,2,2],[1,13,1,22],[1,3,1,12],[1,23,1,32],[1,33,1,42],[1,43,1,52],[1,53,1,62],[91,3,91,12],[31,3,31,12],[61,3,61,12],[91,53,91,62],[91,33,91,42],[61,33,61,42],[61,43,61,52],[61,53,61,62],[91,43,91,52],[91,23,91,32],[61,23,61,32],[31,13,31,22],[61,13,61,22],[91,13,91,22],[31,23,31,32],[31,73,31,82],[61,63,61,72],[61,73,61,82],[31,33,31,42],[31,43,31,52],[31,63,31,72],[31,53,31,62]]}
["Granular Base"]
["Subgrade Category","Drainage","Mr (psi)","Design SN (mm)",null,null,null,null,null,null,null,null,null,"Paver Thickness (mm)",null,null,null,null,null,null,null,null,null,"SN Remaining (Excluding Pavers)",null,null,null,null,null,null,null,null,null,"Unbound Dense Graded Base Thickness (mm)",null,null,null,null,null,null,null,null,null,"SN Remaining (excluding Pavers and Base)",null,null,null,null,null,null,null,null,null,"Unbound Dense Graded Subbase Thickness (mm)"]
[null,null,null,10000,20000,50000,100000,200000,500000,1000000,2000000,5000000,10000000,10000,20000,50000,100000,200000,500000,1000000,2000000,5000000,10000000,10000,20000,50000,100000,200000,500000,1000000,2000000,5000000,10000000,10000,20000,50000,100000,200000,500000,1000000,2000000,5000000,10000000,10000,20000,50000,100000,200000,500000,1000000,2000000,5000000,10000000,10000,20000,50000,100000,200000,500000,1000000,2000000,5000000,10000000]
[1,"Good",{"$f":"SUM(IF($A4='Design Inputs'!$A$30:$A$37,IF(Design!$B4=SubgradeConditions,'Design Inputs'!$E$30:$G$37)))*145.0377","v":13053.393},{"$f":"snreq(D$3,Reliability,S0,$C4,PSIi-PSIt)*25.4","v":28.174086399999997},32.348728799999996,38.417550800000001,43.485384199999999,49.032795,57.243344999999991,64.2575042,72.101455999999985,83.920482399999997,93.985308599999996,{"$f":"ThickPaver","v":105},105,105,105,105,105,105,105,105,105,{"$f":"MAX(0,D4-N4*Apaver)","v":0},{"$f":"MAX(0,E4-O4*Apaver)","v":0},{"$f":"MAX(0,F4-P4*Apaver)","v":0},{"$f":"MAX(0,G4-Q4*Apaver)","v":0},{"$f":"MAX(0,H4-R4*Apaver)","v":2.8327949999999973},{"$f":"MAX(0,I4-S4*Apaver)","v":11.043344999999988},{"$f":"MAX(0,J4-T4*Apaver)","v":18.057504199999997},{"$f":"MAX(0,K4-U4*Apaver)","v":25.901455999999982},{"$f":"MAX(0,L4-V4*Apaver)","v":37.720482399999995},{"$f":"MAX(0,M4-W4*Apaver)","v":47.785308599999993},{"$f":"IF(X4<100*Agran,100,IF(X4>200*Agran,100,ROUNDUP(X4/Agran/25,0)*25))","v":100},{"$f":"IF(Y4<100*Agran,100,IF(Y4>200*Agran,100,ROUNDUP(Y4/Agran/25,0)*25))","v":100},{"$f":"IF(Z4<100*Agran,100,IF(Z4>200*Agran,100,ROUNDUP(Z4/Agran/25,0)*25))","v":100},{"$f":"IF(AA4<100*Agran,100,IF(AA4>200*Agran,100,ROUNDUP(AA4/Agran/25,0)*25))","v":100},{"$f":"IF(AB4<100*Agran,100,IF(AB4>200*Agran,100,ROUNDUP(AB4/Agran/25,0)*25))","v":100},{"$f":"IF(AC4<150*Agran,150,IF(AC4>200*Agran,150,ROUNDUP(AC4/Agran/25,0)*25))","v":150},{"$f":"IF(AD4<150*Agran,150,IF(AD4>200*Agran,150,ROUNDUP(AD4/Agran/25,0)*25))","v":150},{"$f":"IF(AE4<150*Agran,150,IF(AE4>200*Agran,150,ROUNDUP(AE4/Agran/25,0)*25))","v":200},{"$f":"IF(AF4<150*Agran,150,IF(AF4>200*Agran,150,ROUNDUP(AF4/Agran/25,0)*25))","v":150},{"$f":"IF(AG4<150*Agran,150,IF(AG4>200*Agran,150,ROUNDUP(AG4/Agran/25,0)*25))","v":150},{"$f":"MAX(0,X4-AH4*Agran)","v":0},{"$f":"MAX(0,Y4-AI4*Agran)","v":0},{"$f":"MAX(0,Z4-AJ4*Agran)","v":0},{"$f":"MAX(0,AA4-AK4*Agran)","v":0},{"$f":"MAX(0,AB4-AL4*Agran)","v":0},{"$f":"MAX(0,AC4-AM4*Agran)","v":0},{"$f":"MAX(0,AD4-AN4*Agran)","v":0},{"$f":"MAX(0,AE4-AO4*Agran)","v":0},{"$f":"MAX(0,AF4-AP4*Agran)","v":16.720482399999991},{"$f":"MAX(0,AG4-AQ4*Agran)","v":26.78530859999999},{"$f":"IF(AR4<=0,0,MAX(150,ROUNDUP(AR4/Asubbase/25,0)*25))","v":0},{"$f":"IF(AS4<=0,0,MAX(150,ROUNDUP(AS4/Asubbase/25,0)*25))","v":0},{"$f":"IF(AT4<=0,0,MAX(150,ROUNDUP(AT4/Asubbase/25,0)*25))","v":0},{"$f":"IF(AU4<=0,0,MAX(150,ROUNDUP(AU4/Asubbase/25,0)*25))","v":0},{"$f":"IF(AV4<=0,0,MAX(150,ROUNDUP(AV4/Asubbase/25,0)*25))","v":0},{"$f":"IF(AW4<=0,0,MAX(150,ROUNDUP(AW4/Asubbase/25,0)*25))","v":0},{"$f":"IF(AX4<=0,0,MAX(150,ROUNDUP(AX4/Asubbase/25,0)*25))","v":0},{"$f":"IF(AY4<=0,0,MAX(150,ROUNDUP(AY4/Asubbase/25,0)*25))","v":0},{"$f":"IF(AZ4<=0,0,MAX(150,ROUNDUP(AZ4/Asubbase/25,0)*25))","v":200},{"$f":"IF(BA4<=0,0,MAX(150,ROUNDUP(BA4/Asubbase/25,0)*25))","v":300}]
[1,"Fair",{"$f":"SUM(IF($A5='Design Inputs'!$A$30:$A$37,IF(Design!$B5=SubgradeConditions,'Design Inputs'!$E$30:$G$37)))*145.0377","v":11603.016},29.780204600000001,34.090025799999999,40.363267,45.611338799999999,51.367943999999994,59.9174316,67.243807599999997,75.447601199999994,87.776456400000001,98.199854399999992,105,105,105,105,105,105,105,105,105,105,0,0,0,0,5.1679439999999914,13.717431599999998,21.043807599999994,29.247601199999991,41.576456399999998,51.99985439999999,100,100,100,100,100,150,175,150,150,150,0,0,0,0,0,0,0,8.2476011999999876,20.576456399999994,30.999854399999986,0,0,0,0,0,0,0,150,250,350]
[1,"Poor",{"$f":"SUM(IF($A6='Design Inputs'!$A$30:$A$37,IF(Design!$B6=SubgradeConditions,'Design Inputs'!$E$30:$G$37)))*145.0377","v":10152.638999999999},31.663131999999997,36.132287399999996,42.650130599999997,48.115473999999999,54.128949399999996,63.091695000000001,70.795311799999993,79.423336199999994,92.325113799999997,103.1308834,105,105,105,105,105,105,105,105,105,105,0,0,0,1.9154739999999961,7.9289493999999934,16.891694999999999,24.59531179999999,33.223336199999991,46.125113799999994,56.930883399999999,100,100,100,100,100,150,200,150,150,150,0,0,0,0,0,0,0,12.223336199999988,25.125113799999991,35.930883399999999,0,0,0,0,0,0,0,150,300,400]
[2,"Good",{"$f":"SUM(IF($A7='Design Inputs'!$A$30:$A$37,IF(Design!$B7=SubgradeConditions,'Design Inputs'!$E$30:$G$37)))*145.0377","v":11603.016},29.780204600000001,34.090025799999999,40.363267,45.611338799999999,51.367943999999994,59.9174316,67.243807599999997,75.447601199999994,87.776456400000001,98.199854399999992,105,105,105,105,105,105,105,105,105,105,0,0,0,0,5.1679439999999914,13.717431599999998,21.043807599999994,29.247601199999991,41.576456399999998,51.99985439999999,100,100,100,100,100,150,175,150,150,150,0,0,0,0,0,0,0,8.2476011999999876,20.576456399999994,30.999854399999986,0,0,0,0,0,0,0,150,250,350]
[2,"Fair",{"$f":"SUM(IF($A8='Design Inputs'!$A$30:$A$37,IF(Design!$B8=SubgradeConditions,'Design Inputs'!$E$30:$G$37)))*145.0377","v":10152.638999999999},31.663131999999997,36.132287399999996,42.650130599999997,48.115473999999999,54.128949399999996,63.091695000000001,70.795311799999993,79.423336199999994,92.325113799999997,103.1308834,105,105,105,105,105,105,105,105,105,105,0,0,0,1.9154739999999961,7.9289493999999934,16.891694999999999,24.59531179999999,33.223336199999991,46.125113799999994,56.930883399999999,100,100,100,100,100,150,200,150,150,150,0,0,0,0,0,0,0,12.223336199999988,25.125113799999991,35.930883399999999,0,0,0,0,0,0,0,150,300,400]
[2,"Poor",{"$f":"SUM(IF($A9='Design Inputs'!$A$30:$A$37,IF(Design!$B9=SubgradeConditions,'Design Inputs'!$E$30:$G$37)))*145.0377","v":7251.8850000000002},36.722913599999998,41.637864399999998,48.842879199999999,54.931691000000001,61.682553799999994,71.831073000000004,80.582058799999984,90.310207999999989,104.55097199999999,116.2058382,105,105,105,105,105,105,105,105,105,105,0,0,2.6428791999999959,8.7316909999999979,15.482553799999991,25.631073000000001,34.382058799999982,44.110207999999986,58.350971999999985,70.005838199999999,100,100,100,100,125,200,150,150,150,150,0,0,0,0,0,0,13.382058799999978,23.110207999999982,37.350971999999985,49.005838199999999,0,0,0,0,0,0,150,275,425,550]
[3,"Good",{"$f":"SUM(IF($A10='Design Inputs'!$A$30:$A$37,IF(Design!$B10=SubgradeConditions,'Design Inputs'!$E$30:$G$37)))*145.0377","v":10152.638999999999},31.663131999999997,36.132287399999996,42.650130599999997,48.115473999999999,54.128949399999996,63.091695000000001,70.795311799999993,79.423336199999994,92.325113799999997,103.1308834,105,105,105,105,105,105,105,105,105,105,0,0,0,1.9154739999999961,7.9289493999999934,16.891694999999999,24.59531179999999,33.223336199999991,46.125113799999994,56.930883399999999,100,100,100,100,100,150,200,150,150,150,0,0,0,0,0,0,0,12.223336199999988,25.125113799999991,35.930883399999999,0,0,0,0,0,0,0,150,300,400]
[3,"Fair",{"$f":"SUM(IF($A11='Design Inputs'!$A$30:$A$37,IF(Design!$B11=SubgradeConditions,'Design Inputs'!$E$30:$G$37)))*145.0377","v":7251.8850000000002},36.722913599999998,41.637864399999998,48.842879199999999,54.931691000000001,61.682553799999994,71.831073000000004,80.582058799999984,90.310207999999989,104.55097199999999,116.2058382,105,105,105,105,105,105,105,105,105,105,0,0,2.6428791999999959,8.7316909999999979,15.482553799999991,25.631073000000001,34.382058799999982,44.110207999999986,58.350971999999985,70.005838199999999,100,100,100,100,125,200,150,150,150,150,0,0,0,0,0,0,13.382058799999978,23.110207999999982,37.350971999999985,49.005838199999999,0,0,0,0,0,0,150,275,425,550]
[3,"Poor",{"$f":"SUM(IF($A12='Design Inputs'!$A$30:$A$37,IF(Design!$B12=SubgradeConditions,'Design Inputs'!$E$30:$G$37)))*145.0377","v":5076.3194999999996},42.640478599999994,48.105821999999996,56.1843936,63.077547199999998,70.779208199999985,82.391605599999991,92.305149399999991,103.10901399999999,118.54324779999999,130.99829019999999,105,105,105,105,105,105,105,105,105,105,0,1.9058219999999935,9.9843935999999971,16.877547199999995,24.579208199999982,36.191605599999988,46.105149399999988,56.909013999999985,72.343247799999986,84.798290199999983,100,100,100,125,200,150,150,150,150,150,0,0,0,0,0,15.191605599999985,25.105149399999984,35.909013999999985,51.343247799999986,63.798290199999983,0,0,0,0,0,175,300,400,575,725]
[4,"Good",{"$f":"SUM(IF($A13='Design Inputs'!$A$30:$A$37,IF(Design!$B13=SubgradeConditions,'Design Inputs'!$E$30:$G$37)))*145.0377","v":7251.8850000000002},36.722913599999998,41.637864399999998,48.842879199999999,54.931691000000001,61.682553799999994,71.831073000000004,80.582058799999984,90.310207999999989,104.55097199999999,116.2058382,105,105,105,105,105,105,105,105,105,105,0,0,2.6428791999999959,8.7316909999999979,15.482553799999991,25.631073000000001,34.382058799999982,44.110207999999986,58.350971999999985,70.005838199999999,100,100,100,100,125,200,150,150,150,150,0,0,0,0,0,0,13.382058799999978,23.110207999999982,37.350971999999985,49.005838199999999,0,0,0,0,0,0,150,275,425,550]
[4,"Fair",{"$f":"SUM(IF($A14='Design Inputs'!$A$30:$A$37,IF(Design!$B14=SubgradeConditions,'Design Inputs'!$E$30:$G$37)))*145.0377","v":5076.3194999999996},{"$f":"snreq(D$3,Reliability,S0,$C14,PSIi-PSIt)*25.4","v":42.640478599999994},48.105821999999996,56.1843936,63.077547199999998,70.779208199999985,82.391605599999991,92.305149399999991,103.10901399999999,118.54324779999999,130.99829019999999,{"$f":"ThickPaver","v":105},105,105,105,105,105,105,105,105,105,0,1.9058219999999935,9.9843935999999971,16.877547199999995,24.579208199999982,36.191605599999988,46.105149399999988,56.909013999999985,72.343247799999986,84.798290199999983,100,100,100,125,200,150,150,150,150,150,0,0,0,0,0,15.191605599999985,25.105149399999984,35.909013999999985,51.343247799999986,63.798290199999983,0,0,0,0,0,175,300,400,575,725]
[4,"Poor",{"$f":"SUM(IF($A15='Design Inputs'!$A$30:$A$37,IF(Design!$B15=SubgradeConditions,'Design Inputs'!$E$30:$G$37)))*145.0377","v":4351.1310000000003},45.397292999999998,51.132994000000004,59.647708999999999,66.942538200000001,75.109628799999996,87.387633199999996,97.776284000000004,108.9882504,124.88664379999999,137.68994559999999,105,105,105,105,105,105,105,105,105,105,0,4.9329940000000008,13.447708999999996,20.742538199999998,28.909628799999993,41.187633199999993,51.576284000000001,62.788250399999995,78.686643799999985,91.489945599999984,100,100,100,150,100,150,150,150,150,150,0,0,0,0,14.909628799999991,20.18763319999999,30.576283999999998,41.788250399999995,57.686643799999985,70.489945599999984,0,0,0,0,175,225,350,475,650,800]
[5,"Good",{"$f":"SUM(IF($A16='Design Inputs'!$A$30:$A$37,IF(Design!$B16=SubgradeConditions,'Design Inputs'!$E$30:$G$37)))*145.0377","v":5801.5079999999998},40.353589599999999,45.600061199999999,53.331998999999996,59.904553799999995,67.228999399999992,78.274240199999994,87.757152399999995,98.178619999999995,113.1905788,125.34950799999999,105,105,105,105,105,105,105,105,105,105,0,0,7.1319989999999933,13.704553799999992,21.028999399999989,32.074240199999991,41.557152399999993,51.978619999999992,66.990578799999994,79.149507999999983,100,100,100,100,175,150,150,150,150,150,0,0,0,0,0,11.074240199999988,20.557152399999989,30.978619999999989,45.990578799999994,58.149507999999983,0,0,0,0,0,150,250,350,525,650]
[5,"Fair",{"$f":"SUM(IF($A17='Design Inputs'!$A$30:$A$37,IF(Design!$B17=SubgradeConditions,'Design Inputs'!$E$30:$G$37)))*145.0377","v":4351.1310000000003},45.397292999999998,51.132994000000004,59.647708999999999,66.942538200000001,75.109628799999996,87.387633199999996,97.776284000000004,108.9882504,124.88664379999999,137.68994559999999,105,105,105,105,105,105,105,105,105,105,0,4.9329940000000008,13.447708999999996,20.742538199999998,28.909628799999993,41.187633199999993,51.576284000000001,62.788250399999995,78.686643799999985,91.489945599999984,100,100,100,150,100,150,150,150,150,150,0,0,0,0,14.909628799999991,20.18763319999999,30.576283999999998,41.788250399999995,57.686643799999985,70.489945599999984,0,0,0,0,175,225,350,475,650,800]
[5,"Poor",{"$f":"SUM(IF($A18='Design Inputs'!$A$30:$A$37,IF(Design!$B18=SubgradeConditions,'Design Inputs'!$E$30:$G$37)))*145.0377","v":3625.9425000000001},48.831626999999997,54.919448200000005,64.001954799999993,71.814994799999994,80.564024799999999,93.621606,104.5291026,116.18267339999998,132.61794660000001,145.85190539999999,105,105,105,105,105,105,105,105,105,105,2.6316269999999946,8.7194482000000022,17.80195479999999,25.614994799999991,34.364024799999996,47.421605999999997,58.329102599999999,69.982673399999982,86.417946600000008,99.65190539999999,100,100,150,200,100,150,150,150,150,150,0,0,0,0,20.364024799999996,26.421605999999993,37.329102599999999,48.982673399999982,65.417946600000008,78.65190539999999,0,0,0,0,250,300,425,550,750,875]
[6,"Good",{"$f":"SUM(IF($A19='Design Inputs'!$A$30:$A$37,IF(Design!$B19=SubgradeConditions,'Design Inputs'!$E$30:$G$37)))*145.0377","v":4351.1310000000003},45.397292999999998,51.132994000000004,59.647708999999999,66.942538200000001,75.109628799999996,87.387633199999996,97.776284000000004,108.9882504,124.88664379999999,137.68994559999999,105,105,105,105,105,105,105,105,105,105,0,4.9329940000000008,13.447708999999996,20.742538199999998,28.909628799999993,41.187633199999993,51.576284000000001,62.788250399999995,78.686643799999985,91.489945599999984,100,100,100,150,100,150,150,150,150,150,0,0,0,0,14.909628799999991,20.18763319999999,30.576283999999998,41.788250399999995,57.686643799999985,70.489945599999984,0,0,0,0,175,225,350,475,650,800]
[6,"Fair",{"$f":"SUM(IF($A20='Design Inputs'!$A$30:$A$37,IF(Design!$B20=SubgradeConditions,'Design Inputs'!$E$30:$G$37)))*145.0377","v":3625.9425000000001},48.831626999999997,54.919448200000005,64.001954799999993,71.814994799999994,80.564024799999999,93.621606,104.5291026,116.18267339999998,132.61794660000001,145.85190539999999,105,105,105,105,105,105,105,105,105,105,2.6316269999999946,8.7194482000000022,17.80195479999999,25.614994799999991,34.364024799999996,47.421605999999997,58.329102599999999,69.982673399999982,86.417946600000008,99.65190539999999,100,100,150,200,100,150,150,150,150,150,0,0,0,0,20.364024799999996,26.421605999999993,37.329102599999999,48.982673399999982,65.417946600000008,78.65190539999999,0,0,0,0,250,300,425,550,750,875]
[6,"Poor",{"$f":"SUM(IF($A21='Design Inputs'!$A$30:$A$37,IF(Design!$B21=SubgradeConditions,'Design Inputs'!$E$30:$G$37)))*145.0377","v":2610.6786000000002},55.559324999999994,62.381002999999993,72.642831599999994,81.488432399999994,91.310586999999984,105.65757380000001,117.38002939999998,129.77131779999999,147.20953539999999,161.29838199999998,105,105,105,105,105,105,105,105,105,105,9.3593249999999912,16.18100299999999,26.442831599999991,35.288432399999991,45.110586999999981,59.457573800000006,71.180029399999981,83.571317799999989,101.00953539999999,115.09838199999997,100,125,200,100,100,150,150,150,150,150,0,0,0,21.288432399999991,31.110586999999981,38.457573800000006,50.180029399999981,62.571317799999989,80.00953539999999,94.098381999999972,0,0,0,250,350,450,575,700,900,1050]
[7,"Good",{"$f":"SUM(IF($A22='Design Inputs'!$A$30:$A$37,IF(Design!$B22=SubgradeConditions,'Design Inputs'!$E$30:$G$37)))*145.0377","v":3916.0178999999998},47.357461800000003,53.292730599999999,62.128018999999995,69.71705639999999,78.216963199999995,90.948814799999994,101.64320539999999,113.11526779999998,129.3239222,142.37248640000001,105,105,105,105,105,105,105,105,105,105,1.1574618000000001,7.0927305999999959,15.928018999999992,23.517056399999987,32.016963199999992,44.748814799999991,55.443205399999982,66.915267799999981,83.123922199999996,96.172486400000011,100,100,125,175,100,150,150,150,150,150,0,0,0,0,18.016963199999992,23.748814799999987,34.443205399999982,45.915267799999981,62.123922199999996,75.172486400000011,0,0,0,0,225,275,400,525,700,850]
[7,"Fair",{"$f":"SUM(IF($A23='Design Inputs'!$A$30:$A$37,IF(Design!$B23=SubgradeConditions,'Design Inputs'!$E$30:$G$37)))*145.0377","v":2900.7539999999999},53.320416599999994,59.891041000000001,69.752464000000003,78.256866599999995,87.73784839999999,101.69278619999999,113.16804899999998,125.3256828,142.43235419999999,156.23410459999999,105,105,105,105,105,105,105,105,105,105,7.1204165999999915,13.691040999999998,23.552464000000001,32.056866599999992,41.537848399999987,55.492786199999983,66.968048999999979,79.125682799999993,96.232354199999989,110.03410459999999,100,100,175,100,100,150,150,150,150,150,0,0,0,18.056866599999992,27.537848399999987,34.492786199999983,45.968048999999979,58.125682799999993,75.232354199999989,89.034104599999992,0,0,0,225,325,400,525,650,850,1000]
[7,"Poor",{"$f":"SUM(IF($A24='Design Inputs'!$A$30:$A$37,IF(Design!$B24=SubgradeConditions,'Design Inputs'!$E$30:$G$37)))*145.0377","v":2175.5655000000002},59.634831199999994,66.927729999999997,77.924050399999999,87.368329199999991,97.755684599999995,112.7296704,124.8628186,137.66418999999999,155.70751179999999,170.32292579999998,105,105,105,105,105,105,105,105,105,105,13.434831199999991,20.727729999999994,31.724050399999996,41.168329199999988,51.555684599999992,66.529670400000001,78.662818599999994,91.464189999999988,109.50751179999999,124.12292579999998,100,150,100,100,100,150,150,150,150,150,0,0,17.724050399999996,27.168329199999988,37.555684599999992,45.529670400000001,57.662818599999994,70.464189999999988,88.507511799999989,103.12292579999998,0,0,200,325,425,525,650,800,1000,1150]
[8,"Good",{"$f":"SUM(IF($A25='Design Inputs'!$A$30:$A$37,IF(Design!$B25=SubgradeConditions,'Design Inputs'!$E$30:$G$37)))*145.0377","v":3625.9425000000001},48.831626999999997,54.919448200000005,64.001954799999993,71.814994799999994,80.564024799999999,93.621606,104.5291026,116.18267339999998,132.61794660000001,145.85190539999999,105,105,105,105,105,105,105,105,105,105,2.6316269999999946,8.7194482000000022,17.80195479999999,25.614994799999991,34.364024799999996,47.421605999999997,58.329102599999999,69.982673399999982,86.417946600000008,99.65190539999999,100,100,150,200,100,150,150,150,150,150,0,0,0,0,20.364024799999996,26.421605999999993,37.329102599999999,48.982673399999982,65.417946600000008,78.65190539999999,0,0,0,0,250,300,425,550,750,875]
[8,"Fair",{"$f":"SUM(IF($A26='Design Inputs'!$A$30:$A$37,IF(Design!$B26=SubgradeConditions,'Design Inputs'!$E$30:$G$37)))*145.0377","v":2900.7539999999999},53.320416599999994,59.891041000000001,69.752464000000003,78.256866599999995,87.73784839999999,101.69278619999999,113.16804899999998,125.3256828,142.43235419999999,156.23410459999999,105,105,105,105,105,105,105,105,105,105,7.1204165999999915,13.691040999999998,23.552464000000001,32.056866599999992,41.537848399999987,55.492786199999983,66.968048999999979,79.125682799999993,96.232354199999989,110.03410459999999,100,100,175,100,100,150,150,150,150,150,0,0,0,18.056866599999992,27.537848399999987,34.492786199999983,45.968048999999979,58.125682799999993,75.232354199999989,89.034104599999992,0,0,0,225,325,400,525,650,850,1000]
[8,"Poor",{"$f":"SUM(IF($A27='Design Inputs'!$A$30:$A$37,IF(Design!$B27=SubgradeConditions,'Design Inputs'!$E$30:$G$37)))*145.0377","v":2175.5655000000002},59.634831199999994,66.927729999999997,77.924050399999999,87.368329199999991,97.755684599999995,112.7296704,124.8628186,137.66418999999999,155.70751179999999,170.32292579999998,105,105,105,105,105,105,105,105,105,105,13.434831199999991,20.727729999999994,31.724050399999996,41.168329199999988,51.555684599999992,66.529670400000001,78.662818599999994,91.464189999999988,109.50751179999999,124.12292579999998,100,150,100,100,100,150,150,150,150,150,0,0,17.724050399999996,27.168329199999988,37.555684599999992,45.529670400000001,57.662818599999994,70.464189999999988,88.507511799999989,103.12292579999998,0,0,200,325,425,525,650,800,1000,1150]
[]
[]
[]
["Asphalt Treated Base"]
["Subgrade Category","Drainage","Mr (psi)","Design SN (mm)",null,null,null,null,null,null,null,null,null,"Paver Thickness (mm)",null,null,null,null,null,null,null,null,null,"SN Remaining (Excluding Pavers)",null,null,null,null,null,null,null,null,null,"Asphalt Treated Base Thickness (mm)",null,null,null,null,null,null,null,null,null,"SN Remaining (excluding Pavers and Base)",null,null,null,null,null,null,null,null,null,"Unbound Dense Graded Base Thickness (mm)",null,null,null,null,null,null,null,null,null,"SN Remaining (excluding Pavers and Base and Untreated Granular Base)",null,null,null,null,null,null,null,null,null,"Unbound Dense Graded Subbase Thickness (mm)"]
[null,null,null,10000,20000,50000,100000,200000,500000,1000000,2000000,5000000,10000000,10000,20000,50000,100000,200000,500000,1000000,2000000,5000000,10000000,10000,20000,50000,100000,200000,500000,1000000,2000000,5000000,10000000,10000,20000,50000,100000,200000,500000,1000000,2000000,5000000,10000000,10000,20000,50000,100000,200000,500000,1000000,2000000,5000000,10000000,10000,20000,50000,100000,200000,500000,1000000,2000000,5000000,10000000,10000,20000,50000,100000,200000,500000,1000000,2000000,5000000,10000000,10000,20000,50000,100000,200000,500000,1000000,2000000,5000000,10000000]
[1,"Good",{"$f":"C4","v":13053.393},{"$f":"D4","v":28.174086399999997},{"$f":"E4","v":32.348728799999996},38.417550800000001,43.485384199999999,49.032795,57.243344999999991,64.2575042,72.101455999999985,83.920482399999997,93.985308599999996,{"$f":"ThickPaver","v":105},105,105,105,105,105,105,105,105,105,{"$f":"MAX(0,D34-N34*Apaver)","v":0},{"$f":"MAX(0,E34-O34*Apaver)","v":0},{"$f":"MAX(0,F34-P34*Apaver)","v":0},{"$f":"MAX(0,G34-Q34*Apaver)","v":0},{"$f":"MAX(0,H34-R34*Apaver)","v":2.8327949999999973},{"$f":"MAX(0,I34-S34*Apaver)","v":11.043344999999988},{"$f":"MAX(0,J34-T34*Apaver)","v":18.057504199999997},{"$f":"MAX(0,K34-U34*Apaver)","v":25.901455999999982},{"$f":"MAX(0,L34-V34*Apaver)","v":37.720482399999995},{"$f":"MAX(0,M34-W34*Apaver)","v":47.785308599999993},{"$f":"ThickATB","v":100},100,100,100,100,100,100,100,100,100,{"$f":"MAX(0,X34-AH34*Aatb)","v":0},{"$f":"MAX(0,Y34-AI34*Aatb)","v":0},{"$f":"MAX(0,Z34-AJ34*Aatb)","v":0},{"$f":"MAX(0,AA34-AK34*Aatb)","v":0},{"$f":"MAX(0,AB34-AL34*Aatb)","v":0},{"$f":"MAX(0,AC34-AM34*Aatb)","v":0},{"$f":"MAX(0,AD34-AN34*Aatb)","v":0},{"$f":"MAX(0,AE34-AO34*Aatb)","v":0},{"$f":"MAX(0,AF34-AP34*Aatb)","v":9.720482399999991},{"$f":"MAX(0,AG34-AQ34*Aatb)","v":19.78530859999999},{"$f":"IF(AR34<100*Agran,100,IF(AR34>200*Agran,100,ROUNDUP(AR34/Agran/25,0)*25))","v":100},{"$f":"IF(AS34<100*Agran,100,IF(AS34>200*Agran,100,ROUNDUP(AS34/Agran/25,0)*25))","v":100},{"$f":"IF(AT34<100*Agran,100,IF(AT34>200*Agran,100,ROUNDUP(AT34/Agran/25,0)*25))","v":100},{"$f":"IF(AU34<100*Agran,100,IF(AU34>200*Agran,100,ROUNDUP(AU34/Agran/25,0)*25))","v":100},{"$f":"IF(AV34<100*Agran,100,IF(AV34>200*Agran,100,ROUNDUP(AV34/Agran/25,0)*25))","v":100},{"$f":"IF(AW34<150*Agran,150,IF(AW34>200*Agran,150,ROUNDUP(AW34/Agran/25,0)*25))","v":150},{"$f":"IF(AX34<150*Agran,150,IF(AX34>200*Agran,150,ROUNDUP(AX34/Agran/25,0)*25))","v":150},{"$f":"IF(AY34<150*Agran,150,IF(AY34>200*Agran,150,ROUNDUP(AY34/Agran/25,0)*25))","v":150},{"$f":"IF(AZ34<150*Agran,150,IF(AZ34>200*Agran,150,ROUNDUP(AZ34/Agran/25,0)*25))","v":150},{"$f":"IF(BA34<150*Agran,150,IF(BA34>200*Agran,150,ROUNDUP(BA34/Agran/25,0)*25))","v":150},{"$f":"MAX(0,AR34-BB34*Agran)","v":0},{"$f":"MAX(0,AS34-BC34*Agran)","v":0},{"$f":"MAX(0,AT34-BD34*Agran)","v":0},{"$f":"MAX(0,AU34-BE34*Agran)","v":0},{"$f":"MAX(0,AV34-BF34*Agran)","v":0},{"$f":"MAX(0,AW34-BG34*Agran)","v":0},{"$f":"MAX(0,AX34-BH34*Agran)","v":0},{"$f":"MAX(0,AY34-BI34*Agran)","v":0},{"$f":"MAX(0,AZ34-BJ34*Agran)","v":0},{"$f":"MAX(0,BA34-BK34*Agran)","v":0},{"$f":"IF(BL34<=0,0,MAX(150,ROUNDUP(BL34/Asubbase/25,0)*25))","v":0},{"$f":"IF(BM34<=0,0,MAX(150,ROUNDUP(BM34/Asubbase/25,0)*25))","v":0},{"$f":"IF(BN34<=0,0,MAX(150,ROUNDUP(BN34/Asubbase/25,0)*25))","v":0},{"$f":"IF(BO34<=0,0,MAX(150,ROUNDUP(BO34/Asubbase/25,0)*25))","v":0},{"$f":"IF(BP34<=0,0,MAX(150,ROUNDUP(BP34/Asubbase/25,0)*25))","v":0},{"$f":"IF(BQ34<=0,0,MAX(150,ROUNDUP(BQ34/Asubbase/25,0)*25))","v":0},{"$f":"IF(BR34<=0,0,MAX(150,ROUNDUP(BR34/Asubbase/25,0)*25))","v":0},{"$f":"IF(BS34<=0,0,MAX(150,ROUNDUP(BS34/Asubbase/25,0)*25))","v":0},{"$f":"IF(BT34<=0,0,MAX(150,ROUNDUP(BT34/Asubbase/25,0)*25))","v":0},{"$f":"IF(BU34<=0,0,MAX(150,ROUNDUP(BU34/Asubbase/25,0)*25))","v":0}]
[1,"Fair",{"$f":"C5","v":11603.016},{"$f":"D5","v":29.780204600000001},34.090025799999999,40.363267,45.611338799999999,51.367943999999994,59.9174316,67.243807599999997,75.447601199999994,87.776456400000001,98.199854399999992,105,105,105,105,105,105,105,105,105,105,0,0,0,0,5.1679439999999914,13.717431599999998,21.043807599999994,29.247601199999991,41.576456399999998,51.99985439999999,100,100,100,100,100,100,100,100,100,100,0,0,0,0,0,0,0,1.2476011999999876,13.576456399999994,23.999854399999986,100,100,100,100,100,150,150,150,150,175,0,0,0,0,0,0,0,0,0,0,0,0,0,0,0,0,0,0,0,0]
[1,"Poor",10152.638999999999,{"$f":"D6","v":31.663131999999997},36.132287399999996,42.650130599999997,48.115473999999999,54.128949399999996,63.091695000000001,70.795311799999993,79.423336199999994,92.325113799999997,103.1308834,105,105,105,105,105,105,105,105,105,105,0,0,0,1.9154739999999961,7.9289493999999934,16.891694999999999,24.59531179999999,33.223336199999991,46.125113799999994,56.930883399999999,100,100,100,100,100,100,100,100,100,100,0,0,0,0,0,0,0,5.2233361999999879,18.125113799999991,28.930883399999995,100,100,100,100,100,150,150,150,150,150,0,0,0,0,0,0,0,0,0,7.9308833999999919,0,0,0,0,0,0,0,0,0,150]
[2,"Good",11603.016,{"$f":"D7","v":29.780204600000001},34.090025799999999,40.363267,45.611338799999999,51.367943999999994,59.9174316,67.243807599999997,75.447601199999994,87.776456400000001,98.199854399999992,105,105,105,105,105,105,105,105,105,105,0,0,0,0,5.1679439999999914,13.717431599999998,21.043807599999994,29.247601199999991,41.576456399999998,51.99985439999999,100,100,100,100,100,100,100,100,100,100,0,0,0,0,0,0,0,1.2476011999999876,13.576456399999994,23.999854399999986,100,100,100,100,100,150,150,150,150,175,0,0,0,0,0,0,0,0,0,0,0,0,0,0,0,0,0,0,0,0]
[2,"Fair",10152.638999999999,{"$f":"D8","v":31.663131999999997},36.132287399999996,42.650130599999997,48.115473999999999,54.128949399999996,63.091695000000001,70.795311799999993,79.423336199999994,92.325113799999997,103.1308834,105,105,105,105,105,105,105,105,105,105,0,0,0,1.9154739999999961,7.9289493999999934,16.891694999999999,24.59531179999999,33.223336199999991,46.125113799999994,56.930883399999999,100,100,100,100,100,100,100,100,100,100,0,0,0,0,0,0,0,5.2233361999999879,18.125113799999991,28.930883399999995,100,100,100,100,100,150,150,150,150,150,0,0,0,0,0,0,0,0,0,7.9308833999999919,0,0,0,0,0,0,0,0,0,150]
[2,"Poor",7251.8850000000002,{"$f":"D9","v":36.722913599999998},41.637864399999998,48.842879199999999,54.931691000000001,61.682553799999994,71.831073000000004,80.582058799999984,90.310207999999989,104.55097199999999,116.2058382,105,105,105,105,105,105,105,105,105,105,0,0,2.6428791999999959,8.7316909999999979,15.482553799999991,25.631073000000001,34.382058799999982,44.110207999999986,58.350971999999985,70.005838199999999,100,100,100,100,100,100,100,100,100,100,0,0,0,0,0,0,6.382058799999978,16.110207999999982,30.350971999999981,42.005838199999999,100,100,100,100,100,150,150,150,150,150,0,0,0,0,0,0,0,0,9.3509719999999774,21.005838199999996,0,0,0,0,0,0,0,0,150,250]
[3,"Good",10152.638999999999,{"$f":"D10","v":31.663131999999997},36.132287399999996,42.650130599999997,48.115473999999999,54.128949399999996,63.091695000000001,70.795311799999993,79.423336199999994,92.325113799999997,103.1308834,105,105,105,105,105,105,105,105,105,105,0,0,0,1.9154739999999961,7.9289493999999934,16.891694999999999,24.59531179999999,33.223336199999991,46.125113799999994,56.930883399999999,100,100,100,100,100,100,100,100,100,100,0,0,0,0,0,0,0,5.2233361999999879,18.125113799999991,28.930883399999995,100,100,100,100,100,150,150,150,150,150,0,0,0,0,0,0,0,0,0,7.9308833999999919,0,0,0,0,0,0,0,0,0,150]
[3,"Fair",7251.8850000000002,{"$f":"D11","v":36.722913599999998},41.637864399999998,48.842879199999999,54.931691000000001,61.682553799999994,71.831073000000004,80.582058799999984,90.310207999999989,104.55097199999999,116.2058382,105,105,105,105,105,105,105,105,105,105,0,0,2.6428791999999959,8.7316909999999979,15.482553799999991,25.631073000000001,34.382058799999982,44.110207999999986,58.350971999999985,70.005838199999999,100,100,100,100,100,100,100,100,100,100,0,0,0,0,0,0,6.382058799999978,16.110207999999982,30.350971999999981,42.005838199999999,100,100,100,100,100,150,150,150,150,150,0,0,0,0,0,0,0,0,9.3509719999999774,21.005838199999996,0,0,0,0,0,0,0,0,150,250]
[3,"Poor",5076.3194999999996,{"$f":"D12","v":42.640478599999994},48.105821999999996,56.1843936,63.077547199999998,70.779208199999985,82.391605599999991,92.305149399999991,103.10901399999999,118.54324779999999,130.99829019999999,105,105,105,105,105,105,105,105,105,105,0,1.9058219999999935,9.9843935999999971,16.877547199999995,24.579208199999982,36.191605599999988,46.105149399999988,56.909013999999985,72.343247799999986,84.798290199999983,100,100,100,100,100,100,100,100,100,100,0,0,0,0,0,8.1916055999999848,18.105149399999984,28.909013999999981,44.343247799999986,56.798290199999983,100,100,100,100,100,150,150,150,150,150,0,0,0,0,0,0,0,7.9090139999999778,23.343247799999983,35.798290199999983,0,0,0,0,0,0,0,150,275,400]
[4,"Good",7251.8850000000002,{"$f":"D13","v":36.722913599999998},41.637864399999998,48.842879199999999,54.931691000000001,61.682553799999994,71.831073000000004,80.582058799999984,90.310207999999989,104.55097199999999,116.2058382,105,105,105,105,105,105,105,105,105,105,0,0,2.6428791999999959,8.7316909999999979,15.482553799999991,25.631073000000001,34.382058799999982,44.110207999999986,58.350971999999985,70.005838199999999,100,100,100,100,100,100,100,100,100,100,0,0,0,0,0,0,6.382058799999978,16.110207999999982,30.350971999999981,42.005838199999999,100,100,100,100,100,150,150,150,150,150,0,0,0,0,0,0,0,0,9.3509719999999774,21.005838199999996,0,0,0,0,0,0,0,0,150,250]
[4,"Fair",5076.3194999999996,{"$f":"D14","v":42.640478599999994},48.105821999999996,56.1843936,63.077547199999998,70.779208199999985,82.391605599999991,92.305149399999991,103.10901399999999,118.54324779999999,130.99829019999999,{"$f":"ThickPaver","v":105},105,105,105,105,105,105,105,105,105,0,1.9058219999999935,9.9843935999999971,16.877547199999995,24.579208199999982,36.191605599999988,46.105149399999988,56.909013999999985,72.343247799999986,84.798290199999983,{"$f":"ThickATB","v":100},100,100,100,100,100,100,100,100,100,0,0,0,0,0,8.1916055999999848,18.105149399999984,28.909013999999981,44.343247799999986,56.798290199999983,100,100,100,100,100,150,150,150,150,150,0,0,0,0,0,0,0,7.9090139999999778,23.343247799999983,35.798290199999983,0,0,0,0,0,0,0,150,275,400]
[4,"Poor",4351.1310000000003,{"$f":"D15","v":45.397292999999998},51.132994000000004,59.647708999999999,66.942538200000001,75.109628799999996,87.387633199999996,97.776284000000004,108.9882504,124.88664379999999,137.68994559999999,105,105,105,105,105,105,105,105,105,105,0,4.9329940000000008,13.447708999999996,20.742538199999998,28.909628799999993,41.187633199999993,51.576284000000001,62.788250399999995,78.686643799999985,91.489945599999984,100,100,100,100,100,100,100,100,100,100,0,0,0,0,0.90962879999998947,13.18763319999999,23.576283999999998,34.788250399999995,50.686643799999985,63.489945599999984,100,100,100,100,100,150,175,150,150,150,0,0,0,0,0,0,0,13.788250399999992,29.686643799999981,42.489945599999984,0,0,0,0,0,0,0,175,350,475]
[5,"Good",5801.5079999999998,{"$f":"D16","v":40.353589599999999},45.600061199999999,53.331998999999996,59.904553799999995,67.228999399999992,78.274240199999994,87.757152399999995,98.178619999999995,113.1905788,125.34950799999999,105,105,105,105,105,105,105,105,105,105,0,0,7.1319989999999933,13.704553799999992,21.028999399999989,32.074240199999991,41.557152399999993,51.978619999999992,66.990578799999994,79.149507999999983,100,100,100,100,100,100,100,100,100,100,0,0,0,0,0,4.0742401999999878,13.557152399999989,23.978619999999989,38.990578799999994,51.149507999999983,100,100,100,100,100,150,150,175,150,150,0,0,0,0,0,0,0,0,17.990578799999991,30.14950799999998,0,0,0,0,0,0,0,0,200,350]
[5,"Fair",4351.1310000000003,{"$f":"D17","v":45.397292999999998},51.132994000000004,59.647708999999999,66.942538200000001,75.109628799999996,87.387633199999996,97.776284000000004,108.9882504,124.88664379999999,137.68994559999999,105,105,105,105,105,105,105,105,105,105,0,4.9329940000000008,13.447708999999996,20.742538199999998,28.909628799999993,41.187633199999993,51.576284000000001,62.788250399999995,78.686643799999985,91.489945599999984,100,100,100,100,100,100,100,100,100,100,0,0,0,0,0.90962879999998947,13.18763319999999,23.576283999999998,34.788250399999995,50.686643799999985,63.489945599999984,100,100,100,100,100,150,175,150,150,150,0,0,0,0,0,0,0,13.788250399999992,29.686643799999981,42.489945599999984,0,0,0,0,0,0,0,175,350,475]
[5,"Poor",3625.9425000000001,{"$f":"D18","v":48.831626999999997},54.919448200000005,64.001954799999993,71.814994799999994,80.564024799999999,93.621606,104.5291026,116.18267339999998,132.61794660000001,145.85190539999999,105,105,105,105,105,105,105,105,105,105,2.6316269999999946,8.7194482000000022,17.80195479999999,25.614994799999991,34.364024799999996,47.421605999999997,58.329102599999999,69.982673399999982,86.417946600000008,99.65190539999999,100,100,100,100,100,100,100,100,100,100,0,0,0,0,6.3640247999999922,19.421605999999993,30.329102599999995,41.982673399999982,58.417946600000008,71.65190539999999,100,100,100,100,100,150,150,150,150,150,0,0,0,0,0,0,9.3291025999999917,20.982673399999978,37.417946600000008,50.65190539999999,0,0,0,0,0,0,150,250,425,575]
[6,"Good",4351.1310000000003,{"$f":"D19","v":45.397292999999998},51.132994000000004,59.647708999999999,66.942538200000001,75.109628799999996,87.387633199999996,97.776284000000004,108.9882504,124.88664379999999,137.68994559999999,105,105,105,105,105,105,105,105,105,105,0,4.9329940000000008,13.447708999999996,20.742538199999998,28.909628799999993,41.187633199999993,51.576284000000001,62.788250399999995,78.686643799999985,91.489945599999984,100,100,100,100,100,100,100,100,100,100,0,0,0,0,0.90962879999998947,13.18763319999999,23.576283999999998,34.788250399999995,50.686643799999985,63.489945599999984,100,100,100,100,100,150,175,150,150,150,0,0,0,0,0,0,0,13.788250399999992,29.686643799999981,42.489945599999984,0,0,0,0,0,0,0,175,350,475]
[6,"Fair",3625.9425000000001,{"$f":"D20","v":48.831626999999997},54.919448200000005,64.001954799999993,71.814994799999994,80.564024799999999,93.621606,104.5291026,116.18267339999998,132.61794660000001,145.85190539999999,105,105,105,105,105,105,105,105,105,105,2.6316269999999946,8.7194482000000022,17.80195479999999,25.614994799999991,34.364024799999996,47.421605999999997,58.329102599999999,69.982673399999982,86.417946600000008,99.65190539999999,100,100,100,100,100,100,100,100,100,100,0,0,0,0,6.3640247999999922,19.421605999999993,30.329102599999995,41.982673399999982,58.417946600000008,71.65190539999999,100,100,100,100,100,150,150,150,150,150,0,0,0,0,0,0,9.3291025999999917,20.982673399999978,37.417946600000008,50.65190539999999,0,0,0,0,0,0,150,250,425,575]
[6,"Poor",2610.6786000000002,{"$f":"D21","v":55.559324999999994},62.381002999999993,72.642831599999994,81.488432399999994,91.310586999999984,105.65757380000001,117.38002939999998,129.77131779999999,147.20953539999999,161.29838199999998,105,105,105,105,105,105,105,105,105,105,9.3593249999999912,16.18100299999999,26.442831599999991,35.288432399999991,45.110586999999981,59.457573800000006,71.180029399999981,83.571317799999989,101.00953539999999,115.09838199999997,100,100,100,100,100,100,100,100,100,100,0,0,0,7.2884323999999872,17.110586999999978,31.457573800000002,43.180029399999981,55.571317799999989,73.00953539999999,87.098381999999972,100,100,100,100,125,150,150,150,150,150,0,0,0,0,0,10.457573799999999,22.180029399999977,34.571317799999989,52.00953539999999,66.098381999999972,0,0,0,0,0,150,250,400,600,750]
[7,"Good",3916.0178999999998,{"$f":"D22","v":47.357461800000003},53.292730599999999,62.128018999999995,69.71705639999999,78.216963199999995,90.948814799999994,101.64320539999999,113.11526779999998,129.3239222,142.37248640000001,105,105,105,105,105,105,105,105,105,105,1.1574618000000001,7.0927305999999959,15.928018999999992,23.517056399999987,32.016963199999992,44.748814799999991,55.443205399999982,66.915267799999981,83.123922199999996,96.172486400000011,100,100,100,100,100,100,100,100,100,100,0,0,0,0,4.0169631999999886,16.748814799999987,27.443205399999979,38.915267799999981,55.123922199999996,68.172486400000011,100,100,100,100,100,150,200,150,150,150,0,0,0,0,0,0,0,17.915267799999977,34.123922199999996,47.172486400000011,0,0,0,0,0,0,0,200,400,525]
[7,"Fair",2900.7539999999999,{"$f":"D23","v":53.320416599999994},59.891041000000001,69.752464000000003,78.256866599999995,87.73784839999999,101.69278619999999,113.16804899999998,125.3256828,142.43235419999999,156.23410459999999,105,105,105,105,105,105,105,105,105,105,7.1204165999999915,13.691040999999998,23.552464000000001,32.056866599999992,41.537848399999987,55.492786199999983,66.968048999999979,79.125682799999993,96.232354199999989,110.03410459999999,100,100,100,100,100,100,100,100,100,100,0,0,0,4.0568665999999887,13.537848399999984,27.49278619999998,38.968048999999979,51.125682799999993,68.232354199999989,82.034104599999992,100,100,100,100,100,200,150,150,150,150,0,0,0,0,0,0,17.968048999999976,30.125682799999989,47.232354199999989,61.034104599999992,0,0,0,0,0,0,200,350,525,700]
[7,"Poor",2175.5655000000002,{"$f":"D24","v":59.634831199999994},66.927729999999997,77.924050399999999,87.368329199999991,97.755684599999995,112.7296704,124.8628186,137.66418999999999,155.70751179999999,170.32292579999998,105,105,105,105,105,105,105,105,105,105,13.434831199999991,20.727729999999994,31.724050399999996,41.168329199999988,51.555684599999992,66.529670400000001,78.662818599999994,91.464189999999988,109.50751179999999,124.12292579999998,100,100,100,100,100,100,100,100,100,100,0,0,3.7240503999999923,13.168329199999985,23.555684599999989,38.529670400000001,50.662818599999994,63.464189999999988,81.507511799999989,96.122925799999976,100,100,100,100,175,150,150,150,150,150,0,0,0,0,0,17.529670399999997,29.662818599999991,42.464189999999988,60.507511799999989,75.122925799999976,0,0,0,0,0,200,350,475,675,850]
[8,"Good",3625.9425000000001,{"$f":"D25","v":48.831626999999997},54.919448200000005,64.001954799999993,71.814994799999994,80.564024799999999,93.621606,104.5291026,116.18267339999998,132.61794660000001,145.85190539999999,105,105,105,105,105,105,105,105,105,105,2.6316269999999946,8.7194482000000022,17.80195479999999,25.614994799999991,34.364024799999996,47.421605999999997,58.329102599999999,69.982673399999982,86.417946600000008,99.65190539999999,100,100,100,100,100,100,100,100,100,100,0,0,0,0,6.3640247999999922,19.421605999999993,30.329102599999995,41.982673399999982,58.417946600000008,71.65190539999999,100,100,100,100,100,150,150,150,150,150,0,0,0,0,0,0,9.3291025999999917,20.982673399999978,37.417946600000008,50.65190539999999,0,0,0,0,0,0,150,250,425,575]
[8,"Fair",2900.7539999999999,{"$f":"D26","v":53.320416599999994},59.891041000000001,69.752464000000003,78.256866599999995,87.73784839999999,101.69278619999999,113.16804899999998,125.3256828,142.43235419999999,156.23410459999999,105,105,105,105,105,105,105,105,105,105,7.1204165999999915,13.691040999999998,23.552464000000001,32.056866599999992,41.537848399999987,55.492786199999983,66.968048999999979,79.125682799999993,96.232354199999989,110.03410459999999,100,100,100,100,100,100,100,100,100,100,0,0,0,4.0568665999999887,13.537848399999984,27.49278619999998,38.968048999999979,51.125682799999993,68.232354199999989,82.034104599999992,100,100,100,100,100,200,150,150,150,150,0,0,0,0,0,0,17.968048999999976,30.125682799999989,47.232354199999989,61.034104599999992,0,0,0,0,0,0,200,350,525,700]
[8,"Poor",2175.5655000000002,{"$f":"D27","v":59.634831199999994},66.927729999999997,77.924050399999999,87.368329199999991,97.755684599999995,112.7296704,124.8628186,137.66418999999999,155.70751179999999,170.32292579999998,105,105,105,105,105,105,105,105,105,105,13.434831199999991,20.727729999999994,31.724050399999996,41.168329199999988,51.555684599999992,66.529670400000001,78.662818599999994,91.464189999999988,109.50751179999999,124.12292579999998,100,100,100,100,100,100,100,100,100,100,0,0,3.7240503999999923,13.168329199999985,23.555684599999989,38.529670400000001,50.662818599999994,63.464189999999988,81.507511799999989,96.122925799999976,100,100,100,100,175,150,150,150,150,150,0,0,0,0,0,17.529670399999997,29.662818599999991,42.464189999999988,60.507511799999989,75.122925799999976,0,0,0,0,0,200,350,475,675,850]
[]
[]
[]
["Cement Treated Base"]
["Subgrade Category","Drainage","Mr (psi)","Design SN (mm)",null,null,null,null,null,null,null,null,null,"Paver Thickness (mm)",null,null,null,null,null,null,null,null,null,"SN Remaining (Excluding Pavers)",null,null,null,null,null,null,null,null,null,"Cement Treated Base Thickness (mm)",null,null,null,null,null,null,null,null,null,"SN Remaining (excluding Pavers and Base)",null,null,null,null,null,null,null,null,null,"Unbound Dense Graded Base Thickness (mm)",null,null,null,null,null,null,null,null,null,"SN Remaining (excluding Pavers and Base and Untreated Granular Base)",null,null,null,null,null,null,null,null,null,"Unbound Dense Graded Subbase Thickness (mm)"]
[null,null,null,10000,20000,50000,100000,200000,500000,1000000,2000000,5000000,10000000,10000,20000,50000,100000,200000,500000,1000000,2000000,5000000,10000000,10000,20000,50000,100000,200000,500000,1000000,2000000,5000000,10000000,10000,20000,50000,100000,200000,500000,1000000,2000000,5000000,10000000,10000,20000,50000,100000,200000,500000,1000000,2000000,5000000,10000000,10000,20000,50000,100000,200000,500000,1000000,2000000,5000000,10000000,10000,20000,50000,100000,200000,500000,1000000,2000000,5000000,10000000,10000,20000,50000,100000,200000,500000,1000000,2000000,5000000,10000000]
[1,"Good",{"$f":"C4","v":13053.393},{"$f":"D4","v":28.174086399999997},{"$f":"E4","v":32.348728799999996},38.417550800000001,43.485384199999999,49.032795,57.243344999999991,64.2575042,72.101455999999985,83.920482399999997,93.985308599999996,{"$f":"ThickPaver","v":105},105,105,105,105,105,105,105,105,105,{"$f":"MAX(0,D64-N64*Apaver)","v":0},{"$f":"MAX(0,E64-O64*Apaver)","v":0},{"$f":"MAX(0,F64-P64*Apaver)","v":0},{"$f":"MAX(0,G64-Q64*Apaver)","v":0},{"$f":"MAX(0,H64-R64*Apaver)","v":2.8327949999999973},{"$f":"MAX(0,I64-S64*Apaver)","v":11.043344999999988},{"$f":"MAX(0,J64-T64*Apaver)","v":18.057504199999997},{"$f":"MAX(0,K64-U64*Apaver)","v":25.901455999999982},{"$f":"MAX(0,L64-V64*Apaver)","v":37.720482399999995},{"$f":"MAX(0,M64-W64*Apaver)","v":47.785308599999993},{"$f":"ThickCTB","v":100},100,100,100,100,100,100,100,100,100,{"$f":"MAX(0,X64-AH64*Actb)","v":0},{"$f":"MAX(0,Y64-AI64*Actb)","v":0},{"$f":"MAX(0,Z64-AJ64*Actb)","v":0},{"$f":"MAX(0,AA64-AK64*Actb)","v":0},{"$f":"MAX(0,AB64-AL64*Actb)","v":0},{"$f":"MAX(0,AC64-AM64*Actb)","v":0},{"$f":"MAX(0,AD64-AN64*Actb)","v":0},{"$f":"MAX(0,AE64-AO64*Actb)","v":5.9014559999999818},{"$f":"MAX(0,AF64-AP64*Actb)","v":17.720482399999995},{"$f":"MAX(0,AG64-AQ64*Actb)","v":27.785308599999993},{"$f":"IF(AR64<100*Agran,100,IF(AR64>200*Agran,100,ROUNDUP(AR64/Agran/25,0)*25))","v":100},{"$f":"IF(AS64<100*Agran,100,IF(AS64>200*Agran,100,ROUNDUP(AS64/Agran/25,0)*25))","v":100},{"$f":"IF(AT64<100*Agran,100,IF(AT64>200*Agran,100,ROUNDUP(AT64/Agran/25,0)*25))","v":100},{"$f":"IF(AU64<100*Agran,100,IF(AU64>200*Agran,100,ROUNDUP(AU64/Agran/25,0)*25))","v":100},{"$f":"IF(AV64<100*Agran,100,IF(AV64>200*Agran,100,ROUNDUP(AV64/Agran/25,0)*25))","v":100},{"$f":"IF(AW64<150*Agran,150,IF(AW64>200*Agran,150,ROUNDUP(AW64/Agran/25,0)*25))","v":150},{"$f":"IF(AX64<150*Agran,150,IF(AX64>200*Agran,150,ROUNDUP(AX64/Agran/25,0)*25))","v":150},{"$f":"IF(AY64<150*Agran,150,IF(AY64>200*Agran,150,ROUNDUP(AY64/Agran/25,0)*25))","v":150},{"$f":"IF(AZ64<150*Agran,150,IF(AZ64>200*Agran,150,ROUNDUP(AZ64/Agran/25,0)*25))","v":150},{"$f":"IF(BA64<150*Agran,150,IF(BA64>200*Agran,150,ROUNDUP(BA64/Agran/25,0)*25))","v":200},{"$f":"MAX(0,AR64-BB64*Agran)","v":0},{"$f":"MAX(0,AS64-BC64*Agran)","v":0},{"$f":"MAX(0,AT64-BD64*Agran)","v":0},{"$f":"MAX(0,AU64-BE64*Agran)","v":0},{"$f":"MAX(0,AV64-BF64*Agran)","v":0},{"$f":"MAX(0,AW64-BG64*Agran)","v":0},{"$f":"MAX(0,AX64-BH64*Agran)","v":0},{"$f":"MAX(0,AY64-BI64*Agran)","v":0},{"$f":"MAX(0,AZ64-BJ64*Agran)","v":0},{"$f":"MAX(0,BA64-BK64*Agran)","v":0},{"$f":"IF(BL64<=0,0,MAX(150,ROUNDUP(BL64/Asubbase/25,0)*25))","v":0},{"$f":"IF(BM64<=0,0,MAX(150,ROUNDUP(BM64/Asubbase/25,0)*25))","v":0},{"$f":"IF(BN64<=0,0,MAX(150,ROUNDUP(BN64/Asubbase/25,0)*25))","v":0},{"$f":"IF(BO64<=0,0,MAX(150,ROUNDUP(BO64/Asubbase/25,0)*25))","v":0},{"$f":"IF(BP64<=0,0,MAX(150,ROUNDUP(BP64/Asubbase/25,0)*25))","v":0},{"$f":"IF(BQ64<=0,0,MAX(150,ROUNDUP(BQ64/Asubbase/25,0)*25))","v":0},{"$f":"IF(BR64<=0,0,MAX(150,ROUNDUP(BR64/Asubbase/25,0)*25))","v":0},{"$f":"IF(BS64<=0,0,MAX(150,ROUNDUP(BS64/Asubbase/25,0)*25))","v":0},{"$f":"IF(BT64<=0,0,MAX(150,ROUNDUP(BT64/Asubbase/25,0)*25))","v":0},{"$f":"IF(BU64<=0,0,MAX(150,ROUNDUP(BU64/Asubbase/25,0)*25))","v":0}]
[1,"Fair",{"$f":"C5","v":11603.016},{"$f":"D5","v":29.780204600000001},34.090025799999999,40.363267,45.611338799999999,51.367943999999994,59.9174316,67.243807599999997,75.447601199999994,87.776456400000001,98.199854399999992,105,105,105,105,105,105,105,105,105,105,0,0,0,0,5.1679439999999914,13.717431599999998,21.043807599999994,29.247601199999991,41.576456399999998,51.99985439999999,100,100,100,100,100,100,100,100,100,100,0,0,0,0,0,0,1.0438075999999938,9.2476011999999912,21.576456399999998,31.99985439999999,100,100,100,100,100,150,150,150,175,150,0,0,0,0,0,0,0,0,0,10.999854399999986,0,0,0,0,0,0,0,0,0,150]
[1,"Poor",10152.638999999999,{"$f":"D6","v":31.663131999999997},36.132287399999996,42.650130599999997,48.115473999999999,54.128949399999996,63.091695000000001,70.795311799999993,79.423336199999994,92.325113799999997,103.1308834,105,105,105,105,105,105,105,105,105,105,0,0,0,1.9154739999999961,7.9289493999999934,16.891694999999999,24.59531179999999,33.223336199999991,46.125113799999994,56.930883399999999,100,100,100,100,100,100,100,100,100,100,0,0,0,0,0,0,4.5953117999999904,13.223336199999991,26.125113799999994,36.930883399999999,100,100,100,100,100,150,150,150,200,150,0,0,0,0,0,0,0,0,0,15.930883399999995,0,0,0,0,0,0,0,0,0,200]
[2,"Good",11603.016,{"$f":"D7","v":29.780204600000001},34.090025799999999,40.363267,45.611338799999999,51.367943999999994,59.9174316,67.243807599999997,75.447601199999994,87.776456400000001,98.199854399999992,105,105,105,105,105,105,105,105,105,105,0,0,0,0,5.1679439999999914,13.717431599999998,21.043807599999994,29.247601199999991,41.576456399999998,51.99985439999999,100,100,100,100,100,100,100,100,100,100,0,0,0,0,0,0,1.0438075999999938,9.2476011999999912,21.576456399999998,31.99985439999999,100,100,100,100,100,150,150,150,175,150,0,0,0,0,0,0,0,0,0,10.999854399999986,0,0,0,0,0,0,0,0,0,150]
[2,"Fair",10152.638999999999,{"$f":"D8","v":31.663131999999997},36.132287399999996,42.650130599999997,48.115473999999999,54.128949399999996,63.091695000000001,70.795311799999993,79.423336199999994,92.325113799999997,103.1308834,105,105,105,105,105,105,105,105,105,105,0,0,0,1.9154739999999961,7.9289493999999934,16.891694999999999,24.59531179999999,33.223336199999991,46.125113799999994,56.930883399999999,100,100,100,100,100,100,100,100,100,100,0,0,0,0,0,0,4.5953117999999904,13.223336199999991,26.125113799999994,36.930883399999999,100,100,100,100,100,150,150,150,200,150,0,0,0,0,0,0,0,0,0,15.930883399999995,0,0,0,0,0,0,0,0,0,200]
[2,"Poor",7251.8850000000002,{"$f":"D9","v":36.722913599999998},41.637864399999998,48.842879199999999,54.931691000000001,61.682553799999994,71.831073000000004,80.582058799999984,90.310207999999989,104.55097199999999,116.2058382,105,105,105,105,105,105,105,105,105,105,0,0,2.6428791999999959,8.7316909999999979,15.482553799999991,25.631073000000001,34.382058799999982,44.110207999999986,58.350971999999985,70.005838199999999,100,100,100,100,100,100,100,100,100,100,0,0,0,0,0,5.6310730000000007,14.382058799999982,24.110207999999986,38.350971999999985,50.005838199999999,100,100,100,100,100,150,150,175,150,150,0,0,0,0,0,0,0,0,17.350971999999981,29.005838199999996,0,0,0,0,0,0,0,0,200,325]
[3,"Good",10152.638999999999,{"$f":"D10","v":31.663131999999997},36.132287399999996,42.650130599999997,48.115473999999999,54.128949399999996,63.091695000000001,70.795311799999993,79.423336199999994,92.325113799999997,103.1308834,105,105,105,105,105,105,105,105,105,105,0,0,0,1.9154739999999961,7.9289493999999934,16.891694999999999,24.59531179999999,33.223336199999991,46.125113799999994,56.930883399999999,100,100,100,100,100,100,100,100,100,100,0,0,0,0,0,0,4.5953117999999904,13.223336199999991,26.125113799999994,36.930883399999999,100,100,100,100,100,150,150,150,200,150,0,0,0,0,0,0,0,0,0,15.930883399999995,0,0,0,0,0,0,0,0,0,200]
[3,"Fair",7251.8850000000002,{"$f":"D11","v":36.722913599999998},41.637864399999998,48.842879199999999,54.931691000000001,61.682553799999994,71.831073000000004,80.582058799999984,90.310207999999989,104.55097199999999,116.2058382,105,105,105,105,105,105,105,105,105,105,0,0,2.6428791999999959,8.7316909999999979,15.482553799999991,25.631073000000001,34.382058799999982,44.110207999999986,58.350971999999985,70.005838199999999,100,100,100,100,100,100,100,100,100,100,0,0,0,0,0,5.6310730000000007,14.382058799999982,24.110207999999986,38.350971999999985,50.005838199999999,100,100,100,100,100,150,150,175,150,150,0,0,0,0,0,0,0,0,17.350971999999981,29.005838199999996,0,0,0,0,0,0,0,0,200,325]
[3,"Poor",5076.3194999999996,{"$f":"D12","v":42.640478599999994},48.105821999999996,56.1843936,63.077547199999998,70.779208199999985,82.391605599999991,92.305149399999991,103.10901399999999,118.54324779999999,130.99829019999999,105,105,105,105,105,105,105,105,105,105,0,1.9058219999999935,9.9843935999999971,16.877547199999995,24.579208199999982,36.191605599999988,46.105149399999988,56.909013999999985,72.343247799999986,84.798290199999983,100,100,100,100,100,100,100,100,100,100,0,0,0,0,4.5792081999999823,16.191605599999988,26.105149399999988,36.909013999999985,52.343247799999986,64.798290199999983,100,100,100,100,100,150,200,150,150,150,0,0,0,0,0,0,0,15.909013999999981,31.343247799999983,43.798290199999983,0,0,0,0,0,0,0,200,350,500]
[4,"Good",7251.8850000000002,{"$f":"D13","v":36.722913599999998},41.637864399999998,48.842879199999999,54.931691000000001,61.682553799999994,71.831073000000004,80.582058799999984,90.310207999999989,104.55097199999999,116.2058382,105,105,105,105,105,105,105,105,105,105,0,0,2.6428791999999959,8.7316909999999979,15.482553799999991,25.631073000000001,34.382058799999982,44.110207999999986,58.350971999999985,70.005838199999999,100,100,100,100,100,100,100,100,100,100,0,0,0,0,0,5.6310730000000007,14.382058799999982,24.110207999999986,38.350971999999985,50.005838199999999,100,100,100,100,100,150,150,175,150,150,0,0,0,0,0,0,0,0,17.350971999999981,29.005838199999996,0,0,0,0,0,0,0,0,200,325]
[4,"Fair",5076.3194999999996,{"$f":"D14","v":42.640478599999994},48.105821999999996,56.1843936,63.077547199999998,70.779208199999985,82.391605599999991,92.305149399999991,103.10901399999999,118.54324779999999,130.99829019999999,{"$f":"ThickPaver","v":105},105,105,105,105,105,105,105,105,105,0,1.9058219999999935,9.9843935999999971,16.877547199999995,24.579208199999982,36.191605599999988,46.105149399999988,56.909013999999985,72.343247799999986,84.798290199999983,{"$f":"ThickCTB","v":100},100,100,100,100,100,100,100,100,100,0,0,0,0,4.5792081999999823,16.191605599999988,26.105149399999988,36.909013999999985,52.343247799999986,64.798290199999983,100,100,100,100,100,150,200,150,150,150,0,0,0,0,0,0,0,15.909013999999981,31.343247799999983,43.798290199999983,0,0,0,0,0,0,0,200,350,500]
[4,"Poor",4351.1310000000003,{"$f":"D15","v":45.397292999999998},51.132994000000004,59.647708999999999,66.942538200000001,75.109628799999996,87.387633199999996,97.776284000000004,108.9882504,124.88664379999999,137.68994559999999,105,105,105,105,105,105,105,105,105,105,0,4.9329940000000008,13.447708999999996,20.742538199999998,28.909628799999993,41.187633199999993,51.576284000000001,62.788250399999995,78.686643799999985,91.489945599999984,100,100,100,100,100,100,100,100,100,100,0,0,0,0.74253819999999848,8.909628799999993,21.187633199999993,31.576284000000001,42.788250399999995,58.686643799999985,71.489945599999984,100,100,100,100,100,175,150,150,150,150,0,0,0,0,0,0,10.576283999999998,21.788250399999992,37.686643799999985,50.489945599999984,0,0,0,0,0,0,150,250,425,575]
[5,"Good",5801.5079999999998,{"$f":"D16","v":40.353589599999999},45.600061199999999,53.331998999999996,59.904553799999995,67.228999399999992,78.274240199999994,87.757152399999995,98.178619999999995,113.1905788,125.34950799999999,105,105,105,105,105,105,105,105,105,105,0,0,7.1319989999999933,13.704553799999992,21.028999399999989,32.074240199999991,41.557152399999993,51.978619999999992,66.990578799999994,79.149507999999983,100,100,100,100,100,100,100,100,100,100,0,0,0,0,1.0289993999999894,12.074240199999991,21.557152399999993,31.978619999999992,46.990578799999994,59.149507999999983,100,100,100,100,100,150,175,150,150,150,0,0,0,0,0,0,0,10.978619999999989,25.990578799999991,38.149507999999983,0,0,0,0,0,0,0,150,300,425]
[5,"Fair",4351.1310000000003,{"$f":"D17","v":45.397292999999998},51.132994000000004,59.647708999999999,66.942538200000001,75.109628799999996,87.387633199999996,97.776284000000004,108.9882504,124.88664379999999,137.68994559999999,105,105,105,105,105,105,105,105,105,105,0,4.9329940000000008,13.447708999999996,20.742538199999998,28.909628799999993,41.187633199999993,51.576284000000001,62.788250399999995,78.686643799999985,91.489945599999984,100,100,100,100,100,100,100,100,100,100,0,0,0,0.74253819999999848,8.909628799999993,21.187633199999993,31.576284000000001,42.788250399999995,58.686643799999985,71.489945599999984,100,100,100,100,100,175,150,150,150,150,0,0,0,0,0,0,10.576283999999998,21.788250399999992,37.686643799999985,50.489945599999984,0,0,0,0,0,0,150,250,425,575]
[5,"Poor",3625.9425000000001,{"$f":"D18","v":48.831626999999997},54.919448200000005,64.001954799999993,71.814994799999994,80.564024799999999,93.621606,104.5291026,116.18267339999998,132.61794660000001,145.85190539999999,105,105,105,105,105,105,105,105,105,105,2.6316269999999946,8.7194482000000022,17.80195479999999,25.614994799999991,34.364024799999996,47.421605999999997,58.329102599999999,69.982673399999982,86.417946600000008,99.65190539999999,100,100,100,100,100,100,100,100,100,100,0,0,0,5.614994799999991,14.364024799999996,27.421605999999997,38.329102599999999,49.982673399999982,66.417946600000008,79.65190539999999,100,100,100,100,125,200,150,150,150,150,0,0,0,0,0,0,17.329102599999995,28.982673399999978,45.417946600000008,58.65190539999999,0,0,0,0,0,0,200,325,525,675]
[6,"Good",4351.1310000000003,{"$f":"D19","v":45.397292999999998},51.132994000000004,59.647708999999999,66.942538200000001,75.109628799999996,87.387633199999996,97.776284000000004,108.9882504,124.88664379999999,137.68994559999999,105,105,105,105,105,105,105,105,105,105,0,4.9329940000000008,13.447708999999996,20.742538199999998,28.909628799999993,41.187633199999993,51.576284000000001,62.788250399999995,78.686643799999985,91.489945599999984,100,100,100,100,100,100,100,100,100,100,0,0,0,0.74253819999999848,8.909628799999993,21.187633199999993,31.576284000000001,42.788250399999995,58.686643799999985,71.489945599999984,100,100,100,100,100,175,150,150,150,150,0,0,0,0,0,0,10.576283999999998,21.788250399999992,37.686643799999985,50.489945599999984,0,0,0,0,0,0,150,250,425,575]
[6,"Fair",3625.9425000000001,{"$f":"D20","v":48.831626999999997},54.919448200000005,64.001954799999993,71.814994799999994,80.564024799999999,93.621606,104.5291026,116.18267339999998,132.61794660000001,145.85190539999999,105,105,105,105,105,105,105,105,105,105,2.6316269999999946,8.7194482000000022,17.80195479999999,25.614994799999991,34.364024799999996,47.421605999999997,58.329102599999999,69.982673399999982,86.417946600000008,99.65190539999999,100,100,100,100,100,100,100,100,100,100,0,0,0,5.614994799999991,14.364024799999996,27.421605999999997,38.329102599999999,49.982673399999982,66.417946600000008,79.65190539999999,100,100,100,100,125,200,150,150,150,150,0,0,0,0,0,0,17.329102599999995,28.982673399999978,45.417946600000008,58.65190539999999,0,0,0,0,0,0,200,325,525,675]
[6,"Poor",2610.6786000000002,{"$f":"D21","v":55.559324999999994},62.381002999999993,72.642831599999994,81.488432399999994,91.310586999999984,105.65757380000001,117.38002939999998,129.77131779999999,147.20953539999999,161.29838199999998,105,105,105,105,105,105,105,105,105,105,9.3593249999999912,16.18100299999999,26.442831599999991,35.288432399999991,45.110586999999981,59.457573800000006,71.180029399999981,83.571317799999989,101.00953539999999,115.09838199999997,100,100,100,100,100,100,100,100,100,100,0,0,6.442831599999991,15.288432399999991,25.110586999999981,39.457573800000006,51.180029399999981,63.571317799999989,81.00953539999999,95.098381999999972,100,100,100,125,200,150,150,150,150,150,0,0,0,0,0,18.457573800000002,30.180029399999977,42.571317799999989,60.00953539999999,74.098381999999972,0,0,0,0,0,225,350,475,675,825]
[7,"Good",3916.0178999999998,{"$f":"D22","v":47.357461800000003},53.292730599999999,62.128018999999995,69.71705639999999,78.216963199999995,90.948814799999994,101.64320539999999,113.11526779999998,129.3239222,142.37248640000001,105,105,105,105,105,105,105,105,105,105,1.1574618000000001,7.0927305999999959,15.928018999999992,23.517056399999987,32.016963199999992,44.748814799999991,55.443205399999982,66.915267799999981,83.123922199999996,96.172486400000011,100,100,100,100,100,100,100,100,100,100,0,0,0,3.5170563999999871,12.016963199999992,24.748814799999991,35.443205399999982,46.915267799999981,63.123922199999996,76.172486400000011,100,100,100,100,100,200,150,150,150,150,0,0,0,0,0,0,14.443205399999979,25.915267799999977,42.123922199999996,55.172486400000011,0,0,0,0,0,0,175,300,475,625]
[7,"Fair",2900.7539999999999,{"$f":"D23","v":53.320416599999994},59.891041000000001,69.752464000000003,78.256866599999995,87.73784839999999,101.69278619999999,113.16804899999998,125.3256828,142.43235419999999,156.23410459999999,105,105,105,105,105,105,105,105,105,105,7.1204165999999915,13.691040999999998,23.552464000000001,32.056866599999992,41.537848399999987,55.492786199999983,66.968048999999979,79.125682799999993,96.232354199999989,110.03410459999999,100,100,100,100,100,100,100,100,100,100,0,0,3.5524640000000005,12.056866599999992,21.537848399999987,35.492786199999983,46.968048999999979,59.125682799999993,76.232354199999989,90.034104599999992,100,100,100,100,175,150,150,150,150,150,0,0,0,0,0,14.49278619999998,25.968048999999976,38.125682799999993,55.232354199999989,69.034104599999992,0,0,0,0,0,175,300,425,625,775]
[7,"Poor",2175.5655000000002,{"$f":"D24","v":59.634831199999994},66.927729999999997,77.924050399999999,87.368329199999991,97.755684599999995,112.7296704,124.8628186,137.66418999999999,155.70751179999999,170.32292579999998,105,105,105,105,105,105,105,105,105,105,13.434831199999991,20.727729999999994,31.724050399999996,41.168329199999988,51.555684599999992,66.529670400000001,78.662818599999994,91.464189999999988,109.50751179999999,124.12292579999998,100,100,100,100,100,100,100,100,100,100,0,0.72772999999999399,11.724050399999996,21.168329199999988,31.555684599999992,46.529670400000001,58.662818599999994,71.464189999999988,89.507511799999989,104.12292579999998,100,100,100,175,100,150,150,150,150,150,0,0,0,0,17.555684599999992,25.529670399999997,37.662818599999994,50.464189999999988,68.507511799999989,83.122925799999976,0,0,0,0,200,300,425,575,775,925]
[8,"Good",3625.9425000000001,{"$f":"D25","v":48.831626999999997},54.919448200000005,64.001954799999993,71.814994799999994,80.564024799999999,93.621606,104.5291026,116.18267339999998,132.61794660000001,145.85190539999999,105,105,105,105,105,105,105,105,105,105,2.6316269999999946,8.7194482000000022,17.80195479999999,25.614994799999991,34.364024799999996,47.421605999999997,58.329102599999999,69.982673399999982,86.417946600000008,99.65190539999999,100,100,100,100,100,100,100,100,100,100,0,0,0,5.614994799999991,14.364024799999996,27.421605999999997,38.329102599999999,49.982673399999982,66.417946600000008,79.65190539999999,100,100,100,100,125,200,150,150,150,150,0,0,0,0,0,0,17.329102599999995,28.982673399999978,45.417946600000008,58.65190539999999,0,0,0,0,0,0,200,325,525,675]
[8,"Fair",2900.7539999999999,{"$f":"D26","v":53.320416599999994},59.891041000000001,69.752464000000003,78.256866599999995,87.73784839999999,101.69278619999999,113.16804899999998,125.3256828,142.43235419999999,156.23410459999999,105,105,105,105,105,105,105,105,105,105,7.1204165999999915,13.691040999999998,23.552464000000001,32.056866599999992,41.537848399999987,55.492786199999983,66.968048999999979,79.125682799999993,96.232354199999989,110.03410459999999,100,100,100,100,100,100,100,100,100,100,0,0,3.5524640000000005,12.056866599999992,21.537848399999987,35.492786199999983,46.968048999999979,59.125682799999993,76.232354199999989,90.034104599999992,100,100,100,100,175,150,150,150,150,150,0,0,0,0,0,14.49278619999998,25.968048999999976,38.125682799999993,55.232354199999989,69.034104599999992,0,0,0,0,0,175,300,425,625,775]
[8,"Poor",2175.5655000000002,{"$f":"D27","v":59.634831199999994},66.927729999999997,77.924050399999999,87.368329199999991,97.755684599999995,112.7296704,124.8628186,137.66418999999999,155.70751179999999,170.32292579999998,105,105,105,105,105,105,105,105,105,105,13.434831199999991,20.727729999999994,31.724050399999996,41.168329199999988,51.555684599999992,66.529670400000001,78.662818599999994,91.464189999999988,109.50751179999999,124.12292579999998,100,100,100,100,100,100,100,100,100,100,0,0.72772999999999399,11.724050399999996,21.168329199999988,31.555684599999992,46.529670400000001,58.662818599999994,71.464189999999988,89.507511799999989,104.12292579999998,100,100,100,175,100,150,150,150,150,150,0,0,0,0,17.555684599999992,25.529670399999997,37.662818599999994,50.464189999999988,68.507511799999989,83.122925799999976,0,0,0,0,200,300,425,575,775,925]
[]
[]
[]
["Asphalt Concrete Base"]
["Subgrade Category","Drainage","Mr (psi)","Design SN (mm)",null,null,null,null,null,null,null,null,null,"Paver Thickness (mm)",null,null,null,null,null,null,null,null,null,"SN Remaining (Excluding Pavers)",null,null,null,null,null,null,null,null,null,"Unbound Dense Graded Base Thickness (mm)",null,null,null,null,null,null,null,null,null,"SN Remaining (excluding Pavers and Untreated Granular Base)",null,null,null,null,null,null,null,null,null,"Asphalt Concrete Base Thickness (mm)"]
[null,null,null,10000,20000,50000,100000,200000,500000,1000000,2000000,5000000,10000000,10000,20000,50000,100000,200000,500000,1000000,2000000,5000000,10000000,10000,20000,50000,100000,200000,500000,1000000,2000000,5000000,10000000,10000,20000,50000,100000,200000,500000,1000000,2000000,5000000,10000000,10000,20000,50000,100000,200000,500000,1000000,2000000,5000000,10000000,10000,20000,50000,100000,200000,500000,1000000,2000000,5000000,10000000]
[1,"Good",{"$f":"C4","v":13053.393},{"$f":"D4","v":28.174086399999997},{"$f":"E4","v":32.348728799999996},38.417550800000001,43.485384199999999,49.032795,57.243344999999991,64.2575042,72.101455999999985,83.920482399999997,93.985308599999996,{"$f":"ThickPaver","v":105},105,105,105,105,105,105,105,105,105,{"$f":"MAX(0,D94-N94*Apaver)","v":0},{"$f":"MAX(0,E94-O94*Apaver)","v":0},{"$f":"MAX(0,F94-P94*Apaver)","v":0},{"$f":"MAX(0,G94-Q94*Apaver)","v":0},{"$f":"MAX(0,H94-R94*Apaver)","v":2.8327949999999973},{"$f":"MAX(0,I94-S94*Apaver)","v":11.043344999999988},{"$f":"MAX(0,J94-T94*Apaver)","v":18.057504199999997},{"$f":"MAX(0,K94-U94*Apaver)","v":25.901455999999982},{"$f":"MAX(0,L94-V94*Apaver)","v":37.720482399999995},{"$f":"MAX(0,M94-W94*Apaver)","v":47.785308599999993},{"$f":"IF(AH$93<500000,100,150)","v":100},{"$f":"IF(AI$93<500000,100,150)","v":100},100,100,100,150,150,150,150,150,{"$f":"MAX(0,X94-AH94*'Design Inputs'!$C$13)","v":0},{"$f":"MAX(0,Y94-AI94*'Design Inputs'!$C$13)","v":0},{"$f":"MAX(0,Z94-AJ94*'Design Inputs'!$C$13)","v":0},{"$f":"MAX(0,AA94-AK94*'Design Inputs'!$C$13)","v":0},{"$f":"MAX(0,AB94-AL94*'Design Inputs'!$C$13)","v":0},{"$f":"MAX(0,AC94-AM94*'Design Inputs'!$C$13)","v":0},{"$f":"MAX(0,AD94-AN94*'Design Inputs'!$C$13)","v":0},{"$f":"MAX(0,AE94-AO94*'Design Inputs'!$C$13)","v":0},{"$f":"MAX(0,AF94-AP94*'Design Inputs'!$C$13)","v":7.7204823999999945},{"$f":"MAX(0,AG94-AQ94*'Design Inputs'!$C$13)","v":17.785308599999993},{"$f":"MAX(50,IF(AR94<0,0,ROUNDUP(AR94/'Design Inputs'!$C$10/10,0)*10))","v":50},{"$f":"MAX(50,IF(AS94<0,0,ROUNDUP(AS94/'Design Inputs'!$C$10/10,0)*10))","v":50},{"$f":"MAX(50,IF(AT94<0,0,ROUNDUP(AT94/'Design Inputs'!$C$10/10,0)*10))","v":50},{"$f":"MAX(50,IF(AU94<0,0,ROUNDUP(AU94/'Design Inputs'!$C$10/10,0)*10))","v":50},{"$f":"MAX(50,IF(AV94<0,0,ROUNDUP(AV94/'Design Inputs'!$C$10/10,0)*10))","v":50},{"$f":"MAX(50,IF(AW94<0,0,ROUNDUP(AW94/'Design Inputs'!$C$10/10,0)*10))","v":50},{"$f":"MAX(50,IF(AX94<0,0,ROUNDUP(AX94/'Design Inputs'!$C$10/10,0)*10))","v":50},{"$f":"MAX(50,IF(AY94<0,0,ROUNDUP(AY94/'Design Inputs'!$C$10/10,0)*10))","v":50},{"$f":"MAX(50,IF(AZ94<0,0,ROUNDUP(AZ94/'Design Inputs'!$C$10/10,0)*10))","v":50},{"$f":"MAX(50,IF(BA94<0,0,ROUNDUP(BA94/'Design Inputs'!$C$10/10,0)*10))","v":50}]
[1,"Fair",{"$f":"C5","v":11603.016},{"$f":"D5","v":29.780204600000001},34.090025799999999,40.363267,45.611338799999999,51.367943999999994,59.9174316,67.243807599999997,75.447601199999994,87.776456400000001,98.199854399999992,105,105,105,105,105,105,105,105,105,105,0,0,0,0,5.1679439999999914,13.717431599999998,21.043807599999994,29.247601199999991,41.576456399999998,51.99985439999999,{"$f":"IF(AH$93<500000,100,150)","v":100},100,100,100,100,150,150,150,150,150,{"$f":"MAX(0,X95-AH95*'Design Inputs'!$C$13)","v":0},{"$f":"MAX(0,Y95-AI95*'Design Inputs'!$C$13)","v":0},{"$f":"MAX(0,Z95-AJ95*'Design Inputs'!$C$13)","v":0},{"$f":"MAX(0,AA95-AK95*'Design Inputs'!$C$13)","v":0},{"$f":"MAX(0,AB95-AL95*'Design Inputs'!$C$13)","v":0},{"$f":"MAX(0,AC95-AM95*'Design Inputs'!$C$13)","v":0},{"$f":"MAX(0,AD95-AN95*'Design Inputs'!$C$13)","v":0},{"$f":"MAX(0,AE95-AO95*'Design Inputs'!$C$13)","v":0},{"$f":"MAX(0,AF95-AP95*'Design Inputs'!$C$13)","v":11.576456399999998},{"$f":"MAX(0,AG95-AQ95*'Design Inputs'!$C$13)","v":21.99985439999999},{"$f":"MAX(50,IF(AR95<0,0,ROUNDUP(AR95/'Design Inputs'!$C$10/10,0)*10))","v":50},{"$f":"MAX(50,IF(AS95<0,0,ROUNDUP(AS95/'Design Inputs'!$C$10/10,0)*10))","v":50},{"$f":"MAX(50,IF(AT95<0,0,ROUNDUP(AT95/'Design Inputs'!$C$10/10,0)*10))","v":50},{"$f":"MAX(50,IF(AU95<0,0,ROUNDUP(AU95/'Design Inputs'!$C$10/10,0)*10))","v":50},{"$f":"MAX(50,IF(AV95<0,0,ROUNDUP(AV95/'Design Inputs'!$C$10/10,0)*10))","v":50},{"$f":"MAX(50,IF(AW95<0,0,ROUNDUP(AW95/'Design Inputs'!$C$10/10,0)*10))","v":50},{"$f":"MAX(50,IF(AX95<0,0,ROUNDUP(AX95/'Design Inputs'!$C$10/10,0)*10))","v":50},{"$f":"MAX(50,IF(AY95<0,0,ROUNDUP(AY95/'Design Inputs'!$C$10/10,0)*10))","v":50},{"$f":"MAX(50,IF(AZ95<0,0,ROUNDUP(AZ95/'Design Inputs'!$C$10/10,0)*10))","v":50},{"$f":"MAX(50,IF(BA95<0,0,ROUNDUP(BA95/'Design Inputs'!$C$10/10,0)*10))","v":50}]
[1,"Poor",10152.638999999999,{"$f":"D6","v":31.663131999999997},36.132287399999996,42.650130599999997,48.115473999999999,54.128949399999996,63.091695000000001,70.795311799999993,79.423336199999994,92.325113799999997,103.1308834,105,105,105,105,105,105,105,105,105,105,0,0,0,1.9154739999999961,7.9289493999999934,16.891694999999999,24.59531179999999,33.223336199999991,46.125113799999994,56.930883399999999,100,100,100,100,100,150,150,150,150,150,{"$f":"MAX(0,X96-AH96*'Design Inputs'!$C$13)","v":0},{"$f":"MAX(0,Y96-AI96*'Design Inputs'!$C$13)","v":0},{"$f":"MAX(0,Z96-AJ96*'Design Inputs'!$C$13)","v":0},{"$f":"MAX(0,AA96-AK96*'Design Inputs'!$C$13)","v":0},{"$f":"MAX(0,AB96-AL96*'Design Inputs'!$C$13)","v":0},{"$f":"MAX(0,AC96-AM96*'Design Inputs'!$C$13)","v":0},{"$f":"MAX(0,AD96-AN96*'Design Inputs'!$C$13)","v":0},{"$f":"MAX(0,AE96-AO96*'Design Inputs'!$C$13)","v":3.2233361999999914},{"$f":"MAX(0,AF96-AP96*'Design Inputs'!$C$13)","v":16.125113799999994},{"$f":"MAX(0,AG96-AQ96*'Design Inputs'!$C$13)","v":26.930883399999999},{"$f":"MAX(50,IF(AR96<0,0,ROUNDUP(AR96/'Design Inputs'!$C$10/10,0)*10))","v":50},{"$f":"MAX(50,IF(AS96<0,0,ROUNDUP(AS96/'Design Inputs'!$C$10/10,0)*10))","v":50},{"$f":"MAX(50,IF(AT96<0,0,ROUNDUP(AT96/'Design Inputs'!$C$10/10,0)*10))","v":50},{"$f":"MAX(50,IF(AU96<0,0,ROUNDUP(AU96/'Design Inputs'!$C$10/10,0)*10))","v":50},{"$f":"MAX(50,IF(AV96<0,0,ROUNDUP(AV96/'Design Inputs'!$C$10/10,0)*10))","v":50},{"$f":"MAX(50,IF(AW96<0,0,ROUNDUP(AW96/'Design Inputs'!$C$10/10,0)*10))","v":50},{"$f":"MAX(50,IF(AX96<0,0,ROUNDUP(AX96/'Design Inputs'!$C$10/10,0)*10))","v":50},{"$f":"MAX(50,IF(AY96<0,0,ROUNDUP(AY96/'Design Inputs'!$C$10/10,0)*10))","v":50},{"$f":"MAX(50,IF(AZ96<0,0,ROUNDUP(AZ96/'Design Inputs'!$C$10/10,0)*10))","v":50},{"$f":"MAX(50,IF(BA96<0,0,ROUNDUP(BA96/'Design Inputs'!$C$10/10,0)*10))","v":70}]
[2,"Good",11603.016,{"$f":"D7","v":29.780204600000001},34.090025799999999,40.363267,45.611338799999999,51.367943999999994,59.9174316,67.243807599999997,75.447601199999994,87.776456400000001,98.199854399999992,105,105,105,105,105,105,105,105,105,105,0,0,0,0,5.1679439999999914,13.717431599999998,21.043807599999994,29.247601199999991,41.576456399999998,51.99985439999999,100,100,100,100,100,150,150,150,150,150,{"$f":"MAX(0,X97-AH97*'Design Inputs'!$C$13)","v":0},{"$f":"MAX(0,Y97-AI97*'Design Inputs'!$C$13)","v":0},{"$f":"MAX(0,Z97-AJ97*'Design Inputs'!$C$13)","v":0},{"$f":"MAX(0,AA97-AK97*'Design Inputs'!$C$13)","v":0},{"$f":"MAX(0,AB97-AL97*'Design Inputs'!$C$13)","v":0},{"$f":"MAX(0,AC97-AM97*'Design Inputs'!$C$13)","v":0},{"$f":"MAX(0,AD97-AN97*'Design Inputs'!$C$13)","v":0},{"$f":"MAX(0,AE97-AO97*'Design Inputs'!$C$13)","v":0},{"$f":"MAX(0,AF97-AP97*'Design Inputs'!$C$13)","v":11.576456399999998},{"$f":"MAX(0,AG97-AQ97*'Design Inputs'!$C$13)","v":21.99985439999999},{"$f":"MAX(50,IF(AR97<0,0,ROUNDUP(AR97/'Design Inputs'!$C$10/10,0)*10))","v":50},{"$f":"MAX(50,IF(AS97<0,0,ROUNDUP(AS97/'Design Inputs'!$C$10/10,0)*10))","v":50},{"$f":"MAX(50,IF(AT97<0,0,ROUNDUP(AT97/'Design Inputs'!$C$10/10,0)*10))","v":50},{"$f":"MAX(50,IF(AU97<0,0,ROUNDUP(AU97/'Design Inputs'!$C$10/10,0)*10))","v":50},{"$f":"MAX(50,IF(AV97<0,0,ROUNDUP(AV97/'Design Inputs'!$C$10/10,0)*10))","v":50},{"$f":"MAX(50,IF(AW97<0,0,ROUNDUP(AW97/'Design Inputs'!$C$10/10,0)*10))","v":50},{"$f":"MAX(50,IF(AX97<0,0,ROUNDUP(AX97/'Design Inputs'!$C$10/10,0)*10))","v":50},{"$f":"MAX(50,IF(AY97<0,0,ROUNDUP(AY97/'Design Inputs'!$C$10/10,0)*10))","v":50},{"$f":"MAX(50,IF(AZ97<0,0,ROUNDUP(AZ97/'Design Inputs'!$C$10/10,0)*10))","v":50},{"$f":"MAX(50,IF(BA97<0,0,ROUNDUP(BA97/'Design Inputs'!$C$10/10,0)*10))","v":50}]
[2,"Fair",10152.638999999999,{"$f":"D8","v":31.663131999999997},36.132287399999996,42.650130599999997,48.115473999999999,54.128949399999996,63.091695000000001,70.795311799999993,79.423336199999994,92.325113799999997,103.1308834,105,105,105,105,105,105,105,105,105,105,0,0,0,1.9154739999999961,7.9289493999999934,16.891694999999999,24.59531179999999,33.223336199999991,46.125113799999994,56.930883399999999,100,100,100,100,100,150,150,150,150,150,{"$f":"MAX(0,X98-AH98*'Design Inputs'!$C$13)","v":0},{"$f":"MAX(0,Y98-AI98*'Design Inputs'!$C$13)","v":0},{"$f":"MAX(0,Z98-AJ98*'Design Inputs'!$C$13)","v":0},{"$f":"MAX(0,AA98-AK98*'Design Inputs'!$C$13)","v":0},{"$f":"MAX(0,AB98-AL98*'Design Inputs'!$C$13)","v":0},{"$f":"MAX(0,AC98-AM98*'Design Inputs'!$C$13)","v":0},{"$f":"MAX(0,AD98-AN98*'Design Inputs'!$C$13)","v":0},{"$f":"MAX(0,AE98-AO98*'Design Inputs'!$C$13)","v":3.2233361999999914},{"$f":"MAX(0,AF98-AP98*'Design Inputs'!$C$13)","v":16.125113799999994},{"$f":"MAX(0,AG98-AQ98*'Design Inputs'!$C$13)","v":26.930883399999999},{"$f":"MAX(50,IF(AR98<0,0,ROUNDUP(AR98/'Design Inputs'!$C$10/10,0)*10))","v":50},{"$f":"MAX(50,IF(AS98<0,0,ROUNDUP(AS98/'Design Inputs'!$C$10/10,0)*10))","v":50},{"$f":"MAX(50,IF(AT98<0,0,ROUNDUP(AT98/'Design Inputs'!$C$10/10,0)*10))","v":50},{"$f":"MAX(50,IF(AU98<0,0,ROUNDUP(AU98/'Design Inputs'!$C$10/10,0)*10))","v":50},{"$f":"MAX(50,IF(AV98<0,0,ROUNDUP(AV98/'Design Inputs'!$C$10/10,0)*10))","v":50},{"$f":"MAX(50,IF(AW98<0,0,ROUNDUP(AW98/'Design Inputs'!$C$10/10,0)*10))","v":50},{"$f":"MAX(50,IF(AX98<0,0,ROUNDUP(AX98/'Design Inputs'!$C$10/10,0)*10))","v":50},{"$f":"MAX(50,IF(AY98<0,0,ROUNDUP(AY98/'Design Inputs'!$C$10/10,0)*10))","v":50},{"$f":"MAX(50,IF(AZ98<0,0,ROUNDUP(AZ98/'Design Inputs'!$C$10/10,0)*10))","v":50},{"$f":"MAX(50,IF(BA98<0,0,ROUNDUP(BA98/'Design Inputs'!$C$10/10,0)*10))","v":70}]
[2,"Poor",7251.8850000000002,{"$f":"D9","v":36.722913599999998},41.637864399999998,48.842879199999999,54.931691000000001,61.682553799999994,71.831073000000004,80.582058799999984,90.310207999999989,104.55097199999999,116.2058382,105,105,105,105,105,105,105,105,105,105,0,0,2.6428791999999959,8.7316909999999979,15.482553799999991,25.631073000000001,34.382058799999982,44.110207999999986,58.350971999999985,70.005838199999999,100,100,100,100,100,150,150,150,150,150,{"$f":"MAX(0,X99-AH99*'Design Inputs'!$C$13)","v":0},{"$f":"MAX(0,Y99-AI99*'Design Inputs'!$C$13)","v":0},{"$f":"MAX(0,Z99-AJ99*'Design Inputs'!$C$13)","v":0},{"$f":"MAX(0,AA99-AK99*'Design Inputs'!$C$13)","v":0},{"$f":"MAX(0,AB99-AL99*'Design Inputs'!$C$13)","v":0},{"$f":"MAX(0,AC99-AM99*'Design Inputs'!$C$13)","v":0},{"$f":"MAX(0,AD99-AN99*'Design Inputs'!$C$13)","v":4.3820587999999816},{"$f":"MAX(0,AE99-AO99*'Design Inputs'!$C$13)","v":14.110207999999986},{"$f":"MAX(0,AF99-AP99*'Design Inputs'!$C$13)","v":28.350971999999985},{"$f":"MAX(0,AG99-AQ99*'Design Inputs'!$C$13)","v":40.005838199999999},{"$f":"MAX(50,IF(AR99<0,0,ROUNDUP(AR99/'Design Inputs'!$C$10/10,0)*10))","v":50},{"$f":"MAX(50,IF(AS99<0,0,ROUNDUP(AS99/'Design Inputs'!$C$10/10,0)*10))","v":50},{"$f":"MAX(50,IF(AT99<0,0,ROUNDUP(AT99/'Design Inputs'!$C$10/10,0)*10))","v":50},{"$f":"MAX(50,IF(AU99<0,0,ROUNDUP(AU99/'Design Inputs'!$C$10/10,0)*10))","v":50},{"$f":"MAX(50,IF(AV99<0,0,ROUNDUP(AV99/'Design Inputs'!$C$10/10,0)*10))","v":50},{"$f":"MAX(50,IF(AW99<0,0,ROUNDUP(AW99/'Design Inputs'!$C$10/10,0)*10))","v":50},{"$f":"MAX(50,IF(AX99<0,0,ROUNDUP(AX99/'Design Inputs'!$C$10/10,0)*10))","v":50},{"$f":"MAX(50,IF(AY99<0,0,ROUNDUP(AY99/'Design Inputs'!$C$10/10,0)*10))","v":50},{"$f":"MAX(50,IF(AZ99<0,0,ROUNDUP(AZ99/'Design Inputs'!$C$10/10,0)*10))","v":70},{"$f":"MAX(50,IF(BA99<0,0,ROUNDUP(BA99/'Design Inputs'!$C$10/10,0)*10))","v":100}]
[3,"Good",10152.638999999999,{"$f":"D10","v":31.663131999999997},36.132287399999996,42.650130599999997,48.115473999999999,54.128949399999996,63.091695000000001,70.795311799999993,79.423336199999994,92.325113799999997,103.1308834,105,105,105,105,105,105,105,105,105,105,0,0,0,1.9154739999999961,7.9289493999999934,16.891694999999999,24.59531179999999,33.223336199999991,46.125113799999994,56.930883399999999,100,100,100,100,100,150,150,150,150,150,{"$f":"MAX(0,X100-AH100*'Design Inputs'!$C$13)","v":0},{"$f":"MAX(0,Y100-AI100*'Design Inputs'!$C$13)","v":0},{"$f":"MAX(0,Z100-AJ100*'Design Inputs'!$C$13)","v":0},{"$f":"MAX(0,AA100-AK100*'Design Inputs'!$C$13)","v":0},{"$f":"MAX(0,AB100-AL100*'Design Inputs'!$C$13)","v":0},{"$f":"MAX(0,AC100-AM100*'Design Inputs'!$C$13)","v":0},{"$f":"MAX(0,AD100-AN100*'Design Inputs'!$C$13)","v":0},{"$f":"MAX(0,AE100-AO100*'Design Inputs'!$C$13)","v":3.2233361999999914},{"$f":"MAX(0,AF100-AP100*'Design Inputs'!$C$13)","v":16.125113799999994},{"$f":"MAX(0,AG100-AQ100*'Design Inputs'!$C$13)","v":26.930883399999999},{"$f":"MAX(50,IF(AR100<0,0,ROUNDUP(AR100/'Design Inputs'!$C$10/10,0)*10))","v":50},{"$f":"MAX(50,IF(AS100<0,0,ROUNDUP(AS100/'Design Inputs'!$C$10/10,0)*10))","v":50},{"$f":"MAX(50,IF(AT100<0,0,ROUNDUP(AT100/'Design Inputs'!$C$10/10,0)*10))","v":50},{"$f":"MAX(50,IF(AU100<0,0,ROUNDUP(AU100/'Design Inputs'!$C$10/10,0)*10))","v":50},{"$f":"MAX(50,IF(AV100<0,0,ROUNDUP(AV100/'Design Inputs'!$C$10/10,0)*10))","v":50},{"$f":"MAX(50,IF(AW100<0,0,ROUNDUP(AW100/'Design Inputs'!$C$10/10,0)*10))","v":50},{"$f":"MAX(50,IF(AX100<0,0,ROUNDUP(AX100/'Design Inputs'!$C$10/10,0)*10))","v":50},{"$f":"MAX(50,IF(AY100<0,0,ROUNDUP(AY100/'Design Inputs'!$C$10/10,0)*10))","v":50},{"$f":"MAX(50,IF(AZ100<0,0,ROUNDUP(AZ100/'Design Inputs'!$C$10/10,0)*10))","v":50},{"$f":"MAX(50,IF(BA100<0,0,ROUNDUP(BA100/'Design Inputs'!$C$10/10,0)*10))","v":70}]
[3,"Fair",7251.8850000000002,{"$f":"D11","v":36.722913599999998},41.637864399999998,48.842879199999999,54.931691000000001,61.682553799999994,71.831073000000004,80.582058799999984,90.310207999999989,104.55097199999999,116.2058382,105,105,105,105,105,105,105,105,105,105,0,0,2.6428791999999959,8.7316909999999979,15.482553799999991,25.631073000000001,34.382058799999982,44.110207999999986,58.350971999999985,70.005838199999999,100,100,100,100,100,150,150,150,150,150,{"$f":"MAX(0,X101-AH101*'Design Inputs'!$C$13)","v":0},{"$f":"MAX(0,Y101-AI101*'Design Inputs'!$C$13)","v":0},{"$f":"MAX(0,Z101-AJ101*'Design Inputs'!$C$13)","v":0},{"$f":"MAX(0,AA101-AK101*'Design Inputs'!$C$13)","v":0},{"$f":"MAX(0,AB101-AL101*'Design Inputs'!$C$13)","v":0},{"$f":"MAX(0,AC101-AM101*'Design Inputs'!$C$13)","v":0},{"$f":"MAX(0,AD101-AN101*'Design Inputs'!$C$13)","v":4.3820587999999816},{"$f":"MAX(0,AE101-AO101*'Design Inputs'!$C$13)","v":14.110207999999986},{"$f":"MAX(0,AF101-AP101*'Design Inputs'!$C$13)","v":28.350971999999985},{"$f":"MAX(0,AG101-AQ101*'Design Inputs'!$C$13)","v":40.005838199999999},{"$f":"MAX(50,IF(AR101<0,0,ROUNDUP(AR101/'Design Inputs'!$C$10/10,0)*10))","v":50},{"$f":"MAX(50,IF(AS101<0,0,ROUNDUP(AS101/'Design Inputs'!$C$10/10,0)*10))","v":50},{"$f":"MAX(50,IF(AT101<0,0,ROUNDUP(AT101/'Design Inputs'!$C$10/10,0)*10))","v":50},{"$f":"MAX(50,IF(AU101<0,0,ROUNDUP(AU101/'Design Inputs'!$C$10/10,0)*10))","v":50},{"$f":"MAX(50,IF(AV101<0,0,ROUNDUP(AV101/'Design Inputs'!$C$10/10,0)*10))","v":50},{"$f":"MAX(50,IF(AW101<0,0,ROUNDUP(AW101/'Design Inputs'!$C$10/10,0)*10))","v":50},{"$f":"MAX(50,IF(AX101<0,0,ROUNDUP(AX101/'Design Inputs'!$C$10/10,0)*10))","v":50},{"$f":"MAX(50,IF(AY101<0,0,ROUNDUP(AY101/'Design Inputs'!$C$10/10,0)*10))","v":50},{"$f":"MAX(50,IF(AZ101<0,0,ROUNDUP(AZ101/'Design Inputs'!$C$10/10,0)*10))","v":70},{"$f":"MAX(50,IF(BA101<0,0,ROUNDUP(BA101/'Design Inputs'!$C$10/10,0)*10))","v":100}]
[3,"Poor",5076.3194999999996,{"$f":"D12","v":42.640478599999994},48.105821999999996,56.1843936,63.077547199999998,70.779208199999985,82.391605599999991,92.305149399999991,103.10901399999999,118.54324779999999,130.99829019999999,105,105,105,105,105,105,105,105,105,105,0,1.9058219999999935,9.9843935999999971,16.877547199999995,24.579208199999982,36.191605599999988,46.105149399999988,56.909013999999985,72.343247799999986,84.798290199999983,100,100,100,100,100,150,150,150,150,150,{"$f":"MAX(0,X102-AH102*'Design Inputs'!$C$13)","v":0},{"$f":"MAX(0,Y102-AI102*'Design Inputs'!$C$13)","v":0},{"$f":"MAX(0,Z102-AJ102*'Design Inputs'!$C$13)","v":0},{"$f":"MAX(0,AA102-AK102*'Design Inputs'!$C$13)","v":0},{"$f":"MAX(0,AB102-AL102*'Design Inputs'!$C$13)","v":4.5792081999999823},{"$f":"MAX(0,AC102-AM102*'Design Inputs'!$C$13)","v":6.1916055999999884},{"$f":"MAX(0,AD102-AN102*'Design Inputs'!$C$13)","v":16.105149399999988},{"$f":"MAX(0,AE102-AO102*'Design Inputs'!$C$13)","v":26.909013999999985},{"$f":"MAX(0,AF102-AP102*'Design Inputs'!$C$13)","v":42.343247799999986},{"$f":"MAX(0,AG102-AQ102*'Design Inputs'!$C$13)","v":54.798290199999983},{"$f":"MAX(50,IF(AR102<0,0,ROUNDUP(AR102/'Design Inputs'!$C$10/10,0)*10))","v":50},{"$f":"MAX(50,IF(AS102<0,0,ROUNDUP(AS102/'Design Inputs'!$C$10/10,0)*10))","v":50},{"$f":"MAX(50,IF(AT102<0,0,ROUNDUP(AT102/'Design Inputs'!$C$10/10,0)*10))","v":50},{"$f":"MAX(50,IF(AU102<0,0,ROUNDUP(AU102/'Design Inputs'!$C$10/10,0)*10))","v":50},{"$f":"MAX(50,IF(AV102<0,0,ROUNDUP(AV102/'Design Inputs'!$C$10/10,0)*10))","v":50},{"$f":"MAX(50,IF(AW102<0,0,ROUNDUP(AW102/'Design Inputs'!$C$10/10,0)*10))","v":50},{"$f":"MAX(50,IF(AX102<0,0,ROUNDUP(AX102/'Design Inputs'!$C$10/10,0)*10))","v":50},{"$f":"MAX(50,IF(AY102<0,0,ROUNDUP(AY102/'Design Inputs'!$C$10/10,0)*10))","v":70},{"$f":"MAX(50,IF(AZ102<0,0,ROUNDUP(AZ102/'Design Inputs'!$C$10/10,0)*10))","v":100},{"$f":"MAX(50,IF(BA102<0,0,ROUNDUP(BA102/'Design Inputs'!$C$10/10,0)*10))","v":130}]
[4,"Good",7251.8850000000002,{"$f":"D13","v":36.722913599999998},41.637864399999998,48.842879199999999,54.931691000000001,61.682553799999994,71.831073000000004,80.582058799999984,90.310207999999989,104.55097199999999,116.2058382,105,105,105,105,105,105,105,105,105,105,0,0,2.6428791999999959,8.7316909999999979,15.482553799999991,25.631073000000001,34.382058799999982,44.110207999999986,58.350971999999985,70.005838199999999,100,100,100,100,100,150,150,150,150,150,{"$f":"MAX(0,X103-AH103*'Design Inputs'!$C$13)","v":0},{"$f":"MAX(0,Y103-AI103*'Design Inputs'!$C$13)","v":0},{"$f":"MAX(0,Z103-AJ103*'Design Inputs'!$C$13)","v":0},{"$f":"MAX(0,AA103-AK103*'Design Inputs'!$C$13)","v":0},{"$f":"MAX(0,AB103-AL103*'Design Inputs'!$C$13)","v":0},{"$f":"MAX(0,AC103-AM103*'Design Inputs'!$C$13)","v":0},{"$f":"MAX(0,AD103-AN103*'Design Inputs'!$C$13)","v":4.3820587999999816},{"$f":"MAX(0,AE103-AO103*'Design Inputs'!$C$13)","v":14.110207999999986},{"$f":"MAX(0,AF103-AP103*'Design Inputs'!$C$13)","v":28.350971999999985},{"$f":"MAX(0,AG103-AQ103*'Design Inputs'!$C$13)","v":40.005838199999999},{"$f":"MAX(50,IF(AR103<0,0,ROUNDUP(AR103/'Design Inputs'!$C$10/10,0)*10))","v":50},{"$f":"MAX(50,IF(AS103<0,0,ROUNDUP(AS103/'Design Inputs'!$C$10/10,0)*10))","v":50},{"$f":"MAX(50,IF(AT103<0,0,ROUNDUP(AT103/'Design Inputs'!$C$10/10,0)*10))","v":50},{"$f":"MAX(50,IF(AU103<0,0,ROUNDUP(AU103/'Design Inputs'!$C$10/10,0)*10))","v":50},{"$f":"MAX(50,IF(AV103<0,0,ROUNDUP(AV103/'Design Inputs'!$C$10/10,0)*10))","v":50},{"$f":"MAX(50,IF(AW103<0,0,ROUNDUP(AW103/'Design Inputs'!$C$10/10,0)*10))","v":50},{"$f":"MAX(50,IF(AX103<0,0,ROUNDUP(AX103/'Design Inputs'!$C$10/10,0)*10))","v":50},{"$f":"MAX(50,IF(AY103<0,0,ROUNDUP(AY103/'Design Inputs'!$C$10/10,0)*10))","v":50},{"$f":"MAX(50,IF(AZ103<0,0,ROUNDUP(AZ103/'Design Inputs'!$C$10/10,0)*10))","v":70},{"$f":"MAX(50,IF(BA103<0,0,ROUNDUP(BA103/'Design Inputs'!$C$10/10,0)*10))","v":100}]
[4,"Fair",5076.3194999999996,{"$f":"D14","v":42.640478599999994},48.105821999999996,56.1843936,63.077547199999998,70.779208199999985,82.391605599999991,92.305149399999991,103.10901399999999,118.54324779999999,130.99829019999999,{"$f":"ThickPaver","v":105},105,105,105,105,105,105,105,105,105,0,1.9058219999999935,9.9843935999999971,16.877547199999995,24.579208199999982,36.191605599999988,46.105149399999988,56.909013999999985,72.343247799999986,84.798290199999983,100,100,100,100,100,150,150,150,150,150,{"$f":"MAX(0,X104-AH104*'Design Inputs'!$C$13)","v":0},{"$f":"MAX(0,Y104-AI104*'Design Inputs'!$C$13)","v":0},{"$f":"MAX(0,Z104-AJ104*'Design Inputs'!$C$13)","v":0},{"$f":"MAX(0,AA104-AK104*'Design Inputs'!$C$13)","v":0},{"$f":"MAX(0,AB104-AL104*'Design Inputs'!$C$13)","v":4.5792081999999823},{"$f":"MAX(0,AC104-AM104*'Design Inputs'!$C$13)","v":6.1916055999999884},{"$f":"MAX(0,AD104-AN104*'Design Inputs'!$C$13)","v":16.105149399999988},{"$f":"MAX(0,AE104-AO104*'Design Inputs'!$C$13)","v":26.909013999999985},{"$f":"MAX(0,AF104-AP104*'Design Inputs'!$C$13)","v":42.343247799999986},{"$f":"MAX(0,AG104-AQ104*'Design Inputs'!$C$13)","v":54.798290199999983},{"$f":"MAX(50,IF(AR104<0,0,ROUNDUP(AR104/'Design Inputs'!$C$10/10,0)*10))","v":50},{"$f":"MAX(50,IF(AS104<0,0,ROUNDUP(AS104/'Design Inputs'!$C$10/10,0)*10))","v":50},{"$f":"MAX(50,IF(AT104<0,0,ROUNDUP(AT104/'Design Inputs'!$C$10/10,0)*10))","v":50},{"$f":"MAX(50,IF(AU104<0,0,ROUNDUP(AU104/'Design Inputs'!$C$10/10,0)*10))","v":50},{"$f":"MAX(50,IF(AV104<0,0,ROUNDUP(AV104/'Design Inputs'!$C$10/10,0)*10))","v":50},{"$f":"MAX(50,IF(AW104<0,0,ROUNDUP(AW104/'Design Inputs'!$C$10/10,0)*10))","v":50},{"$f":"MAX(50,IF(AX104<0,0,ROUNDUP(AX104/'Design Inputs'!$C$10/10,0)*10))","v":50},{"$f":"MAX(50,IF(AY104<0,0,ROUNDUP(AY104/'Design Inputs'!$C$10/10,0)*10))","v":70},{"$f":"MAX(50,IF(AZ104<0,0,ROUNDUP(AZ104/'Design Inputs'!$C$10/10,0)*10))","v":100},{"$f":"MAX(50,IF(BA104<0,0,ROUNDUP(BA104/'Design Inputs'!$C$10/10,0)*10))","v":130}]
[4,"Poor",4351.1310000000003,{"$f":"D15","v":45.397292999999998},51.132994000000004,59.647708999999999,66.942538200000001,75.109628799999996,87.387633199999996,97.776284000000004,108.9882504,124.88664379999999,137.68994559999999,105,105,105,105,105,105,105,105,105,105,0,4.9329940000000008,13.447708999999996,20.742538199999998,28.909628799999993,41.187633199999993,51.576284000000001,62.788250399999995,78.686643799999985,91.489945599999984,100,100,100,100,100,150,150,150,150,150,{"$f":"MAX(0,X105-AH105*'Design Inputs'!$C$13)","v":0},{"$f":"MAX(0,Y105-AI105*'Design Inputs'!$C$13)","v":0},{"$f":"MAX(0,Z105-AJ105*'Design Inputs'!$C$13)","v":0},{"$f":"MAX(0,AA105-AK105*'Design Inputs'!$C$13)","v":0.74253819999999848},{"$f":"MAX(0,AB105-AL105*'Design Inputs'!$C$13)","v":8.909628799999993},{"$f":"MAX(0,AC105-AM105*'Design Inputs'!$C$13)","v":11.187633199999993},{"$f":"MAX(0,AD105-AN105*'Design Inputs'!$C$13)","v":21.576284000000001},{"$f":"MAX(0,AE105-AO105*'Design Inputs'!$C$13)","v":32.788250399999995},{"$f":"MAX(0,AF105-AP105*'Design Inputs'!$C$13)","v":48.686643799999985},{"$f":"MAX(0,AG105-AQ105*'Design Inputs'!$C$13)","v":61.489945599999984},{"$f":"MAX(50,IF(AR105<0,0,ROUNDUP(AR105/'Design Inputs'!$C$10/10,0)*10))","v":50},{"$f":"MAX(50,IF(AS105<0,0,ROUNDUP(AS105/'Design Inputs'!$C$10/10,0)*10))","v":50},{"$f":"MAX(50,IF(AT105<0,0,ROUNDUP(AT105/'Design Inputs'!$C$10/10,0)*10))","v":50},{"$f":"MAX(50,IF(AU105<0,0,ROUNDUP(AU105/'Design Inputs'!$C$10/10,0)*10))","v":50},{"$f":"MAX(50,IF(AV105<0,0,ROUNDUP(AV105/'Design Inputs'!$C$10/10,0)*10))","v":50},{"$f":"MAX(50,IF(AW105<0,0,ROUNDUP(AW105/'Design Inputs'!$C$10/10,0)*10))","v":50},{"$f":"MAX(50,IF(AX105<0,0,ROUNDUP(AX105/'Design Inputs'!$C$10/10,0)*10))","v":50},{"$f":"MAX(50,IF(AY105<0,0,ROUNDUP(AY105/'Design Inputs'!$C$10/10,0)*10))","v":80},{"$f":"MAX(50,IF(AZ105<0,0,ROUNDUP(AZ105/'Design Inputs'!$C$10/10,0)*10))","v":120},{"$f":"MAX(50,IF(BA105<0,0,ROUNDUP(BA105/'Design Inputs'!$C$10/10,0)*10))","v":140}]
[5,"Good",5801.5079999999998,{"$f":"D16","v":40.353589599999999},45.600061199999999,53.331998999999996,59.904553799999995,67.228999399999992,78.274240199999994,87.757152399999995,98.178619999999995,113.1905788,125.34950799999999,105,105,105,105,105,105,105,105,105,105,0,0,7.1319989999999933,13.704553799999992,21.028999399999989,32.074240199999991,41.557152399999993,51.978619999999992,66.990578799999994,79.149507999999983,100,100,100,100,100,150,150,150,150,150,{"$f":"MAX(0,X106-AH106*'Design Inputs'!$C$13)","v":0},{"$f":"MAX(0,Y106-AI106*'Design Inputs'!$C$13)","v":0},{"$f":"MAX(0,Z106-AJ106*'Design Inputs'!$C$13)","v":0},{"$f":"MAX(0,AA106-AK106*'Design Inputs'!$C$13)","v":0},{"$f":"MAX(0,AB106-AL106*'Design Inputs'!$C$13)","v":1.0289993999999894},{"$f":"MAX(0,AC106-AM106*'Design Inputs'!$C$13)","v":2.0742401999999913},{"$f":"MAX(0,AD106-AN106*'Design Inputs'!$C$13)","v":11.557152399999993},{"$f":"MAX(0,AE106-AO106*'Design Inputs'!$C$13)","v":21.978619999999992},{"$f":"MAX(0,AF106-AP106*'Design Inputs'!$C$13)","v":36.990578799999994},{"$f":"MAX(0,AG106-AQ106*'Design Inputs'!$C$13)","v":49.149507999999983},{"$f":"MAX(50,IF(AR106<0,0,ROUNDUP(AR106/'Design Inputs'!$C$10/10,0)*10))","v":50},{"$f":"MAX(50,IF(AS106<0,0,ROUNDUP(AS106/'Design Inputs'!$C$10/10,0)*10))","v":50},{"$f":"MAX(50,IF(AT106<0,0,ROUNDUP(AT106/'Design Inputs'!$C$10/10,0)*10))","v":50},{"$f":"MAX(50,IF(AU106<0,0,ROUNDUP(AU106/'Design Inputs'!$C$10/10,0)*10))","v":50},{"$f":"MAX(50,IF(AV106<0,0,ROUNDUP(AV106/'Design Inputs'!$C$10/10,0)*10))","v":50},{"$f":"MAX(50,IF(AW106<0,0,ROUNDUP(AW106/'Design Inputs'!$C$10/10,0)*10))","v":50},{"$f":"MAX(50,IF(AX106<0,0,ROUNDUP(AX106/'Design Inputs'!$C$10/10,0)*10))","v":50},{"$f":"MAX(50,IF(AY106<0,0,ROUNDUP(AY106/'Design Inputs'!$C$10/10,0)*10))","v":50},{"$f":"MAX(50,IF(AZ106<0,0,ROUNDUP(AZ106/'Design Inputs'!$C$10/10,0)*10))","v":90},{"$f":"MAX(50,IF(BA106<0,0,ROUNDUP(BA106/'Design Inputs'!$C$10/10,0)*10))","v":120}]
[5,"Fair",4351.1310000000003,{"$f":"D17","v":45.397292999999998},51.132994000000004,59.647708999999999,66.942538200000001,75.109628799999996,87.387633199999996,97.776284000000004,108.9882504,124.88664379999999,137.68994559999999,105,105,105,105,105,105,105,105,105,105,0,4.9329940000000008,13.447708999999996,20.742538199999998,28.909628799999993,41.187633199999993,51.576284000000001,62.788250399999995,78.686643799999985,91.489945599999984,100,100,100,100,100,150,150,150,150,150,{"$f":"MAX(0,X107-AH107*'Design Inputs'!$C$13)","v":0},{"$f":"MAX(0,Y107-AI107*'Design Inputs'!$C$13)","v":0},{"$f":"MAX(0,Z107-AJ107*'Design Inputs'!$C$13)","v":0},{"$f":"MAX(0,AA107-AK107*'Design Inputs'!$C$13)","v":0.74253819999999848},{"$f":"MAX(0,AB107-AL107*'Design Inputs'!$C$13)","v":8.909628799999993},{"$f":"MAX(0,AC107-AM107*'Design Inputs'!$C$13)","v":11.187633199999993},{"$f":"MAX(0,AD107-AN107*'Design Inputs'!$C$13)","v":21.576284000000001},{"$f":"MAX(0,AE107-AO107*'Design Inputs'!$C$13)","v":32.788250399999995},{"$f":"MAX(0,AF107-AP107*'Design Inputs'!$C$13)","v":48.686643799999985},{"$f":"MAX(0,AG107-AQ107*'Design Inputs'!$C$13)","v":61.489945599999984},{"$f":"MAX(50,IF(AR107<0,0,ROUNDUP(AR107/'Design Inputs'!$C$10/10,0)*10))","v":50},{"$f":"MAX(50,IF(AS107<0,0,ROUNDUP(AS107/'Design Inputs'!$C$10/10,0)*10))","v":50},{"$f":"MAX(50,IF(AT107<0,0,ROUNDUP(AT107/'Design Inputs'!$C$10/10,0)*10))","v":50},{"$f":"MAX(50,IF(AU107<0,0,ROUNDUP(AU107/'Design Inputs'!$C$10/10,0)*10))","v":50},{"$f":"MAX(50,IF(AV107<0,0,ROUNDUP(AV107/'Design Inputs'!$C$10/10,0)*10))","v":50},{"$f":"MAX(50,IF(AW107<0,0,ROUNDUP(AW107/'Design Inputs'!$C$10/10,0)*10))","v":50},{"$f":"MAX(50,IF(AX107<0,0,ROUNDUP(AX107/'Design Inputs'!$C$10/10,0)*10))","v":50},{"$f":"MAX(50,IF(AY107<0,0,ROUNDUP(AY107/'Design Inputs'!$C$10/10,0)*10))","v":80},{"$f":"MAX(50,IF(AZ107<0,0,ROUNDUP(AZ107/'Design Inputs'!$C$10/10,0)*10))","v":120},{"$f":"MAX(50,IF(BA107<0,0,ROUNDUP(BA107/'Design Inputs'!$C$10/10,0)*10))","v":140}]
[5,"Poor",3625.9425000000001,{"$f":"D18","v":48.831626999999997},54.919448200000005,64.001954799999993,71.814994799999994,80.564024799999999,93.621606,104.5291026,116.18267339999998,132.61794660000001,145.85190539999999,105,105,105,105,105,105,105,105,105,105,2.6316269999999946,8.7194482000000022,17.80195479999999,25.614994799999991,34.364024799999996,47.421605999999997,58.329102599999999,69.982673399999982,86.417946600000008,99.65190539999999,100,100,100,100,100,150,150,150,150,150,{"$f":"MAX(0,X108-AH108*'Design Inputs'!$C$13)","v":0},{"$f":"MAX(0,Y108-AI108*'Design Inputs'!$C$13)","v":0},{"$f":"MAX(0,Z108-AJ108*'Design Inputs'!$C$13)","v":0},{"$f":"MAX(0,AA108-AK108*'Design Inputs'!$C$13)","v":5.614994799999991},{"$f":"MAX(0,AB108-AL108*'Design Inputs'!$C$13)","v":14.364024799999996},{"$f":"MAX(0,AC108-AM108*'Design Inputs'!$C$13)","v":17.421605999999997},{"$f":"MAX(0,AD108-AN108*'Design Inputs'!$C$13)","v":28.329102599999999},{"$f":"MAX(0,AE108-AO108*'Design Inputs'!$C$13)","v":39.982673399999982},{"$f":"MAX(0,AF108-AP108*'Design Inputs'!$C$13)","v":56.417946600000008},{"$f":"MAX(0,AG108-AQ108*'Design Inputs'!$C$13)","v":69.65190539999999},{"$f":"MAX(50,IF(AR108<0,0,ROUNDUP(AR108/'Design Inputs'!$C$10/10,0)*10))","v":50},{"$f":"MAX(50,IF(AS108<0,0,ROUNDUP(AS108/'Design Inputs'!$C$10/10,0)*10))","v":50},{"$f":"MAX(50,IF(AT108<0,0,ROUNDUP(AT108/'Design Inputs'!$C$10/10,0)*10))","v":50},{"$f":"MAX(50,IF(AU108<0,0,ROUNDUP(AU108/'Design Inputs'!$C$10/10,0)*10))","v":50},{"$f":"MAX(50,IF(AV108<0,0,ROUNDUP(AV108/'Design Inputs'!$C$10/10,0)*10))","v":50},{"$f":"MAX(50,IF(AW108<0,0,ROUNDUP(AW108/'Design Inputs'!$C$10/10,0)*10))","v":50},{"$f":"MAX(50,IF(AX108<0,0,ROUNDUP(AX108/'Design Inputs'!$C$10/10,0)*10))","v":70},{"$f":"MAX(50,IF(AY108<0,0,ROUNDUP(AY108/'Design Inputs'!$C$10/10,0)*10))","v":100},{"$f":"MAX(50,IF(AZ108<0,0,ROUNDUP(AZ108/'Design Inputs'!$C$10/10,0)*10))","v":130},{"$f":"MAX(50,IF(BA108<0,0,ROUNDUP(BA108/'Design Inputs'!$C$10/10,0)*10))","v":160}]
[6,"Good",4351.1310000000003,{"$f":"D19","v":45.397292999999998},51.132994000000004,59.647708999999999,66.942538200000001,75.109628799999996,87.387633199999996,97.776284000000004,108.9882504,124.88664379999999,137.68994559999999,105,105,105,105,105,105,105,105,105,105,0,4.9329940000000008,13.447708999999996,20.742538199999998,28.909628799999993,41.187633199999993,51.576284000000001,62.788250399999995,78.686643799999985,91.489945599999984,100,100,100,100,100,150,150,150,150,150,{"$f":"MAX(0,X109-AH109*'Design Inputs'!$C$13)","v":0},{"$f":"MAX(0,Y109-AI109*'Design Inputs'!$C$13)","v":0},{"$f":"MAX(0,Z109-AJ109*'Design Inputs'!$C$13)","v":0},{"$f":"MAX(0,AA109-AK109*'Design Inputs'!$C$13)","v":0.74253819999999848},{"$f":"MAX(0,AB109-AL109*'Design Inputs'!$C$13)","v":8.909628799999993},{"$f":"MAX(0,AC109-AM109*'Design Inputs'!$C$13)","v":11.187633199999993},{"$f":"MAX(0,AD109-AN109*'Design Inputs'!$C$13)","v":21.576284000000001},{"$f":"MAX(0,AE109-AO109*'Design Inputs'!$C$13)","v":32.788250399999995},{"$f":"MAX(0,AF109-AP109*'Design Inputs'!$C$13)","v":48.686643799999985},{"$f":"MAX(0,AG109-AQ109*'Design Inputs'!$C$13)","v":61.489945599999984},{"$f":"MAX(50,IF(AR109<0,0,ROUNDUP(AR109/'Design Inputs'!$C$10/10,0)*10))","v":50},{"$f":"MAX(50,IF(AS109<0,0,ROUNDUP(AS109/'Design Inputs'!$C$10/10,0)*10))","v":50},{"$f":"MAX(50,IF(AT109<0,0,ROUNDUP(AT109/'Design Inputs'!$C$10/10,0)*10))","v":50},{"$f":"MAX(50,IF(AU109<0,0,ROUNDUP(AU109/'Design Inputs'!$C$10/10,0)*10))","v":50},{"$f":"MAX(50,IF(AV109<0,0,ROUNDUP(AV109/'Design Inputs'!$C$10/10,0)*10))","v":50},{"$f":"MAX(50,IF(AW109<0,0,ROUNDUP(AW109/'Design Inputs'!$C$10/10,0)*10))","v":50},{"$f":"MAX(50,IF(AX109<0,0,ROUNDUP(AX109/'Design Inputs'!$C$10/10,0)*10))","v":50},{"$f":"MAX(50,IF(AY109<0,0,ROUNDUP(AY109/'Design Inputs'!$C$10/10,0)*10))","v":80},{"$f":"MAX(50,IF(AZ109<0,0,ROUNDUP(AZ109/'Design Inputs'!$C$10/10,0)*10))","v":120},{"$f":"MAX(50,IF(BA109<0,0,ROUNDUP(BA109/'Design Inputs'!$C$10/10,0)*10))","v":140}]
[6,"Fair",3625.9425000000001,{"$f":"D20","v":48.831626999999997},54.919448200000005,64.001954799999993,71.814994799999994,80.564024799999999,93.621606,104.5291026,116.18267339999998,132.61794660000001,145.85190539999999,105,105,105,105,105,105,105,105,105,105,2.6316269999999946,8.7194482000000022,17.80195479999999,25.614994799999991,34.364024799999996,47.421605999999997,58.329102599999999,69.982673399999982,86.417946600000008,99.65190539999999,100,100,100,100,100,150,150,150,150,150,{"$f":"MAX(0,X110-AH110*'Design Inputs'!$C$13)","v":0},{"$f":"MAX(0,Y110-AI110*'Design Inputs'!$C$13)","v":0},{"$f":"MAX(0,Z110-AJ110*'Design Inputs'!$C$13)","v":0},{"$f":"MAX(0,AA110-AK110*'Design Inputs'!$C$13)","v":5.614994799999991},{"$f":"MAX(0,AB110-AL110*'Design Inputs'!$C$13)","v":14.364024799999996},{"$f":"MAX(0,AC110-AM110*'Design Inputs'!$C$13)","v":17.421605999999997},{"$f":"MAX(0,AD110-AN110*'Design Inputs'!$C$13)","v":28.329102599999999},{"$f":"MAX(0,AE110-AO110*'Design Inputs'!$C$13)","v":39.982673399999982},{"$f":"MAX(0,AF110-AP110*'Design Inputs'!$C$13)","v":56.417946600000008},{"$f":"MAX(0,AG110-AQ110*'Design Inputs'!$C$13)","v":69.65190539999999},{"$f":"MAX(50,IF(AR110<0,0,ROUNDUP(AR110/'Design Inputs'!$C$10/10,0)*10))","v":50},{"$f":"MAX(50,IF(AS110<0,0,ROUNDUP(AS110/'Design Inputs'!$C$10/10,0)*10))","v":50},{"$f":"MAX(50,IF(AT110<0,0,ROUNDUP(AT110/'Design Inputs'!$C$10/10,0)*10))","v":50},{"$f":"MAX(50,IF(AU110<0,0,ROUNDUP(AU110/'Design Inputs'!$C$10/10,0)*10))","v":50},{"$f":"MAX(50,IF(AV110<0,0,ROUNDUP(AV110/'Design Inputs'!$C$10/10,0)*10))","v":50},{"$f":"MAX(50,IF(AW110<0,0,ROUNDUP(AW110/'Design Inputs'!$C$10/10,0)*10))","v":50},{"$f":"MAX(50,IF(AX110<0,0,ROUNDUP(AX110/'Design Inputs'!$C$10/10,0)*10))","v":70},{"$f":"MAX(50,IF(AY110<0,0,ROUNDUP(AY110/'Design Inputs'!$C$10/10,0)*10))","v":100},{"$f":"MAX(50,IF(AZ110<0,0,ROUNDUP(AZ110/'Design Inputs'!$C$10/10,0)*10))","v":130},{"$f":"MAX(50,IF(BA110<0,0,ROUNDUP(BA110/'Design Inputs'!$C$10/10,0)*10))","v":160}]
[6,"Poor",2610.6786000000002,{"$f":"D21","v":55.559324999999994},62.381002999999993,72.642831599999994,81.488432399999994,91.310586999999984,105.65757380000001,117.38002939999998,129.77131779999999,147.20953539999999,161.29838199999998,105,105,105,105,105,105,105,105,105,105,9.3593249999999912,16.18100299999999,26.442831599999991,35.288432399999991,45.110586999999981,59.457573800000006,71.180029399999981,83.571317799999989,101.00953539999999,115.09838199999997,{"$f":"IF(AH$93<500000,100,150)","v":100},100,100,100,100,150,150,150,150,150,{"$f":"MAX(0,X111-AH111*'Design Inputs'!$C$13)","v":0},{"$f":"MAX(0,Y111-AI111*'Design Inputs'!$C$13)","v":0},{"$f":"MAX(0,Z111-AJ111*'Design Inputs'!$C$13)","v":6.442831599999991},{"$f":"MAX(0,AA111-AK111*'Design Inputs'!$C$13)","v":15.288432399999991},{"$f":"MAX(0,AB111-AL111*'Design Inputs'!$C$13)","v":25.110586999999981},{"$f":"MAX(0,AC111-AM111*'Design Inputs'!$C$13)","v":29.457573800000006},{"$f":"MAX(0,AD111-AN111*'Design Inputs'!$C$13)","v":41.180029399999981},{"$f":"MAX(0,AE111-AO111*'Design Inputs'!$C$13)","v":53.571317799999989},{"$f":"MAX(0,AF111-AP111*'Design Inputs'!$C$13)","v":71.00953539999999},{"$f":"MAX(0,AG111-AQ111*'Design Inputs'!$C$13)","v":85.098381999999972},{"$f":"MAX(50,IF(AR111<0,0,ROUNDUP(AR111/'Design Inputs'!$C$10/10,0)*10))","v":50},{"$f":"MAX(50,IF(AS111<0,0,ROUNDUP(AS111/'Design Inputs'!$C$10/10,0)*10))","v":50},{"$f":"MAX(50,IF(AT111<0,0,ROUNDUP(AT111/'Design Inputs'!$C$10/10,0)*10))","v":50},{"$f":"MAX(50,IF(AU111<0,0,ROUNDUP(AU111/'Design Inputs'!$C$10/10,0)*10))","v":50},{"$f":"MAX(50,IF(AV111<0,0,ROUNDUP(AV111/'Design Inputs'!$C$10/10,0)*10))","v":60},{"$f":"MAX(50,IF(AW111<0,0,ROUNDUP(AW111/'Design Inputs'!$C$10/10,0)*10))","v":70},{"$f":"MAX(50,IF(AX111<0,0,ROUNDUP(AX111/'Design Inputs'!$C$10/10,0)*10))","v":100},{"$f":"MAX(50,IF(AY111<0,0,ROUNDUP(AY111/'Design Inputs'!$C$10/10,0)*10))","v":130},{"$f":"MAX(50,IF(AZ111<0,0,ROUNDUP(AZ111/'Design Inputs'!$C$10/10,0)*10))","v":170},{"$f":"MAX(50,IF(BA111<0,0,ROUNDUP(BA111/'Design Inputs'!$C$10/10,0)*10))","v":200}]
[7,"Good",3916.0178999999998,{"$f":"D22","v":47.357461800000003},53.292730599999999,62.128018999999995,69.71705639999999,78.216963199999995,90.948814799999994,101.64320539999999,113.11526779999998,129.3239222,142.37248640000001,105,105,105,105,105,105,105,105,105,105,1.1574618000000001,7.0927305999999959,15.928018999999992,23.517056399999987,32.016963199999992,44.748814799999991,55.443205399999982,66.915267799999981,83.123922199999996,96.172486400000011,100,100,100,100,100,150,150,150,150,150,{"$f":"MAX(0,X112-AH112*'Design Inputs'!$C$13)","v":0},{"$f":"MAX(0,Y112-AI112*'Design Inputs'!$C$13)","v":0},{"$f":"MAX(0,Z112-AJ112*'Design Inputs'!$C$13)","v":0},{"$f":"MAX(0,AA112-AK112*'Design Inputs'!$C$13)","v":3.5170563999999871},{"$f":"MAX(0,AB112-AL112*'Design Inputs'!$C$13)","v":12.016963199999992},{"$f":"MAX(0,AC112-AM112*'Design Inputs'!$C$13)","v":14.748814799999991},{"$f":"MAX(0,AD112-AN112*'Design Inputs'!$C$13)","v":25.443205399999982},{"$f":"MAX(0,AE112-AO112*'Design Inputs'!$C$13)","v":36.915267799999981},{"$f":"MAX(0,AF112-AP112*'Design Inputs'!$C$13)","v":53.123922199999996},{"$f":"MAX(0,AG112-AQ112*'Design Inputs'!$C$13)","v":66.172486400000011},{"$f":"MAX(50,IF(AR112<0,0,ROUNDUP(AR112/'Design Inputs'!$C$10/10,0)*10))","v":50},{"$f":"MAX(50,IF(AS112<0,0,ROUNDUP(AS112/'Design Inputs'!$C$10/10,0)*10))","v":50},{"$f":"MAX(50,IF(AT112<0,0,ROUNDUP(AT112/'Design Inputs'!$C$10/10,0)*10))","v":50},{"$f":"MAX(50,IF(AU112<0,0,ROUNDUP(AU112/'Design Inputs'!$C$10/10,0)*10))","v":50},{"$f":"MAX(50,IF(AV112<0,0,ROUNDUP(AV112/'Design Inputs'!$C$10/10,0)*10))","v":50},{"$f":"MAX(50,IF(AW112<0,0,ROUNDUP(AW112/'Design Inputs'!$C$10/10,0)*10))","v":50},{"$f":"MAX(50,IF(AX112<0,0,ROUNDUP(AX112/'Design Inputs'!$C$10/10,0)*10))","v":60},{"$f":"MAX(50,IF(AY112<0,0,ROUNDUP(AY112/'Design Inputs'!$C$10/10,0)*10))","v":90},{"$f":"MAX(50,IF(AZ112<0,0,ROUNDUP(AZ112/'Design Inputs'!$C$10/10,0)*10))","v":130},{"$f":"MAX(50,IF(BA112<0,0,ROUNDUP(BA112/'Design Inputs'!$C$10/10,0)*10))","v":160}]
[7,"Fair",2900.7539999999999,{"$f":"D23","v":53.320416599999994},59.891041000000001,69.752464000000003,78.256866599999995,87.73784839999999,101.69278619999999,113.16804899999998,125.3256828,142.43235419999999,156.23410459999999,105,105,105,105,105,105,105,105,105,105,7.1204165999999915,13.691040999999998,23.552464000000001,32.056866599999992,41.537848399999987,55.492786199999983,66.968048999999979,79.125682799999993,96.232354199999989,110.03410459999999,100,100,100,100,100,150,150,150,150,150,{"$f":"MAX(0,X113-AH113*'Design Inputs'!$C$13)","v":0},{"$f":"MAX(0,Y113-AI113*'Design Inputs'!$C$13)","v":0},{"$f":"MAX(0,Z113-AJ113*'Design Inputs'!$C$13)","v":3.5524640000000005},{"$f":"MAX(0,AA113-AK113*'Design Inputs'!$C$13)","v":12.056866599999992},{"$f":"MAX(0,AB113-AL113*'Design Inputs'!$C$13)","v":21.537848399999987},{"$f":"MAX(0,AC113-AM113*'Design Inputs'!$C$13)","v":25.492786199999983},{"$f":"MAX(0,AD113-AN113*'Design Inputs'!$C$13)","v":36.968048999999979},{"$f":"MAX(0,AE113-AO113*'Design Inputs'!$C$13)","v":49.125682799999993},{"$f":"MAX(0,AF113-AP113*'Design Inputs'!$C$13)","v":66.232354199999989},{"$f":"MAX(0,AG113-AQ113*'Design Inputs'!$C$13)","v":80.034104599999992},{"$f":"MAX(50,IF(AR113<0,0,ROUNDUP(AR113/'Design Inputs'!$C$10/10,0)*10))","v":50},{"$f":"MAX(50,IF(AS113<0,0,ROUNDUP(AS113/'Design Inputs'!$C$10/10,0)*10))","v":50},{"$f":"MAX(50,IF(AT113<0,0,ROUNDUP(AT113/'Design Inputs'!$C$10/10,0)*10))","v":50},{"$f":"MAX(50,IF(AU113<0,0,ROUNDUP(AU113/'Design Inputs'!$C$10/10,0)*10))","v":50},{"$f":"MAX(50,IF(AV113<0,0,ROUNDUP(AV113/'Design Inputs'!$C$10/10,0)*10))","v":50},{"$f":"MAX(50,IF(AW113<0,0,ROUNDUP(AW113/'Design Inputs'!$C$10/10,0)*10))","v":60},{"$f":"MAX(50,IF(AX113<0,0,ROUNDUP(AX113/'Design Inputs'!$C$10/10,0)*10))","v":90},{"$f":"MAX(50,IF(AY113<0,0,ROUNDUP(AY113/'Design Inputs'!$C$10/10,0)*10))","v":120},{"$f":"MAX(50,IF(AZ113<0,0,ROUNDUP(AZ113/'Design Inputs'!$C$10/10,0)*10))","v":160},{"$f":"MAX(50,IF(BA113<0,0,ROUNDUP(BA113/'Design Inputs'!$C$10/10,0)*10))","v":190}]
[7,"Poor",2175.5655000000002,{"$f":"D24","v":59.634831199999994},66.927729999999997,77.924050399999999,87.368329199999991,97.755684599999995,112.7296704,124.8628186,137.66418999999999,155.70751179999999,170.32292579999998,105,105,105,105,105,105,105,105,105,105,13.434831199999991,20.727729999999994,31.724050399999996,41.168329199999988,51.555684599999992,66.529670400000001,78.662818599999994,91.464189999999988,109.50751179999999,124.12292579999998,100,100,100,100,100,150,150,150,150,150,{"$f":"MAX(0,X114-AH114*'Design Inputs'!$C$13)","v":0},{"$f":"MAX(0,Y114-AI114*'Design Inputs'!$C$13)","v":0.72772999999999399},{"$f":"MAX(0,Z114-AJ114*'Design Inputs'!$C$13)","v":11.724050399999996},{"$f":"MAX(0,AA114-AK114*'Design Inputs'!$C$13)","v":21.168329199999988},{"$f":"MAX(0,AB114-AL114*'Design Inputs'!$C$13)","v":31.555684599999992},{"$f":"MAX(0,AC114-AM114*'Design Inputs'!$C$13)","v":36.529670400000001},{"$f":"MAX(0,AD114-AN114*'Design Inputs'!$C$13)","v":48.662818599999994},{"$f":"MAX(0,AE114-AO114*'Design Inputs'!$C$13)","v":61.464189999999988},{"$f":"MAX(0,AF114-AP114*'Design Inputs'!$C$13)","v":79.507511799999989},{"$f":"MAX(0,AG114-AQ114*'Design Inputs'!$C$13)","v":94.122925799999976},{"$f":"MAX(50,IF(AR114<0,0,ROUNDUP(AR114/'Design Inputs'!$C$10/10,0)*10))","v":50},{"$f":"MAX(50,IF(AS114<0,0,ROUNDUP(AS114/'Design Inputs'!$C$10/10,0)*10))","v":50},{"$f":"MAX(50,IF(AT114<0,0,ROUNDUP(AT114/'Design Inputs'!$C$10/10,0)*10))","v":50},{"$f":"MAX(50,IF(AU114<0,0,ROUNDUP(AU114/'Design Inputs'!$C$10/10,0)*10))","v":50},{"$f":"MAX(50,IF(AV114<0,0,ROUNDUP(AV114/'Design Inputs'!$C$10/10,0)*10))","v":80},{"$f":"MAX(50,IF(AW114<0,0,ROUNDUP(AW114/'Design Inputs'!$C$10/10,0)*10))","v":90},{"$f":"MAX(50,IF(AX114<0,0,ROUNDUP(AX114/'Design Inputs'!$C$10/10,0)*10))","v":120},{"$f":"MAX(50,IF(AY114<0,0,ROUNDUP(AY114/'Design Inputs'!$C$10/10,0)*10))","v":140},{"$f":"MAX(50,IF(AZ114<0,0,ROUNDUP(AZ114/'Design Inputs'!$C$10/10,0)*10))","v":190},{"$f":"MAX(50,IF(BA114<0,0,ROUNDUP(BA114/'Design Inputs'!$C$10/10,0)*10))","v":220}]
[8,"Good",3625.9425000000001,{"$f":"D25","v":48.831626999999997},54.919448200000005,64.001954799999993,71.814994799999994,80.564024799999999,93.621606,104.5291026,116.18267339999998,132.61794660000001,145.85190539999999,105,105,105,105,105,105,105,105,105,105,2.6316269999999946,8.7194482000000022,17.80195479999999,25.614994799999991,34.364024799999996,47.421605999999997,58.329102599999999,69.982673399999982,86.417946600000008,99.65190539999999,100,100,100,100,100,150,150,150,150,150,{"$f":"MAX(0,X115-AH115*'Design Inputs'!$C$13)","v":0},{"$f":"MAX(0,Y115-AI115*'Design Inputs'!$C$13)","v":0},{"$f":"MAX(0,Z115-AJ115*'Design Inputs'!$C$13)","v":0},{"$f":"MAX(0,AA115-AK115*'Design Inputs'!$C$13)","v":5.614994799999991},{"$f":"MAX(0,AB115-AL115*'Design Inputs'!$C$13)","v":14.364024799999996},{"$f":"MAX(0,AC115-AM115*'Design Inputs'!$C$13)","v":17.421605999999997},{"$f":"MAX(0,AD115-AN115*'Design Inputs'!$C$13)","v":28.329102599999999},{"$f":"MAX(0,AE115-AO115*'Design Inputs'!$C$13)","v":39.982673399999982},{"$f":"MAX(0,AF115-AP115*'Design Inputs'!$C$13)","v":56.417946600000008},{"$f":"MAX(0,AG115-AQ115*'Design Inputs'!$C$13)","v":69.65190539999999},{"$f":"MAX(50,IF(AR115<0,0,ROUNDUP(AR115/'Design Inputs'!$C$10/10,0)*10))","v":50},{"$f":"MAX(50,IF(AS115<0,0,ROUNDUP(AS115/'Design Inputs'!$C$10/10,0)*10))","v":50},{"$f":"MAX(50,IF(AT115<0,0,ROUNDUP(AT115/'Design Inputs'!$C$10/10,0)*10))","v":50},{"$f":"MAX(50,IF(AU115<0,0,ROUNDUP(AU115/'Design Inputs'!$C$10/10,0)*10))","v":50},{"$f":"MAX(50,IF(AV115<0,0,ROUNDUP(AV115/'Design Inputs'!$C$10/10,0)*10))","v":50},{"$f":"MAX(50,IF(AW115<0,0,ROUNDUP(AW115/'Design Inputs'!$C$10/10,0)*10))","v":50},{"$f":"MAX(50,IF(AX115<0,0,ROUNDUP(AX115/'Design Inputs'!$C$10/10,0)*10))","v":70},{"$f":"MAX(50,IF(AY115<0,0,ROUNDUP(AY115/'Design Inputs'!$C$10/10,0)*10))","v":100},{"$f":"MAX(50,IF(AZ115<0,0,ROUNDUP(AZ115/'Design Inputs'!$C$10/10,0)*10))","v":130},{"$f":"MAX(50,IF(BA115<0,0,ROUNDUP(BA115/'Design Inputs'!$C$10/10,0)*10))","v":160}]
[8,"Fair",2900.7539999999999,{"$f":"D26","v":53.320416599999994},59.891041000000001,69.752464000000003,78.256866599999995,87.73784839999999,101.69278619999999,113.16804899999998,125.3256828,142.43235419999999,156.23410459999999,105,105,105,105,105,105,105,105,105,105,7.1204165999999915,13.691040999999998,23.552464000000001,32.056866599999992,41.537848399999987,55.492786199999983,66.968048999999979,79.125682799999993,96.232354199999989,110.03410459999999,100,100,100,100,100,150,150,150,150,150,{"$f":"MAX(0,X116-AH116*'Design Inputs'!$C$13)","v":0},{"$f":"MAX(0,Y116-AI116*'Design Inputs'!$C$13)","v":0},{"$f":"MAX(0,Z116-AJ116*'Design Inputs'!$C$13)","v":3.5524640000000005},{"$f":"MAX(0,AA116-AK116*'Design Inputs'!$C$13)","v":12.056866599999992},{"$f":"MAX(0,AB116-AL116*'Design Inputs'!$C$13)","v":21.537848399999987},{"$f":"MAX(0,AC116-AM116*'Design Inputs'!$C$13)","v":25.492786199999983},{"$f":"MAX(0,AD116-AN116*'Design Inputs'!$C$13)","v":36.968048999999979},{"$f":"MAX(0,AE116-AO116*'Design Inputs'!$C$13)","v":49.125682799999993},{"$f":"MAX(0,AF116-AP116*'Design Inputs'!$C$13)","v":66.232354199999989},{"$f":"MAX(0,AG116-AQ116*'Design Inputs'!$C$13)","v":80.034104599999992},{"$f":"MAX(50,IF(AR116<0,0,ROUNDUP(AR116/'Design Inputs'!$C$10/10,0)*10))","v":50},{"$f":"MAX(50,IF(AS116<0,0,ROUNDUP(AS116/'Design Inputs'!$C$10/10,0)*10))","v":50},{"$f":"MAX(50,IF(AT116<0,0,ROUNDUP(AT116/'Design Inputs'!$C$10/10,0)*10))","v":50},{"$f":"MAX(50,IF(AU116<0,0,ROUNDUP(AU116/'Design Inputs'!$C$10/10,0)*10))","v":50},{"$f":"MAX(50,IF(AV116<0,0,ROUNDUP(AV116/'Design Inputs'!$C$10/10,0)*10))","v":50},{"$f":"MAX(50,IF(AW116<0,0,ROUNDUP(AW116/'Design Inputs'!$C$10/10,0)*10))","v":60},{"$f":"MAX(50,IF(AX116<0,0,ROUNDUP(AX116/'Design Inputs'!$C$10/10,0)*10))","v":90},{"$f":"MAX(50,IF(AY116<0,0,ROUNDUP(AY116/'Design Inputs'!$C$10/10,0)*10))","v":120},{"$f":"MAX(50,IF(AZ116<0,0,ROUNDUP(AZ116/'Design Inputs'!$C$10/10,0)*10))","v":160},{"$f":"MAX(50,IF(BA116<0,0,ROUNDUP(BA116/'Design Inputs'!$C$10/10,0)*10))","v":190}]
[8,"Poor",2175.5655000000002,{"$f":"D27","v":59.634831199999994},66.927729999999997,77.924050399999999,87.368329199999991,97.755684599999995,112.7296704,124.8628186,137.66418999999999,155.70751179999999,170.32292579999998,105,105,105,105,105,105,105,105,105,105,13.434831199999991,20.727729999999994,31.724050399999996,41.168329199999988,51.555684599999992,66.529670400000001,78.662818599999994,91.464189999999988,109.50751179999999,124.12292579999998,100,100,100,100,100,150,150,150,150,150,{"$f":"MAX(0,X117-AH117*'Design Inputs'!$C$13)","v":0},{"$f":"MAX(0,Y117-AI117*'Design Inputs'!$C$13)","v":0.72772999999999399},{"$f":"MAX(0,Z117-AJ117*'Design Inputs'!$C$13)","v":11.724050399999996},{"$f":"MAX(0,AA117-AK117*'Design Inputs'!$C$13)","v":21.168329199999988},{"$f":"MAX(0,AB117-AL117*'Design Inputs'!$C$13)","v":31.555684599999992},{"$f":"MAX(0,AC117-AM117*'Design Inputs'!$C$13)","v":36.529670400000001},{"$f":"MAX(0,AD117-AN117*'Design Inputs'!$C$13)","v":48.662818599999994},{"$f":"MAX(0,AE117-AO117*'Design Inputs'!$C$13)","v":61.464189999999988},{"$f":"MAX(0,AF117-AP117*'Design Inputs'!$C$13)","v":79.507511799999989},{"$f":"MAX(0,AG117-AQ117*'Design Inputs'!$C$13)","v":94.122925799999976},{"$f":"MAX(50,IF(AR117<0,0,ROUNDUP(AR117/'Design Inputs'!$C$10/10,0)*10))","v":50},{"$f":"MAX(50,IF(AS117<0,0,ROUNDUP(AS117/'Design Inputs'!$C$10/10,0)*10))","v":50},{"$f":"MAX(50,IF(AT117<0,0,ROUNDUP(AT117/'Design Inputs'!$C$10/10,0)*10))","v":50},{"$f":"MAX(50,IF(AU117<0,0,ROUNDUP(AU117/'Design Inputs'!$C$10/10,0)*10))","v":50},{"$f":"MAX(50,IF(AV117<0,0,ROUNDUP(AV117/'Design Inputs'!$C$10/10,0)*10))","v":80},{"$f":"MAX(50,IF(AW117<0,0,ROUNDUP(AW117/'Design Inputs'!$C$10/10,0)*10))","v":90},{"$f":"MAX(50,IF(AX117<0,0,ROUNDUP(AX117/'Design Inputs'!$C$10/10,0)*10))","v":120},{"$f":"MAX(50,IF(AY117<0,0,ROUNDUP(AY117/'Design Inputs'!$C$10/10,0)*10))","v":140},{"$f":"MAX(50,IF(AZ117<0,0,ROUNDUP(AZ117/'Design Inputs'!$C$10/10,0)*10))","v":190},{"$f":"MAX(50,IF(BA117<0,0,ROUNDUP(BA117/'Design Inputs'!$C$10/10,0)*10))","v":220}]

{"sheet":"Gran","index":3,"n_rows":77,"n_cols":15,"rows_kept":77,"cut":false,"hidden":false,"merged":[[68,2,76,2],[68,3,70,3],[71,3,73,3],[74,3,76,3],[50,2,58,2],[50,3,52,3],[53,3,55,3],[56,3,58,3],[59,2,67,2],[59,3,61,3],[62,3,64,3],[65,3,67,3],[32,2,40,2],[32,3,34,3],[35,3,37,3],[38,3,40,3],[41,2,49,2],[41,3,43,3],[44,3,46,3],[47,3,49,3],[14,2,22,2],[14,3,16,3],[17,3,19,3],[20,3,22,3],[23,2,31,2],[23,3,25,3],[26,3,28,3],[29,3,31,3],[0,2,1,14],[2,2,4,2],[2,3,4,3],[4,5,4,14],[5,2,13,2],[5,3,7,3],[8,3,10,3],[11,3,13,3]]}
[null,null,"GRANULAR BASE\nSTRUCTURE THICKNESSES (mm)"]
[]
[null,null,null,"Drainage","ESALs",10000,20000,50000,100000,200000,500000,1000000,2000000,5000000,10000000]
[null,null,null,null,"TI",{"$f":"9*(F3/1000000)^0.119","v":5.2028644266514625},{"$f":"9*(G3/1000000)^0.119","v":5.6502163682481852},6.301151766600797,6.8429364924616367,7.4313048747790562,8.2874312748453587,9,9.7738367069006493,10.899835407763195,11.837023489730147]
[null,null,null,null,"Layer Type"]
[1,"Good","Category 1","Good","Pavers and Bedding",{"$f":"SUM(IF($A6=SoilCat,IF($B6=DrainCat,IF(F$3=ESALCat,Design!$N$4:$W$27))))","v":105},{"$f":"SUM(IF($A6=SoilCat,IF($B6=DrainCat,IF(G$3=ESALCat,Design!$N$4:$W$27))))","v":105},{"$f":"SUM(IF($A6=SoilCat,IF($B6=DrainCat,IF(H$3=ESALCat,Design!$N$4:$W$27))))","v":105},{"$f":"SUM(IF($A6=SoilCat,IF($B6=DrainCat,IF(I$3=ESALCat,Design!$N$4:$W$27))))","v":105},{"$f":"SUM(IF($A6=SoilCat,IF($B6=DrainCat,IF(J$3=ESALCat,Design!$N$4:$W$27))))","v":105},{"$f":"SUM(IF($A6=SoilCat,IF($B6=DrainCat,IF(K$3=ESALCat,Design!$N$4:$W$27))))","v":105},{"$f":"SUM(IF($A6=SoilCat,IF($B6=DrainCat,IF(L$3=ESALCat,Design!$N$4:$W$27))))","v":105},{"$f":"SUM(IF($A6=SoilCat,IF($B6=DrainCat,IF(M$3=ESALCat,Design!$N$4:$W$27))))","v":105},{"$f":"SUM(IF($A6=SoilCat,IF($B6=DrainCat,IF(N$3=ESALCat,Design!$N$4:$W$27))))","v":105},{"$f":"SUM(IF($A6=SoilCat,IF($B6=DrainCat,IF(O$3=ESALCat,Design!$N$4:$W$27))))","v":105}]
[1,"Good",null,null,"Unbound Dense Graded Base",{"$f":"SUM(IF($A7=SoilCat,IF($B7=DrainCat,IF(F$3=ESALCat,Design!$AH$4:$AQ$27))))","v":100},{"$f":"SUM(IF($A7=SoilCat,IF($B7=DrainCat,IF(G$3=ESALCat,Design!$AH$4:$AQ$27))))","v":100},{"$f":"SUM(IF($A7=SoilCat,IF($B7=DrainCat,IF(H$3=ESALCat,Design!$AH$4:$AQ$27))))","v":100},{"$f":"SUM(IF($A7=SoilCat,IF($B7=DrainCat,IF(I$3=ESALCat,Design!$AH$4:$AQ$27))))","v":100},{"$f":"SUM(IF($A7=SoilCat,IF($B7=DrainCat,IF(J$3=ESALCat,Design!$AH$4:$AQ$27))))","v":100},{"$f":"SUM(IF($A7=SoilCat,IF($B7=DrainCat,IF(K$3=ESALCat,Design!$AH$4:$AQ$27))))","v":150},{"$f":"SUM(IF($A7=SoilCat,IF($B7=DrainCat,IF(L$3=ESALCat,Design!$AH$4:$AQ$27))))","v":150},{"$f":"SUM(IF($A7=SoilCat,IF($B7=DrainCat,IF(M$3=ESALCat,Design!$AH$4:$AQ$27))))","v":200},{"$f":"SUM(IF($A7=SoilCat,IF($B7=DrainCat,IF(N$3=ESALCat,Design!$AH$4:$AQ$27))))","v":150},{"$f":"SUM(IF($A7=SoilCat,IF($B7=DrainCat,IF(O$3=ESALCat,Design!$AH$4:$AQ$27))))","v":150}]
[1,"Good",null,null,"Unbound Dense Graded Subbase",{"$f":"SUM(IF($A8=SoilCat,IF($B8=DrainCat,IF(F$3=ESALCat,Design!$BB$4:$BK$27))))","v":0},{"$f":"SUM(IF($A8=SoilCat,IF($B8=DrainCat,IF(G$3=ESALCat,Design!$BB$4:$BK$27))))","v":0},{"$f":"SUM(IF($A8=SoilCat,IF($B8=DrainCat,IF(H$3=ESALCat,Design!$BB$4:$BK$27))))","v":0},{"$f":"SUM(IF($A8=SoilCat,IF($B8=DrainCat,IF(I$3=ESALCat,Design!$BB$4:$BK$27))))","v":0},{"$f":"SUM(IF($A8=SoilCat,IF($B8=DrainCat,IF(J$3=ESALCat,Design!$BB$4:$BK$27))))","v":0},{"$f":"SUM(IF($A8=SoilCat,IF($B8=DrainCat,IF(K$3=ESALCat,Design!$BB$4:$BK$27))))","v":0},{"$f":"SUM(IF($A8=SoilCat,IF($B8=DrainCat,IF(L$3=ESALCat,Design!$BB$4:$BK$27))))","v":0},{"$f":"SUM(IF($A8=SoilCat,IF($B8=DrainCat,IF(M$3=ESALCat,Design!$BB$4:$BK$27))))","v":0},{"$f":"SUM(IF($A8=SoilCat,IF($B8=DrainCat,IF(N$3=ESALCat,Design!$BB$4:$BK$27))))","v":200},{"$f":"SUM(IF($A8=SoilCat,IF($B8=DrainCat,IF(O$3=ESALCat,Design!$BB$4:$BK$27))))","v":300}]
[1,"Fair",null,"Fair","Pavers and Bedding",{"$f":"SUM(IF($A9=SoilCat,IF($B9=DrainCat,IF(F$3=ESALCat,Design!$N$4:$W$27))))","v":105},{"$f":"SUM(IF($A9=SoilCat,IF($B9=DrainCat,IF(G$3=ESALCat,Design!$N$4:$W$27))))","v":105},{"$f":"SUM(IF($A9=SoilCat,IF($B9=DrainCat,IF(H$3=ESALCat,Design!$N$4:$W$27))))","v":105},{"$f":"SUM(IF($A9=SoilCat,IF($B9=DrainCat,IF(I$3=ESALCat,Design!$N$4:$W$27))))","v":105},{"$f":"SUM(IF($A9=SoilCat,IF($B9=DrainCat,IF(J$3=ESALCat,Design!$N$4:$W$27))))","v":105},{"$f":"SUM(IF($A9=SoilCat,IF($B9=DrainCat,IF(K$3=ESALCat,Design!$N$4:$W$27))))","v":105},{"$f":"SUM(IF($A9=SoilCat,IF($B9=DrainCat,IF(L$3=ESALCat,Design!$N$4:$W$27))))","v":105},{"$f":"SUM(IF($A9=SoilCat,IF($B9=DrainCat,IF(M$3=ESALCat,Design!$N$4:$W$27))))","v":105},{"$f":"SUM(IF($A9=SoilCat,IF($B9=DrainCat,IF(N$3=ESALCat,Design!$N$4:$W$27))))","v":105},{"$f":"SUM(IF($A9=SoilCat,IF($B9=DrainCat,IF(O$3=ESALCat,Design!$N$4:$W$27))))","v":105}]
[1,"Fair",null,null,"Unbound Dense Graded Base",{"$f":"SUM(IF($A10=SoilCat,IF($B10=DrainCat,IF(F$3=ESALCat,Design!$AH$4:$AQ$27))))","v":100},{"$f":"SUM(IF($A10=SoilCat,IF($B10=DrainCat,IF(G$3=ESALCat,Design!$AH$4:$AQ$27))))","v":100},{"$f":"SUM(IF($A10=SoilCat,IF($B10=DrainCat,IF(H$3=ESALCat,Design!$AH$4:$AQ$27))))","v":100},{"$f":"SUM(IF($A10=SoilCat,IF($B10=DrainCat,IF(I$3=ESALCat,Design!$AH$4:$AQ$27))))","v":100},{"$f":"SUM(IF($A10=SoilCat,IF($B10=DrainCat,IF(J$3=ESALCat,Design!$AH$4:$AQ$27))))","v":100},{"$f":"SUM(IF($A10=SoilCat,IF($B10=DrainCat,IF(K$3=ESALCat,Design!$AH$4:$AQ$27))))","v":150},{"$f":"SUM(IF($A10=SoilCat,IF($B10=DrainCat,IF(L$3=ESALCat,Design!$AH$4:$AQ$27))))","v":175},{"$f":"SUM(IF($A10=SoilCat,IF($B10=DrainCat,IF(M$3=ESALCat,Design!$AH$4:$AQ$27))))","v":150},{"$f":"SUM(IF($A10=SoilCat,IF($B10=DrainCat,IF(N$3=ESALCat,Design!$AH$4:$AQ$27))))","v":150},{"$f":"SUM(IF($A10=SoilCat,IF($B10=DrainCat,IF(O$3=ESALCat,Design!$AH$4:$AQ$27))))","v":150}]
[1,"Fair",null,null,"Unbound Dense Graded Subbase",{"$f":"SUM(IF($A11=SoilCat,IF($B11=DrainCat,IF(F$3=ESALCat,Design!$BB$4:$BK$27))))","v":0},{"$f":"SUM(IF($A11=SoilCat,IF($B11=DrainCat,IF(G$3=ESALCat,Design!$BB$4:$BK$27))))","v":0},{"$f":"SUM(IF($A11=SoilCat,IF($B11=DrainCat,IF(H$3=ESALCat,Design!$BB$4:$BK$27))))","v":0},{"$f":"SUM(IF($A11=SoilCat,IF($B11=DrainCat,IF(I$3=ESALCat,Design!$BB$4:$BK$27))))","v":0},{"$f":"SUM(IF($A11=SoilCat,IF($B11=DrainCat,IF(J$3=ESALCat,Design!$BB$4:$BK$27))))","v":0},{"$f":"SUM(IF($A11=SoilCat,IF($B11=DrainCat,IF(K$3=ESALCat,Design!$BB$4:$BK$27))))","v":0},{"$f":"SUM(IF($A11=SoilCat,IF($B11=DrainCat,IF(L$3=ESALCat,Design!$BB$4:$BK$27))))","v":0},{"$f":"SUM(IF($A11=SoilCat,IF($B11=DrainCat,IF(M$3=ESALCat,Design!$BB$4:$BK$27))))","v":150},{"$f":"SUM(IF($A11=SoilCat,IF($B11=DrainCat,IF(N$3=ESALCat,Design!$BB$4:$BK$27))))","v":250},{"$f":"SUM(IF($A11=SoilCat,IF($B11=DrainCat,IF(O$3=ESALCat,Design!$BB$4:$BK$27))))","v":350}]
[1,"Poor",null,"Poor","Pavers and Bedding",{"$f":"SUM(IF($A12=SoilCat,IF($B12=DrainCat,IF(F$3=ESALCat,Design!$N$4:$W$27))))","v":105},{"$f":"SUM(IF($A12=SoilCat,IF($B12=DrainCat,IF(G$3=ESALCat,Design!$N$4:$W$27))))","v":105},{"$f":"SUM(IF($A12=SoilCat,IF($B12=DrainCat,IF(H$3=ESALCat,Design!$N$4:$W$27))))","v":105},{"$f":"SUM(IF($A12=SoilCat,IF($B12=DrainCat,IF(I$3=ESALCat,Design!$N$4:$W$27))))","v":105},{"$f":"SUM(IF($A12=SoilCat,IF($B12=DrainCat,IF(J$3=ESALCat,Design!$N$4:$W$27))))","v":105},{"$f":"SUM(IF($A12=SoilCat,IF($B12=DrainCat,IF(K$3=ESALCat,Design!$N$4:$W$27))))","v":105},{"$f":"SUM(IF($A12=SoilCat,IF($B12=DrainCat,IF(L$3=ESALCat,Design!$N$4:$W$27))))","v":105},{"$f":"SUM(IF($A12=SoilCat,IF($B12=DrainCat,IF(M$3=ESALCat,Design!$N$4:$W$27))))","v":105},{"$f":"SUM(IF($A12=SoilCat,IF($B12=DrainCat,IF(N$3=ESALCat,Design!$N$4:$W$27))))","v":105},{"$f":"SUM(IF($A12=SoilCat,IF($B12=DrainCat,IF(O$3=ESALCat,Design!$N$4:$W$27))))","v":105}]
[1,"Poor",null,null,"Unbound Dense Graded Base",{"$f":"SUM(IF($A13=SoilCat,IF($B13=DrainCat,IF(F$3=ESALCat,Design!$AH$4:$AQ$27))))","v":100},{"$f":"SUM(IF($A13=SoilCat,IF($B13=DrainCat,IF(G$3=ESALCat,Design!$AH$4:$AQ$27))))","v":100},{"$f":"SUM(IF($A13=SoilCat,IF($B13=DrainCat,IF(H$3=ESALCat,Design!$AH$4:$AQ$27))))","v":100},{"$f":"SUM(IF($A13=SoilCat,IF($B13=DrainCat,IF(I$3=ESALCat,Design!$AH$4:$AQ$27))))","v":100},{"$f":"SUM(IF($A13=SoilCat,IF($B13=DrainCat,IF(J$3=ESALCat,Design!$AH$4:$AQ$27))))","v":100},{"$f":"SUM(IF($A13=SoilCat,IF($B13=DrainCat,IF(K$3=ESALCat,Design!$AH$4:$AQ$27))))","v":150},{"$f":"SUM(IF($A13=SoilCat,IF($B13=DrainCat,IF(L$3=ESALCat,Design!$AH$4:$AQ$27))))","v":200},{"$f":"SUM(IF($A13=SoilCat,IF($B13=DrainCat,IF(M$3=ESALCat,Design!$AH$4:$AQ$27))))","v":150},{"$f":"SUM(IF($A13=SoilCat,IF($B13=DrainCat,IF(N$3=ESALCat,Design!$AH$4:$AQ$27))))","v":150},{"$f":"SUM(IF($A13=SoilCat,IF($B13=DrainCat,IF(O$3=ESALCat,Design!$AH$4:$AQ$27))))","v":150}]
[1,"Poor",null,null,"Unbound Dense Graded Subbase",{"$f":"SUM(IF($A14=SoilCat,IF($B14=DrainCat,IF(F$3=ESALCat,Design!$BB$4:$BK$27))))","v":0},{"$f":"SUM(IF($A14=SoilCat,IF($B14=DrainCat,IF(G$3=ESALCat,Design!$BB$4:$BK$27))))","v":0},{"$f":"SUM(IF($A14=SoilCat,IF($B14=DrainCat,IF(H$3=ESALCat,Design!$BB$4:$BK$27))))","v":0},{"$f":"SUM(IF($A14=SoilCat,IF($B14=DrainCat,IF(I$3=ESALCat,Design!$BB$4:$BK$27))))","v":0},{"$f":"SUM(IF($A14=SoilCat,IF($B14=DrainCat,IF(J$3=ESALCat,Design!$BB$4:$BK$27))))","v":0},{"$f":"SUM(IF($A14=SoilCat,IF($B14=DrainCat,IF(K$3=ESALCat,Design!$BB$4:$BK$27))))","v":0},{"$f":"SUM(IF($A14=SoilCat,IF($B14=DrainCat,IF(L$3=ESALCat,Design!$BB$4:$BK$27))))","v":0},{"$f":"SUM(IF($A14=SoilCat,IF($B14=DrainCat,IF(M$3=ESALCat,Design!$BB$4:$BK$27))))","v":150},{"$f":"SUM(IF($A14=SoilCat,IF($B14=DrainCat,IF(N$3=ESALCat,Design!$BB$4:$BK$27))))","v":300},{"$f":"SUM(IF($A14=SoilCat,IF($B14=DrainCat,IF(O$3=ESALCat,Design!$BB$4:$BK$27))))","v":400}]
[2,"Good","Category 2","Good","Pavers and Bedding",{"$f":"SUM(IF($A15=SoilCat,IF($B15=DrainCat,IF(F$3=ESALCat,Design!$N$4:$W$27))))","v":105},{"$f":"SUM(IF($A15=SoilCat,IF($B15=DrainCat,IF(G$3=ESALCat,Design!$N$4:$W$27))))","v":105},{"$f":"SUM(IF($A15=SoilCat,IF($B15=DrainCat,IF(H$3=ESALCat,Design!$N$4:$W$27))))","v":105},{"$f":"SUM(IF($A15=SoilCat,IF($B15=DrainCat,IF(I$3=ESALCat,Design!$N$4:$W$27))))","v":105},{"$f":"SUM(IF($A15=SoilCat,IF($B15=DrainCat,IF(J$3=ESALCat,Design!$N$4:$W$27))))","v":105},{"$f":"SUM(IF($A15=SoilCat,IF($B15=DrainCat,IF(K$3=ESALCat,Design!$N$4:$W$27))))","v":105},{"$f":"SUM(IF($A15=SoilCat,IF($B15=DrainCat,IF(L$3=ESALCat,Design!$N$4:$W$27))))","v":105},{"$f":"SUM(IF($A15=SoilCat,IF($B15=DrainCat,IF(M$3=ESALCat,Design!$N$4:$W$27))))","v":105},{"$f":"SUM(IF($A15=SoilCat,IF($B15=DrainCat,IF(N$3=ESALCat,Design!$N$4:$W$27))))","v":105},{"$f":"SUM(IF($A15=SoilCat,IF($B15=DrainCat,IF(O$3=ESALCat,Design!$N$4:$W$27))))","v":105}]
[2,"Good",null,null,"Unbound Dense Graded Base",{"$f":"SUM(IF($A16=SoilCat,IF($B16=DrainCat,IF(F$3=ESALCat,Design!$AH$4:$AQ$27))))","v":100},{"$f":"SUM(IF($A16=SoilCat,IF($B16=DrainCat,IF(G$3=ESALCat,Design!$AH$4:$AQ$27))))","v":100},{"$f":"SUM(IF($A16=SoilCat,IF($B16=DrainCat,IF(H$3=ESALCat,Design!$AH$4:$AQ$27))))","v":100},{"$f":"SUM(IF($A16=SoilCat,IF($B16=DrainCat,IF(I$3=ESALCat,Design!$AH$4:$AQ$27))))","v":100},{"$f":"SUM(IF($A16=SoilCat,IF($B16=DrainCat,IF(J$3=ESALCat,Design!$AH$4:$AQ$27))))","v":100},{"$f":"SUM(IF($A16=SoilCat,IF($B16=DrainCat,IF(K$3=ESALCat,Design!$AH$4:$AQ$27))))","v":150},{"$f":"SUM(IF($A16=SoilCat,IF($B16=DrainCat,IF(L$3=ESALCat,Design!$AH$4:$AQ$27))))","v":175},{"$f":"SUM(IF($A16=SoilCat,IF($B16=DrainCat,IF(M$3=ESALCat,Design!$AH$4:$AQ$27))))","v":150},{"$f":"SUM(IF($A16=SoilCat,IF($B16=DrainCat,IF(N$3=ESALCat,Design!$AH$4:$AQ$27))))","v":150},{"$f":"SUM(IF($A16=SoilCat,IF($B16=DrainCat,IF(O$3=ESALCat,Design!$AH$4:$AQ$27))))","v":150}]
[2,"Good",null,null,"Unbound Dense Graded Subbase",{"$f":"SUM(IF($A17=SoilCat,IF($B17=DrainCat,IF(F$3=ESALCat,Design!$BB$4:$BK$27))))","v":0},{"$f":"SUM(IF($A17=SoilCat,IF($B17=DrainCat,IF(G$3=ESALCat,Design!$BB$4:$BK$27))))","v":0},{"$f":"SUM(IF($A17=SoilCat,IF($B17=DrainCat,IF(H$3=ESALCat,Design!$BB$4:$BK$27))))","v":0},{"$f":"SUM(IF($A17=SoilCat,IF($B17=DrainCat,IF(I$3=ESALCat,Design!$BB$4:$BK$27))))","v":0},{"$f":"SUM(IF($A17=SoilCat,IF($B17=DrainCat,IF(J$3=ESALCat,Design!$BB$4:$BK$27))))","v":0},{"$f":"SUM(IF($A17=SoilCat,IF($B17=DrainCat,IF(K$3=ESALCat,Design!$BB$4:$BK$27))))","v":0},{"$f":"SUM(IF($A17=SoilCat,IF($B17=DrainCat,IF(L$3=ESALCat,Design!$BB$4:$BK$27))))","v":0},{"$f":"SUM(IF($A17=SoilCat,IF($B17=DrainCat,IF(M$3=ESALCat,Design!$BB$4:$BK$27))))","v":150},{"$f":"SUM(IF($A17=SoilCat,IF($B17=DrainCat,IF(N$3=ESALCat,Design!$BB$4:$BK$27))))","v":250},{"$f":"SUM(IF($A17=SoilCat,IF($B17=DrainCat,IF(O$3=ESALCat,Design!$BB$4:$BK$27))))","v":350}]
[2,"Fair",null,"Fair","Pavers and Bedding",{"$f":"SUM(IF($A18=SoilCat,IF($B18=DrainCat,IF(F$3=ESALCat,Design!$N$4:$W$27))))","v":105},{"$f":"SUM(IF($A18=SoilCat,IF($B18=DrainCat,IF(G$3=ESALCat,Design!$N$4:$W$27))))","v":105},{"$f":"SUM(IF($A18=SoilCat,IF($B18=DrainCat,IF(H$3=ESALCat,Design!$N$4:$W$27))))","v":105},{"$f":"SUM(IF($A18=SoilCat,IF($B18=DrainCat,IF(I$3=ESALCat,Design!$N$4:$W$27))))","v":105},{"$f":"SUM(IF($A18=SoilCat,IF($B18=DrainCat,IF(J$3=ESALCat,Design!$N$4:$W$27))))","v":105},{"$f":"SUM(IF($A18=SoilCat,IF($B18=DrainCat,IF(K$3=ESALCat,Design!$N$4:$W$27))))","v":105},{"$f":"SUM(IF($A18=SoilCat,IF($B18=DrainCat,IF(L$3=ESALCat,Design!$N$4:$W$27))))","v":105},{"$f":"SUM(IF($A18=SoilCat,IF($B18=DrainCat,IF(M$3=ESALCat,Design!$N$4:$W$27))))","v":105},{"$f":"SUM(IF($A18=SoilCat,IF($B18=DrainCat,IF(N$3=ESALCat,Design!$N$4:$W$27))))","v":105},{"$f":"SUM(IF($A18=SoilCat,IF($B18=DrainCat,IF(O$3=ESALCat,Design!$N$4:$W$27))))","v":105}]
[2,"Fair",null,null,"Unbound Dense Graded Base",{"$f":"SUM(IF($A19=SoilCat,IF($B19=DrainCat,IF(F$3=ESALCat,Design!$AH$4:$AQ$27))))","v":100},{"$f":"SUM(IF($A19=SoilCat,IF($B19=DrainCat,IF(G$3=ESALCat,Design!$AH$4:$AQ$27))))","v":100},{"$f":"SUM(IF($A19=SoilCat,IF($B19=DrainCat,IF(H$3=ESALCat,Design!$AH$4:$AQ$27))))","v":100},{"$f":"SUM(IF($A19=SoilCat,IF($B19=DrainCat,IF(I$3=ESALCat,Design!$AH$4:$AQ$27))))","v":100},{"$f":"SUM(IF($A19=SoilCat,IF($B19=DrainCat,IF(J$3=ESALCat,Design!$AH$4:$AQ$27))))","v":100},{"$f":"SUM(IF($A19=SoilCat,IF($B19=DrainCat,IF(K$3=ESALCat,Design!$AH$4:$AQ$27))))","v":150},{"$f":"SUM(IF($A19=SoilCat,IF($B19=DrainCat,IF(L$3=ESALCat,Design!$AH$4:$AQ$27))))","v":200},{"$f":"SUM(IF($A19=SoilCat,IF($B19=DrainCat,IF(M$3=ESALCat,Design!$AH$4:$AQ$27))))","v":150},{"$f":"SUM(IF($A19=SoilCat,IF($B19=DrainCat,IF(N$3=ESALCat,Design!$AH$4:$AQ$27))))","v":150},{"$f":"SUM(IF($A19=SoilCat,IF($B19=DrainCat,IF(O$3=ESALCat,Design!$AH$4:$AQ$27))))","v":150}]
[2,"Fair",null,null,"Unbound Dense Graded Subbase",{"$f":"SUM(IF($A20=SoilCat,IF($B20=DrainCat,IF(F$3=ESALCat,Design!$BB$4:$BK$27))))","v":0},{"$f":"SUM(IF($A20=SoilCat,IF($B20=DrainCat,IF(G$3=ESALCat,Design!$BB$4:$BK$27))))","v":0},{"$f":"SUM(IF($A20=SoilCat,IF($B20=DrainCat,IF(H$3=ESALCat,Design!$BB$4:$BK$27))))","v":0},{"$f":"SUM(IF($A20=SoilCat,IF($B20=DrainCat,IF(I$3=ESALCat,Design!$BB$4:$BK$27))))","v":0},{"$f":"SUM(IF($A20=SoilCat,IF($B20=DrainCat,IF(J$3=ESALCat,Design!$BB$4:$BK$27))))","v":0},{"$f":"SUM(IF($A20=SoilCat,IF($B20=DrainCat,IF(K$3=ESALCat,Design!$BB$4:$BK$27))))","v":0},{"$f":"SUM(IF($A20=SoilCat,IF($B20=DrainCat,IF(L$3=ESALCat,Design!$BB$4:$BK$27))))","v":0},{"$f":"SUM(IF($A20=SoilCat,IF($B20=DrainCat,IF(M$3=ESALCat,Design!$BB$4:$BK$27))))","v":150},{"$f":"SUM(IF($A20=SoilCat,IF($B20=DrainCat,IF(N$3=ESALCat,Design!$BB$4:$BK$27))))","v":300},{"$f":"SUM(IF($A20=SoilCat,IF($B20=DrainCat,IF(O$3=ESALCat,Design!$BB$4:$BK$27))))","v":400}]
[2,"Poor",null,"Poor","Pavers and Bedding",{"$f":"SUM(IF($A21=SoilCat,IF($B21=DrainCat,IF(F$3=ESALCat,Design!$N$4:$W$27))))","v":105},{"$f":"SUM(IF($A21=SoilCat,IF($B21=DrainCat,IF(G$3=ESALCat,Design!$N$4:$W$27))))","v":105},{"$f":"SUM(IF($A21=SoilCat,IF($B21=DrainCat,IF(H$3=ESALCat,Design!$N$4:$W$27))))","v":105},{"$f":"SUM(IF($A21=SoilCat,IF($B21=DrainCat,IF(I$3=ESALCat,Design!$N$4:$W$27))))","v":105},{"$f":"SUM(IF($A21=SoilCat,IF($B21=DrainCat,IF(J$3=ESALCat,Design!$N$4:$W$27))))","v":105},{"$f":"SUM(IF($A21=SoilCat,IF($B21=DrainCat,IF(K$3=ESALCat,Design!$N$4:$W$27))))","v":105},{"$f":"SUM(IF($A21=SoilCat,IF($B21=DrainCat,IF(L$3=ESALCat,Design!$N$4:$W$27))))","v":105},{"$f":"SUM(IF($A21=SoilCat,IF($B21=DrainCat,IF(M$3=ESALCat,Design!$N$4:$W$27))))","v":105},{"$f":"SUM(IF($A21=SoilCat,IF($B21=DrainCat,IF(N$3=ESALCat,Design!$N$4:$W$27))))","v":105},{"$f":"SUM(IF($A21=SoilCat,IF($B21=DrainCat,IF(O$3=ESALCat,Design!$N$4:$W$27))))","v":105}]
[2,"Poor",null,null,"Unbound Dense Graded Base",{"$f":"SUM(IF($A22=SoilCat,IF($B22=DrainCat,IF(F$3=ESALCat,Design!$AH$4:$AQ$27))))","v":100},{"$f":"SUM(IF($A22=SoilCat,IF($B22=DrainCat,IF(G$3=ESALCat,Design!$AH$4:$AQ$27))))","v":100},{"$f":"SUM(IF($A22=SoilCat,IF($B22=DrainCat,IF(H$3=ESALCat,Design!$AH$4:$AQ$27))))","v":100},{"$f":"SUM(IF($A22=SoilCat,IF($B22=DrainCat,IF(I$3=ESALCat,Design!$AH$4:$AQ$27))))","v":100},{"$f":"SUM(IF($A22=SoilCat,IF($B22=DrainCat,IF(J$3=ESALCat,Design!$AH$4:$AQ$27))))","v":125},{"$f":"SUM(IF($A22=SoilCat,IF($B22=DrainCat,IF(K$3=ESALCat,Design!$AH$4:$AQ$27))))","v":200},{"$f":"SUM(IF($A22=SoilCat,IF($B22=DrainCat,IF(L$3=ESALCat,Design!$AH$4:$AQ$27))))","v":150},{"$f":"SUM(IF($A22=SoilCat,IF($B22=DrainCat,IF(M$3=ESALCat,Design!$AH$4:$AQ$27))))","v":150},{"$f":"SUM(IF($A22=SoilCat,IF($B22=DrainCat,IF(N$3=ESALCat,Design!$AH$4:$AQ$27))))","v":150},{"$f":"SUM(IF($A22=SoilCat,IF($B22=DrainCat,IF(O$3=ESALCat,Design!$AH$4:$AQ$27))))","v":150}]
[2,"Poor",null,null,"Unbound Dense Graded Subbase",{"$f":"SUM(IF($A23=SoilCat,IF($B23=DrainCat,IF(F$3=ESALCat,Design!$BB$4:$BK$27))))","v":0},{"$f":"SUM(IF($A23=SoilCat,IF($B23=DrainCat,IF(G$3=ESALCat,Design!$BB$4:$BK$27))))","v":0},{"$f":"SUM(IF($A23=SoilCat,IF($B23=DrainCat,IF(H$3=ESALCat,Design!$BB$4:$BK$27))))","v":0},{"$f":"SUM(IF($A23=SoilCat,IF($B23=DrainCat,IF(I$3=ESALCat,Design!$BB$4:$BK$27))))","v":0},{"$f":"SUM(IF($A23=SoilCat,IF($B23=DrainCat,IF(J$3=ESALCat,Design!$BB$4:$BK$27))))","v":0},{"$f":"SUM(IF($A23=SoilCat,IF($B23=DrainCat,IF(K$3=ESALCat,Design!$BB$4:$BK$27))))","v":0},{"$f":"SUM(IF($A23=SoilCat,IF($B23=DrainCat,IF(L$3=ESALCat,Design!$BB$4:$BK$27))))","v":150},{"$f":"SUM(IF($A23=SoilCat,IF($B23=DrainCat,IF(M$3=ESALCat,Design!$BB$4:$BK$27))))","v":275},{"$f":"SUM(IF($A23=SoilCat,IF($B23=DrainCat,IF(N$3=ESALCat,Design!$BB$4:$BK$27))))","v":425},{"$f":"SUM(IF($A23=SoilCat,IF($B23=DrainCat,IF(O$3=ESALCat,Design!$BB$4:$BK$27))))","v":550}]
[3,"Good","Category 3","Good","Pavers and Bedding",{"$f":"SUM(IF($A24=SoilCat,IF($B24=DrainCat,IF(F$3=ESALCat,Design!$N$4:$W$27))))","v":105},{"$f":"SUM(IF($A24=SoilCat,IF($B24=DrainCat,IF(G$3=ESALCat,Design!$N$4:$W$27))))","v":105},{"$f":"SUM(IF($A24=SoilCat,IF($B24=DrainCat,IF(H$3=ESALCat,Design!$N$4:$W$27))))","v":105},{"$f":"SUM(IF($A24=SoilCat,IF($B24=DrainCat,IF(I$3=ESALCat,Design!$N$4:$W$27))))","v":105},{"$f":"SUM(IF($A24=SoilCat,IF($B24=DrainCat,IF(J$3=ESALCat,Design!$N$4:$W$27))))","v":105},{"$f":"SUM(IF($A24=SoilCat,IF($B24=DrainCat,IF(K$3=ESALCat,Design!$N$4:$W$27))))","v":105},{"$f":"SUM(IF($A24=SoilCat,IF($B24=DrainCat,IF(L$3=ESALCat,Design!$N$4:$W$27))))","v":105},{"$f":"SUM(IF($A24=SoilCat,IF($B24=DrainCat,IF(M$3=ESALCat,Design!$N$4:$W$27))))","v":105},{"$f":"SUM(IF($A24=SoilCat,IF($B24=DrainCat,IF(N$3=ESALCat,Design!$N$4:$W$27))))","v":105},{"$f":"SUM(IF($A24=SoilCat,IF($B24=DrainCat,IF(O$3=ESALCat,Design!$N$4:$W$27))))","v":105}]
[3,"Good",null,null,"Unbound Dense Graded Base",{"$f":"SUM(IF($A25=SoilCat,IF($B25=DrainCat,IF(F$3=ESALCat,Design!$AH$4:$AQ$27))))","v":100},{"$f":"SUM(IF($A25=SoilCat,IF($B25=DrainCat,IF(G$3=ESALCat,Design!$AH$4:$AQ$27))))","v":100},{"$f":"SUM(IF($A25=SoilCat,IF($B25=DrainCat,IF(H$3=ESALCat,Design!$AH$4:$AQ$27))))","v":100},{"$f":"SUM(IF($A25=SoilCat,IF($B25=DrainCat,IF(I$3=ESALCat,Design!$AH$4:$AQ$27))))","v":100},{"$f":"SUM(IF($A25=SoilCat,IF($B25=DrainCat,IF(J$3=ESALCat,Design!$AH$4:$AQ$27))))","v":100},{"$f":"SUM(IF($A25=SoilCat,IF($B25=DrainCat,IF(K$3=ESALCat,Design!$AH$4:$AQ$27))))","v":150},{"$f":"SUM(IF($A25=SoilCat,IF($B25=DrainCat,IF(L$3=ESALCat,Design!$AH$4:$AQ$27))))","v":200},{"$f":"SUM(IF($A25=SoilCat,IF($B25=DrainCat,IF(M$3=ESALCat,Design!$AH$4:$AQ$27))))","v":150},{"$f":"SUM(IF($A25=SoilCat,IF($B25=DrainCat,IF(N$3=ESALCat,Design!$AH$4:$AQ$27))))","v":150},{"$f":"SUM(IF($A25=SoilCat,IF($B25=DrainCat,IF(O$3=ESALCat,Design!$AH$4:$AQ$27))))","v":150}]
[3,"Good",null,null,"Unbound Dense Graded Subbase",{"$f":"SUM(IF($A26=SoilCat,IF($B26=DrainCat,IF(F$3=ESALCat,Design!$BB$4:$BK$27))))","v":0},{"$f":"SUM(IF($A26=SoilCat,IF($B26=DrainCat,IF(G$3=ESALCat,Design!$BB$4:$BK$27))))","v":0},{"$f":"SUM(IF($A26=SoilCat,IF($B26=DrainCat,IF(H$3=ESALCat,Design!$BB$4:$BK$27))))","v":0},{"$f":"SUM(IF($A26=SoilCat,IF($B26=DrainCat,IF(I$3=ESALCat,Design!$BB$4:$BK$27))))","v":0},{"$f":"SUM(IF($A26=SoilCat,IF($B26=DrainCat,IF(J$3=ESALCat,Design!$BB$4:$BK$27))))","v":0},{"$f":"SUM(IF($A26=SoilCat,IF($B26=DrainCat,IF(K$3=ESALCat,Design!$BB$4:$BK$27))))","v":0},{"$f":"SUM(IF($A26=SoilCat,IF($B26=DrainCat,IF(L$3=ESALCat,Design!$BB$4:$BK$27))))","v":0},{"$f":"SUM(IF($A26=SoilCat,IF($B26=DrainCat,IF(M$3=ESALCat,Design!$BB$4:$BK$27))))","v":150},{"$f":"SUM(IF($A26=SoilCat,IF($B26=DrainCat,IF(N$3=ESALCat,Design!$BB$4:$BK$27))))","v":300},{"$f":"SUM(IF($A26=SoilCat,IF($B26=DrainCat,IF(O$3=ESALCat,Design!$BB$4:$BK$27))))","v":400}]
[3,"Fair",null,"Fair","Pavers and Bedding",{"$f":"SUM(IF($A27=SoilCat,IF($B27=DrainCat,IF(F$3=ESALCat,Design!$N$4:$W$27))))","v":105},{"$f":"SUM(IF($A27=SoilCat,IF($B27=DrainCat,IF(G$3=ESALCat,Design!$N$4:$W$27))))","v":105},{"$f":"SUM(IF($A27=SoilCat,IF($B27=DrainCat,IF(H$3=ESALCat,Design!$N$4:$W$27))))","v":105},{"$f":"SUM(IF($A27=SoilCat,IF($B27=DrainCat,IF(I$3=ESALCat,Design!$N$4:$W$27))))","v":105},{"$f":"SUM(IF($A27=SoilCat,IF($B27=DrainCat,IF(J$3=ESALCat,Design!$N$4:$W$27))))","v":105},{"$f":"SUM(IF($A27=SoilCat,IF($B27=DrainCat,IF(K$3=ESALCat,Design!$N$4:$W$27))))","v":105},{"$f":"SUM(IF($A27=SoilCat,IF($B27=DrainCat,IF(L$3=ESALCat,Design!$N$4:$W$27))))","v":105},{"$f":"SUM(IF($A27=SoilCat,IF($B27=DrainCat,IF(M$3=ESALCat,Design!$N$4:$W$27))))","v":105},{"$f":"SUM(IF($A27=SoilCat,IF($B27=DrainCat,IF(N$3=ESALCat,Design!$N$4:$W$27))))","v":105},{"$f":"SUM(IF($A27=SoilCat,IF($B27=DrainCat,IF(O$3=ESALCat,Design!$N$4:$W$27))))","v":105}]
[3,"Fair",null,null,"Unbound Dense Graded Base",{"$f":"SUM(IF($A28=SoilCat,IF($B28=DrainCat,IF(F$3=ESALCat,Design!$AH$4:$AQ$27))))","v":100},{"$f":"SUM(IF($A28=SoilCat,IF($B28=DrainCat,IF(G$3=ESALCat,Design!$AH$4:$AQ$27))))","v":100},{"$f":"SUM(IF($A28=SoilCat,IF($B28=DrainCat,IF(H$3=ESALCat,Design!$AH$4:$AQ$27))))","v":100},{"$f":"SUM(IF($A28=SoilCat,IF($B28=DrainCat,IF(I$3=ESALCat,Design!$AH$4:$AQ$27))))","v":100},{"$f":"SUM(IF($A28=SoilCat,IF($B28=DrainCat,IF(J$3=ESALCat,Design!$AH$4:$AQ$27))))","v":125},{"$f":"SUM(IF($A28=SoilCat,IF($B28=DrainCat,IF(K$3=ESALCat,Design!$AH$4:$AQ$27))))","v":200},{"$f":"SUM(IF($A28=SoilCat,IF($B28=DrainCat,IF(L$3=ESALCat,Design!$AH$4:$AQ$27))))","v":150},{"$f":"SUM(IF($A28=SoilCat,IF($B28=DrainCat,IF(M$3=ESALCat,Design!$AH$4:$AQ$27))))","v":150},{"$f":"SUM(IF($A28=SoilCat,IF($B28=DrainCat,IF(N$3=ESALCat,Design!$AH$4:$AQ$27))))","v":150},{"$f":"SUM(IF($A28=SoilCat,IF($B28=DrainCat,IF(O$3=ESALCat,Design!$AH$4:$AQ$27))))","v":150}]
[3,"Fair",null,null,"Unbound Dense Graded Subbase",{"$f":"SUM(IF($A29=SoilCat,IF($B29=DrainCat,IF(F$3=ESALCat,Design!$BB$4:$BK$27))))","v":0},{"$f":"SUM(IF($A29=SoilCat,IF($B29=DrainCat,IF(G$3=ESALCat,Design!$BB$4:$BK$27))))","v":0},{"$f":"SUM(IF($A29=SoilCat,IF($B29=DrainCat,IF(H$3=ESALCat,Design!$BB$4:$BK$27))))","v":0},{"$f":"SUM(IF($A29=SoilCat,IF($B29=DrainCat,IF(I$3=ESALCat,Design!$BB$4:$BK$27))))","v":0},{"$f":"SUM(IF($A29=SoilCat,IF($B29=DrainCat,IF(J$3=ESALCat,Design!$BB$4:$BK$27))))","v":0},{"$f":"SUM(IF($A29=SoilCat,IF($B29=DrainCat,IF(K$3=ESALCat,Design!$BB$4:$BK$27))))","v":0},{"$f":"SUM(IF($A29=SoilCat,IF($B29=DrainCat,IF(L$3=ESALCat,Design!$BB$4:$BK$27))))","v":150},{"$f":"SUM(IF($A29=SoilCat,IF($B29=DrainCat,IF(M$3=ESALCat,Design!$BB$4:$BK$27))))","v":275},{"$f":"SUM(IF($A29=SoilCat,IF($B29=DrainCat,IF(N$3=ESALCat,Design!$BB$4:$BK$27))))","v":425},{"$f":"SUM(IF($A29=SoilCat,IF($B29=DrainCat,IF(O$3=ESALCat,Design!$BB$4:$BK$27))))","v":550}]
[3,"Poor",null,"Poor","Pavers and Bedding",{"$f":"SUM(IF($A30=SoilCat,IF($B30=DrainCat,IF(F$3=ESALCat,Design!$N$4:$W$27))))","v":105},{"$f":"SUM(IF($A30=SoilCat,IF($B30=DrainCat,IF(G$3=ESALCat,Design!$N$4:$W$27))))","v":105},{"$f":"SUM(IF($A30=SoilCat,IF($B30=DrainCat,IF(H$3=ESALCat,Design!$N$4:$W$27))))","v":105},{"$f":"SUM(IF($A30=SoilCat,IF($B30=DrainCat,IF(I$3=ESALCat,Design!$N$4:$W$27))))","v":105},{"$f":"SUM(IF($A30=SoilCat,IF($B30=DrainCat,IF(J$3=ESALCat,Design!$N$4:$W$27))))","v":105},{"$f":"SUM(IF($A30=SoilCat,IF($B30=DrainCat,IF(K$3=ESALCat,Design!$N$4:$W$27))))","v":105},{"$f":"SUM(IF($A30=SoilCat,IF($B30=DrainCat,IF(L$3=ESALCat,Design!$N$4:$W$27))))","v":105},{"$f":"SUM(IF($A30=SoilCat,IF($B30=DrainCat,IF(M$3=ESALCat,Design!$N$4:$W$27))))","v":105},{"$f":"SUM(IF($A30=SoilCat,IF($B30=DrainCat,IF(N$3=ESALCat,Design!$N$4:$W$27))))","v":105},{"$f":"SUM(IF($A30=SoilCat,IF($B30=DrainCat,IF(O$3=ESALCat,Design!$N$4:$W$27))))","v":105}]
[3,"Poor",null,null,"Unbound Dense Graded Base",{"$f":"SUM(IF($A31=SoilCat,IF($B31=DrainCat,IF(F$3=ESALCat,Design!$AH$4:$AQ$27))))","v":100},{"$f":"SUM(IF($A31=SoilCat,IF($B31=DrainCat,IF(G$3=ESALCat,Design!$AH$4:$AQ$27))))","v":100},{"$f":"SUM(IF($A31=SoilCat,IF($B31=DrainCat,IF(H$3=ESALCat,Design!$AH$4:$AQ$27))))","v":100},{"$f":"SUM(IF($A31=SoilCat,IF($B31=DrainCat,IF(I$3=ESALCat,Design!$AH$4:$AQ$27))))","v":125},{"$f":"SUM(IF($A31=SoilCat,IF($B31=DrainCat,IF(J$3=ESALCat,Design!$AH$4:$AQ$27))))","v":200},{"$f":"SUM(IF($A31=SoilCat,IF($B31=DrainCat,IF(K$3=ESALCat,Design!$AH$4:$AQ$27))))","v":150},{"$f":"SUM(IF($A31=SoilCat,IF($B31=DrainCat,IF(L$3=ESALCat,Design!$AH$4:$AQ$27))))","v":150},{"$f":"SUM(IF($A31=SoilCat,IF($B31=DrainCat,IF(M$3=ESALCat,Design!$AH$4:$AQ$27))))","v":150},{"$f":"SUM(IF($A31=SoilCat,IF($B31=DrainCat,IF(N$3=ESALCat,Design!$AH$4:$AQ$27))))","v":150},{"$f":"SUM(IF($A31=SoilCat,IF($B31=DrainCat,IF(O$3=ESALCat,Design!$AH$4:$AQ$27))))","v":150}]
[3,"Poor",null,null,"Unbound Dense Graded Subbase",{"$f":"SUM(IF($A32=SoilCat,IF($B32=DrainCat,IF(F$3=ESALCat,Design!$BB$4:$BK$27))))","v":0},{"$f":"SUM(IF($A32=SoilCat,IF($B32=DrainCat,IF(G$3=ESALCat,Design!$BB$4:$BK$27))))","v":0},{"$f":"SUM(IF($A32=SoilCat,IF($B32=DrainCat,IF(H$3=ESALCat,Design!$BB$4:$BK$27))))","v":0},{"$f":"SUM(IF($A32=SoilCat,IF($B32=DrainCat,IF(I$3=ESALCat,Design!$BB$4:$BK$27))))","v":0},{"$f":"SUM(IF($A32=SoilCat,IF($B32=DrainCat,IF(J$3=ESALCat,Design!$BB$4:$BK$27))))","v":0},{"$f":"SUM(IF($A32=SoilCat,IF($B32=DrainCat,IF(K$3=ESALCat,Design!$BB$4:$BK$27))))","v":175},{"$f":"SUM(IF($A32=SoilCat,IF($B32=DrainCat,IF(L$3=ESALCat,Design!$BB$4:$BK$27))))","v":300},{"$f":"SUM(IF($A32=SoilCat,IF($B32=DrainCat,IF(M$3=ESALCat,Design!$BB$4:$BK$27))))","v":400},{"$f":"SUM(IF($A32=SoilCat,IF($B32=DrainCat,IF(N$3=ESALCat,Design!$BB$4:$BK$27))))","v":575},{"$f":"SUM(IF($A32=SoilCat,IF($B32=DrainCat,IF(O$3=ESALCat,Design!$BB$4:$BK$27))))","v":725}]
[4,"Good","Category 4","Good","Pavers and Bedding",{"$f":"SUM(IF($A33=SoilCat,IF($B33=DrainCat,IF(F$3=ESALCat,Design!$N$4:$W$27))))","v":105},{"$f":"SUM(IF($A33=SoilCat,IF($B33=DrainCat,IF(G$3=ESALCat,Design!$N$4:$W$27))))","v":105},{"$f":"SUM(IF($A33=SoilCat,IF($B33=DrainCat,IF(H$3=ESALCat,Design!$N$4:$W$27))))","v":105},{"$f":"SUM(IF($A33=SoilCat,IF($B33=DrainCat,IF(I$3=ESALCat,Design!$N$4:$W$27))))","v":105},{"$f":"SUM(IF($A33=SoilCat,IF($B33=DrainCat,IF(J$3=ESALCat,Design!$N$4:$W$27))))","v":105},{"$f":"SUM(IF($A33=SoilCat,IF($B33=DrainCat,IF(K$3=ESALCat,Design!$N$4:$W$27))))","v":105},{"$f":"SUM(IF($A33=SoilCat,IF($B33=DrainCat,IF(L$3=ESALCat,Design!$N$4:$W$27))))","v":105},{"$f":"SUM(IF($A33=SoilCat,IF($B33=DrainCat,IF(M$3=ESALCat,Design!$N$4:$W$27))))","v":105},{"$f":"SUM(IF($A33=SoilCat,IF($B33=DrainCat,IF(N$3=ESALCat,Design!$N$4:$W$27))))","v":105},{"$f":"SUM(IF($A33=SoilCat,IF($B33=DrainCat,IF(O$3=ESALCat,Design!$N$4:$W$27))))","v":105}]
[4,"Good",null,null,"Unbound Dense Graded Base",{"$f":"SUM(IF($A34=SoilCat,IF($B34=DrainCat,IF(F$3=ESALCat,Design!$AH$4:$AQ$27))))","v":100},{"$f":"SUM(IF($A34=SoilCat,IF($B34=DrainCat,IF(G$3=ESALCat,Design!$AH$4:$AQ$27))))","v":100},{"$f":"SUM(IF($A34=SoilCat,IF($B34=DrainCat,IF(H$3=ESALCat,Design!$AH$4:$AQ$27))))","v":100},{"$f":"SUM(IF($A34=SoilCat,IF($B34=DrainCat,IF(I$3=ESALCat,Design!$AH$4:$AQ$27))))","v":100},{"$f":"SUM(IF($A34=SoilCat,IF($B34=DrainCat,IF(J$3=ESALCat,Design!$AH$4:$AQ$27))))","v":125},{"$f":"SUM(IF($A34=SoilCat,IF($B34=DrainCat,IF(K$3=ESALCat,Design!$AH$4:$AQ$27))))","v":200},{"$f":"SUM(IF($A34=SoilCat,IF($B34=DrainCat,IF(L$3=ESALCat,Design!$AH$4:$AQ$27))))","v":150},{"$f":"SUM(IF($A34=SoilCat,IF($B34=DrainCat,IF(M$3=ESALCat,Design!$AH$4:$AQ$27))))","v":150},{"$f":"SUM(IF($A34=SoilCat,IF($B34=DrainCat,IF(N$3=ESALCat,Design!$AH$4:$AQ$27))))","v":150},{"$f":"SUM(IF($A34=SoilCat,IF($B34=DrainCat,IF(O$3=ESALCat,Design!$AH$4:$AQ$27))))","v":150}]
[4,"Good",null,null,"Unbound Dense Graded Subbase",{"$f":"SUM(IF($A35=SoilCat,IF($B35=DrainCat,IF(F$3=ESALCat,Design!$BB$4:$BK$27))))","v":0},{"$f":"SUM(IF($A35=SoilCat,IF($B35=DrainCat,IF(G$3=ESALCat,Design!$BB$4:$BK$27))))","v":0},{"$f":"SUM(IF($A35=SoilCat,IF($B35=DrainCat,IF(H$3=ESALCat,Design!$BB$4:$BK$27))))","v":0},{"$f":"SUM(IF($A35=SoilCat,IF($B35=DrainCat,IF(I$3=ESALCat,Design!$BB$4:$BK$27))))","v":0},{"$f":"SUM(IF($A35=SoilCat,IF($B35=DrainCat,IF(J$3=ESALCat,Design!$BB$4:$BK$27))))","v":0},{"$f":"SUM(IF($A35=SoilCat,IF($B35=DrainCat,IF(K$3=ESALCat,Design!$BB$4:$BK$27))))","v":0},{"$f":"SUM(IF($A35=SoilCat,IF($B35=DrainCat,IF(L$3=ESALCat,Design!$BB$4:$BK$27))))","v":150},{"$f":"SUM(IF($A35=SoilCat,IF($B35=DrainCat,IF(M$3=ESALCat,Design!$BB$4:$BK$27))))","v":275},{"$f":"SUM(IF($A35=SoilCat,IF($B35=DrainCat,IF(N$3=ESALCat,Design!$BB$4:$BK$27))))","v":425},{"$f":"SUM(IF($A35=SoilCat,IF($B35=DrainCat,IF(O$3=ESALCat,Design!$BB$4:$BK$27))))","v":550}]
[4,"Fair",null,"Fair","Pavers and Bedding",{"$f":"SUM(IF($A36=SoilCat,IF($B36=DrainCat,IF(F$3=ESALCat,Design!$N$4:$W$27))))","v":105},{"$f":"SUM(IF($A36=SoilCat,IF($B36=DrainCat,IF(G$3=ESALCat,Design!$N$4:$W$27))))","v":105},{"$f":"SUM(IF($A36=SoilCat,IF($B36=DrainCat,IF(H$3=ESALCat,Design!$N$4:$W$27))))","v":105},{"$f":"SUM(IF($A36=SoilCat,IF($B36=DrainCat,IF(I$3=ESALCat,Design!$N$4:$W$27))))","v":105},{"$f":"SUM(IF($A36=SoilCat,IF($B36=DrainCat,IF(J$3=ESALCat,Design!$N$4:$W$27))))","v":105},{"$f":"SUM(IF($A36=SoilCat,IF($B36=DrainCat,IF(K$3=ESALCat,Design!$N$4:$W$27))))","v":105},{"$f":"SUM(IF($A36=SoilCat,IF($B36=DrainCat,IF(L$3=ESALCat,Design!$N$4:$W$27))))","v":105},{"$f":"SUM(IF($A36=SoilCat,IF($B36=DrainCat,IF(M$3=ESALCat,Design!$N$4:$W$27))))","v":105},{"$f":"SUM(IF($A36=SoilCat,IF($B36=DrainCat,IF(N$3=ESALCat,Design!$N$4:$W$27))))","v":105},{"$f":"SUM(IF($A36=SoilCat,IF($B36=DrainCat,IF(O$3=ESALCat,Design!$N$4:$W$27))))","v":105}]
[4,"Fair",null,null,"Unbound Dense Graded Base",{"$f":"SUM(IF($A37=SoilCat,IF($B37=DrainCat,IF(F$3=ESALCat,Design!$AH$4:$AQ$27))))","v":100},{"$f":"SUM(IF($A37=SoilCat,IF($B37=DrainCat,IF(G$3=ESALCat,Design!$AH$4:$AQ$27))))","v":100},{"$f":"SUM(IF($A37=SoilCat,IF($B37=DrainCat,IF(H$3=ESALCat,Design!$AH$4:$AQ$27))))","v":100},{"$f":"SUM(IF($A37=SoilCat,IF($B37=DrainCat,IF(I$3=ESALCat,Design!$AH$4:$AQ$27))))","v":125},{"$f":"SUM(IF($A37=SoilCat,IF($B37=DrainCat,IF(J$3=ESALCat,Design!$AH$4:$AQ$27))))","v":200},{"$f":"SUM(IF($A37=SoilCat,IF($B37=DrainCat,IF(K$3=ESALCat,Design!$AH$4:$AQ$27))))","v":150},{"$f":"SUM(IF($A37=SoilCat,IF($B37=DrainCat,IF(L$3=ESALCat,Design!$AH$4:$AQ$27))))","v":150},{"$f":"SUM(IF($A37=SoilCat,IF($B37=DrainCat,IF(M$3=ESALCat,Design!$AH$4:$AQ$27))))","v":150},{"$f":"SUM(IF($A37=SoilCat,IF($B37=DrainCat,IF(N$3=ESALCat,Design!$AH$4:$AQ$27))))","v":150},{"$f":"SUM(IF($A37=SoilCat,IF($B37=DrainCat,IF(O$3=ESALCat,Design!$AH$4:$AQ$27))))","v":150}]
[4,"Fair",null,null,"Unbound Dense Graded Subbase",{"$f":"SUM(IF($A38=SoilCat,IF($B38=DrainCat,IF(F$3=ESALCat,Design!$BB$4:$BK$27))))","v":0},{"$f":"SUM(IF($A38=SoilCat,IF($B38=DrainCat,IF(G$3=ESALCat,Design!$BB$4:$BK$27))))","v":0},{"$f":"SUM(IF($A38=SoilCat,IF($B38=DrainCat,IF(H$3=ESALCat,Design!$BB$4:$BK$27))))","v":0},{"$f":"SUM(IF($A38=SoilCat,IF($B38=DrainCat,IF(I$3=ESALCat,Design!$BB$4:$BK$27))))","v":0},{"$f":"SUM(IF($A38=SoilCat,IF($B38=DrainCat,IF(J$3=ESALCat,Design!$BB$4:$BK$27))))","v":0},{"$f":"SUM(IF($A38=SoilCat,IF($B38=DrainCat,IF(K$3=ESALCat,Design!$BB$4:$BK$27))))","v":175},{"$f":"SUM(IF($A38=SoilCat,IF($B38=DrainCat,IF(L$3=ESALCat,Design!$BB$4:$BK$27))))","v":300},{"$f":"SUM(IF($A38=SoilCat,IF($B38=DrainCat,IF(M$3=ESALCat,Design!$BB$4:$BK$27))))","v":400},{"$f":"SUM(IF($A38=SoilCat,IF($B38=DrainCat,IF(N$3=ESALCat,Design!$BB$4:$BK$27))))","v":575},{"$f":"SUM(IF($A38=SoilCat,IF($B38=DrainCat,IF(O$3=ESALCat,Design!$BB$4:$BK$27))))","v":725}]
[4,"Poor",null,"Poor","Pavers and Bedding",{"$f":"SUM(IF($A39=SoilCat,IF($B39=DrainCat,IF(F$3=ESALCat,Design!$N$4:$W$27))))","v":105},{"$f":"SUM(IF($A39=SoilCat,IF($B39=DrainCat,IF(G$3=ESALCat,Design!$N$4:$W$27))))","v":105},{"$f":"SUM(IF($A39=SoilCat,IF($B39=DrainCat,IF(H$3=ESALCat,Design!$N$4:$W$27))))","v":105},{"$f":"SUM(IF($A39=SoilCat,IF($B39=DrainCat,IF(I$3=ESALCat,Design!$N$4:$W$27))))","v":105},{"$f":"SUM(IF($A39=SoilCat,IF($B39=DrainCat,IF(J$3=ESALCat,Design!$N$4:$W$27))))","v":105},{"$f":"SUM(IF($A39=SoilCat,IF($B39=DrainCat,IF(K$3=ESALCat,Design!$N$4:$W$27))))","v":105},{"$f":"SUM(IF($A39=SoilCat,IF($B39=DrainCat,IF(L$3=ESALCat,Design!$N$4:$W$27))))","v":105},{"$f":"SUM(IF($A39=SoilCat,IF($B39=DrainCat,IF(M$3=ESALCat,Design!$N$4:$W$27))))","v":105},{"$f":"SUM(IF($A39=SoilCat,IF($B39=DrainCat,IF(N$3=ESALCat,Design!$N$4:$W$27))))","v":105},{"$f":"SUM(IF($A39=SoilCat,IF($B39=DrainCat,IF(O$3=ESALCat,Design!$N$4:$W$27))))","v":105}]
[4,"Poor",null,null,"Unbound Dense Graded Base",{"$f":"SUM(IF($A40=SoilCat,IF($B40=DrainCat,IF(F$3=ESALCat,Design!$AH$4:$AQ$27))))","v":100},{"$f":"SUM(IF($A40=SoilCat,IF($B40=DrainCat,IF(G$3=ESALCat,Design!$AH$4:$AQ$27))))","v":100},{"$f":"SUM(IF($A40=SoilCat,IF($B40=DrainCat,IF(H$3=ESALCat,Design!$AH$4:$AQ$27))))","v":100},{"$f":"SUM(IF($A40=SoilCat,IF($B40=DrainCat,IF(I$3=ESALCat,Design!$AH$4:$AQ$27))))","v":150},{"$f":"SUM(IF($A40=SoilCat,IF($B40=DrainCat,IF(J$3=ESALCat,Design!$AH$4:$AQ$27))))","v":100},{"$f":"SUM(IF($A40=SoilCat,IF($B40=DrainCat,IF(K$3=ESALCat,Design!$AH$4:$AQ$27))))","v":150},{"$f":"SUM(IF($A40=SoilCat,IF($B40=DrainCat,IF(L$3=ESALCat,Design!$AH$4:$AQ$27))))","v":150},{"$f":"SUM(IF($A40=SoilCat,IF($B40=DrainCat,IF(M$3=ESALCat,Design!$AH$4:$AQ$27))))","v":150},{"$f":"SUM(IF($A40=SoilCat,IF($B40=DrainCat,IF(N$3=ESALCat,Design!$AH$4:$AQ$27))))","v":150},{"$f":"SUM(IF($A40=SoilCat,IF($B40=DrainCat,IF(O$3=ESALCat,Design!$AH$4:$AQ$27))))","v":150}]
[4,"Poor",null,null,"Unbound Dense Graded Subbase",{"$f":"SUM(IF($A41=SoilCat,IF($B41=DrainCat,IF(F$3=ESALCat,Design!$BB$4:$BK$27))))","v":0},{"$f":"SUM(IF($A41=SoilCat,IF($B41=DrainCat,IF(G$3=ESALCat,Design!$BB$4:$BK$27))))","v":0},{"$f":"SUM(IF($A41=SoilCat,IF($B41=DrainCat,IF(H$3=ESALCat,Design!$BB$4:$BK$27))))","v":0},{"$f":"SUM(IF($A41=SoilCat,IF($B41=DrainCat,IF(I$3=ESALCat,Design!$BB$4:$BK$27))))","v":0},{"$f":"SUM(IF($A41=SoilCat,IF($B41=DrainCat,IF(J$3=ESALCat,Design!$BB$4:$BK$27))))","v":175},{"$f":"SUM(IF($A41=SoilCat,IF($B41=DrainCat,IF(K$3=ESALCat,Design!$BB$4:$BK$27))))","v":225},{"$f":"SUM(IF($A41=SoilCat,IF($B41=DrainCat,IF(L$3=ESALCat,Design!$BB$4:$BK$27))))","v":350},{"$f":"SUM(IF($A41=SoilCat,IF($B41=DrainCat,IF(M$3=ESALCat,Design!$BB$4:$BK$27))))","v":475},{"$f":"SUM(IF($A41=SoilCat,IF($B41=DrainCat,IF(N$3=ESALCat,Design!$BB$4:$BK$27))))","v":650},{"$f":"SUM(IF($A41=SoilCat,IF($B41=DrainCat,IF(O$3=ESALCat,Design!$BB$4:$BK$27))))","v":800}]
[5,"Good","Category 5","Good","Pavers and Bedding",{"$f":"SUM(IF($A42=SoilCat,IF($B42=DrainCat,IF(F$3=ESALCat,Design!$N$4:$W$27))))","v":105},{"$f":"SUM(IF($A42=SoilCat,IF($B42=DrainCat,IF(G$3=ESALCat,Design!$N$4:$W$27))))","v":105},{"$f":"SUM(IF($A42=SoilCat,IF($B42=DrainCat,IF(H$3=ESALCat,Design!$N$4:$W$27))))","v":105},{"$f":"SUM(IF($A42=SoilCat,IF($B42=DrainCat,IF(I$3=ESALCat,Design!$N$4:$W$27))))","v":105},{"$f":"SUM(IF($A42=SoilCat,IF($B42=DrainCat,IF(J$3=ESALCat,Design!$N$4:$W$27))))","v":105},{"$f":"SUM(IF($A42=SoilCat,IF($B42=DrainCat,IF(K$3=ESALCat,Design!$N$4:$W$27))))","v":105},{"$f":"SUM(IF($A42=SoilCat,IF($B42=DrainCat,IF(L$3=ESALCat,Design!$N$4:$W$27))))","v":105},{"$f":"SUM(IF($A42=SoilCat,IF($B42=DrainCat,IF(M$3=ESALCat,Design!$N$4:$W$27))))","v":105},{"$f":"SUM(IF($A42=SoilCat,IF($B42=DrainCat,IF(N$3=ESALCat,Design!$N$4:$W$27))))","v":105},{"$f":"SUM(IF($A42=SoilCat,IF($B42=DrainCat,IF(O$3=ESALCat,Design!$N$4:$W$27))))","v":105}]
[5,"Good",null,null,"Unbound Dense Graded Base",{"$f":"SUM(IF($A43=SoilCat,IF($B43=DrainCat,IF(F$3=ESALCat,Design!$AH$4:$AQ$27))))","v":100},{"$f":"SUM(IF($A43=SoilCat,IF($B43=DrainCat,IF(G$3=ESALCat,Design!$AH$4:$AQ$27))))","v":100},{"$f":"SUM(IF($A43=SoilCat,IF($B43=DrainCat,IF(H$3=ESALCat,Design!$AH$4:$AQ$27))))","v":100},{"$f":"SUM(IF($A43=SoilCat,IF($B43=DrainCat,IF(I$3=ESALCat,Design!$AH$4:$AQ$27))))","v":100},{"$f":"SUM(IF($A43=SoilCat,IF($B43=DrainCat,IF(J$3=ESALCat,Design!$AH$4:$AQ$27))))","v":175},{"$f":"SUM(IF($A43=SoilCat,IF($B43=DrainCat,IF(K$3=ESALCat,Design!$AH$4:$AQ$27))))","v":150},{"$f":"SUM(IF($A43=SoilCat,IF($B43=DrainCat,IF(L$3=ESALCat,Design!$AH$4:$AQ$27))))","v":150},{"$f":"SUM(IF($A43=SoilCat,IF($B43=DrainCat,IF(M$3=ESALCat,Design!$AH$4:$AQ$27))))","v":150},{"$f":"SUM(IF($A43=SoilCat,IF($B43=DrainCat,IF(N$3=ESALCat,Design!$AH$4:$AQ$27))))","v":150},{"$f":"SUM(IF($A43=SoilCat,IF($B43=DrainCat,IF(O$3=ESALCat,Design!$AH$4:$AQ$27))))","v":150}]
[5,"Good",null,null,"Unbound Dense Graded Subbase",{"$f":"SUM(IF($A44=SoilCat,IF($B44=DrainCat,IF(F$3=ESALCat,Design!$BB$4:$BK$27))))","v":0},{"$f":"SUM(IF($A44=SoilCat,IF($B44=DrainCat,IF(G$3=ESALCat,Design!$BB$4:$BK$27))))","v":0},{"$f":"SUM(IF($A44=SoilCat,IF($B44=DrainCat,IF(H$3=ESALCat,Design!$BB$4:$BK$27))))","v":0},{"$f":"SUM(IF($A44=SoilCat,IF($B44=DrainCat,IF(I$3=ESALCat,Design!$BB$4:$BK$27))))","v":0},{"$f":"SUM(IF($A44=SoilCat,IF($B44=DrainCat,IF(J$3=ESALCat,Design!$BB$4:$BK$27))))","v":0},{"$f":"SUM(IF($A44=SoilCat,IF($B44=DrainCat,IF(K$3=ESALCat,Design!$BB$4:$BK$27))))","v":150},{"$f":"SUM(IF($A44=SoilCat,IF($B44=DrainCat,IF(L$3=ESALCat,Design!$BB$4:$BK$27))))","v":250},{"$f":"SUM(IF($A44=SoilCat,IF($B44=DrainCat,IF(M$3=ESALCat,Design!$BB$4:$BK$27))))","v":350},{"$f":"SUM(IF($A44=SoilCat,IF($B44=DrainCat,IF(N$3=ESALCat,Design!$BB$4:$BK$27))))","v":525},{"$f":"SUM(IF($A44=SoilCat,IF($B44=DrainCat,IF(O$3=ESALCat,Design!$BB$4:$BK$27))))","v":650}]
[5,"Fair",null,"Fair","Pavers and Bedding",{"$f":"SUM(IF($A45=SoilCat,IF($B45=DrainCat,IF(F$3=ESALCat,Design!$N$4:$W$27))))","v":105},{"$f":"SUM(IF($A45=SoilCat,IF($B45=DrainCat,IF(G$3=ESALCat,Design!$N$4:$W$27))))","v":105},{"$f":"SUM(IF($A45=SoilCat,IF($B45=DrainCat,IF(H$3=ESALCat,Design!$N$4:$W$27))))","v":105},{"$f":"SUM(IF($A45=SoilCat,IF($B45=DrainCat,IF(I$3=ESALCat,Design!$N$4:$W$27))))","v":105},{"$f":"SUM(IF($A45=SoilCat,IF($B45=DrainCat,IF(J$3=ESALCat,Design!$N$4:$W$27))))","v":105},{"$f":"SUM(IF($A45=SoilCat,IF($B45=DrainCat,IF(K$3=ESALCat,Design!$N$4:$W$27))))","v":105},{"$f":"SUM(IF($A45=SoilCat,IF($B45=DrainCat,IF(L$3=ESALCat,Design!$N$4:$W$27))))","v":105},{"$f":"SUM(IF($A45=SoilCat,IF($B45=DrainCat,IF(M$3=ESALCat,Design!$N$4:$W$27))))","v":105},{"$f":"SUM(IF($A45=SoilCat,IF($B45=DrainCat,IF(N$3=ESALCat,Design!$N$4:$W$27))))","v":105},{"$f":"SUM(IF($A45=SoilCat,IF($B45=DrainCat,IF(O$3=ESALCat,Design!$N$4:$W$27))))","v":105}]
[5,"Fair",null,null,"Unbound Dense Graded Base",{"$f":"SUM(IF($A46=SoilCat,IF($B46=DrainCat,IF(F$3=ESALCat,Design!$AH$4:$AQ$27))))","v":100},{"$f":"SUM(IF($A46=SoilCat,IF($B46=DrainCat,IF(G$3=ESALCat,Design!$AH$4:$AQ$27))))","v":100},{"$f":"SUM(IF($A46=SoilCat,IF($B46=DrainCat,IF(H$3=ESALCat,Design!$AH$4:$AQ$27))))","v":100},{"$f":"SUM(IF($A46=SoilCat,IF($B46=DrainCat,IF(I$3=ESALCat,Design!$AH$4:$AQ$27))))","v":150},{"$f":"SUM(IF($A46=SoilCat,IF($B46=DrainCat,IF(J$3=ESALCat,Design!$AH$4:$AQ$27))))","v":100},{"$f":"SUM(IF($A46=SoilCat,IF($B46=DrainCat,IF(K$3=ESALCat,Design!$AH$4:$AQ$27))))","v":150},{"$f":"SUM(IF($A46=SoilCat,IF($B46=DrainCat,IF(L$3=ESALCat,Design!$AH$4:$AQ$27))))","v":150},{"$f":"SUM(IF($A46=SoilCat,IF($B46=DrainCat,IF(M$3=ESALCat,Design!$AH$4:$AQ$27))))","v":150},{"$f":"SUM(IF($A46=SoilCat,IF($B46=DrainCat,IF(N$3=ESALCat,Design!$AH$4:$AQ$27))))","v":150},{"$f":"SUM(IF($A46=SoilCat,IF($B46=DrainCat,IF(O$3=ESALCat,Design!$AH$4:$AQ$27))))","v":150}]
[5,"Fair",null,null,"Unbound Dense Graded Subbase",{"$f":"SUM(IF($A47=SoilCat,IF($B47=DrainCat,IF(F$3=ESALCat,Design!$BB$4:$BK$27))))","v":0},{"$f":"SUM(IF($A47=SoilCat,IF($B47=DrainCat,IF(G$3=ESALCat,Design!$BB$4:$BK$27))))","v":0},{"$f":"SUM(IF($A47=SoilCat,IF($B47=DrainCat,IF(H$3=ESALCat,Design!$BB$4:$BK$27))))","v":0},{"$f":"SUM(IF($A47=SoilCat,IF($B47=DrainCat,IF(I$3=ESALCat,Design!$BB$4:$BK$27))))","v":0},{"$f":"SUM(IF($A47=SoilCat,IF($B47=DrainCat,IF(J$3=ESALCat,Design!$BB$4:$BK$27))))","v":175},{"$f":"SUM(IF($A47=SoilCat,IF($B47=DrainCat,IF(K$3=ESALCat,Design!$BB$4:$BK$27))))","v":225},{"$f":"SUM(IF($A47=SoilCat,IF($B47=DrainCat,IF(L$3=ESALCat,Design!$BB$4:$BK$27))))","v":350},{"$f":"SUM(IF($A47=SoilCat,IF($B47=DrainCat,IF(M$3=ESALCat,Design!$BB$4:$BK$27))))","v":475},{"$f":"SUM(IF($A47=SoilCat,IF($B47=DrainCat,IF(N$3=ESALCat,Design!$BB$4:$BK$27))))","v":650},{"$f":"SUM(IF($A47=SoilCat,IF($B47=DrainCat,IF(O$3=ESALCat,Design!$BB$4:$BK$27))))","v":800}]
[5,"Poor",null,"Poor","Pavers and Bedding",{"$f":"SUM(IF($A48=SoilCat,IF($B48=DrainCat,IF(F$3=ESALCat,Design!$N$4:$W$27))))","v":105},{"$f":"SUM(IF($A48=SoilCat,IF($B48=DrainCat,IF(G$3=ESALCat,Design!$N$4:$W$27))))","v":105},{"$f":"SUM(IF($A48=SoilCat,IF($B48=DrainCat,IF(H$3=ESALCat,Design!$N$4:$W$27))))","v":105},{"$f":"SUM(IF($A48=SoilCat,IF($B48=DrainCat,IF(I$3=ESALCat,Design!$N$4:$W$27))))","v":105},{"$f":"SUM(IF($A48=SoilCat,IF($B48=DrainCat,IF(J$3=ESALCat,Design!$N$4:$W$27))))","v":105},{"$f":"SUM(IF($A48=SoilCat,IF($B48=DrainCat,IF(K$3=ESALCat,Design!$N$4:$W$27))))","v":105},{"$f":"SUM(IF($A48=SoilCat,IF($B48=DrainCat,IF(L$3=ESALCat,Design!$N$4:$W$27))))","v":105},{"$f":"SUM(IF($A48=SoilCat,IF($B48=DrainCat,IF(M$3=ESALCat,Design!$N$4:$W$27))))","v":105},{"$f":"SUM(IF($A48=SoilCat,IF($B48=DrainCat,IF(N$3=ESALCat,Design!$N$4:$W$27))))","v":105},{"$f":"SUM(IF($A48=SoilCat,IF($B48=DrainCat,IF(O$3=ESALCat,Design!$N$4:$W$27))))","v":105}]
[5,"Poor",null,null,"Unbound Dense Graded Base",{"$f":"SUM(IF($A49=SoilCat,IF($B49=DrainCat,IF(F$3=ESALCat,Design!$AH$4:$AQ$27))))","v":100},{"$f":"SUM(IF($A49=SoilCat,IF($B49=DrainCat,IF(G$3=ESALCat,Design!$AH$4:$AQ$27))))","v":100},{"$f":"SUM(IF($A49=SoilCat,IF($B49=DrainCat,IF(H$3=ESALCat,Design!$AH$4:$AQ$27))))","v":150},{"$f":"SUM(IF($A49=SoilCat,IF($B49=DrainCat,IF(I$3=ESALCat,Design!$AH$4:$AQ$27))))","v":200},{"$f":"SUM(IF($A49=SoilCat,IF($B49=DrainCat,IF(J$3=ESALCat,Design!$AH$4:$AQ$27))))","v":100},{"$f":"SUM(IF($A49=SoilCat,IF($B49=DrainCat,IF(K$3=ESALCat,Design!$AH$4:$AQ$27))))","v":150},{"$f":"SUM(IF($A49=SoilCat,IF($B49=DrainCat,IF(L$3=ESALCat,Design!$AH$4:$AQ$27))))","v":150},{"$f":"SUM(IF($A49=SoilCat,IF($B49=DrainCat,IF(M$3=ESALCat,Design!$AH$4:$AQ$27))))","v":150},{"$f":"SUM(IF($A49=SoilCat,IF($B49=DrainCat,IF(N$3=ESALCat,Design!$AH$4:$AQ$27))))","v":150},{"$f":"SUM(IF($A49=SoilCat,IF($B49=DrainCat,IF(O$3=ESALCat,Design!$AH$4:$AQ$27))))","v":150}]
[5,"Poor",null,null,"Unbound Dense Graded Subbase",{"$f":"SUM(IF($A50=SoilCat,IF($B50=DrainCat,IF(F$3=ESALCat,Design!$BB$4:$BK$27))))","v":0},{"$f":"SUM(IF($A50=SoilCat,IF($B50=DrainCat,IF(G$3=ESALCat,Design!$BB$4:$BK$27))))","v":0},{"$f":"SUM(IF($A50=SoilCat,IF($B50=DrainCat,IF(H$3=ESALCat,Design!$BB$4:$BK$27))))","v":0},{"$f":"SUM(IF($A50=SoilCat,IF($B50=DrainCat,IF(I$3=ESALCat,Design!$BB$4:$BK$27))))","v":0},{"$f":"SUM(IF($A50=SoilCat,IF($B50=DrainCat,IF(J$3=ESALCat,Design!$BB$4:$BK$27))))","v":250},{"$f":"SUM(IF($A50=SoilCat,IF($B50=DrainCat,IF(K$3=ESALCat,Design!$BB$4:$BK$27))))","v":300},{"$f":"SUM(IF($A50=SoilCat,IF($B50=DrainCat,IF(L$3=ESALCat,Design!$BB$4:$BK$27))))","v":425},{"$f":"SUM(IF($A50=SoilCat,IF($B50=DrainCat,IF(M$3=ESALCat,Design!$BB$4:$BK$27))))","v":550},{"$f":"SUM(IF($A50=SoilCat,IF($B50=DrainCat,IF(N$3=ESALCat,Design!$BB$4:$BK$27))))","v":750},{"$f":"SUM(IF($A50=SoilCat,IF($B50=DrainCat,IF(O$3=ESALCat,Design!$BB$4:$BK$27))))","v":875}]
[6,"Good","Category 6","Good","Pavers and Bedding",{"$f":"SUM(IF($A51=SoilCat,IF($B51=DrainCat,IF(F$3=ESALCat,Design!$N$4:$W$27))))","v":105},{"$f":"SUM(IF($A51=SoilCat,IF($B51=DrainCat,IF(G$3=ESALCat,Design!$N$4:$W$27))))","v":105},{"$f":"SUM(IF($A51=SoilCat,IF($B51=DrainCat,IF(H$3=ESALCat,Design!$N$4:$W$27))))","v":105},{"$f":"SUM(IF($A51=SoilCat,IF($B51=DrainCat,IF(I$3=ESALCat,Design!$N$4:$W$27))))","v":105},{"$f":"SUM(IF($A51=SoilCat,IF($B51=DrainCat,IF(J$3=ESALCat,Design!$N$4:$W$27))))","v":105},{"$f":"SUM(IF($A51=SoilCat,IF($B51=DrainCat,IF(K$3=ESALCat,Design!$N$4:$W$27))))","v":105},{"$f":"SUM(IF($A51=SoilCat,IF($B51=DrainCat,IF(L$3=ESALCat,Design!$N$4:$W$27))))","v":105},{"$f":"SUM(IF($A51=SoilCat,IF($B51=DrainCat,IF(M$3=ESALCat,Design!$N$4:$W$27))))","v":105},{"$f":"SUM(IF($A51=SoilCat,IF($B51=DrainCat,IF(N$3=ESALCat,Design!$N$4:$W$27))))","v":105},{"$f":"SUM(IF($A51=SoilCat,IF($B51=DrainCat,IF(O$3=ESALCat,Design!$N$4:$W$27))))","v":105}]
[6,"Good",null,null,"Unbound Dense Graded Base",{"$f":"SUM(IF($A52=SoilCat,IF($B52=DrainCat,IF(F$3=ESALCat,Design!$AH$4:$AQ$27))))","v":100},{"$f":"SUM(IF($A52=SoilCat,IF($B52=DrainCat,IF(G$3=ESALCat,Design!$AH$4:$AQ$27))))","v":100},{"$f":"SUM(IF($A52=SoilCat,IF($B52=DrainCat,IF(H$3=ESALCat,Design!$AH$4:$AQ$27))))","v":100},{"$f":"SUM(IF($A52=SoilCat,IF($B52=DrainCat,IF(I$3=ESALCat,Design!$AH$4:$AQ$27))))","v":150},{"$f":"SUM(IF($A52=SoilCat,IF($B52=DrainCat,IF(J$3=ESALCat,Design!$AH$4:$AQ$27))))","v":100},{"$f":"SUM(IF($A52=SoilCat,IF($B52=DrainCat,IF(K$3=ESALCat,Design!$AH$4:$AQ$27))))","v":150},{"$f":"SUM(IF($A52=SoilCat,IF($B52=DrainCat,IF(L$3=ESALCat,Design!$AH$4:$AQ$27))))","v":150},{"$f":"SUM(IF($A52=SoilCat,IF($B52=DrainCat,IF(M$3=ESALCat,Design!$AH$4:$AQ$27))))","v":150},{"$f":"SUM(IF($A52=SoilCat,IF($B52=DrainCat,IF(N$3=ESALCat,Design!$AH$4:$AQ$27))))","v":150},{"$f":"SUM(IF($A52=SoilCat,IF($B52=DrainCat,IF(O$3=ESALCat,Design!$AH$4:$AQ$27))))","v":150}]
[6,"Good",null,null,"Unbound Dense Graded Subbase",{"$f":"SUM(IF($A53=SoilCat,IF($B53=DrainCat,IF(F$3=ESALCat,Design!$BB$4:$BK$27))))","v":0},{"$f":"SUM(IF($A53=SoilCat,IF($B53=DrainCat,IF(G$3=ESALCat,Design!$BB$4:$BK$27))))","v":0},{"$f":"SUM(IF($A53=SoilCat,IF($B53=DrainCat,IF(H$3=ESALCat,Design!$BB$4:$BK$27))))","v":0},{"$f":"SUM(IF($A53=SoilCat,IF($B53=DrainCat,IF(I$3=ESALCat,Design!$BB$4:$BK$27))))","v":0},{"$f":"SUM(IF($A53=SoilCat,IF($B53=DrainCat,IF(J$3=ESALCat,Design!$BB$4:$BK$27))))","v":175},{"$f":"SUM(IF($A53=SoilCat,IF($B53=DrainCat,IF(K$3=ESALCat,Design!$BB$4:$BK$27))))","v":225},{"$f":"SUM(IF($A53=SoilCat,IF($B53=DrainCat,IF(L$3=ESALCat,Design!$BB$4:$BK$27))))","v":350},{"$f":"SUM(IF($A53=SoilCat,IF($B53=DrainCat,IF(M$3=ESALCat,Design!$BB$4:$BK$27))))","v":475},{"$f":"SUM(IF($A53=SoilCat,IF($B53=DrainCat,IF(N$3=ESALCat,Design!$BB$4:$BK$27))))","v":650},{"$f":"SUM(IF($A53=SoilCat,IF($B53=DrainCat,IF(O$3=ESALCat,Design!$BB$4:$BK$27))))","v":800}]
[6,"Fair",null,"Fair","Pavers and Bedding",{"$f":"SUM(IF($A54=SoilCat,IF($B54=DrainCat,IF(F$3=ESALCat,Design!$N$4:$W$27))))","v":105},{"$f":"SUM(IF($A54=SoilCat,IF($B54=DrainCat,IF(G$3=ESALCat,Design!$N$4:$W$27))))","v":105},{"$f":"SUM(IF($A54=SoilCat,IF($B54=DrainCat,IF(H$3=ESALCat,Design!$N$4:$W$27))))","v":105},{"$f":"SUM(IF($A54=SoilCat,IF($B54=DrainCat,IF(I$3=ESALCat,Design!$N$4:$W$27))))","v":105},{"$f":"SUM(IF($A54=SoilCat,IF($B54=DrainCat,IF(J$3=ESALCat,Design!$N$4:$W$27))))","v":105},{"$f":"SUM(IF($A54=SoilCat,IF($B54=DrainCat,IF(K$3=ESALCat,Design!$N$4:$W$27))))","v":105},{"$f":"SUM(IF($A54=SoilCat,IF($B54=DrainCat,IF(L$3=ESALCat,Design!$N$4:$W$27))))","v":105},{"$f":"SUM(IF($A54=SoilCat,IF($B54=DrainCat,IF(M$3=ESALCat,Design!$N$4:$W$27))))","v":105},{"$f":"SUM(IF($A54=SoilCat,IF($B54=DrainCat,IF(N$3=ESALCat,Design!$N$4:$W$27))))","v":105},{"$f":"SUM(IF($A54=SoilCat,IF($B54=DrainCat,IF(O$3=ESALCat,Design!$N$4:$W$27))))","v":105}]
[6,"Fair",null,null,"Unbound Dense Graded Base",{"$f":"SUM(IF($A55=SoilCat,IF($B55=DrainCat,IF(F$3=ESALCat,Design!$AH$4:$AQ$27))))","v":100},{"$f":"SUM(IF($A55=SoilCat,IF($B55=DrainCat,IF(G$3=ESALCat,Design!$AH$4:$AQ$27))))","v":100},{"$f":"SUM(IF($A55=SoilCat,IF($B55=DrainCat,IF(H$3=ESALCat,Design!$AH$4:$AQ$27))))","v":150},{"$f":"SUM(IF($A55=SoilCat,IF($B55=DrainCat,IF(I$3=ESALCat,Design!$AH$4:$AQ$27))))","v":200},{"$f":"SUM(IF($A55=SoilCat,IF($B55=DrainCat,IF(J$3=ESALCat,Design!$AH$4:$AQ$27))))","v":100},{"$f":"SUM(IF($A55=SoilCat,IF($B55=DrainCat,IF(K$3=ESALCat,Design!$AH$4:$AQ$27))))","v":150},{"$f":"SUM(IF($A55=SoilCat,IF($B55=DrainCat,IF(L$3=ESALCat,Design!$AH$4:$AQ$27))))","v":150},{"$f":"SUM(IF($A55=SoilCat,IF($B55=DrainCat,IF(M$3=ESALCat,Design!$AH$4:$AQ$27))))","v":150},{"$f":"SUM(IF($A55=SoilCat,IF($B55=DrainCat,IF(N$3=ESALCat,Design!$AH$4:$AQ$27))))","v":150},{"$f":"SUM(IF($A55=SoilCat,IF($B55=DrainCat,IF(O$3=ESALCat,Design!$AH$4:$AQ$27))))","v":150}]
[6,"Fair",null,null,"Unbound Dense Graded Subbase",{"$f":"SUM(IF($A56=SoilCat,IF($B56=DrainCat,IF(F$3=ESALCat,Design!$BB$4:$BK$27))))","v":0},{"$f":"SUM(IF($A56=SoilCat,IF($B56=DrainCat,IF(G$3=ESALCat,Design!$BB$4:$BK$27))))","v":0},{"$f":"SUM(IF($A56=SoilCat,IF($B56=DrainCat,IF(H$3=ESALCat,Design!$BB$4:$BK$27))))","v":0},{"$f":"SUM(IF($A56=SoilCat,IF($B56=DrainCat,IF(I$3=ESALCat,Design!$BB$4:$BK$27))))","v":0},{"$f":"SUM(IF($A56=SoilCat,IF($B56=DrainCat,IF(J$3=ESALCat,Design!$BB$4:$BK$27))))","v":250},{"$f":"SUM(IF($A56=SoilCat,IF($B56=DrainCat,IF(K$3=ESALCat,Design!$BB$4:$BK$27))))","v":300},{"$f":"SUM(IF($A56=SoilCat,IF($B56=DrainCat,IF(L$3=ESALCat,Design!$BB$4:$BK$27))))","v":425},{"$f":"SUM(IF($A56=SoilCat,IF($B56=DrainCat,IF(M$3=ESALCat,Design!$BB$4:$BK$27))))","v":550},{"$f":"SUM(IF($A56=SoilCat,IF($B56=DrainCat,IF(N$3=ESALCat,Design!$BB$4:$BK$27))))","v":750},{"$f":"SUM(IF($A56=SoilCat,IF($B56=DrainCat,IF(O$3=ESALCat,Design!$BB$4:$BK$27))))","v":875}]
[6,"Poor",null,"Poor","Pavers and Bedding",{"$f":"SUM(IF($A57=SoilCat,IF($B57=DrainCat,IF(F$3=ESALCat,Design!$N$4:$W$27))))","v":105},{"$f":"SUM(IF($A57=SoilCat,IF($B57=DrainCat,IF(G$3=ESALCat,Design!$N$4:$W$27))))","v":105},{"$f":"SUM(IF($A57=SoilCat,IF($B57=DrainCat,IF(H$3=ESALCat,Design!$N$4:$W$27))))","v":105},{"$f":"SUM(IF($A57=SoilCat,IF($B57=DrainCat,IF(I$3=ESALCat,Design!$N$4:$W$27))))","v":105},{"$f":"SUM(IF($A57=SoilCat,IF($B57=DrainCat,IF(J$3=ESALCat,Design!$N$4:$W$27))))","v":105},{"$f":"SUM(IF($A57=SoilCat,IF($B57=DrainCat,IF(K$3=ESALCat,Design!$N$4:$W$27))))","v":105},{"$f":"SUM(IF($A57=SoilCat,IF($B57=DrainCat,IF(L$3=ESALCat,Design!$N$4:$W$27))))","v":105},{"$f":"SUM(IF($A57=SoilCat,IF($B57=DrainCat,IF(M$3=ESALCat,Design!$N$4:$W$27))))","v":105},{"$f":"SUM(IF($A57=SoilCat,IF($B57=DrainCat,IF(N$3=ESALCat,Design!$N$4:$W$27))))","v":105},{"$f":"SUM(IF($A57=SoilCat,IF($B57=DrainCat,IF(O$3=ESALCat,Design!$N$4:$W$27))))","v":105}]
[6,"Poor",null,null,"Unbound Dense Graded Base",{"$f":"SUM(IF($A58=SoilCat,IF($B58=DrainCat,IF(F$3=ESALCat,Design!$AH$4:$AQ$27))))","v":100},{"$f":"SUM(IF($A58=SoilCat,IF($B58=DrainCat,IF(G$3=ESALCat,Design!$AH$4:$AQ$27))))","v":125},{"$f":"SUM(IF($A58=SoilCat,IF($B58=DrainCat,IF(H$3=ESALCat,Design!$AH$4:$AQ$27))))","v":200},{"$f":"SUM(IF($A58=SoilCat,IF($B58=DrainCat,IF(I$3=ESALCat,Design!$AH$4:$AQ$27))))","v":100},{"$f":"SUM(IF($A58=SoilCat,IF($B58=DrainCat,IF(J$3=ESALCat,Design!$AH$4:$AQ$27))))","v":100},{"$f":"SUM(IF($A58=SoilCat,IF($B58=DrainCat,IF(K$3=ESALCat,Design!$AH$4:$AQ$27))))","v":150},{"$f":"SUM(IF($A58=SoilCat,IF($B58=DrainCat,IF(L$3=ESALCat,Design!$AH$4:$AQ$27))))","v":150},{"$f":"SUM(IF($A58=SoilCat,IF($B58=DrainCat,IF(M$3=ESALCat,Design!$AH$4:$AQ$27))))","v":150},{"$f":"SUM(IF($A58=SoilCat,IF($B58=DrainCat,IF(N$3=ESALCat,Design!$AH$4:$AQ$27))))","v":150},{"$f":"SUM(IF($A58=SoilCat,IF($B58=DrainCat,IF(O$3=ESALCat,Design!$AH$4:$AQ$27))))","v":150}]
[6,"Poor",null,null,"Unbound Dense Graded Subbase",{"$f":"SUM(IF($A59=SoilCat,IF($B59=DrainCat,IF(F$3=ESALCat,Design!$BB$4:$BK$27))))","v":0},{"$f":"SUM(IF($A59=SoilCat,IF($B59=DrainCat,IF(G$3=ESALCat,Design!$BB$4:$BK$27))))","v":0},{"$f":"SUM(IF($A59=SoilCat,IF($B59=DrainCat,IF(H$3=ESALCat,Design!$BB$4:$BK$27))))","v":0},{"$f":"SUM(IF($A59=SoilCat,IF($B59=DrainCat,IF(I$3=ESALCat,Design!$BB$4:$BK$27))))","v":250},{"$f":"SUM(IF($A59=SoilCat,IF($B59=DrainCat,IF(J$3=ESALCat,Design!$BB$4:$BK$27))))","v":350},{"$f":"SUM(IF($A59=SoilCat,IF($B59=DrainCat,IF(K$3=ESALCat,Design!$BB$4:$BK$27))))","v":450},{"$f":"SUM(IF($A59=SoilCat,IF($B59=DrainCat,IF(L$3=ESALCat,Design!$BB$4:$BK$27))))","v":575},{"$f":"SUM(IF($A59=SoilCat,IF($B59=DrainCat,IF(M$3=ESALCat,Design!$BB$4:$BK$27))))","v":700},{"$f":"SUM(IF($A59=SoilCat,IF($B59=DrainCat,IF(N$3=ESALCat,Design!$BB$4:$BK$27))))","v":900},{"$f":"SUM(IF($A59=SoilCat,IF($B59=DrainCat,IF(O$3=ESALCat,Design!$BB$4:$BK$27))))","v":1050}]
[7,"Good","Category 7","Good","Pavers and Bedding",{"$f":"SUM(IF($A60=SoilCat,IF($B60=DrainCat,IF(F$3=ESALCat,Design!$N$4:$W$27))))","v":105},{"$f":"SUM(IF($A60=SoilCat,IF($B60=DrainCat,IF(G$3=ESALCat,Design!$N$4:$W$27))))","v":105},{"$f":"SUM(IF($A60=SoilCat,IF($B60=DrainCat,IF(H$3=ESALCat,Design!$N$4:$W$27))))","v":105},{"$f":"SUM(IF($A60=SoilCat,IF($B60=DrainCat,IF(I$3=ESALCat,Design!$N$4:$W$27))))","v":105},{"$f":"SUM(IF($A60=SoilCat,IF($B60=DrainCat,IF(J$3=ESALCat,Design!$N$4:$W$27))))","v":105},{"$f":"SUM(IF($A60=SoilCat,IF($B60=DrainCat,IF(K$3=ESALCat,Design!$N$4:$W$27))))","v":105},{"$f":"SUM(IF($A60=SoilCat,IF($B60=DrainCat,IF(L$3=ESALCat,Design!$N$4:$W$27))))","v":105},{"$f":"SUM(IF($A60=SoilCat,IF($B60=DrainCat,IF(M$3=ESALCat,Design!$N$4:$W$27))))","v":105},{"$f":"SUM(IF($A60=SoilCat,IF($B60=DrainCat,IF(N$3=ESALCat,Design!$N$4:$W$27))))","v":105},{"$f":"SUM(IF($A60=SoilCat,IF($B60=DrainCat,IF(O$3=ESALCat,Design!$N$4:$W$27))))","v":105}]
[7,"Good",null,null,"Unbound Dense Graded Base",{"$f":"SUM(IF($A61=SoilCat,IF($B61=DrainCat,IF(F$3=ESALCat,Design!$AH$4:$AQ$27))))","v":100},{"$f":"SUM(IF($A61=SoilCat,IF($B61=DrainCat,IF(G$3=ESALCat,Design!$AH$4:$AQ$27))))","v":100},{"$f":"SUM(IF($A61=SoilCat,IF($B61=DrainCat,IF(H$3=ESALCat,Design!$AH$4:$AQ$27))))","v":125},{"$f":"SUM(IF($A61=SoilCat,IF($B61=DrainCat,IF(I$3=ESALCat,Design!$AH$4:$AQ$27))))","v":175},{"$f":"SUM(IF($A61=SoilCat,IF($B61=DrainCat,IF(J$3=ESALCat,Design!$AH$4:$AQ$27))))","v":100},{"$f":"SUM(IF($A61=SoilCat,IF($B61=DrainCat,IF(K$3=ESALCat,Design!$AH$4:$AQ$27))))","v":150},{"$f":"SUM(IF($A61=SoilCat,IF($B61=DrainCat,IF(L$3=ESALCat,Design!$AH$4:$AQ$27))))","v":150},{"$f":"SUM(IF($A61=SoilCat,IF($B61=DrainCat,IF(M$3=ESALCat,Design!$AH$4:$AQ$27))))","v":150},{"$f":"SUM(IF($A61=SoilCat,IF($B61=DrainCat,IF(N$3=ESALCat,Design!$AH$4:$AQ$27))))","v":150},{"$f":"SUM(IF($A61=SoilCat,IF($B61=DrainCat,IF(O$3=ESALCat,Design!$AH$4:$AQ$27))))","v":150}]
[7,"Good",null,null,"Unbound Dense Graded Subbase",{"$f":"SUM(IF($A62=SoilCat,IF($B62=DrainCat,IF(F$3=ESALCat,Design!$BB$4:$BK$27))))","v":0},{"$f":"SUM(IF($A62=SoilCat,IF($B62=DrainCat,IF(G$3=ESALCat,Design!$BB$4:$BK$27))))","v":0},{"$f":"SUM(IF($A62=SoilCat,IF($B62=DrainCat,IF(H$3=ESALCat,Design!$BB$4:$BK$27))))","v":0},{"$f":"SUM(IF($A62=SoilCat,IF($B62=DrainCat,IF(I$3=ESALCat,Design!$BB$4:$BK$27))))","v":0},{"$f":"SUM(IF($A62=SoilCat,IF($B62=DrainCat,IF(J$3=ESALCat,Design!$BB$4:$BK$27))))","v":225},{"$f":"SUM(IF($A62=SoilCat,IF($B62=DrainCat,IF(K$3=ESALCat,Design!$BB$4:$BK$27))))","v":275},{"$f":"SUM(IF($A62=SoilCat,IF($B62=DrainCat,IF(L$3=ESALCat,Design!$BB$4:$BK$27))))","v":400},{"$f":"SUM(IF($A62=SoilCat,IF($B62=DrainCat,IF(M$3=ESALCat,Design!$BB$4:$BK$27))))","v":525},{"$f":"SUM(IF($A62=SoilCat,IF($B62=DrainCat,IF(N$3=ESALCat,Design!$BB$4:$BK$27))))","v":700},{"$f":"SUM(IF($A62=SoilCat,IF($B62=DrainCat,IF(O$3=ESALCat,Design!$BB$4:$BK$27))))","v":850}]
[7,"Fair",null,"Fair","Pavers and Bedding",{"$f":"SUM(IF($A63=SoilCat,IF($B63=DrainCat,IF(F$3=ESALCat,Design!$N$4:$W$27))))","v":105},{"$f":"SUM(IF($A63=SoilCat,IF($B63=DrainCat,IF(G$3=ESALCat,Design!$N$4:$W$27))))","v":105},{"$f":"SUM(IF($A63=SoilCat,IF($B63=DrainCat,IF(H$3=ESALCat,Design!$N$4:$W$27))))","v":105},{"$f":"SUM(IF($A63=SoilCat,IF($B63=DrainCat,IF(I$3=ESALCat,Design!$N$4:$W$27))))","v":105},{"$f":"SUM(IF($A63=SoilCat,IF($B63=DrainCat,IF(J$3=ESALCat,Design!$N$4:$W$27))))","v":105},{"$f":"SUM(IF($A63=SoilCat,IF($B63=DrainCat,IF(K$3=ESALCat,Design!$N$4:$W$27))))","v":105},{"$f":"SUM(IF($A63=SoilCat,IF($B63=DrainCat,IF(L$3=ESALCat,Design!$N$4:$W$27))))","v":105},{"$f":"SUM(IF($A63=SoilCat,IF($B63=DrainCat,IF(M$3=ESALCat,Design!$N$4:$W$27))))","v":105},{"$f":"SUM(IF($A63=SoilCat,IF($B63=DrainCat,IF(N$3=ESALCat,Design!$N$4:$W$27))))","v":105},{"$f":"SUM(IF($A63=SoilCat,IF($B63=DrainCat,IF(O$3=ESALCat,Design!$N$4:$W$27))))","v":105}]
[7,"Fair",null,null,"Unbound Dense Graded Base",{"$f":"SUM(IF($A64=SoilCat,IF($B64=DrainCat,IF(F$3=ESALCat,Design!$AH$4:$AQ$27))))","v":100},{"$f":"SUM(IF($A64=SoilCat,IF($B64=DrainCat,IF(G$3=ESALCat,Design!$AH$4:$AQ$27))))","v":100},{"$f":"SUM(IF($A64=SoilCat,IF($B64=DrainCat,IF(H$3=ESALCat,Design!$AH$4:$AQ$27))))","v":175},{"$f":"SUM(IF($A64=SoilCat,IF($B64=DrainCat,IF(I$3=ESALCat,Design!$AH$4:$AQ$27))))","v":100},{"$f":"SUM(IF($A64=SoilCat,IF($B64=DrainCat,IF(J$3=ESALCat,Design!$AH$4:$AQ$27))))","v":100},{"$f":"SUM(IF($A64=SoilCat,IF($B64=DrainCat,IF(K$3=ESALCat,Design!$AH$4:$AQ$27))))","v":150},{"$f":"SUM(IF($A64=SoilCat,IF($B64=DrainCat,IF(L$3=ESALCat,Design!$AH$4:$AQ$27))))","v":150},{"$f":"SUM(IF($A64=SoilCat,IF($B64=DrainCat,IF(M$3=ESALCat,Design!$AH$4:$AQ$27))))","v":150},{"$f":"SUM(IF($A64=SoilCat,IF($B64=DrainCat,IF(N$3=ESALCat,Design!$AH$4:$AQ$27))))","v":150},{"$f":"SUM(IF($A64=SoilCat,IF($B64=DrainCat,IF(O$3=ESALCat,Design!$AH$4:$AQ$27))))","v":150}]
[7,"Fair",null,null,"Unbound Dense Graded Subbase",{"$f":"SUM(IF($A65=SoilCat,IF($B65=DrainCat,IF(F$3=ESALCat,Design!$BB$4:$BK$27))))","v":0},{"$f":"SUM(IF($A65=SoilCat,IF($B65=DrainCat,IF(G$3=ESALCat,Design!$BB$4:$BK$27))))","v":0},{"$f":"SUM(IF($A65=SoilCat,IF($B65=DrainCat,IF(H$3=ESALCat,Design!$BB$4:$BK$27))))","v":0},{"$f":"SUM(IF($A65=SoilCat,IF($B65=DrainCat,IF(I$3=ESALCat,Design!$BB$4:$BK$27))))","v":225},{"$f":"SUM(IF($A65=SoilCat,IF($B65=DrainCat,IF(J$3=ESALCat,Design!$BB$4:$BK$27))))","v":325},{"$f":"SUM(IF($A65=SoilCat,IF($B65=DrainCat,IF(K$3=ESALCat,Design!$BB$4:$BK$27))))","v":400},{"$f":"SUM(IF($A65=SoilCat,IF($B65=DrainCat,IF(L$3=ESALCat,Design!$BB$4:$BK$27))))","v":525},{"$f":"SUM(IF($A65=SoilCat,IF($B65=DrainCat,IF(M$3=ESALCat,Design!$BB$4:$BK$27))))","v":650},{"$f":"SUM(IF($A65=SoilCat,IF($B65=DrainCat,IF(N$3=ESALCat,Design!$BB$4:$BK$27))))","v":850},{"$f":"SUM(IF($A65=SoilCat,IF($B65=DrainCat,IF(O$3=ESALCat,Design!$BB$4:$BK$27))))","v":1000}]
[7,"Poor",null,"Poor","Pavers and Bedding",{"$f":"SUM(IF($A66=SoilCat,IF($B66=DrainCat,IF(F$3=ESALCat,Design!$N$4:$W$27))))","v":105},{"$f":"SUM(IF($A66=SoilCat,IF($B66=DrainCat,IF(G$3=ESALCat,Design!$N$4:$W$27))))","v":105},{"$f":"SUM(IF($A66=SoilCat,IF($B66=DrainCat,IF(H$3=ESALCat,Design!$N$4:$W$27))))","v":105},{"$f":"SUM(IF($A66=SoilCat,IF($B66=DrainCat,IF(I$3=ESALCat,Design!$N$4:$W$27))))","v":105},{"$f":"SUM(IF($A66=SoilCat,IF($B66=DrainCat,IF(J$3=ESALCat,Design!$N$4:$W$27))))","v":105},{"$f":"SUM(IF($A66=SoilCat,IF($B66=DrainCat,IF(K$3=ESALCat,Design!$N$4:$W$27))))","v":105},{"$f":"SUM(IF($A66=SoilCat,IF($B66=DrainCat,IF(L$3=ESALCat,Design!$N$4:$W$27))))","v":105},{"$f":"SUM(IF($A66=SoilCat,IF($B66=DrainCat,IF(M$3=ESALCat,Design!$N$4:$W$27))))","v":105},{"$f":"SUM(IF($A66=SoilCat,IF($B66=DrainCat,IF(N$3=ESALCat,Design!$N$4:$W$27))))","v":105},{"$f":"SUM(IF($A66=SoilCat,IF($B66=DrainCat,IF(O$3=ESALCat,Design!$N$4:$W$27))))","v":105}]
[7,"Poor",null,null,"Unbound Dense Graded Base",{"$f":"SUM(IF($A67=SoilCat,IF($B67=DrainCat,IF(F$3=ESALCat,Design!$AH$4:$AQ$27))))","v":100},{"$f":"SUM(IF($A67=SoilCat,IF($B67=DrainCat,IF(G$3=ESALCat,Design!$AH$4:$AQ$27))))","v":150},{"$f":"SUM(IF($A67=SoilCat,IF($B67=DrainCat,IF(H$3=ESALCat,Design!$AH$4:$AQ$27))))","v":100},{"$f":"SUM(IF($A67=SoilCat,IF($B67=DrainCat,IF(I$3=ESALCat,Design!$AH$4:$AQ$27))))","v":100},{"$f":"SUM(IF($A67=SoilCat,IF($B67=DrainCat,IF(J$3=ESALCat,Design!$AH$4:$AQ$27))))","v":100},{"$f":"SUM(IF($A67=SoilCat,IF($B67=DrainCat,IF(K$3=ESALCat,Design!$AH$4:$AQ$27))))","v":150},{"$f":"SUM(IF($A67=SoilCat,IF($B67=DrainCat,IF(L$3=ESALCat,Design!$AH$4:$AQ$27))))","v":150},{"$f":"SUM(IF($A67=SoilCat,IF($B67=DrainCat,IF(M$3=ESALCat,Design!$AH$4:$AQ$27))))","v":150},{"$f":"SUM(IF($A67=SoilCat,IF($B67=DrainCat,IF(N$3=ESALCat,Design!$AH$4:$AQ$27))))","v":150},{"$f":"SUM(IF($A67=SoilCat,IF($B67=DrainCat,IF(O$3=ESALCat,Design!$AH$4:$AQ$27))))","v":150}]
[7,"Poor",null,null,"Unbound Dense Graded Subbase",{"$f":"SUM(IF($A68=SoilCat,IF($B68=DrainCat,IF(F$3=ESALCat,Design!$BB$4:$BK$27))))","v":0},{"$f":"SUM(IF($A68=SoilCat,IF($B68=DrainCat,IF(G$3=ESALCat,Design!$BB$4:$BK$27))))","v":0},{"$f":"SUM(IF($A68=SoilCat,IF($B68=DrainCat,IF(H$3=ESALCat,Design!$BB$4:$BK$27))))","v":200},{"$f":"SUM(IF($A68=SoilCat,IF($B68=DrainCat,IF(I$3=ESALCat,Design!$BB$4:$BK$27))))","v":325},{"$f":"SUM(IF($A68=SoilCat,IF($B68=DrainCat,IF(J$3=ESALCat,Design!$BB$4:$BK$27))))","v":425},{"$f":"SUM(IF($A68=SoilCat,IF($B68=DrainCat,IF(K$3=ESALCat,Design!$BB$4:$BK$27))))","v":525},{"$f":"SUM(IF($A68=SoilCat,IF($B68=DrainCat,IF(L$3=ESALCat,Design!$BB$4:$BK$27))))","v":650},{"$f":"SUM(IF($A68=SoilCat,IF($B68=DrainCat,IF(M$3=ESALCat,Design!$BB$4:$BK$27))))","v":800},{"$f":"SUM(IF($A68=SoilCat,IF($B68=DrainCat,IF(N$3=ESALCat,Design!$BB$4:$BK$27))))","v":1000},{"$f":"SUM(IF($A68=SoilCat,IF($B68=DrainCat,IF(O$3=ESALCat,Design!$BB$4:$BK$27))))","v":1150}]
[8,"Good","Category 8","Good","Pavers and Bedding",{"$f":"SUM(IF($A69=SoilCat,IF($B69=DrainCat,IF(F$3=ESALCat,Design!$N$4:$W$27))))","v":105},{"$f":"SUM(IF($A69=SoilCat,IF($B69=DrainCat,IF(G$3=ESALCat,Design!$N$4:$W$27))))","v":105},{"$f":"SUM(IF($A69=SoilCat,IF($B69=DrainCat,IF(H$3=ESALCat,Design!$N$4:$W$27))))","v":105},{"$f":"SUM(IF($A69=SoilCat,IF($B69=DrainCat,IF(I$3=ESALCat,Design!$N$4:$W$27))))","v":105},{"$f":"SUM(IF($A69=SoilCat,IF($B69=DrainCat,IF(J$3=ESALCat,Design!$N$4:$W$27))))","v":105},{"$f":"SUM(IF($A69=SoilCat,IF($B69=DrainCat,IF(K$3=ESALCat,Design!$N$4:$W$27))))","v":105},{"$f":"SUM(IF($A69=SoilCat,IF($B69=DrainCat,IF(L$3=ESALCat,Design!$N$4:$W$27))))","v":105},{"$f":"SUM(IF($A69=SoilCat,IF($B69=DrainCat,IF(M$3=ESALCat,Design!$N$4:$W$27))))","v":105},{"$f":"SUM(IF($A69=SoilCat,IF($B69=DrainCat,IF(N$3=ESALCat,Design!$N$4:$W$27))))","v":105},{"$f":"SUM(IF($A69=SoilCat,IF($B69=DrainCat,IF(O$3=ESALCat,Design!$N$4:$W$27))))","v":105}]
[8,"Good",null,null,"Unbound Dense Graded Base",{"$f":"SUM(IF($A70=SoilCat,IF($B70=DrainCat,IF(F$3=ESALCat,Design!$AH$4:$AQ$27))))","v":100},{"$f":"SUM(IF($A70=SoilCat,IF($B70=DrainCat,IF(G$3=ESALCat,Design!$AH$4:$AQ$27))))","v":100},{"$f":"SUM(IF($A70=SoilCat,IF($B70=DrainCat,IF(H$3=ESALCat,Design!$AH$4:$AQ$27))))","v":150},{"$f":"SUM(IF($A70=SoilCat,IF($B70=DrainCat,IF(I$3=ESALCat,Design!$AH$4:$AQ$27))))","v":200},{"$f":"SUM(IF($A70=SoilCat,IF($B70=DrainCat,IF(J$3=ESALCat,Design!$AH$4:$AQ$27))))","v":100},{"$f":"SUM(IF($A70=SoilCat,IF($B70=DrainCat,IF(K$3=ESALCat,Design!$AH$4:$AQ$27))))","v":150},{"$f":"SUM(IF($A70=SoilCat,IF($B70=DrainCat,IF(L$3=ESALCat,Design!$AH$4:$AQ$27))))","v":150},{"$f":"SUM(IF($A70=SoilCat,IF($B70=DrainCat,IF(M$3=ESALCat,Design!$AH$4:$AQ$27))))","v":150},{"$f":"SUM(IF($A70=SoilCat,IF($B70=DrainCat,IF(N$3=ESALCat,Design!$AH$4:$AQ$27))))","v":150},{"$f":"SUM(IF($A70=SoilCat,IF($B70=DrainCat,IF(O$3=ESALCat,Design!$AH$4:$AQ$27))))","v":150}]
[8,"Good",null,null,"Unbound Dense Graded Subbase",{"$f":"SUM(IF($A71=SoilCat,IF($B71=DrainCat,IF(F$3=ESALCat,Design!$BB$4:$BK$27))))","v":0},{"$f":"SUM(IF($A71=SoilCat,IF($B71=DrainCat,IF(G$3=ESALCat,Design!$BB$4:$BK$27))))","v":0},{"$f":"SUM(IF($A71=SoilCat,IF($B71=DrainCat,IF(H$3=ESALCat,Design!$BB$4:$BK$27))))","v":0},{"$f":"SUM(IF($A71=SoilCat,IF($B71=DrainCat,IF(I$3=ESALCat,Design!$BB$4:$BK$27))))","v":0},{"$f":"SUM(IF($A71=SoilCat,IF($B71=DrainCat,IF(J$3=ESALCat,Design!$BB$4:$BK$27))))","v":250},{"$f":"SUM(IF($A71=SoilCat,IF($B71=DrainCat,IF(K$3=ESALCat,Design!$BB$4:$BK$27))))","v":300},{"$f":"SUM(IF($A71=SoilCat,IF($B71=DrainCat,IF(L$3=ESALCat,Design!$BB$4:$BK$27))))","v":425},{"$f":"SUM(IF($A71=SoilCat,IF($B71=DrainCat,IF(M$3=ESALCat,Design!$BB$4:$BK$27))))","v":550},{"$f":"SUM(IF($A71=SoilCat,IF($B71=DrainCat,IF(N$3=ESALCat,Design!$BB$4:$BK$27))))","v":750},{"$f":"SUM(IF($A71=SoilCat,IF($B71=DrainCat,IF(O$3=ESALCat,Design!$BB$4:$BK$27))))","v":875}]
[8,"Fair",null,"Fair","Pavers and Bedding",{"$f":"SUM(IF($A72=SoilCat,IF($B72=DrainCat,IF(F$3=ESALCat,Design!$N$4:$W$27))))","v":105},{"$f":"SUM(IF($A72=SoilCat,IF($B72=DrainCat,IF(G$3=ESALCat,Design!$N$4:$W$27))))","v":105},{"$f":"SUM(IF($A72=SoilCat,IF($B72=DrainCat,IF(H$3=ESALCat,Design!$N$4:$W$27))))","v":105},{"$f":"SUM(IF($A72=SoilCat,IF($B72=DrainCat,IF(I$3=ESALCat,Design!$N$4:$W$27))))","v":105},{"$f":"SUM(IF($A72=SoilCat,IF($B72=DrainCat,IF(J$3=ESALCat,Design!$N$4:$W$27))))","v":105},{"$f":"SUM(IF($A72=SoilCat,IF($B72=DrainCat,IF(K$3=ESALCat,Design!$N$4:$W$27))))","v":105},{"$f":"SUM(IF($A72=SoilCat,IF($B72=DrainCat,IF(L$3=ESALCat,Design!$N$4:$W$27))))","v":105},{"$f":"SUM(IF($A72=SoilCat,IF($B72=DrainCat,IF(M$3=ESALCat,Design!$N$4:$W$27))))","v":105},{"$f":"SUM(IF($A72=SoilCat,IF($B72=DrainCat,IF(N$3=ESALCat,Design!$N$4:$W$27))))","v":105},{"$f":"SUM(IF($A72=SoilCat,IF($B72=DrainCat,IF(O$3=ESALCat,Design!$N$4:$W$27))))","v":105}]
[8,"Fair",null,null,"Unbound Dense Graded Base",{"$f":"SUM(IF($A73=SoilCat,IF($B73=DrainCat,IF(F$3=ESALCat,Design!$AH$4:$AQ$27))))","v":100},{"$f":"SUM(IF($A73=SoilCat,IF($B73=DrainCat,IF(G$3=ESALCat,Design!$AH$4:$AQ$27))))","v":100},{"$f":"SUM(IF($A73=SoilCat,IF($B73=DrainCat,IF(H$3=ESALCat,Design!$AH$4:$AQ$27))))","v":175},{"$f":"SUM(IF($A73=SoilCat,IF($B73=DrainCat,IF(I$3=ESALCat,Design!$AH$4:$AQ$27))))","v":100},{"$f":"SUM(IF($A73=SoilCat,IF($B73=DrainCat,IF(J$3=ESALCat,Design!$AH$4:$AQ$27))))","v":100},{"$f":"SUM(IF($A73=SoilCat,IF($B73=DrainCat,IF(K$3=ESALCat,Design!$AH$4:$AQ$27))))","v":150},{"$f":"SUM(IF($A73=SoilCat,IF($B73=DrainCat,IF(L$3=ESALCat,Design!$AH$4:$AQ$27))))","v":150},{"$f":"SUM(IF($A73=SoilCat,IF($B73=DrainCat,IF(M$3=ESALCat,Design!$AH$4:$AQ$27))))","v":150},{"$f":"SUM(IF($A73=SoilCat,IF($B73=DrainCat,IF(N$3=ESALCat,Design!$AH$4:$AQ$27))))","v":150},{"$f":"SUM(IF($A73=SoilCat,IF($B73=DrainCat,IF(O$3=ESALCat,Design!$AH$4:$AQ$27))))","v":150}]
[8,"Fair",null,null,"Unbound Dense Graded Subbase",{"$f":"SUM(IF($A74=SoilCat,IF($B74=DrainCat,IF(F$3=ESALCat,Design!$BB$4:$BK$27))))","v":0},{"$f":"SUM(IF($A74=SoilCat,IF($B74=DrainCat,IF(G$3=ESALCat,Design!$BB$4:$BK$27))))","v":0},{"$f":"SUM(IF($A74=SoilCat,IF($B74=DrainCat,IF(H$3=ESALCat,Design!$BB$4:$BK$27))))","v":0},{"$f":"SUM(IF($A74=SoilCat,IF($B74=DrainCat,IF(I$3=ESALCat,Design!$BB$4:$BK$27))))","v":225},{"$f":"SUM(IF($A74=SoilCat,IF($B74=DrainCat,IF(J$3=ESALCat,Design!$BB$4:$BK$27))))","v":325},{"$f":"SUM(IF($A74=SoilCat,IF($B74=DrainCat,IF(K$3=ESALCat,Design!$BB$4:$BK$27))))","v":400},{"$f":"SUM(IF($A74=SoilCat,IF($B74=DrainCat,IF(L$3=ESALCat,Design!$BB$4:$BK$27))))","v":525},{"$f":"SUM(IF($A74=SoilCat,IF($B74=DrainCat,IF(M$3=ESALCat,Design!$BB$4:$BK$27))))","v":650},{"$f":"SUM(IF($A74=SoilCat,IF($B74=DrainCat,IF(N$3=ESALCat,Design!$BB$4:$BK$27))))","v":850},{"$f":"SUM(IF($A74=SoilCat,IF($B74=DrainCat,IF(O$3=ESALCat,Design!$BB$4:$BK$27))))","v":1000}]
[8,"Poor",null,"Poor","Pavers and Bedding",{"$f":"SUM(IF($A75=SoilCat,IF($B75=DrainCat,IF(F$3=ESALCat,Design!$N$4:$W$27))))","v":105},{"$f":"SUM(IF($A75=SoilCat,IF($B75=DrainCat,IF(G$3=ESALCat,Design!$N$4:$W$27))))","v":105},{"$f":"SUM(IF($A75=SoilCat,IF($B75=DrainCat,IF(H$3=ESALCat,Design!$N$4:$W$27))))","v":105},{"$f":"SUM(IF($A75=SoilCat,IF($B75=DrainCat,IF(I$3=ESALCat,Design!$N$4:$W$27))))","v":105},{"$f":"SUM(IF($A75=SoilCat,IF($B75=DrainCat,IF(J$3=ESALCat,Design!$N$4:$W$27))))","v":105},{"$f":"SUM(IF($A75=SoilCat,IF($B75=DrainCat,IF(K$3=ESALCat,Design!$N$4:$W$27))))","v":105},{"$f":"SUM(IF($A75=SoilCat,IF($B75=DrainCat,IF(L$3=ESALCat,Design!$N$4:$W$27))))","v":105},{"$f":"SUM(IF($A75=SoilCat,IF($B75=DrainCat,IF(M$3=ESALCat,Design!$N$4:$W$27))))","v":105},{"$f":"SUM(IF($A75=SoilCat,IF($B75=DrainCat,IF(N$3=ESALCat,Design!$N$4:$W$27))))","v":105},{"$f":"SUM(IF($A75=SoilCat,IF($B75=DrainCat,IF(O$3=ESALCat,Design!$N$4:$W$27))))","v":105}]
[8,"Poor",null,null,"Unbound Dense Graded Base",{"$f":"SUM(IF($A76=SoilCat,IF($B76=DrainCat,IF(F$3=ESALCat,Design!$AH$4:$AQ$27))))","v":100},{"$f":"SUM(IF($A76=SoilCat,IF($B76=DrainCat,IF(G$3=ESALCat,Design!$AH$4:$AQ$27))))","v":150},{"$f":"SUM(IF($A76=SoilCat,IF($B76=DrainCat,IF(H$3=ESALCat,Design!$AH$4:$AQ$27))))","v":100},{"$f":"SUM(IF($A76=SoilCat,IF($B76=DrainCat,IF(I$3=ESALCat,Design!$AH$4:$AQ$27))))","v":100},{"$f":"SUM(IF($A76=SoilCat,IF($B76=DrainCat,IF(J$3=ESALCat,Design!$AH$4:$AQ$27))))","v":100},{"$f":"SUM(IF($A76=SoilCat,IF($B76=DrainCat,IF(K$3=ESALCat,Design!$AH$4:$AQ$27))))","v":150},{"$f":"SUM(IF($A76=SoilCat,IF($B76=DrainCat,IF(L$3=ESALCat,Design!$AH$4:$AQ$27))))","v":150},{"$f":"SUM(IF($A76=SoilCat,IF($B76=DrainCat,IF(M$3=ESALCat,Design!$AH$4:$AQ$27))))","v":150},{"$f":"SUM(IF($A76=SoilCat,IF($B76=DrainCat,IF(N$3=ESALCat,Design!$AH$4:$AQ$27))))","v":150},{"$f":"SUM(IF($A76=SoilCat,IF($B76=DrainCat,IF(O$3=ESALCat,Design!$AH$4:$AQ$27))))","v":150}]
[8,"Poor",null,null,"Unbound Dense Graded Subbase",{"$f":"SUM(IF($A77=SoilCat,IF($B77=DrainCat,IF(F$3=ESALCat,Design!$BB$4:$BK$27))))","v":0},{"$f":"SUM(IF($A77=SoilCat,IF($B77=DrainCat,IF(G$3=ESALCat,Design!$BB$4:$BK$27))))","v":0},{"$f":"SUM(IF($A77=SoilCat,IF($B77=DrainCat,IF(H$3=ESALCat,Design!$BB$4:$BK$27))))","v":200},{"$f":"SUM(IF($A77=SoilCat,IF($B77=DrainCat,IF(I$3=ESALCat,Design!$BB$4:$BK$27))))","v":325},{"$f":"SUM(IF($A77=SoilCat,IF($B77=DrainCat,IF(J$3=ESALCat,Design!$BB$4:$BK$27))))","v":425},{"$f":"SUM(IF($A77=SoilCat,IF($B77=DrainCat,IF(K$3=ESALCat,Design!$BB$4:$BK$27))))","v":525},{"$f":"SUM(IF($A77=SoilCat,IF($B77=DrainCat,IF(L$3=ESALCat,Design!$BB$4:$BK$27))))","v":650},{"$f":"SUM(IF($A77=SoilCat,IF($B77=DrainCat,IF(M$3=ESALCat,Design!$BB$4:$BK$27))))","v":800},{"$f":"SUM(IF($A77=SoilCat,IF($B77=DrainCat,IF(N$3=ESALCat,Design!$BB$4:$BK$27))))","v":1000},{"$f":"SUM(IF($A77=SoilCat,IF($B77=DrainCat,IF(O$3=ESALCat,Design!$BB$4:$BK$27))))","v":1150}]

{"sheet":"ATB","index":4,"n_rows":101,"n_cols":15,"rows_kept":101,"cut":false,"hidden":false,"merged":[[89,2,100,2],[89,3,92,3],[93,3,96,3],[97,3,100,3],[0,2,1,14],[2,2,4,2],[2,3,4,3],[4,5,4,14],[77,2,88,2],[77,3,80,3],[81,3,84,3],[85,3,88,3],[17,2,28,2],[17,3,20,3],[21,3,24,3],[25,3,28,3],[5,2,16,2],[5,3,8,3],[9,3,12,3],[13,3,16,3],[41,2,52,2],[41,3,44,3],[45,3,48,3],[49,3,52,3],[29,2,40,2],[29,3,32,3],[33,3,36,3],[37,3,40,3],[65,2,76,2],[65,3,68,3],[69,3,72,3],[73,3,76,3],[53,2,64,2],[53,3,56,3],[57,3,60,3],[61,3,64,3]]}
[null,null,"ASPHALT TREATED BASE\nSTRUCTURE THICKNESSES (mm)"]
[]
[null,null,null,"Drainage","ESALs",10000,20000,50000,100000,200000,500000,1000000,2000000,5000000,10000000]
[null,null,null,null,"TI",{"$f":"9*(F3/1000000)^0.119","v":5.2028644266514625},{"$f":"9*(G3/1000000)^0.119","v":5.6502163682481852},6.301151766600797,6.8429364924616367,7.4313048747790562,8.2874312748453587,9,9.7738367069006493,10.899835407763195,11.837023489730147]
[null,null,null,null,"Layer Type"]
[1,"Good","Category 1","Good","Pavers and Bedding",{"$f":"SUM(IF($A6=SoilCat,IF($B6=DrainCat,IF(F$3=ESALCat,Design!$N$34:$W$57))))","v":105},{"$f":"SUM(IF($A6=SoilCat,IF($B6=DrainCat,IF(G$3=ESALCat,Design!$N$34:$W$57))))","v":105},{"$f":"SUM(IF($A6=SoilCat,IF($B6=DrainCat,IF(H$3=ESALCat,Design!$N$34:$W$57))))","v":105},{"$f":"SUM(IF($A6=SoilCat,IF($B6=DrainCat,IF(I$3=ESALCat,Design!$N$34:$W$57))))","v":105},{"$f":"SUM(IF($A6=SoilCat,IF($B6=DrainCat,IF(J$3=ESALCat,Design!$N$34:$W$57))))","v":105},{"$f":"SUM(IF($A6=SoilCat,IF($B6=DrainCat,IF(K$3=ESALCat,Design!$N$34:$W$57))))","v":105},{"$f":"SUM(IF($A6=SoilCat,IF($B6=DrainCat,IF(L$3=ESALCat,Design!$N$34:$W$57))))","v":105},{"$f":"SUM(IF($A6=SoilCat,IF($B6=DrainCat,IF(M$3=ESALCat,Design!$N$34:$W$57))))","v":105},{"$f":"SUM(IF($A6=SoilCat,IF($B6=DrainCat,IF(N$3=ESALCat,Design!$N$34:$W$57))))","v":105},{"$f":"SUM(IF($A6=SoilCat,IF($B6=DrainCat,IF(O$3=ESALCat,Design!$N$34:$W$57))))","v":105}]
[1,"Good",null,null,"Asphalt Treated Base",{"$f":"SUM(IF($A7=SoilCat,IF($B7=DrainCat,IF(F$3=ESALCat,Design!$AH$34:$AQ$57))))","v":100},{"$f":"SUM(IF($A7=SoilCat,IF($B7=DrainCat,IF(G$3=ESALCat,Design!$AH$34:$AQ$57))))","v":100},{"$f":"SUM(IF($A7=SoilCat,IF($B7=DrainCat,IF(H$3=ESALCat,Design!$AH$34:$AQ$57))))","v":100},{"$f":"SUM(IF($A7=SoilCat,IF($B7=DrainCat,IF(I$3=ESALCat,Design!$AH$34:$AQ$57))))","v":100},{"$f":"SUM(IF($A7=SoilCat,IF($B7=DrainCat,IF(J$3=ESALCat,Design!$AH$34:$AQ$57))))","v":100},{"$f":"SUM(IF($A7=SoilCat,IF($B7=DrainCat,IF(K$3=ESALCat,Design!$AH$34:$AQ$57))))","v":100},{"$f":"SUM(IF($A7=SoilCat,IF($B7=DrainCat,IF(L$3=ESALCat,Design!$AH$34:$AQ$57))))","v":100},{"$f":"SUM(IF($A7=SoilCat,IF($B7=DrainCat,IF(M$3=ESALCat,Design!$AH$34:$AQ$57))))","v":100},{"$f":"SUM(IF($A7=SoilCat,IF($B7=DrainCat,IF(N$3=ESALCat,Design!$AH$34:$AQ$57))))","v":100},{"$f":"SUM(IF($A7=SoilCat,IF($B7=DrainCat,IF(O$3=ESALCat,Design!$AH$34:$AQ$57))))","v":100}]
[1,"Good",null,null,"Unbound Dense Graded Base",{"$f":"SUM(IF($A8=SoilCat,IF($B8=DrainCat,IF(F$3=ESALCat,Design!$BB$34:$BK$57))))","v":100},{"$f":"SUM(IF($A8=SoilCat,IF($B8=DrainCat,IF(G$3=ESALCat,Design!$BB$34:$BK$57))))","v":100},{"$f":"SUM(IF($A8=SoilCat,IF($B8=DrainCat,IF(H$3=ESALCat,Design!$BB$34:$BK$57))))","v":100},{"$f":"SUM(IF($A8=SoilCat,IF($B8=DrainCat,IF(I$3=ESALCat,Design!$BB$34:$BK$57))))","v":100},{"$f":"SUM(IF($A8=SoilCat,IF($B8=DrainCat,IF(J$3=ESALCat,Design!$BB$34:$BK$57))))","v":100},{"$f":"SUM(IF($A8=SoilCat,IF($B8=DrainCat,IF(K$3=ESALCat,Design!$BB$34:$BK$57))))","v":150},{"$f":"SUM(IF($A8=SoilCat,IF($B8=DrainCat,IF(L$3=ESALCat,Design!$BB$34:$BK$57))))","v":150},{"$f":"SUM(IF($A8=SoilCat,IF($B8=DrainCat,IF(M$3=ESALCat,Design!$BB$34:$BK$57))))","v":150},{"$f":"SUM(IF($A8=SoilCat,IF($B8=DrainCat,IF(N$3=ESALCat,Design!$BB$34:$BK$57))))","v":150},{"$f":"SUM(IF($A8=SoilCat,IF($B8=DrainCat,IF(O$3=ESALCat,Design!$BB$34:$BK$57))))","v":150}]
[1,"Good",null,null,"Unbound Dense Graded Subbase",{"$f":"SUM(IF($A9=SoilCat,IF($B9=DrainCat,IF(F$3=ESALCat,Design!$BV$34:$CE$57))))","v":0},{"$f":"SUM(IF($A9=SoilCat,IF($B9=DrainCat,IF(G$3=ESALCat,Design!$BV$34:$CE$57))))","v":0},{"$f":"SUM(IF($A9=SoilCat,IF($B9=DrainCat,IF(H$3=ESALCat,Design!$BV$34:$CE$57))))","v":0},{"$f":"SUM(IF($A9=SoilCat,IF($B9=DrainCat,IF(I$3=ESALCat,Design!$BV$34:$CE$57))))","v":0},{"$f":"SUM(IF($A9=SoilCat,IF($B9=DrainCat,IF(J$3=ESALCat,Design!$BV$34:$CE$57))))","v":0},{"$f":"SUM(IF($A9=SoilCat,IF($B9=DrainCat,IF(K$3=ESALCat,Design!$BV$34:$CE$57))))","v":0},{"$f":"SUM(IF($A9=SoilCat,IF($B9=DrainCat,IF(L$3=ESALCat,Design!$BV$34:$CE$57))))","v":0},{"$f":"SUM(IF($A9=SoilCat,IF($B9=DrainCat,IF(M$3=ESALCat,Design!$BV$34:$CE$57))))","v":0},{"$f":"SUM(IF($A9=SoilCat,IF($B9=DrainCat,IF(N$3=ESALCat,Design!$BV$34:$CE$57))))","v":0},{"$f":"SUM(IF($A9=SoilCat,IF($B9=DrainCat,IF(O$3=ESALCat,Design!$BV$34:$CE$57))))","v":0}]
[1,"Fair",null,"Fair","Pavers and Bedding",{"$f":"SUM(IF($A10=SoilCat,IF($B10=DrainCat,IF(F$3=ESALCat,Design!$N$34:$W$57))))","v":105},{"$f":"SUM(IF($A10=SoilCat,IF($B10=DrainCat,IF(G$3=ESALCat,Design!$N$34:$W$57))))","v":105},{"$f":"SUM(IF($A10=SoilCat,IF($B10=DrainCat,IF(H$3=ESALCat,Design!$N$34:$W$57))))","v":105},{"$f":"SUM(IF($A10=SoilCat,IF($B10=DrainCat,IF(I$3=ESALCat,Design!$N$34:$W$57))))","v":105},{"$f":"SUM(IF($A10=SoilCat,IF($B10=DrainCat,IF(J$3=ESALCat,Design!$N$34:$W$57))))","v":105},{"$f":"SUM(IF($A10=SoilCat,IF($B10=DrainCat,IF(K$3=ESALCat,Design!$N$34:$W$57))))","v":105},{"$f":"SUM(IF($A10=SoilCat,IF($B10=DrainCat,IF(L$3=ESALCat,Design!$N$34:$W$57))))","v":105},{"$f":"SUM(IF($A10=SoilCat,IF($B10=DrainCat,IF(M$3=ESALCat,Design!$N$34:$W$57))))","v":105},{"$f":"SUM(IF($A10=SoilCat,IF($B10=DrainCat,IF(N$3=ESALCat,Design!$N$34:$W$57))))","v":105},{"$f":"SUM(IF($A10=SoilCat,IF($B10=DrainCat,IF(O$3=ESALCat,Design!$N$34:$W$57))))","v":105}]
[1,"Fair",null,null,"Asphalt Treated Base",{"$f":"SUM(IF($A11=SoilCat,IF($B11=DrainCat,IF(F$3=ESALCat,Design!$AH$34:$AQ$57))))","v":100},{"$f":"SUM(IF($A11=SoilCat,IF($B11=DrainCat,IF(G$3=ESALCat,Design!$AH$34:$AQ$57))))","v":100},{"$f":"SUM(IF($A11=SoilCat,IF($B11=DrainCat,IF(H$3=ESALCat,Design!$AH$34:$AQ$57))))","v":100},{"$f":"SUM(IF($A11=SoilCat,IF($B11=DrainCat,IF(I$3=ESALCat,Design!$AH$34:$AQ$57))))","v":100},{"$f":"SUM(IF($A11=SoilCat,IF($B11=DrainCat,IF(J$3=ESALCat,Design!$AH$34:$AQ$57))))","v":100},{"$f":"SUM(IF($A11=SoilCat,IF($B11=DrainCat,IF(K$3=ESALCat,Design!$AH$34:$AQ$57))))","v":100},{"$f":"SUM(IF($A11=SoilCat,IF($B11=DrainCat,IF(L$3=ESALCat,Design!$AH$34:$AQ$57))))","v":100},{"$f":"SUM(IF($A11=SoilCat,IF($B11=DrainCat,IF(M$3=ESALCat,Design!$AH$34:$AQ$57))))","v":100},{"$f":"SUM(IF($A11=SoilCat,IF($B11=DrainCat,IF(N$3=ESALCat,Design!$AH$34:$AQ$57))))","v":100},{"$f":"SUM(IF($A11=SoilCat,IF($B11=DrainCat,IF(O$3=ESALCat,Design!$AH$34:$AQ$57))))","v":100}]
[1,"Fair",null,null,"Unbound Dense Graded Base",{"$f":"SUM(IF($A12=SoilCat,IF($B12=DrainCat,IF(F$3=ESALCat,Design!$BB$34:$BK$57))))","v":100},{"$f":"SUM(IF($A12=SoilCat,IF($B12=DrainCat,IF(G$3=ESALCat,Design!$BB$34:$BK$57))))","v":100},{"$f":"SUM(IF($A12=SoilCat,IF($B12=DrainCat,IF(H$3=ESALCat,Design!$BB$34:$BK$57))))","v":100},{"$f":"SUM(IF($A12=SoilCat,IF($B12=DrainCat,IF(I$3=ESALCat,Design!$BB$34:$BK$57))))","v":100},{"$f":"SUM(IF($A12=SoilCat,IF($B12=DrainCat,IF(J$3=ESALCat,Design!$BB$34:$BK$57))))","v":100},{"$f":"SUM(IF($A12=SoilCat,IF($B12=DrainCat,IF(K$3=ESALCat,Design!$BB$34:$BK$57))))","v":150},{"$f":"SUM(IF($A12=SoilCat,IF($B12=DrainCat,IF(L$3=ESALCat,Design!$BB$34:$BK$57))))","v":150},{"$f":"SUM(IF($A12=SoilCat,IF($B12=DrainCat,IF(M$3=ESALCat,Design!$BB$34:$BK$57))))","v":150},{"$f":"SUM(IF($A12=SoilCat,IF($B12=DrainCat,IF(N$3=ESALCat,Design!$BB$34:$BK$57))))","v":150},{"$f":"SUM(IF($A12=SoilCat,IF($B12=DrainCat,IF(O$3=ESALCat,Design!$BB$34:$BK$57))))","v":175}]
[1,"Fair",null,null,"Unbound Dense Graded Subbase",{"$f":"SUM(IF($A13=SoilCat,IF($B13=DrainCat,IF(F$3=ESALCat,Design!$BV$34:$CE$57))))","v":0},{"$f":"SUM(IF($A13=SoilCat,IF($B13=DrainCat,IF(G$3=ESALCat,Design!$BV$34:$CE$57))))","v":0},{"$f":"SUM(IF($A13=SoilCat,IF($B13=DrainCat,IF(H$3=ESALCat,Design!$BV$34:$CE$57))))","v":0},{"$f":"SUM(IF($A13=SoilCat,IF($B13=DrainCat,IF(I$3=ESALCat,Design!$BV$34:$CE$57))))","v":0},{"$f":"SUM(IF($A13=SoilCat,IF($B13=DrainCat,IF(J$3=ESALCat,Design!$BV$34:$CE$57))))","v":0},{"$f":"SUM(IF($A13=SoilCat,IF($B13=DrainCat,IF(K$3=ESALCat,Design!$BV$34:$CE$57))))","v":0},{"$f":"SUM(IF($A13=SoilCat,IF($B13=DrainCat,IF(L$3=ESALCat,Design!$BV$34:$CE$57))))","v":0},{"$f":"SUM(IF($A13=SoilCat,IF($B13=DrainCat,IF(M$3=ESALCat,Design!$BV$34:$CE$57))))","v":0},{"$f":"SUM(IF($A13=SoilCat,IF($B13=DrainCat,IF(N$3=ESALCat,Design!$BV$34:$CE$57))))","v":0},{"$f":"SUM(IF($A13=SoilCat,IF($B13=DrainCat,IF(O$3=ESALCat,Design!$BV$34:$CE$57))))","v":0}]
[1,"Poor",null,"Poor","Pavers and Bedding",{"$f":"SUM(IF($A14=SoilCat,IF($B14=DrainCat,IF(F$3=ESALCat,Design!$N$34:$W$57))))","v":105},{"$f":"SUM(IF($A14=SoilCat,IF($B14=DrainCat,IF(G$3=ESALCat,Design!$N$34:$W$57))))","v":105},{"$f":"SUM(IF($A14=SoilCat,IF($B14=DrainCat,IF(H$3=ESALCat,Design!$N$34:$W$57))))","v":105},{"$f":"SUM(IF($A14=SoilCat,IF($B14=DrainCat,IF(I$3=ESALCat,Design!$N$34:$W$57))))","v":105},{"$f":"SUM(IF($A14=SoilCat,IF($B14=DrainCat,IF(J$3=ESALCat,Design!$N$34:$W$57))))","v":105},{"$f":"SUM(IF($A14=SoilCat,IF($B14=DrainCat,IF(K$3=ESALCat,Design!$N$34:$W$57))))","v":105},{"$f":"SUM(IF($A14=SoilCat,IF($B14=DrainCat,IF(L$3=ESALCat,Design!$N$34:$W$57))))","v":105},{"$f":"SUM(IF($A14=SoilCat,IF($B14=DrainCat,IF(M$3=ESALCat,Design!$N$34:$W$57))))","v":105},{"$f":"SUM(IF($A14=SoilCat,IF($B14=DrainCat,IF(N$3=ESALCat,Design!$N$34:$W$57))))","v":105},{"$f":"SUM(IF($A14=SoilCat,IF($B14=DrainCat,IF(O$3=ESALCat,Design!$N$34:$W$57))))","v":105}]
[1,"Poor",null,null,"Asphalt Treated Base",{"$f":"SUM(IF($A15=SoilCat,IF($B15=DrainCat,IF(F$3=ESALCat,Design!$AH$34:$AQ$57))))","v":100},{"$f":"SUM(IF($A15=SoilCat,IF($B15=DrainCat,IF(G$3=ESALCat,Design!$AH$34:$AQ$57))))","v":100},{"$f":"SUM(IF($A15=SoilCat,IF($B15=DrainCat,IF(H$3=ESALCat,Design!$AH$34:$AQ$57))))","v":100},{"$f":"SUM(IF($A15=SoilCat,IF($B15=DrainCat,IF(I$3=ESALCat,Design!$AH$34:$AQ$57))))","v":100},{"$f":"SUM(IF($A15=SoilCat,IF($B15=DrainCat,IF(J$3=ESALCat,Design!$AH$34:$AQ$57))))","v":100},{"$f":"SUM(IF($A15=SoilCat,IF($B15=DrainCat,IF(K$3=ESALCat,Design!$AH$34:$AQ$57))))","v":100},{"$f":"SUM(IF($A15=SoilCat,IF($B15=DrainCat,IF(L$3=ESALCat,Design!$AH$34:$AQ$57))))","v":100},{"$f":"SUM(IF($A15=SoilCat,IF($B15=DrainCat,IF(M$3=ESALCat,Design!$AH$34:$AQ$57))))","v":100},{"$f":"SUM(IF($A15=SoilCat,IF($B15=DrainCat,IF(N$3=ESALCat,Design!$AH$34:$AQ$57))))","v":100},{"$f":"SUM(IF($A15=SoilCat,IF($B15=DrainCat,IF(O$3=ESALCat,Design!$AH$34:$AQ$57))))","v":100}]
[1,"Poor",null,null,"Unbound Dense Graded Base",{"$f":"SUM(IF($A16=SoilCat,IF($B16=DrainCat,IF(F$3=ESALCat,Design!$BB$34:$BK$57))))","v":100},{"$f":"SUM(IF($A16=SoilCat,IF($B16=DrainCat,IF(G$3=ESALCat,Design!$BB$34:$BK$57))))","v":100},{"$f":"SUM(IF($A16=SoilCat,IF($B16=DrainCat,IF(H$3=ESALCat,Design!$BB$34:$BK$57))))","v":100},{"$f":"SUM(IF($A16=SoilCat,IF($B16=DrainCat,IF(I$3=ESALCat,Design!$BB$34:$BK$57))))","v":100},{"$f":"SUM(IF($A16=SoilCat,IF($B16=DrainCat,IF(J$3=ESALCat,Design!$BB$34:$BK$57))))","v":100},{"$f":"SUM(IF($A16=SoilCat,IF($B16=DrainCat,IF(K$3=ESALCat,Design!$BB$34:$BK$57))))","v":150},{"$f":"SUM(IF($A16=SoilCat,IF($B16=DrainCat,IF(L$3=ESALCat,Design!$BB$34:$BK$57))))","v":150},{"$f":"SUM(IF($A16=SoilCat,IF($B16=DrainCat,IF(M$3=ESALCat,Design!$BB$34:$BK$57))))","v":150},{"$f":"SUM(IF($A16=SoilCat,IF($B16=DrainCat,IF(N$3=ESALCat,Design!$BB$34:$BK$57))))","v":150},{"$f":"SUM(IF($A16=SoilCat,IF($B16=DrainCat,IF(O$3=ESALCat,Design!$BB$34:$BK$57))))","v":150}]
[1,"Poor",null,null,"Unbound Dense Graded Subbase",{"$f":"SUM(IF($A17=SoilCat,IF($B17=DrainCat,IF(F$3=ESALCat,Design!$BV$34:$CE$57))))","v":0},{"$f":"SUM(IF($A17=SoilCat,IF($B17=DrainCat,IF(G$3=ESALCat,Design!$BV$34:$CE$57))))","v":0},{"$f":"SUM(IF($A17=SoilCat,IF($B17=DrainCat,IF(H$3=ESALCat,Design!$BV$34:$CE$57))))","v":0},{"$f":"SUM(IF($A17=SoilCat,IF($B17=DrainCat,IF(I$3=ESALCat,Design!$BV$34:$CE$57))))","v":0},{"$f":"SUM(IF($A17=SoilCat,IF($B17=DrainCat,IF(J$3=ESALCat,Design!$BV$34:$CE$57))))","v":0},{"$f":"SUM(IF($A17=SoilCat,IF($B17=DrainCat,IF(K$3=ESALCat,Design!$BV$34:$CE$57))))","v":0},{"$f":"SUM(IF($A17=SoilCat,IF($B17=DrainCat,IF(L$3=ESALCat,Design!$BV$34:$CE$57))))","v":0},{"$f":"SUM(IF($A17=SoilCat,IF($B17=DrainCat,IF(M$3=ESALCat,Design!$BV$34:$CE$57))))","v":0},{"$f":"SUM(IF($A17=SoilCat,IF($B17=DrainCat,IF(N$3=ESALCat,Design!$BV$34:$CE$57))))","v":0},{"$f":"SUM(IF($A17=SoilCat,IF($B17=DrainCat,IF(O$3=ESALCat,Design!$BV$34:$CE$57))))","v":150}]
[2,"Good","Category 2","Good","Pavers and Bedding",{"$f":"SUM(IF($A18=SoilCat,IF($B18=DrainCat,IF(F$3=ESALCat,Design!$N$34:$W$57))))","v":105},{"$f":"SUM(IF($A18=SoilCat,IF($B18=DrainCat,IF(G$3=ESALCat,Design!$N$34:$W$57))))","v":105},{"$f":"SUM(IF($A18=SoilCat,IF($B18=DrainCat,IF(H$3=ESALCat,Design!$N$34:$W$57))))","v":105},{"$f":"SUM(IF($A18=SoilCat,IF($B18=DrainCat,IF(I$3=ESALCat,Design!$N$34:$W$57))))","v":105},{"$f":"SUM(IF($A18=SoilCat,IF($B18=DrainCat,IF(J$3=ESALCat,Design!$N$34:$W$57))))","v":105},{"$f":"SUM(IF($A18=SoilCat,IF($B18=DrainCat,IF(K$3=ESALCat,Design!$N$34:$W$57))))","v":105},{"$f":"SUM(IF($A18=SoilCat,IF($B18=DrainCat,IF(L$3=ESALCat,Design!$N$34:$W$57))))","v":105},{"$f":"SUM(IF($A18=SoilCat,IF($B18=DrainCat,IF(M$3=ESALCat,Design!$N$34:$W$57))))","v":105},{"$f":"SUM(IF($A18=SoilCat,IF($B18=DrainCat,IF(N$3=ESALCat,Design!$N$34:$W$57))))","v":105},{"$f":"SUM(IF($A18=SoilCat,IF($B18=DrainCat,IF(O$3=ESALCat,Design!$N$34:$W$57))))","v":105}]
[2,"Good",null,null,"Asphalt Treated Base",{"$f":"SUM(IF($A19=SoilCat,IF($B19=DrainCat,IF(F$3=ESALCat,Design!$AH$34:$AQ$57))))","v":100},{"$f":"SUM(IF($A19=SoilCat,IF($B19=DrainCat,IF(G$3=ESALCat,Design!$AH$34:$AQ$57))))","v":100},{"$f":"SUM(IF($A19=SoilCat,IF($B19=DrainCat,IF(H$3=ESALCat,Design!$AH$34:$AQ$57))))","v":100},{"$f":"SUM(IF($A19=SoilCat,IF($B19=DrainCat,IF(I$3=ESALCat,Design!$AH$34:$AQ$57))))","v":100},{"$f":"SUM(IF($A19=SoilCat,IF($B19=DrainCat,IF(J$3=ESALCat,Design!$AH$34:$AQ$57))))","v":100},{"$f":"SUM(IF($A19=SoilCat,IF($B19=DrainCat,IF(K$3=ESALCat,Design!$AH$34:$AQ$57))))","v":100},{"$f":"SUM(IF($A19=SoilCat,IF($B19=DrainCat,IF(L$3=ESALCat,Design!$AH$34:$AQ$57))))","v":100},{"$f":"SUM(IF($A19=SoilCat,IF($B19=DrainCat,IF(M$3=ESALCat,Design!$AH$34:$AQ$57))))","v":100},{"$f":"SUM(IF($A19=SoilCat,IF($B19=DrainCat,IF(N$3=ESALCat,Design!$AH$34:$AQ$57))))","v":100},{"$f":"SUM(IF($A19=SoilCat,IF($B19=DrainCat,IF(O$3=ESALCat,Design!$AH$34:$AQ$57))))","v":100}]
[2,"Good",null,null,"Unbound Dense Graded Base",{"$f":"SUM(IF($A20=SoilCat,IF($B20=DrainCat,IF(F$3=ESALCat,Design!$BB$34:$BK$57))))","v":100},{"$f":"SUM(IF($A20=SoilCat,IF($B20=DrainCat,IF(G$3=ESALCat,Design!$BB$34:$BK$57))))","v":100},{"$f":"SUM(IF($A20=SoilCat,IF($B20=DrainCat,IF(H$3=ESALCat,Design!$BB$34:$BK$57))))","v":100},{"$f":"SUM(IF($A20=SoilCat,IF($B20=DrainCat,IF(I$3=ESALCat,Design!$BB$34:$BK$57))))","v":100},{"$f":"SUM(IF($A20=SoilCat,IF($B20=DrainCat,IF(J$3=ESALCat,Design!$BB$34:$BK$57))))","v":100},{"$f":"SUM(IF($A20=SoilCat,IF($B20=DrainCat,IF(K$3=ESALCat,Design!$BB$34:$BK$57))))","v":150},{"$f":"SUM(IF($A20=SoilCat,IF($B20=DrainCat,IF(L$3=ESALCat,Design!$BB$34:$BK$57))))","v":150},{"$f":"SUM(IF($A20=SoilCat,IF($B20=DrainCat,IF(M$3=ESALCat,Design!$BB$34:$BK$57))))","v":150},{"$f":"SUM(IF($A20=SoilCat,IF($B20=DrainCat,IF(N$3=ESALCat,Design!$BB$34:$BK$57))))","v":150},{"$f":"SUM(IF($A20=SoilCat,IF($B20=DrainCat,IF(O$3=ESALCat,Design!$BB$34:$BK$57))))","v":175}]
[2,"Good",null,null,"Unbound Dense Graded Subbase",{"$f":"SUM(IF($A21=SoilCat,IF($B21=DrainCat,IF(F$3=ESALCat,Design!$BV$34:$CE$57))))","v":0},{"$f":"SUM(IF($A21=SoilCat,IF($B21=DrainCat,IF(G$3=ESALCat,Design!$BV$34:$CE$57))))","v":0},{"$f":"SUM(IF($A21=SoilCat,IF($B21=DrainCat,IF(H$3=ESALCat,Design!$BV$34:$CE$57))))","v":0},{"$f":"SUM(IF($A21=SoilCat,IF($B21=DrainCat,IF(I$3=ESALCat,Design!$BV$34:$CE$57))))","v":0},{"$f":"SUM(IF($A21=SoilCat,IF($B21=DrainCat,IF(J$3=ESALCat,Design!$BV$34:$CE$57))))","v":0},{"$f":"SUM(IF($A21=SoilCat,IF($B21=DrainCat,IF(K$3=ESALCat,Design!$BV$34:$CE$57))))","v":0},{"$f":"SUM(IF($A21=SoilCat,IF($B21=DrainCat,IF(L$3=ESALCat,Design!$BV$34:$CE$57))))","v":0},{"$f":"SUM(IF($A21=SoilCat,IF($B21=DrainCat,IF(M$3=ESALCat,Design!$BV$34:$CE$57))))","v":0},{"$f":"SUM(IF($A21=SoilCat,IF($B21=DrainCat,IF(N$3=ESALCat,Design!$BV$34:$CE$57))))","v":0},{"$f":"SUM(IF($A21=SoilCat,IF($B21=DrainCat,IF(O$3=ESALCat,Design!$BV$34:$CE$57))))","v":0}]
[2,"Fair",null,"Fair","Pavers and Bedding",{"$f":"SUM(IF($A22=SoilCat,IF($B22=DrainCat,IF(F$3=ESALCat,Design!$N$34:$W$57))))","v":105},{"$f":"SUM(IF($A22=SoilCat,IF($B22=DrainCat,IF(G$3=ESALCat,Design!$N$34:$W$57))))","v":105},{"$f":"SUM(IF($A22=SoilCat,IF($B22=DrainCat,IF(H$3=ESALCat,Design!$N$34:$W$57))))","v":105},{"$f":"SUM(IF($A22=SoilCat,IF($B22=DrainCat,IF(I$3=ESALCat,Design!$N$34:$W$57))))","v":105},{"$f":"SUM(IF($A22=SoilCat,IF($B22=DrainCat,IF(J$3=ESALCat,Design!$N$34:$W$57))))","v":105},{"$f":"SUM(IF($A22=SoilCat,IF($B22=DrainCat,IF(K$3=ESALCat,Design!$N$34:$W$57))))","v":105},{"$f":"SUM(IF($A22=SoilCat,IF($B22=DrainCat,IF(L$3=ESALCat,Design!$N$34:$W$57))))","v":105},{"$f":"SUM(IF($A22=SoilCat,IF($B22=DrainCat,IF(M$3=ESALCat,Design!$N$34:$W$57))))","v":105},{"$f":"SUM(IF($A22=SoilCat,IF($B22=DrainCat,IF(N$3=ESALCat,Design!$N$34:$W$57))))","v":105},{"$f":"SUM(IF($A22=SoilCat,IF($B22=DrainCat,IF(O$3=ESALCat,Design!$N$34:$W$57))))","v":105}]
[2,"Fair",null,null,"Asphalt Treated Base",{"$f":"SUM(IF($A23=SoilCat,IF($B23=DrainCat,IF(F$3=ESALCat,Design!$AH$34:$AQ$57))))","v":100},{"$f":"SUM(IF($A23=SoilCat,IF($B23=DrainCat,IF(G$3=ESALCat,Design!$AH$34:$AQ$57))))","v":100},{"$f":"SUM(IF($A23=SoilCat,IF($B23=DrainCat,IF(H$3=ESALCat,Design!$AH$34:$AQ$57))))","v":100},{"$f":"SUM(IF($A23=SoilCat,IF($B23=DrainCat,IF(I$3=ESALCat,Design!$AH$34:$AQ$57))))","v":100},{"$f":"SUM(IF($A23=SoilCat,IF($B23=DrainCat,IF(J$3=ESALCat,Design!$AH$34:$AQ$57))))","v":100},{"$f":"SUM(IF($A23=SoilCat,IF($B23=DrainCat,IF(K$3=ESALCat,Design!$AH$34:$AQ$57))))","v":100},{"$f":"SUM(IF($A23=SoilCat,IF($B23=DrainCat,IF(L$3=ESALCat,Design!$AH$34:$AQ$57))))","v":100},{"$f":"SUM(IF($A23=SoilCat,IF($B23=DrainCat,IF(M$3=ESALCat,Design!$AH$34:$AQ$57))))","v":100},{"$f":"SUM(IF($A23=SoilCat,IF($B23=DrainCat,IF(N$3=ESALCat,Design!$AH$34:$AQ$57))))","v":100},{"$f":"SUM(IF($A23=SoilCat,IF($B23=DrainCat,IF(O$3=ESALCat,Design!$AH$34:$AQ$57))))","v":100}]
[2,"Fair",null,null,"Unbound Dense Graded Base",{"$f":"SUM(IF($A24=SoilCat,IF($B24=DrainCat,IF(F$3=ESALCat,Design!$BB$34:$BK$57))))","v":100},{"$f":"SUM(IF($A24=SoilCat,IF($B24=DrainCat,IF(G$3=ESALCat,Design!$BB$34:$BK$57))))","v":100},{"$f":"SUM(IF($A24=SoilCat,IF($B24=DrainCat,IF(H$3=ESALCat,Design!$BB$34:$BK$57))))","v":100},{"$f":"SUM(IF($A24=SoilCat,IF($B24=DrainCat,IF(I$3=ESALCat,Design!$BB$34:$BK$57))))","v":100},{"$f":"SUM(IF($A24=SoilCat,IF($B24=DrainCat,IF(J$3=ESALCat,Design!$BB$34:$BK$57))))","v":100},{"$f":"SUM(IF($A24=SoilCat,IF($B24=DrainCat,IF(K$3=ESALCat,Design!$BB$34:$BK$57))))","v":150},{"$f":"SUM(IF($A24=SoilCat,IF($B24=DrainCat,IF(L$3=ESALCat,Design!$BB$34:$BK$57))))","v":150},{"$f":"SUM(IF($A24=SoilCat,IF($B24=DrainCat,IF(M$3=ESALCat,Design!$BB$34:$BK$57))))","v":150},{"$f":"SUM(IF($A24=SoilCat,IF($B24=DrainCat,IF(N$3=ESALCat,Design!$BB$34:$BK$57))))","v":150},{"$f":"SUM(IF($A24=SoilCat,IF($B24=DrainCat,IF(O$3=ESALCat,Design!$BB$34:$BK$57))))","v":150}]
[2,"Fair",null,null,"Unbound Dense Graded Subbase",{"$f":"SUM(IF($A25=SoilCat,IF($B25=DrainCat,IF(F$3=ESALCat,Design!$BV$34:$CE$57))))","v":0},{"$f":"SUM(IF($A25=SoilCat,IF($B25=DrainCat,IF(G$3=ESALCat,Design!$BV$34:$CE$57))))","v":0},{"$f":"SUM(IF($A25=SoilCat,IF($B25=DrainCat,IF(H$3=ESALCat,Design!$BV$34:$CE$57))))","v":0},{"$f":"SUM(IF($A25=SoilCat,IF($B25=DrainCat,IF(I$3=ESALCat,Design!$BV$34:$CE$57))))","v":0},{"$f":"SUM(IF($A25=SoilCat,IF($B25=DrainCat,IF(J$3=ESALCat,Design!$BV$34:$CE$57))))","v":0},{"$f":"SUM(IF($A25=SoilCat,IF($B25=DrainCat,IF(K$3=ESALCat,Design!$BV$34:$CE$57))))","v":0},{"$f":"SUM(IF($A25=SoilCat,IF($B25=DrainCat,IF(L$3=ESALCat,Design!$BV$34:$CE$57))))","v":0},{"$f":"SUM(IF($A25=SoilCat,IF($B25=DrainCat,IF(M$3=ESALCat,Design!$BV$34:$CE$57))))","v":0},{"$f":"SUM(IF($A25=SoilCat,IF($B25=DrainCat,IF(N$3=ESALCat,Design!$BV$34:$CE$57))))","v":0},{"$f":"SUM(IF($A25=SoilCat,IF($B25=DrainCat,IF(O$3=ESALCat,Design!$BV$34:$CE$57))))","v":150}]
[2,"Poor",null,"Poor","Pavers and Bedding",{"$f":"SUM(IF($A26=SoilCat,IF($B26=DrainCat,IF(F$3=ESALCat,Design!$N$34:$W$57))))","v":105},{"$f":"SUM(IF($A26=SoilCat,IF($B26=DrainCat,IF(G$3=ESALCat,Design!$N$34:$W$57))))","v":105},{"$f":"SUM(IF($A26=SoilCat,IF($B26=DrainCat,IF(H$3=ESALCat,Design!$N$34:$W$57))))","v":105},{"$f":"SUM(IF($A26=SoilCat,IF($B26=DrainCat,IF(I$3=ESALCat,Design!$N$34:$W$57))))","v":105},{"$f":"SUM(IF($A26=SoilCat,IF($B26=DrainCat,IF(J$3=ESALCat,Design!$N$34:$W$57))))","v":105},{"$f":"SUM(IF($A26=SoilCat,IF($B26=DrainCat,IF(K$3=ESALCat,Design!$N$34:$W$57))))","v":105},{"$f":"SUM(IF($A26=SoilCat,IF($B26=DrainCat,IF(L$3=ESALCat,Design!$N$34:$W$57))))","v":105},{"$f":"SUM(IF($A26=SoilCat,IF($B26=DrainCat,IF(M$3=ESALCat,Design!$N$34:$W$57))))","v":105},{"$f":"SUM(IF($A26=SoilCat,IF($B26=DrainCat,IF(N$3=ESALCat,Design!$N$34:$W$57))))","v":105},{"$f":"SUM(IF($A26=SoilCat,IF($B26=DrainCat,IF(O$3=ESALCat,Design!$N$34:$W$57))))","v":105}]
[2,"Poor",null,null,"Asphalt Treated Base",{"$f":"SUM(IF($A27=SoilCat,IF($B27=DrainCat,IF(F$3=ESALCat,Design!$AH$34:$AQ$57))))","v":100},{"$f":"SUM(IF($A27=SoilCat,IF($B27=DrainCat,IF(G$3=ESALCat,Design!$AH$34:$AQ$57))))","v":100},{"$f":"SUM(IF($A27=SoilCat,IF($B27=DrainCat,IF(H$3=ESALCat,Design!$AH$34:$AQ$57))))","v":100},{"$f":"SUM(IF($A27=SoilCat,IF($B27=DrainCat,IF(I$3=ESALCat,Design!$AH$34:$AQ$57))))","v":100},{"$f":"SUM(IF($A27=SoilCat,IF($B27=DrainCat,IF(J$3=ESALCat,Design!$AH$34:$AQ$57))))","v":100},{"$f":"SUM(IF($A27=SoilCat,IF($B27=DrainCat,IF(K$3=ESALCat,Design!$AH$34:$AQ$57))))","v":100},{"$f":"SUM(IF($A27=SoilCat,IF($B27=DrainCat,IF(L$3=ESALCat,Design!$AH$34:$AQ$57))))","v":100},{"$f":"SUM(IF($A27=SoilCat,IF($B27=DrainCat,IF(M$3=ESALCat,Design!$AH$34:$AQ$57))))","v":100},{"$f":"SUM(IF($A27=SoilCat,IF($B27=DrainCat,IF(N$3=ESALCat,Design!$AH$34:$AQ$57))))","v":100},{"$f":"SUM(IF($A27=SoilCat,IF($B27=DrainCat,IF(O$3=ESALCat,Design!$AH$34:$AQ$57))))","v":100}]
[2,"Poor",null,null,"Unbound Dense Graded Base",{"$f":"SUM(IF($A28=SoilCat,IF($B28=DrainCat,IF(F$3=ESALCat,Design!$BB$34:$BK$57))))","v":100},{"$f":"SUM(IF($A28=SoilCat,IF($B28=DrainCat,IF(G$3=ESALCat,Design!$BB$34:$BK$57))))","v":100},{"$f":"SUM(IF($A28=SoilCat,IF($B28=DrainCat,IF(H$3=ESALCat,Design!$BB$34:$BK$57))))","v":100},{"$f":"SUM(IF($A28=SoilCat,IF($B28=DrainCat,IF(I$3=ESALCat,Design!$BB$34:$BK$57))))","v":100},{"$f":"SUM(IF($A28=SoilCat,IF($B28=DrainCat,IF(J$3=ESALCat,Design!$BB$34:$BK$57))))","v":100},{"$f":"SUM(IF($A28=SoilCat,IF($B28=DrainCat,IF(K$3=ESALCat,Design!$BB$34:$BK$57))))","v":150},{"$f":"SUM(IF($A28=SoilCat,IF($B28=DrainCat,IF(L$3=ESALCat,Design!$BB$34:$BK$57))))","v":150},{"$f":"SUM(IF($A28=SoilCat,IF($B28=DrainCat,IF(M$3=ESALCat,Design!$BB$34:$BK$57))))","v":150},{"$f":"SUM(IF($A28=SoilCat,IF($B28=DrainCat,IF(N$3=ESALCat,Design!$BB$34:$BK$57))))","v":150},{"$f":"SUM(IF($A28=SoilCat,IF($B28=DrainCat,IF(O$3=ESALCat,Design!$BB$34:$BK$57))))","v":150}]
[2,"Poor",null,null,"Unbound Dense Graded Subbase",{"$f":"SUM(IF($A29=SoilCat,IF($B29=DrainCat,IF(F$3=ESALCat,Design!$BV$34:$CE$57))))","v":0},{"$f":"SUM(IF($A29=SoilCat,IF($B29=DrainCat,IF(G$3=ESALCat,Design!$BV$34:$CE$57))))","v":0},{"$f":"SUM(IF($A29=SoilCat,IF($B29=DrainCat,IF(H$3=ESALCat,Design!$BV$34:$CE$57))))","v":0},{"$f":"SUM(IF($A29=SoilCat,IF($B29=DrainCat,IF(I$3=ESALCat,Design!$BV$34:$CE$57))))","v":0},{"$f":"SUM(IF($A29=SoilCat,IF($B29=DrainCat,IF(J$3=ESALCat,Design!$BV$34:$CE$57))))","v":0},{"$f":"SUM(IF($A29=SoilCat,IF($B29=DrainCat,IF(K$3=ESALCat,Design!$BV$34:$CE$57))))","v":0},{"$f":"SUM(IF($A29=SoilCat,IF($B29=DrainCat,IF(L$3=ESALCat,Design!$BV$34:$CE$57))))","v":0},{"$f":"SUM(IF($A29=SoilCat,IF($B29=DrainCat,IF(M$3=ESALCat,Design!$BV$34:$CE$57))))","v":0},{"$f":"SUM(IF($A29=SoilCat,IF($B29=DrainCat,IF(N$3=ESALCat,Design!$BV$34:$CE$57))))","v":150},{"$f":"SUM(IF($A29=SoilCat,IF($B29=DrainCat,IF(O$3=ESALCat,Design!$BV$34:$CE$57))))","v":250}]
[3,"Good","Category 3","Good","Pavers and Bedding",{"$f":"SUM(IF($A30=SoilCat,IF($B30=DrainCat,IF(F$3=ESALCat,Design!$N$34:$W$57))))","v":105},{"$f":"SUM(IF($A30=SoilCat,IF($B30=DrainCat,IF(G$3=ESALCat,Design!$N$34:$W$57))))","v":105},{"$f":"SUM(IF($A30=SoilCat,IF($B30=DrainCat,IF(H$3=ESALCat,Design!$N$34:$W$57))))","v":105},{"$f":"SUM(IF($A30=SoilCat,IF($B30=DrainCat,IF(I$3=ESALCat,Design!$N$34:$W$57))))","v":105},{"$f":"SUM(IF($A30=SoilCat,IF($B30=DrainCat,IF(J$3=ESALCat,Design!$N$34:$W$57))))","v":105},{"$f":"SUM(IF($A30=SoilCat,IF($B30=DrainCat,IF(K$3=ESALCat,Design!$N$34:$W$57))))","v":105},{"$f":"SUM(IF($A30=SoilCat,IF($B30=DrainCat,IF(L$3=ESALCat,Design!$N$34:$W$57))))","v":105},{"$f":"SUM(IF($A30=SoilCat,IF($B30=DrainCat,IF(M$3=ESALCat,Design!$N$34:$W$57))))","v":105},{"$f":"SUM(IF($A30=SoilCat,IF($B30=DrainCat,IF(N$3=ESALCat,Design!$N$34:$W$57))))","v":105},{"$f":"SUM(IF($A30=SoilCat,IF($B30=DrainCat,IF(O$3=ESALCat,Design!$N$34:$W$57))))","v":105}]
[3,"Good",null,null,"Asphalt Treated Base",{"$f":"SUM(IF($A31=SoilCat,IF($B31=DrainCat,IF(F$3=ESALCat,Design!$AH$34:$AQ$57))))","v":100},{"$f":"SUM(IF($A31=SoilCat,IF($B31=DrainCat,IF(G$3=ESALCat,Design!$AH$34:$AQ$57))))","v":100},{"$f":"SUM(IF($A31=SoilCat,IF($B31=DrainCat,IF(H$3=ESALCat,Design!$AH$34:$AQ$57))))","v":100},{"$f":"SUM(IF($A31=SoilCat,IF($B31=DrainCat,IF(I$3=ESALCat,Design!$AH$34:$AQ$57))))","v":100},{"$f":"SUM(IF($A31=SoilCat,IF($B31=DrainCat,IF(J$3=ESALCat,Design!$AH$34:$AQ$57))))","v":100},{"$f":"SUM(IF($A31=SoilCat,IF($B31=DrainCat,IF(K$3=ESALCat,Design!$AH$34:$AQ$57))))","v":100},{"$f":"SUM(IF($A31=SoilCat,IF($B31=DrainCat,IF(L$3=ESALCat,Design!$AH$34:$AQ$57))))","v":100},{"$f":"SUM(IF($A31=SoilCat,IF($B31=DrainCat,IF(M$3=ESALCat,Design!$AH$34:$AQ$57))))","v":100},{"$f":"SUM(IF($A31=SoilCat,IF($B31=DrainCat,IF(N$3=ESALCat,Design!$AH$34:$AQ$57))))","v":100},{"$f":"SUM(IF($A31=SoilCat,IF($B31=DrainCat,IF(O$3=ESALCat,Design!$AH$34:$AQ$57))))","v":100}]
[3,"Good",null,null,"Unbound Dense Graded Base",{"$f":"SUM(IF($A32=SoilCat,IF($B32=DrainCat,IF(F$3=ESALCat,Design!$BB$34:$BK$57))))","v":100},{"$f":"SUM(IF($A32=SoilCat,IF($B32=DrainCat,IF(G$3=ESALCat,Design!$BB$34:$BK$57))))","v":100},{"$f":"SUM(IF($A32=SoilCat,IF($B32=DrainCat,IF(H$3=ESALCat,Design!$BB$34:$BK$57))))","v":100},{"$f":"SUM(IF($A32=SoilCat,IF($B32=DrainCat,IF(I$3=ESALCat,Design!$BB$34:$BK$57))))","v":100},{"$f":"SUM(IF($A32=SoilCat,IF($B32=DrainCat,IF(J$3=ESALCat,Design!$BB$34:$BK$57))))","v":100},{"$f":"SUM(IF($A32=SoilCat,IF($B32=DrainCat,IF(K$3=ESALCat,Design!$BB$34:$BK$57))))","v":150},{"$f":"SUM(IF($A32=SoilCat,IF($B32=DrainCat,IF(L$3=ESALCat,Design!$BB$34:$BK$57))))","v":150},{"$f":"SUM(IF($A32=SoilCat,IF($B32=DrainCat,IF(M$3=ESALCat,Design!$BB$34:$BK$57))))","v":150},{"$f":"SUM(IF($A32=SoilCat,IF($B32=DrainCat,IF(N$3=ESALCat,Design!$BB$34:$BK$57))))","v":150},{"$f":"SUM(IF($A32=SoilCat,IF($B32=DrainCat,IF(O$3=ESALCat,Design!$BB$34:$BK$57))))","v":150}]
[3,"Good",null,null,"Unbound Dense Graded Subbase",{"$f":"SUM(IF($A33=SoilCat,IF($B33=DrainCat,IF(F$3=ESALCat,Design!$BV$34:$CE$57))))","v":0},{"$f":"SUM(IF($A33=SoilCat,IF($B33=DrainCat,IF(G$3=ESALCat,Design!$BV$34:$CE$57))))","v":0},{"$f":"SUM(IF($A33=SoilCat,IF($B33=DrainCat,IF(H$3=ESALCat,Design!$BV$34:$CE$57))))","v":0},{"$f":"SUM(IF($A33=SoilCat,IF($B33=DrainCat,IF(I$3=ESALCat,Design!$BV$34:$CE$57))))","v":0},{"$f":"SUM(IF($A33=SoilCat,IF($B33=DrainCat,IF(J$3=ESALCat,Design!$BV$34:$CE$57))))","v":0},{"$f":"SUM(IF($A33=SoilCat,IF($B33=DrainCat,IF(K$3=ESALCat,Design!$BV$34:$CE$57))))","v":0},{"$f":"SUM(IF($A33=SoilCat,IF($B33=DrainCat,IF(L$3=ESALCat,Design!$BV$34:$CE$57))))","v":0},{"$f":"SUM(IF($A33=SoilCat,IF($B33=DrainCat,IF(M$3=ESALCat,Design!$BV$34:$CE$57))))","v":0},{"$f":"SUM(IF($A33=SoilCat,IF($B33=DrainCat,IF(N$3=ESALCat,Design!$BV$34:$CE$57))))","v":0},{"$f":"SUM(IF($A33=SoilCat,IF($B33=DrainCat,IF(O$3=ESALCat,Design!$BV$34:$CE$57))))","v":150}]
[3,"Fair",null,"Fair","Pavers and Bedding",{"$f":"SUM(IF($A34=SoilCat,IF($B34=DrainCat,IF(F$3=ESALCat,Design!$N$34:$W$57))))","v":105},{"$f":"SUM(IF($A34=SoilCat,IF($B34=DrainCat,IF(G$3=ESALCat,Design!$N$34:$W$57))))","v":105},{"$f":"SUM(IF($A34=SoilCat,IF($B34=DrainCat,IF(H$3=ESALCat,Design!$N$34:$W$57))))","v":105},{"$f":"SUM(IF($A34=SoilCat,IF($B34=DrainCat,IF(I$3=ESALCat,Design!$N$34:$W$57))))","v":105},{"$f":"SUM(IF($A34=SoilCat,IF($B34=DrainCat,IF(J$3=ESALCat,Design!$N$34:$W$57))))","v":105},{"$f":"SUM(IF($A34=SoilCat,IF($B34=DrainCat,IF(K$3=ESALCat,Design!$N$34:$W$57))))","v":105},{"$f":"SUM(IF($A34=SoilCat,IF($B34=DrainCat,IF(L$3=ESALCat,Design!$N$34:$W$57))))","v":105},{"$f":"SUM(IF($A34=SoilCat,IF($B34=DrainCat,IF(M$3=ESALCat,Design!$N$34:$W$57))))","v":105},{"$f":"SUM(IF($A34=SoilCat,IF($B34=DrainCat,IF(N$3=ESALCat,Design!$N$34:$W$57))))","v":105},{"$f":"SUM(IF($A34=SoilCat,IF($B34=DrainCat,IF(O$3=ESALCat,Design!$N$34:$W$57))))","v":105}]
[3,"Fair",null,null,"Asphalt Treated Base",{"$f":"SUM(IF($A35=SoilCat,IF($B35=DrainCat,IF(F$3=ESALCat,Design!$AH$34:$AQ$57))))","v":100},{"$f":"SUM(IF($A35=SoilCat,IF($B35=DrainCat,IF(G$3=ESALCat,Design!$AH$34:$AQ$57))))","v":100},{"$f":"SUM(IF($A35=SoilCat,IF($B35=DrainCat,IF(H$3=ESALCat,Design!$AH$34:$AQ$57))))","v":100},{"$f":"SUM(IF($A35=SoilCat,IF($B35=DrainCat,IF(I$3=ESALCat,Design!$AH$34:$AQ$57))))","v":100},{"$f":"SUM(IF($A35=SoilCat,IF($B35=DrainCat,IF(J$3=ESALCat,Design!$AH$34:$AQ$57))))","v":100},{"$f":"SUM(IF($A35=SoilCat,IF($B35=DrainCat,IF(K$3=ESALCat,Design!$AH$34:$AQ$57))))","v":100},{"$f":"SUM(IF($A35=SoilCat,IF($B35=DrainCat,IF(L$3=ESALCat,Design!$AH$34:$AQ$57))))","v":100},{"$f":"SUM(IF($A35=SoilCat,IF($B35=DrainCat,IF(M$3=ESALCat,Design!$AH$34:$AQ$57))))","v":100},{"$f":"SUM(IF($A35=SoilCat,IF($B35=DrainCat,IF(N$3=ESALCat,Design!$AH$34:$AQ$57))))","v":100},{"$f":"SUM(IF($A35=SoilCat,IF($B35=DrainCat,IF(O$3=ESALCat,Design!$AH$34:$AQ$57))))","v":100}]
[3,"Fair",null,null,"Unbound Dense Graded Base",{"$f":"SUM(IF($A36=SoilCat,IF($B36=DrainCat,IF(F$3=ESALCat,Design!$BB$34:$BK$57))))","v":100},{"$f":"SUM(IF($A36=SoilCat,IF($B36=DrainCat,IF(G$3=ESALCat,Design!$BB$34:$BK$57))))","v":100},{"$f":"SUM(IF($A36=SoilCat,IF($B36=DrainCat,IF(H$3=ESALCat,Design!$BB$34:$BK$57))))","v":100},{"$f":"SUM(IF($A36=SoilCat,IF($B36=DrainCat,IF(I$3=ESALCat,Design!$BB$34:$BK$57))))","v":100},{"$f":"SUM(IF($A36=SoilCat,IF($B36=DrainCat,IF(J$3=ESALCat,Design!$BB$34:$BK$57))))","v":100},{"$f":"SUM(IF($A36=SoilCat,IF($B36=DrainCat,IF(K$3=ESALCat,Design!$BB$34:$BK$57))))","v":150},{"$f":"SUM(IF($A36=SoilCat,IF($B36=DrainCat,IF(L$3=ESALCat,Design!$BB$34:$BK$57))))","v":150},{"$f":"SUM(IF($A36=SoilCat,IF($B36=DrainCat,IF(M$3=ESALCat,Design!$BB$34:$BK$57))))","v":150},{"$f":"SUM(IF($A36=SoilCat,IF($B36=DrainCat,IF(N$3=ESALCat,Design!$BB$34:$BK$57))))","v":150},{"$f":"SUM(IF($A36=SoilCat,IF($B36=DrainCat,IF(O$3=ESALCat,Design!$BB$34:$BK$57))))","v":150}]
[3,"Fair",null,null,"Unbound Dense Graded Subbase",{"$f":"SUM(IF($A37=SoilCat,IF($B37=DrainCat,IF(F$3=ESALCat,Design!$BV$34:$CE$57))))","v":0},{"$f":"SUM(IF($A37=SoilCat,IF($B37=DrainCat,IF(G$3=ESALCat,Design!$BV$34:$CE$57))))","v":0},{"$f":"SUM(IF($A37=SoilCat,IF($B37=DrainCat,IF(H$3=ESALCat,Design!$BV$34:$CE$57))))","v":0},{"$f":"SUM(IF($A37=SoilCat,IF($B37=DrainCat,IF(I$3=ESALCat,Design!$BV$34:$CE$57))))","v":0},{"$f":"SUM(IF($A37=SoilCat,IF($B37=DrainCat,IF(J$3=ESALCat,Design!$BV$34:$CE$57))))","v":0},{"$f":"SUM(IF($A37=SoilCat,IF($B37=DrainCat,IF(K$3=ESALCat,Design!$BV$34:$CE$57))))","v":0},{"$f":"SUM(IF($A37=SoilCat,IF($B37=DrainCat,IF(L$3=ESALCat,Design!$BV$34:$CE$57))))","v":0},{"$f":"SUM(IF($A37=SoilCat,IF($B37=DrainCat,IF(M$3=ESALCat,Design!$BV$34:$CE$57))))","v":0},{"$f":"SUM(IF($A37=SoilCat,IF($B37=DrainCat,IF(N$3=ESALCat,Design!$BV$34:$CE$57))))","v":150},{"$f":"SUM(IF($A37=SoilCat,IF($B37=DrainCat,IF(O$3=ESALCat,Design!$BV$34:$CE$57))))","v":250}]
[3,"Poor",null,"Poor","Pavers and Bedding",{"$f":"SUM(IF($A38=SoilCat,IF($B38=DrainCat,IF(F$3=ESALCat,Design!$N$34:$W$57))))","v":105},{"$f":"SUM(IF($A38=SoilCat,IF($B38=DrainCat,IF(G$3=ESALCat,Design!$N$34:$W$57))))","v":105},{"$f":"SUM(IF($A38=SoilCat,IF($B38=DrainCat,IF(H$3=ESALCat,Design!$N$34:$W$57))))","v":105},{"$f":"SUM(IF($A38=SoilCat,IF($B38=DrainCat,IF(I$3=ESALCat,Design!$N$34:$W$57))))","v":105},{"$f":"SUM(IF($A38=SoilCat,IF($B38=DrainCat,IF(J$3=ESALCat,Design!$N$34:$W$57))))","v":105},{"$f":"SUM(IF($A38=SoilCat,IF($B38=DrainCat,IF(K$3=ESALCat,Design!$N$34:$W$57))))","v":105},{"$f":"SUM(IF($A38=SoilCat,IF($B38=DrainCat,IF(L$3=ESALCat,Design!$N$34:$W$57))))","v":105},{"$f":"SUM(IF($A38=SoilCat,IF($B38=DrainCat,IF(M$3=ESALCat,Design!$N$34:$W$57))))","v":105},{"$f":"SUM(IF($A38=SoilCat,IF($B38=DrainCat,IF(N$3=ESALCat,Design!$N$34:$W$57))))","v":105},{"$f":"SUM(IF($A38=SoilCat,IF($B38=DrainCat,IF(O$3=ESALCat,Design!$N$34:$W$57))))","v":105}]
[3,"Poor",null,null,"Asphalt Treated Base",{"$f":"SUM(IF($A39=SoilCat,IF($B39=DrainCat,IF(F$3=ESALCat,Design!$AH$34:$AQ$57))))","v":100},{"$f":"SUM(IF($A39=SoilCat,IF($B39=DrainCat,IF(G$3=ESALCat,Design!$AH$34:$AQ$57))))","v":100},{"$f":"SUM(IF($A39=SoilCat,IF($B39=DrainCat,IF(H$3=ESALCat,Design!$AH$34:$AQ$57))))","v":100},{"$f":"SUM(IF($A39=SoilCat,IF($B39=DrainCat,IF(I$3=ESALCat,Design!$AH$34:$AQ$57))))","v":100},{"$f":"SUM(IF($A39=SoilCat,IF($B39=DrainCat,IF(J$3=ESALCat,Design!$AH$34:$AQ$57))))","v":100},{"$f":"SUM(IF($A39=SoilCat,IF($B39=DrainCat,IF(K$3=ESALCat,Design!$AH$34:$AQ$57))))","v":100},{"$f":"SUM(IF($A39=SoilCat,IF($B39=DrainCat,IF(L$3=ESALCat,Design!$AH$34:$AQ$57))))","v":100},{"$f":"SUM(IF($A39=SoilCat,IF($B39=DrainCat,IF(M$3=ESALCat,Design!$AH$34:$AQ$57))))","v":100},{"$f":"SUM(IF($A39=SoilCat,IF($B39=DrainCat,IF(N$3=ESALCat,Design!$AH$34:$AQ$57))))","v":100},{"$f":"SUM(IF($A39=SoilCat,IF($B39=DrainCat,IF(O$3=ESALCat,Design!$AH$34:$AQ$57))))","v":100}]
[3,"Poor",null,null,"Unbound Dense Graded Base",{"$f":"SUM(IF($A40=SoilCat,IF($B40=DrainCat,IF(F$3=ESALCat,Design!$BB$34:$BK$57))))","v":100},{"$f":"SUM(IF($A40=SoilCat,IF($B40=DrainCat,IF(G$3=ESALCat,Design!$BB$34:$BK$57))))","v":100},{"$f":"SUM(IF($A40=SoilCat,IF($B40=DrainCat,IF(H$3=ESALCat,Design!$BB$34:$BK$57))))","v":100},{"$f":"SUM(IF($A40=SoilCat,IF($B40=DrainCat,IF(I$3=ESALCat,Design!$BB$34:$BK$57))))","v":100},{"$f":"SUM(IF($A40=SoilCat,IF($B40=DrainCat,IF(J$3=ESALCat,Design!$BB$34:$BK$57))))","v":100},{"$f":"SUM(IF($A40=SoilCat,IF($B40=DrainCat,IF(K$3=ESALCat,Design!$BB$34:$BK$57))))","v":150},{"$f":"SUM(IF($A40=SoilCat,IF($B40=DrainCat,IF(L$3=ESALCat,Design!$BB$34:$BK$57))))","v":150},{"$f":"SUM(IF($A40=SoilCat,IF($B40=DrainCat,IF(M$3=ESALCat,Design!$BB$34:$BK$57))))","v":150},{"$f":"SUM(IF($A40=SoilCat,IF($B40=DrainCat,IF(N$3=ESALCat,Design!$BB$34:$BK$57))))","v":150},{"$f":"SUM(IF($A40=SoilCat,IF($B40=DrainCat,IF(O$3=ESALCat,Design!$BB$34:$BK$57))))","v":150}]
[3,"Poor",null,null,"Unbound Dense Graded Subbase",{"$f":"SUM(IF($A41=SoilCat,IF($B41=DrainCat,IF(F$3=ESALCat,Design!$BV$34:$CE$57))))","v":0},{"$f":"SUM(IF($A41=SoilCat,IF($B41=DrainCat,IF(G$3=ESALCat,Design!$BV$34:$CE$57))))","v":0},{"$f":"SUM(IF($A41=SoilCat,IF($B41=DrainCat,IF(H$3=ESALCat,Design!$BV$34:$CE$57))))","v":0},{"$f":"SUM(IF($A41=SoilCat,IF($B41=DrainCat,IF(I$3=ESALCat,Design!$BV$34:$CE$57))))","v":0},{"$f":"SUM(IF($A41=SoilCat,IF($B41=DrainCat,IF(J$3=ESALCat,Design!$BV$34:$CE$57))))","v":0},{"$f":"SUM(IF($A41=SoilCat,IF($B41=DrainCat,IF(K$3=ESALCat,Design!$BV$34:$CE$57))))","v":0},{"$f":"SUM(IF($A41=SoilCat,IF($B41=DrainCat,IF(L$3=ESALCat,Design!$BV$34:$CE$57))))","v":0},{"$f":"SUM(IF($A41=SoilCat,IF($B41=DrainCat,IF(M$3=ESALCat,Design!$BV$34:$CE$57))))","v":150},{"$f":"SUM(IF($A41=SoilCat,IF($B41=DrainCat,IF(N$3=ESALCat,Design!$BV$34:$CE$57))))","v":275},{"$f":"SUM(IF($A41=SoilCat,IF($B41=DrainCat,IF(O$3=ESALCat,Design!$BV$34:$CE$57))))","v":400}]
[4,"Good","Category 4","Good","Pavers and Bedding",{"$f":"SUM(IF($A42=SoilCat,IF($B42=DrainCat,IF(F$3=ESALCat,Design!$N$34:$W$57))))","v":105},{"$f":"SUM(IF($A42=SoilCat,IF($B42=DrainCat,IF(G$3=ESALCat,Design!$N$34:$W$57))))","v":105},{"$f":"SUM(IF($A42=SoilCat,IF($B42=DrainCat,IF(H$3=ESALCat,Design!$N$34:$W$57))))","v":105},{"$f":"SUM(IF($A42=SoilCat,IF($B42=DrainCat,IF(I$3=ESALCat,Design!$N$34:$W$57))))","v":105},{"$f":"SUM(IF($A42=SoilCat,IF($B42=DrainCat,IF(J$3=ESALCat,Design!$N$34:$W$57))))","v":105},{"$f":"SUM(IF($A42=SoilCat,IF($B42=DrainCat,IF(K$3=ESALCat,Design!$N$34:$W$57))))","v":105},{"$f":"SUM(IF($A42=SoilCat,IF($B42=DrainCat,IF(L$3=ESALCat,Design!$N$34:$W$57))))","v":105},{"$f":"SUM(IF($A42=SoilCat,IF($B42=DrainCat,IF(M$3=ESALCat,Design!$N$34:$W$57))))","v":105},{"$f":"SUM(IF($A42=SoilCat,IF($B42=DrainCat,IF(N$3=ESALCat,Design!$N$34:$W$57))))","v":105},{"$f":"SUM(IF($A42=SoilCat,IF($B42=DrainCat,IF(O$3=ESALCat,Design!$N$34:$W$57))))","v":105}]
[4,"Good",null,null,"Asphalt Treated Base",{"$f":"SUM(IF($A43=SoilCat,IF($B43=DrainCat,IF(F$3=ESALCat,Design!$AH$34:$AQ$57))))","v":100},{"$f":"SUM(IF($A43=SoilCat,IF($B43=DrainCat,IF(G$3=ESALCat,Design!$AH$34:$AQ$57))))","v":100},{"$f":"SUM(IF($A43=SoilCat,IF($B43=DrainCat,IF(H$3=ESALCat,Design!$AH$34:$AQ$57))))","v":100},{"$f":"SUM(IF($A43=SoilCat,IF($B43=DrainCat,IF(I$3=ESALCat,Design!$AH$34:$AQ$57))))","v":100},{"$f":"SUM(IF($A43=SoilCat,IF($B43=DrainCat,IF(J$3=ESALCat,Design!$AH$34:$AQ$57))))","v":100},{"$f":"SUM(IF($A43=SoilCat,IF($B43=DrainCat,IF(K$3=ESALCat,Design!$AH$34:$AQ$57))))","v":100},{"$f":"SUM(IF($A43=SoilCat,IF($B43=DrainCat,IF(L$3=ESALCat,Design!$AH$34:$AQ$57))))","v":100},{"$f":"SUM(IF($A43=SoilCat,IF($B43=DrainCat,IF(M$3=ESALCat,Design!$AH$34:$AQ$57))))","v":100},{"$f":"SUM(IF($A43=SoilCat,IF($B43=DrainCat,IF(N$3=ESALCat,Design!$AH$34:$AQ$57))))","v":100},{"$f":"SUM(IF($A43=SoilCat,IF($B43=DrainCat,IF(O$3=ESALCat,Design!$AH$34:$AQ$57))))","v":100}]
[4,"Good",null,null,"Unbound Dense Graded Base",{"$f":"SUM(IF($A44=SoilCat,IF($B44=DrainCat,IF(F$3=ESALCat,Design!$BB$34:$BK$57))))","v":100},{"$f":"SUM(IF($A44=SoilCat,IF($B44=DrainCat,IF(G$3=ESALCat,Design!$BB$34:$BK$57))))","v":100},{"$f":"SUM(IF($A44=SoilCat,IF($B44=DrainCat,IF(H$3=ESALCat,Design!$BB$34:$BK$57))))","v":100},{"$f":"SUM(IF($A44=SoilCat,IF($B44=DrainCat,IF(I$3=ESALCat,Design!$BB$34:$BK$57))))","v":100},{"$f":"SUM(IF($A44=SoilCat,IF($B44=DrainCat,IF(J$3=ESALCat,Design!$BB$34:$BK$57))))","v":100},{"$f":"SUM(IF($A44=SoilCat,IF($B44=DrainCat,IF(K$3=ESALCat,Design!$BB$34:$BK$57))))","v":150},{"$f":"SUM(IF($A44=SoilCat,IF($B44=DrainCat,IF(L$3=ESALCat,Design!$BB$34:$BK$57))))","v":150},{"$f":"SUM(IF($A44=SoilCat,IF($B44=DrainCat,IF(M$3=ESALCat,Design!$BB$34:$BK$57))))","v":150},{"$f":"SUM(IF($A44=SoilCat,IF($B44=DrainCat,IF(N$3=ESALCat,Design!$BB$34:$BK$57))))","v":150},{"$f":"SUM(IF($A44=SoilCat,IF($B44=DrainCat,IF(O$3=ESALCat,Design!$BB$34:$BK$57))))","v":150}]
[4,"Good",null,null,"Unbound Dense Graded Subbase",{"$f":"SUM(IF($A45=SoilCat,IF($B45=DrainCat,IF(F$3=ESALCat,Design!$BV$34:$CE$57))))","v":0},{"$f":"SUM(IF($A45=SoilCat,IF($B45=DrainCat,IF(G$3=ESALCat,Design!$BV$34:$CE$57))))","v":0},{"$f":"SUM(IF($A45=SoilCat,IF($B45=DrainCat,IF(H$3=ESALCat,Design!$BV$34:$CE$57))))","v":0},{"$f":"SUM(IF($A45=SoilCat,IF($B45=DrainCat,IF(I$3=ESALCat,Design!$BV$34:$CE$57))))","v":0},{"$f":"SUM(IF($A45=SoilCat,IF($B45=DrainCat,IF(J$3=ESALCat,Design!$BV$34:$CE$57))))","v":0},{"$f":"SUM(IF($A45=SoilCat,IF($B45=DrainCat,IF(K$3=ESALCat,Design!$BV$34:$CE$57))))","v":0},{"$f":"SUM(IF($A45=SoilCat,IF($B45=DrainCat,IF(L$3=ESALCat,Design!$BV$34:$CE$57))))","v":0},{"$f":"SUM(IF($A45=SoilCat,IF($B45=DrainCat,IF(M$3=ESALCat,Design!$BV$34:$CE$57))))","v":0},{"$f":"SUM(IF($A45=SoilCat,IF($B45=DrainCat,IF(N$3=ESALCat,Design!$BV$34:$CE$57))))","v":150},{"$f":"SUM(IF($A45=SoilCat,IF($B45=DrainCat,IF(O$3=ESALCat,Design!$BV$34:$CE$57))))","v":250}]
[4,"Fair",null,"Fair","Pavers and Bedding",{"$f":"SUM(IF($A46=SoilCat,IF($B46=DrainCat,IF(F$3=ESALCat,Design!$N$34:$W$57))))","v":105},{"$f":"SUM(IF($A46=SoilCat,IF($B46=DrainCat,IF(G$3=ESALCat,Design!$N$34:$W$57))))","v":105},{"$f":"SUM(IF($A46=SoilCat,IF($B46=DrainCat,IF(H$3=ESALCat,Design!$N$34:$W$57))))","v":105},{"$f":"SUM(IF($A46=SoilCat,IF($B46=DrainCat,IF(I$3=ESALCat,Design!$N$34:$W$57))))","v":105},{"$f":"SUM(IF($A46=SoilCat,IF($B46=DrainCat,IF(J$3=ESALCat,Design!$N$34:$W$57))))","v":105},{"$f":"SUM(IF($A46=SoilCat,IF($B46=DrainCat,IF(K$3=ESALCat,Design!$N$34:$W$57))))","v":105},{"$f":"SUM(IF($A46=SoilCat,IF($B46=DrainCat,IF(L$3=ESALCat,Design!$N$34:$W$57))))","v":105},{"$f":"SUM(IF($A46=SoilCat,IF($B46=DrainCat,IF(M$3=ESALCat,Design!$N$34:$W$57))))","v":105},{"$f":"SUM(IF($A46=SoilCat,IF($B46=DrainCat,IF(N$3=ESALCat,Design!$N$34:$W$57))))","v":105},{"$f":"SUM(IF($A46=SoilCat,IF($B46=DrainCat,IF(O$3=ESALCat,Design!$N$34:$W$57))))","v":105}]
[4,"Fair",null,null,"Asphalt Treated Base",{"$f":"SUM(IF($A47=SoilCat,IF($B47=DrainCat,IF(F$3=ESALCat,Design!$AH$34:$AQ$57))))","v":100},{"$f":"SUM(IF($A47=SoilCat,IF($B47=DrainCat,IF(G$3=ESALCat,Design!$AH$34:$AQ$57))))","v":100},{"$f":"SUM(IF($A47=SoilCat,IF($B47=DrainCat,IF(H$3=ESALCat,Design!$AH$34:$AQ$57))))","v":100},{"$f":"SUM(IF($A47=SoilCat,IF($B47=DrainCat,IF(I$3=ESALCat,Design!$AH$34:$AQ$57))))","v":100},{"$f":"SUM(IF($A47=SoilCat,IF($B47=DrainCat,IF(J$3=ESALCat,Design!$AH$34:$AQ$57))))","v":100},{"$f":"SUM(IF($A47=SoilCat,IF($B47=DrainCat,IF(K$3=ESALCat,Design!$AH$34:$AQ$57))))","v":100},{"$f":"SUM(IF($A47=SoilCat,IF($B47=DrainCat,IF(L$3=ESALCat,Design!$AH$34:$AQ$57))))","v":100},{"$f":"SUM(IF($A47=SoilCat,IF($B47=DrainCat,IF(M$3=ESALCat,Design!$AH$34:$AQ$57))))","v":100},{"$f":"SUM(IF($A47=SoilCat,IF($B47=DrainCat,IF(N$3=ESALCat,Design!$AH$34:$AQ$57))))","v":100},{"$f":"SUM(IF($A47=SoilCat,IF($B47=DrainCat,IF(O$3=ESALCat,Design!$AH$34:$AQ$57))))","v":100}]
[4,"Fair",null,null,"Unbound Dense Graded Base",{"$f":"SUM(IF($A48=SoilCat,IF($B48=DrainCat,IF(F$3=ESALCat,Design!$BB$34:$BK$57))))","v":100},{"$f":"SUM(IF($A48=SoilCat,IF($B48=DrainCat,IF(G$3=ESALCat,Design!$BB$34:$BK$57))))","v":100},{"$f":"SUM(IF($A48=SoilCat,IF($B48=DrainCat,IF(H$3=ESALCat,Design!$BB$34:$BK$57))))","v":100},{"$f":"SUM(IF($A48=SoilCat,IF($B48=DrainCat,IF(I$3=ESALCat,Design!$BB$34:$BK$57))))","v":100},{"$f":"SUM(IF($A48=SoilCat,IF($B48=DrainCat,IF(J$3=ESALCat,Design!$BB$34:$BK$57))))","v":100},{"$f":"SUM(IF($A48=SoilCat,IF($B48=DrainCat,IF(K$3=ESALCat,Design!$BB$34:$BK$57))))","v":150},{"$f":"SUM(IF($A48=SoilCat,IF($B48=DrainCat,IF(L$3=ESALCat,Design!$BB$34:$BK$57))))","v":150},{"$f":"SUM(IF($A48=SoilCat,IF($B48=DrainCat,IF(M$3=ESALCat,Design!$BB$34:$BK$57))))","v":150},{"$f":"SUM(IF($A48=SoilCat,IF($B48=DrainCat,IF(N$3=ESALCat,Design!$BB$34:$BK$57))))","v":150},{"$f":"SUM(IF($A48=SoilCat,IF($B48=DrainCat,IF(O$3=ESALCat,Design!$BB$34:$BK$57))))","v":150}]
[4,"Fair",null,null,"Unbound Dense Graded Subbase",{"$f":"SUM(IF($A49=SoilCat,IF($B49=DrainCat,IF(F$3=ESALCat,Design!$BV$34:$CE$57))))","v":0},{"$f":"SUM(IF($A49=SoilCat,IF($B49=DrainCat,IF(G$3=ESALCat,Design!$BV$34:$CE$57))))","v":0},{"$f":"SUM(IF($A49=SoilCat,IF($B49=DrainCat,IF(H$3=ESALCat,Design!$BV$34:$CE$57))))","v":0},{"$f":"SUM(IF($A49=SoilCat,IF($B49=DrainCat,IF(I$3=ESALCat,Design!$BV$34:$CE$57))))","v":0},{"$f":"SUM(IF($A49=SoilCat,IF($B49=DrainCat,IF(J$3=ESALCat,Design!$BV$34:$CE$57))))","v":0},{"$f":"SUM(IF($A49=SoilCat,IF($B49=DrainCat,IF(K$3=ESALCat,Design!$BV$34:$CE$57))))","v":0},{"$f":"SUM(IF($A49=SoilCat,IF($B49=DrainCat,IF(L$3=ESALCat,Design!$BV$34:$CE$57))))","v":0},{"$f":"SUM(IF($A49=SoilCat,IF($B49=DrainCat,IF(M$3=ESALCat,Design!$BV$34:$CE$57))))","v":150},{"$f":"SUM(IF($A49=SoilCat,IF($B49=DrainCat,IF(N$3=ESALCat,Design!$BV$34:$CE$57))))","v":275},{"$f":"SUM(IF($A49=SoilCat,IF($B49=DrainCat,IF(O$3=ESALCat,Design!$BV$34:$CE$57))))","v":400}]
[4,"Poor",null,"Poor","Pavers and Bedding",{"$f":"SUM(IF($A50=SoilCat,IF($B50=DrainCat,IF(F$3=ESALCat,Design!$N$34:$W$57))))","v":105},{"$f":"SUM(IF($A50=SoilCat,IF($B50=DrainCat,IF(G$3=ESALCat,Design!$N$34:$W$57))))","v":105},{"$f":"SUM(IF($A50=SoilCat,IF($B50=DrainCat,IF(H$3=ESALCat,Design!$N$34:$W$57))))","v":105},{"$f":"SUM(IF($A50=SoilCat,IF($B50=DrainCat,IF(I$3=ESALCat,Design!$N$34:$W$57))))","v":105},{"$f":"SUM(IF($A50=SoilCat,IF($B50=DrainCat,IF(J$3=ESALCat,Design!$N$34:$W$57))))","v":105},{"$f":"SUM(IF($A50=SoilCat,IF($B50=DrainCat,IF(K$3=ESALCat,Design!$N$34:$W$57))))","v":105},{"$f":"SUM(IF($A50=SoilCat,IF($B50=DrainCat,IF(L$3=ESALCat,Design!$N$34:$W$57))))","v":105},{"$f":"SUM(IF($A50=SoilCat,IF($B50=DrainCat,IF(M$3=ESALCat,Design!$N$34:$W$57))))","v":105},{"$f":"SUM(IF($A50=SoilCat,IF($B50=DrainCat,IF(N$3=ESALCat,Design!$N$34:$W$57))))","v":105},{"$f":"SUM(IF($A50=SoilCat,IF($B50=DrainCat,IF(O$3=ESALCat,Design!$N$34:$W$57))))","v":105}]
[4,"Poor",null,null,"Asphalt Treated Base",{"$f":"SUM(IF($A51=SoilCat,IF($B51=DrainCat,IF(F$3=ESALCat,Design!$AH$34:$AQ$57))))","v":100},{"$f":"SUM(IF($A51=SoilCat,IF($B51=DrainCat,IF(G$3=ESALCat,Design!$AH$34:$AQ$57))))","v":100},{"$f":"SUM(IF($A51=SoilCat,IF($B51=DrainCat,IF(H$3=ESALCat,Design!$AH$34:$AQ$57))))","v":100},{"$f":"SUM(IF($A51=SoilCat,IF($B51=DrainCat,IF(I$3=ESALCat,Design!$AH$34:$AQ$57))))","v":100},{"$f":"SUM(IF($A51=SoilCat,IF($B51=DrainCat,IF(J$3=ESALCat,Design!$AH$34:$AQ$57))))","v":100},{"$f":"SUM(IF($A51=SoilCat,IF($B51=DrainCat,IF(K$3=ESALCat,Design!$AH$34:$AQ$57))))","v":100},{"$f":"SUM(IF($A51=SoilCat,IF($B51=DrainCat,IF(L$3=ESALCat,Design!$AH$34:$AQ$57))))","v":100},{"$f":"SUM(IF($A51=SoilCat,IF($B51=DrainCat,IF(M$3=ESALCat,Design!$AH$34:$AQ$57))))","v":100},{"$f":"SUM(IF($A51=SoilCat,IF($B51=DrainCat,IF(N$3=ESALCat,Design!$AH$34:$AQ$57))))","v":100},{"$f":"SUM(IF($A51=SoilCat,IF($B51=DrainCat,IF(O$3=ESALCat,Design!$AH$34:$AQ$57))))","v":100}]
[4,"Poor",null,null,"Unbound Dense Graded Base",{"$f":"SUM(IF($A52=SoilCat,IF($B52=DrainCat,IF(F$3=ESALCat,Design!$BB$34:$BK$57))))","v":100},{"$f":"SUM(IF($A52=SoilCat,IF($B52=DrainCat,IF(G$3=ESALCat,Design!$BB$34:$BK$57))))","v":100},{"$f":"SUM(IF($A52=SoilCat,IF($B52=DrainCat,IF(H$3=ESALCat,Design!$BB$34:$BK$57))))","v":100},{"$f":"SUM(IF($A52=SoilCat,IF($B52=DrainCat,IF(I$3=ESALCat,Design!$BB$34:$BK$57))))","v":100},{"$f":"SUM(IF($A52=SoilCat,IF($B52=DrainCat,IF(J$3=ESALCat,Design!$BB$34:$BK$57))))","v":100},{"$f":"SUM(IF($A52=SoilCat,IF($B52=DrainCat,IF(K$3=ESALCat,Design!$BB$34:$BK$57))))","v":150},{"$f":"SUM(IF($A52=SoilCat,IF($B52=DrainCat,IF(L$3=ESALCat,Design!$BB$34:$BK$57))))","v":175},{"$f":"SUM(IF($A52=SoilCat,IF($B52=DrainCat,IF(M$3=ESALCat,Design!$BB$34:$BK$57))))","v":150},{"$f":"SUM(IF($A52=SoilCat,IF($B52=DrainCat,IF(N$3=ESALCat,Design!$BB$34:$BK$57))))","v":150},{"$f":"SUM(IF($A52=SoilCat,IF($B52=DrainCat,IF(O$3=ESALCat,Design!$BB$34:$BK$57))))","v":150}]
[4,"Poor",null,null,"Unbound Dense Graded Subbase",{"$f":"SUM(IF($A53=SoilCat,IF($B53=DrainCat,IF(F$3=ESALCat,Design!$BV$34:$CE$57))))","v":0},{"$f":"SUM(IF($A53=SoilCat,IF($B53=DrainCat,IF(G$3=ESALCat,Design!$BV$34:$CE$57))))","v":0},{"$f":"SUM(IF($A53=SoilCat,IF($B53=DrainCat,IF(H$3=ESALCat,Design!$BV$34:$CE$57))))","v":0},{"$f":"SUM(IF($A53=SoilCat,IF($B53=DrainCat,IF(I$3=ESALCat,Design!$BV$34:$CE$57))))","v":0},{"$f":"SUM(IF($A53=SoilCat,IF($B53=DrainCat,IF(J$3=ESALCat,Design!$BV$34:$CE$57))))","v":0},{"$f":"SUM(IF($A53=SoilCat,IF($B53=DrainCat,IF(K$3=ESALCat,Design!$BV$34:$CE$57))))","v":0},{"$f":"SUM(IF($A53=SoilCat,IF($B53=DrainCat,IF(L$3=ESALCat,Design!$BV$34:$CE$57))))","v":0},{"$f":"SUM(IF($A53=SoilCat,IF($B53=DrainCat,IF(M$3=ESALCat,Design!$BV$34:$CE$57))))","v":175},{"$f":"SUM(IF($A53=SoilCat,IF($B53=DrainCat,IF(N$3=ESALCat,Design!$BV$34:$CE$57))))","v":350},{"$f":"SUM(IF($A53=SoilCat,IF($B53=DrainCat,IF(O$3=ESALCat,Design!$BV$34:$CE$57))))","v":475}]
[5,"Good","Category 5","Good","Pavers and Bedding",{"$f":"SUM(IF($A54=SoilCat,IF($B54=DrainCat,IF(F$3=ESALCat,Design!$N$34:$W$57))))","v":105},{"$f":"SUM(IF($A54=SoilCat,IF($B54=DrainCat,IF(G$3=ESALCat,Design!$N$34:$W$57))))","v":105},{"$f":"SUM(IF($A54=SoilCat,IF($B54=DrainCat,IF(H$3=ESALCat,Design!$N$34:$W$57))))","v":105},{"$f":"SUM(IF($A54=SoilCat,IF($B54=DrainCat,IF(I$3=ESALCat,Design!$N$34:$W$57))))","v":105},{"$f":"SUM(IF($A54=SoilCat,IF($B54=DrainCat,IF(J$3=ESALCat,Design!$N$34:$W$57))))","v":105},{"$f":"SUM(IF($A54=SoilCat,IF($B54=DrainCat,IF(K$3=ESALCat,Design!$N$34:$W$57))))","v":105},{"$f":"SUM(IF($A54=SoilCat,IF($B54=DrainCat,IF(L$3=ESALCat,Design!$N$34:$W$57))))","v":105},{"$f":"SUM(IF($A54=SoilCat,IF($B54=DrainCat,IF(M$3=ESALCat,Design!$N$34:$W$57))))","v":105},{"$f":"SUM(IF($A54=SoilCat,IF($B54=DrainCat,IF(N$3=ESALCat,Design!$N$34:$W$57))))","v":105},{"$f":"SUM(IF($A54=SoilCat,IF($B54=DrainCat,IF(O$3=ESALCat,Design!$N$34:$W$57))))","v":105}]
[5,"Good",null,null,"Asphalt Treated Base",{"$f":"SUM(IF($A55=SoilCat,IF($B55=DrainCat,IF(F$3=ESALCat,Design!$AH$34:$AQ$57))))","v":100},{"$f":"SUM(IF($A55=SoilCat,IF($B55=DrainCat,IF(G$3=ESALCat,Design!$AH$34:$AQ$57))))","v":100},{"$f":"SUM(IF($A55=SoilCat,IF($B55=DrainCat,IF(H$3=ESALCat,Design!$AH$34:$AQ$57))))","v":100},{"$f":"SUM(IF($A55=SoilCat,IF($B55=DrainCat,IF(I$3=ESALCat,Design!$AH$34:$AQ$57))))","v":100},{"$f":"SUM(IF($A55=SoilCat,IF($B55=DrainCat,IF(J$3=ESALCat,Design!$AH$34:$AQ$57))))","v":100},{"$f":"SUM(IF($A55=SoilCat,IF($B55=DrainCat,IF(K$3=ESALCat,Design!$AH$34:$AQ$57))))","v":100},{"$f":"SUM(IF($A55=SoilCat,IF($B55=DrainCat,IF(L$3=ESALCat,Design!$AH$34:$AQ$57))))","v":100},{"$f":"SUM(IF($A55=SoilCat,IF($B55=DrainCat,IF(M$3=ESALCat,Design!$AH$34:$AQ$57))))","v":100},{"$f":"SUM(IF($A55=SoilCat,IF($B55=DrainCat,IF(N$3=ESALCat,Design!$AH$34:$AQ$57))))","v":100},{"$f":"SUM(IF($A55=SoilCat,IF($B55=DrainCat,IF(O$3=ESALCat,Design!$AH$34:$AQ$57))))","v":100}]
[5,"Good",null,null,"Unbound Dense Graded Base",{"$f":"SUM(IF($A56=SoilCat,IF($B56=DrainCat,IF(F$3=ESALCat,Design!$BB$34:$BK$57))))","v":100},{"$f":"SUM(IF($A56=SoilCat,IF($B56=DrainCat,IF(G$3=ESALCat,Design!$BB$34:$BK$57))))","v":100},{"$f":"SUM(IF($A56=SoilCat,IF($B56=DrainCat,IF(H$3=ESALCat,Design!$BB$34:$BK$57))))","v":100},{"$f":"SUM(IF($A56=SoilCat,IF($B56=DrainCat,IF(I$3=ESALCat,Design!$BB$34:$BK$57))))","v":100},{"$f":"SUM(IF($A56=SoilCat,IF($B56=DrainCat,IF(J$3=ESALCat,Design!$BB$34:$BK$57))))","v":100},{"$f":"SUM(IF($A56=SoilCat,IF($B56=DrainCat,IF(K$3=ESALCat,Design!$BB$34:$BK$57))))","v":150},{"$f":"SUM(IF($A56=SoilCat,IF($B56=DrainCat,IF(L$3=ESALCat,Design!$BB$34:$BK$57))))","v":150},{"$f":"SUM(IF($A56=SoilCat,IF($B56=DrainCat,IF(M$3=ESALCat,Design!$BB$34:$BK$57))))","v":175},{"$f":"SUM(IF($A56=SoilCat,IF($B56=DrainCat,IF(N$3=ESALCat,Design!$BB$34:$BK$57))))","v":150},{"$f":"SUM(IF($A56=SoilCat,IF($B56=DrainCat,IF(O$3=ESALCat,Design!$BB$34:$BK$57))))","v":150}]
[5,"Good",null,null,"Unbound Dense Graded Subbase",{"$f":"SUM(IF($A57=SoilCat,IF($B57=DrainCat,IF(F$3=ESALCat,Design!$BV$34:$CE$57))))","v":0},{"$f":"SUM(IF($A57=SoilCat,IF($B57=DrainCat,IF(G$3=ESALCat,Design!$BV$34:$CE$57))))","v":0},{"$f":"SUM(IF($A57=SoilCat,IF($B57=DrainCat,IF(H$3=ESALCat,Design!$BV$34:$CE$57))))","v":0},{"$f":"SUM(IF($A57=SoilCat,IF($B57=DrainCat,IF(I$3=ESALCat,Design!$BV$34:$CE$57))))","v":0},{"$f":"SUM(IF($A57=SoilCat,IF($B57=DrainCat,IF(J$3=ESALCat,Design!$BV$34:$CE$57))))","v":0},{"$f":"SUM(IF($A57=SoilCat,IF($B57=DrainCat,IF(K$3=ESALCat,Design!$BV$34:$CE$57))))","v":0},{"$f":"SUM(IF($A57=SoilCat,IF($B57=DrainCat,IF(L$3=ESALCat,Design!$BV$34:$CE$57))))","v":0},{"$f":"SUM(IF($A57=SoilCat,IF($B57=DrainCat,IF(M$3=ESALCat,Design!$BV$34:$CE$57))))","v":0},{"$f":"SUM(IF($A57=SoilCat,IF($B57=DrainCat,IF(N$3=ESALCat,Design!$BV$34:$CE$57))))","v":200},{"$f":"SUM(IF($A57=SoilCat,IF($B57=DrainCat,IF(O$3=ESALCat,Design!$BV$34:$CE$57))))","v":350}]
[5,"Fair",null,"Fair","Pavers and Bedding",{"$f":"SUM(IF($A58=SoilCat,IF($B58=DrainCat,IF(F$3=ESALCat,Design!$N$34:$W$57))))","v":105},{"$f":"SUM(IF($A58=SoilCat,IF($B58=DrainCat,IF(G$3=ESALCat,Design!$N$34:$W$57))))","v":105},{"$f":"SUM(IF($A58=SoilCat,IF($B58=DrainCat,IF(H$3=ESALCat,Design!$N$34:$W$57))))","v":105},{"$f":"SUM(IF($A58=SoilCat,IF($B58=DrainCat,IF(I$3=ESALCat,Design!$N$34:$W$57))))","v":105},{"$f":"SUM(IF($A58=SoilCat,IF($B58=DrainCat,IF(J$3=ESALCat,Design!$N$34:$W$57))))","v":105},{"$f":"SUM(IF($A58=SoilCat,IF($B58=DrainCat,IF(K$3=ESALCat,Design!$N$34:$W$57))))","v":105},{"$f":"SUM(IF($A58=SoilCat,IF($B58=DrainCat,IF(L$3=ESALCat,Design!$N$34:$W$57))))","v":105},{"$f":"SUM(IF($A58=SoilCat,IF($B58=DrainCat,IF(M$3=ESALCat,Design!$N$34:$W$57))))","v":105},{"$f":"SUM(IF($A58=SoilCat,IF($B58=DrainCat,IF(N$3=ESALCat,Design!$N$34:$W$57))))","v":105},{"$f":"SUM(IF($A58=SoilCat,IF($B58=DrainCat,IF(O$3=ESALCat,Design!$N$34:$W$57))))","v":105}]
[5,"Fair",null,null,"Asphalt Treated Base",{"$f":"SUM(IF($A59=SoilCat,IF($B59=DrainCat,IF(F$3=ESALCat,Design!$AH$34:$AQ$57))))","v":100},{"$f":"SUM(IF($A59=SoilCat,IF($B59=DrainCat,IF(G$3=ESALCat,Design!$AH$34:$AQ$57))))","v":100},{"$f":"SUM(IF($A59=SoilCat,IF($B59=DrainCat,IF(H$3=ESALCat,Design!$AH$34:$AQ$57))))","v":100},{"$f":"SUM(IF($A59=SoilCat,IF($B59=DrainCat,IF(I$3=ESALCat,Design!$AH$34:$AQ$57))))","v":100},{"$f":"SUM(IF($A59=SoilCat,IF($B59=DrainCat,IF(J$3=ESALCat,Design!$AH$34:$AQ$57))))","v":100},{"$f":"SUM(IF($A59=SoilCat,IF($B59=DrainCat,IF(K$3=ESALCat,Design!$AH$34:$AQ$57))))","v":100},{"$f":"SUM(IF($A59=SoilCat,IF($B59=DrainCat,IF(L$3=ESALCat,Design!$AH$34:$AQ$57))))","v":100},{"$f":"SUM(IF($A59=SoilCat,IF($B59=DrainCat,IF(M$3=ESALCat,Design!$AH$34:$AQ$57))))","v":100},{"$f":"SUM(IF($A59=SoilCat,IF($B59=DrainCat,IF(N$3=ESALCat,Design!$AH$34:$AQ$57))))","v":100},{"$f":"SUM(IF($A59=SoilCat,IF($B59=DrainCat,IF(O$3=ESALCat,Design!$AH$34:$AQ$57))))","v":100}]
[5,"Fair",null,null,"Unbound Dense Graded Base",{"$f":"SUM(IF($A60=SoilCat,IF($B60=DrainCat,IF(F$3=ESALCat,Design!$BB$34:$BK$57))))","v":100},{"$f":"SUM(IF($A60=SoilCat,IF($B60=DrainCat,IF(G$3=ESALCat,Design!$BB$34:$BK$57))))","v":100},{"$f":"SUM(IF($A60=SoilCat,IF($B60=DrainCat,IF(H$3=ESALCat,Design!$BB$34:$BK$57))))","v":100},{"$f":"SUM(IF($A60=SoilCat,IF($B60=DrainCat,IF(I$3=ESALCat,Design!$BB$34:$BK$57))))","v":100},{"$f":"SUM(IF($A60=SoilCat,IF($B60=DrainCat,IF(J$3=ESALCat,Design!$BB$34:$BK$57))))","v":100},{"$f":"SUM(IF($A60=SoilCat,IF($B60=DrainCat,IF(K$3=ESALCat,Design!$BB$34:$BK$57))))","v":150},{"$f":"SUM(IF($A60=SoilCat,IF($B60=DrainCat,IF(L$3=ESALCat,Design!$BB$34:$BK$57))))","v":175},{"$f":"SUM(IF($A60=SoilCat,IF($B60=DrainCat,IF(M$3=ESALCat,Design!$BB$34:$BK$57))))","v":150},{"$f":"SUM(IF($A60=SoilCat,IF($B60=DrainCat,IF(N$3=ESALCat,Design!$BB$34:$BK$57))))","v":150},{"$f":"SUM(IF($A60=SoilCat,IF($B60=DrainCat,IF(O$3=ESALCat,Design!$BB$34:$BK$57))))","v":150}]
[5,"Fair",null,null,"Unbound Dense Graded Subbase",{"$f":"SUM(IF($A61=SoilCat,IF($B61=DrainCat,IF(F$3=ESALCat,Design!$BV$34:$CE$57))))","v":0},{"$f":"SUM(IF($A61=SoilCat,IF($B61=DrainCat,IF(G$3=ESALCat,Design!$BV$34:$CE$57))))","v":0},{"$f":"SUM(IF($A61=SoilCat,IF($B61=DrainCat,IF(H$3=ESALCat,Design!$BV$34:$CE$57))))","v":0},{"$f":"SUM(IF($A61=SoilCat,IF($B61=DrainCat,IF(I$3=ESALCat,Design!$BV$34:$CE$57))))","v":0},{"$f":"SUM(IF($A61=SoilCat,IF($B61=DrainCat,IF(J$3=ESALCat,Design!$BV$34:$CE$57))))","v":0},{"$f":"SUM(IF($A61=SoilCat,IF($B61=DrainCat,IF(K$3=ESALCat,Design!$BV$34:$CE$57))))","v":0},{"$f":"SUM(IF($A61=SoilCat,IF($B61=DrainCat,IF(L$3=ESALCat,Design!$BV$34:$CE$57))))","v":0},{"$f":"SUM(IF($A61=SoilCat,IF($B61=DrainCat,IF(M$3=ESALCat,Design!$BV$34:$CE$57))))","v":175},{"$f":"SUM(IF($A61=SoilCat,IF($B61=DrainCat,IF(N$3=ESALCat,Design!$BV$34:$CE$57))))","v":350},{"$f":"SUM(IF($A61=SoilCat,IF($B61=DrainCat,IF(O$3=ESALCat,Design!$BV$34:$CE$57))))","v":475}]
[5,"Poor",null,"Poor","Pavers and Bedding",{"$f":"SUM(IF($A62=SoilCat,IF($B62=DrainCat,IF(F$3=ESALCat,Design!$N$34:$W$57))))","v":105},{"$f":"SUM(IF($A62=SoilCat,IF($B62=DrainCat,IF(G$3=ESALCat,Design!$N$34:$W$57))))","v":105},{"$f":"SUM(IF($A62=SoilCat,IF($B62=DrainCat,IF(H$3=ESALCat,Design!$N$34:$W$57))))","v":105},{"$f":"SUM(IF($A62=SoilCat,IF($B62=DrainCat,IF(I$3=ESALCat,Design!$N$34:$W$57))))","v":105},{"$f":"SUM(IF($A62=SoilCat,IF($B62=DrainCat,IF(J$3=ESALCat,Design!$N$34:$W$57))))","v":105},{"$f":"SUM(IF($A62=SoilCat,IF($B62=DrainCat,IF(K$3=ESALCat,Design!$N$34:$W$57))))","v":105},{"$f":"SUM(IF($A62=SoilCat,IF($B62=DrainCat,IF(L$3=ESALCat,Design!$N$34:$W$57))))","v":105},{"$f":"SUM(IF($A62=SoilCat,IF($B62=DrainCat,IF(M$3=ESALCat,Design!$N$34:$W$57))))","v":105},{"$f":"SUM(IF($A62=SoilCat,IF($B62=DrainCat,IF(N$3=ESALCat,Design!$N$34:$W$57))))","v":105},{"$f":"SUM(IF($A62=SoilCat,IF($B62=DrainCat,IF(O$3=ESALCat,Design!$N$34:$W$57))))","v":105}]
[5,"Poor",null,null,"Asphalt Treated Base",{"$f":"SUM(IF($A63=SoilCat,IF($B63=DrainCat,IF(F$3=ESALCat,Design!$AH$34:$AQ$57))))","v":100},{"$f":"SUM(IF($A63=SoilCat,IF($B63=DrainCat,IF(G$3=ESALCat,Design!$AH$34:$AQ$57))))","v":100},{"$f":"SUM(IF($A63=SoilCat,IF($B63=DrainCat,IF(H$3=ESALCat,Design!$AH$34:$AQ$57))))","v":100},{"$f":"SUM(IF($A63=SoilCat,IF($B63=DrainCat,IF(I$3=ESALCat,Design!$AH$34:$AQ$57))))","v":100},{"$f":"SUM(IF($A63=SoilCat,IF($B63=DrainCat,IF(J$3=ESALCat,Design!$AH$34:$AQ$57))))","v":100},{"$f":"SUM(IF($A63=SoilCat,IF($B63=DrainCat,IF(K$3=ESALCat,Design!$AH$34:$AQ$57))))","v":100},{"$f":"SUM(IF($A63=SoilCat,IF($B63=DrainCat,IF(L$3=ESALCat,Design!$AH$34:$AQ$57))))","v":100},{"$f":"SUM(IF($A63=SoilCat,IF($B63=DrainCat,IF(M$3=ESALCat,Design!$AH$34:$AQ$57))))","v":100},{"$f":"SUM(IF($A63=SoilCat,IF($B63=DrainCat,IF(N$3=ESALCat,Design!$AH$34:$AQ$57))))","v":100},{"$f":"SUM(IF($A63=SoilCat,IF($B63=DrainCat,IF(O$3=ESALCat,Design!$AH$34:$AQ$57))))","v":100}]
[5,"Poor",null,null,"Unbound Dense Graded Base",{"$f":"SUM(IF($A64=SoilCat,IF($B64=DrainCat,IF(F$3=ESALCat,Design!$BB$34:$BK$57))))","v":100},{"$f":"SUM(IF($A64=SoilCat,IF($B64=DrainCat,IF(G$3=ESALCat,Design!$BB$34:$BK$57))))","v":100},{"$f":"SUM(IF($A64=SoilCat,IF($B64=DrainCat,IF(H$3=ESALCat,Design!$BB$34:$BK$57))))","v":100},{"$f":"SUM(IF($A64=SoilCat,IF($B64=DrainCat,IF(I$3=ESALCat,Design!$BB$34:$BK$57))))","v":100},{"$f":"SUM(IF($A64=SoilCat,IF($B64=DrainCat,IF(J$3=ESALCat,Design!$BB$34:$BK$57))))","v":100},{"$f":"SUM(IF($A64=SoilCat,IF($B64=DrainCat,IF(K$3=ESALCat,Design!$BB$34:$BK$57))))","v":150},{"$f":"SUM(IF($A64=SoilCat,IF($B64=DrainCat,IF(L$3=ESALCat,Design!$BB$34:$BK$57))))","v":150},{"$f":"SUM(IF($A64=SoilCat,IF($B64=DrainCat,IF(M$3=ESALCat,Design!$BB$34:$BK$57))))","v":150},{"$f":"SUM(IF($A64=SoilCat,IF($B64=DrainCat,IF(N$3=ESALCat,Design!$BB$34:$BK$57))))","v":150},{"$f":"SUM(IF($A64=SoilCat,IF($B64=DrainCat,IF(O$3=ESALCat,Design!$BB$34:$BK$57))))","v":150}]
[5,"Poor",null,null,"Unbound Dense Graded Subbase",{"$f":"SUM(IF($A65=SoilCat,IF($B65=DrainCat,IF(F$3=ESALCat,Design!$BV$34:$CE$57))))","v":0},{"$f":"SUM(IF($A65=SoilCat,IF($B65=DrainCat,IF(G$3=ESALCat,Design!$BV$34:$CE$57))))","v":0},{"$f":"SUM(IF($A65=SoilCat,IF($B65=DrainCat,IF(H$3=ESALCat,Design!$BV$34:$CE$57))))","v":0},{"$f":"SUM(IF($A65=SoilCat,IF($B65=DrainCat,IF(I$3=ESALCat,Design!$BV$34:$CE$57))))","v":0},{"$f":"SUM(IF($A65=SoilCat,IF($B65=DrainCat,IF(J$3=ESALCat,Design!$BV$34:$CE$57))))","v":0},{"$f":"SUM(IF($A65=SoilCat,IF($B65=DrainCat,IF(K$3=ESALCat,Design!$BV$34:$CE$57))))","v":0},{"$f":"SUM(IF($A65=SoilCat,IF($B65=DrainCat,IF(L$3=ESALCat,Design!$BV$34:$CE$57))))","v":150},{"$f":"SUM(IF($A65=SoilCat,IF($B65=DrainCat,IF(M$3=ESALCat,Design!$BV$34:$CE$57))))","v":250},{"$f":"SUM(IF($A65=SoilCat,IF($B65=DrainCat,IF(N$3=ESALCat,Design!$BV$34:$CE$57))))","v":425},{"$f":"SUM(IF($A65=SoilCat,IF($B65=DrainCat,IF(O$3=ESALCat,Design!$BV$34:$CE$57))))","v":575}]
[6,"Good","Category 6","Good","Pavers and Bedding",{"$f":"SUM(IF($A66=SoilCat,IF($B66=DrainCat,IF(F$3=ESALCat,Design!$N$34:$W$57))))","v":105},{"$f":"SUM(IF($A66=SoilCat,IF($B66=DrainCat,IF(G$3=ESALCat,Design!$N$34:$W$57))))","v":105},{"$f":"SUM(IF($A66=SoilCat,IF($B66=DrainCat,IF(H$3=ESALCat,Design!$N$34:$W$57))))","v":105},{"$f":"SUM(IF($A66=SoilCat,IF($B66=DrainCat,IF(I$3=ESALCat,Design!$N$34:$W$57))))","v":105},{"$f":"SUM(IF($A66=SoilCat,IF($B66=DrainCat,IF(J$3=ESALCat,Design!$N$34:$W$57))))","v":105},{"$f":"SUM(IF($A66=SoilCat,IF($B66=DrainCat,IF(K$3=ESALCat,Design!$N$34:$W$57))))","v":105},{"$f":"SUM(IF($A66=SoilCat,IF($B66=DrainCat,IF(L$3=ESALCat,Design!$N$34:$W$57))))","v":105},{"$f":"SUM(IF($A66=SoilCat,IF($B66=DrainCat,IF(M$3=ESALCat,Design!$N$34:$W$57))))","v":105},{"$f":"SUM(IF($A66=SoilCat,IF($B66=DrainCat,IF(N$3=ESALCat,Design!$N$34:$W$57))))","v":105},{"$f":"SUM(IF($A66=SoilCat,IF($B66=DrainCat,IF(O$3=ESALCat,Design!$N$34:$W$57))))","v":105}]
[6,"Good",null,null,"Asphalt Treated Base",{"$f":"SUM(IF($A67=SoilCat,IF($B67=DrainCat,IF(F$3=ESALCat,Design!$AH$34:$AQ$57))))","v":100},{"$f":"SUM(IF($A67=SoilCat,IF($B67=DrainCat,IF(G$3=ESALCat,Design!$AH$34:$AQ$57))))","v":100},{"$f":"SUM(IF($A67=SoilCat,IF($B67=DrainCat,IF(H$3=ESALCat,Design!$AH$34:$AQ$57))))","v":100},{"$f":"SUM(IF($A67=SoilCat,IF($B67=DrainCat,IF(I$3=ESALCat,Design!$AH$34:$AQ$57))))","v":100},{"$f":"SUM(IF($A67=SoilCat,IF($B67=DrainCat,IF(J$3=ESALCat,Design!$AH$34:$AQ$57))))","v":100},{"$f":"SUM(IF($A67=SoilCat,IF($B67=DrainCat,IF(K$3=ESALCat,Design!$AH$34:$AQ$57))))","v":100},{"$f":"SUM(IF($A67=SoilCat,IF($B67=DrainCat,IF(L$3=ESALCat,Design!$AH$34:$AQ$57))))","v":100},{"$f":"SUM(IF($A67=SoilCat,IF($B67=DrainCat,IF(M$3=ESALCat,Design!$AH$34:$AQ$57))))","v":100},{"$f":"SUM(IF($A67=SoilCat,IF($B67=DrainCat,IF(N$3=ESALCat,Design!$AH$34:$AQ$57))))","v":100},{"$f":"SUM(IF($A67=SoilCat,IF($B67=DrainCat,IF(O$3=ESALCat,Design!$AH$34:$AQ$57))))","v":100}]
[6,"Good",null,null,"Unbound Dense Graded Base",{"$f":"SUM(IF($A68=SoilCat,IF($B68=DrainCat,IF(F$3=ESALCat,Design!$BB$34:$BK$57))))","v":100},{"$f":"SUM(IF($A68=SoilCat,IF($B68=DrainCat,IF(G$3=ESALCat,Design!$BB$34:$BK$57))))","v":100},{"$f":"SUM(IF($A68=SoilCat,IF($B68=DrainCat,IF(H$3=ESALCat,Design!$BB$34:$BK$57))))","v":100},{"$f":"SUM(IF($A68=SoilCat,IF($B68=DrainCat,IF(I$3=ESALCat,Design!$BB$34:$BK$57))))","v":100},{"$f":"SUM(IF($A68=SoilCat,IF($B68=DrainCat,IF(J$3=ESALCat,Design!$BB$34:$BK$57))))","v":100},{"$f":"SUM(IF($A68=SoilCat,IF($B68=DrainCat,IF(K$3=ESALCat,Design!$BB$34:$BK$57))))","v":150},{"$f":"SUM(IF($A68=SoilCat,IF($B68=DrainCat,IF(L$3=ESALCat,Design!$BB$34:$BK$57))))","v":175},{"$f":"SUM(IF($A68=SoilCat,IF($B68=DrainCat,IF(M$3=ESALCat,Design!$BB$34:$BK$57))))","v":150},{"$f":"SUM(IF($A68=SoilCat,IF($B68=DrainCat,IF(N$3=ESALCat,Design!$BB$34:$BK$57))))","v":150},{"$f":"SUM(IF($A68=SoilCat,IF($B68=DrainCat,IF(O$3=ESALCat,Design!$BB$34:$BK$57))))","v":150}]
[6,"Good",null,null,"Unbound Dense Graded Subbase",{"$f":"SUM(IF($A69=SoilCat,IF($B69=DrainCat,IF(F$3=ESALCat,Design!$BV$34:$CE$57))))","v":0},{"$f":"SUM(IF($A69=SoilCat,IF($B69=DrainCat,IF(G$3=ESALCat,Design!$BV$34:$CE$57))))","v":0},{"$f":"SUM(IF($A69=SoilCat,IF($B69=DrainCat,IF(H$3=ESALCat,Design!$BV$34:$CE$57))))","v":0},{"$f":"SUM(IF($A69=SoilCat,IF($B69=DrainCat,IF(I$3=ESALCat,Design!$BV$34:$CE$57))))","v":0},{"$f":"SUM(IF($A69=SoilCat,IF($B69=DrainCat,IF(J$3=ESALCat,Design!$BV$34:$CE$57))))","v":0},{"$f":"SUM(IF($A69=SoilCat,IF($B69=DrainCat,IF(K$3=ESALCat,Design!$BV$34:$CE$57))))","v":0},{"$f":"SUM(IF($A69=SoilCat,IF($B69=DrainCat,IF(L$3=ESALCat,Design!$BV$34:$CE$57))))","v":0},{"$f":"SUM(IF($A69=SoilCat,IF($B69=DrainCat,IF(M$3=ESALCat,Design!$BV$34:$CE$57))))","v":175},{"$f":"SUM(IF($A69=SoilCat,IF($B69=DrainCat,IF(N$3=ESALCat,Design!$BV$34:$CE$57))))","v":350},{"$f":"SUM(IF($A69=SoilCat,IF($B69=DrainCat,IF(O$3=ESALCat,Design!$BV$34:$CE$57))))","v":475}]
[6,"Fair",null,"Fair","Pavers and Bedding",{"$f":"SUM(IF($A70=SoilCat,IF($B70=DrainCat,IF(F$3=ESALCat,Design!$N$34:$W$57))))","v":105},{"$f":"SUM(IF($A70=SoilCat,IF($B70=DrainCat,IF(G$3=ESALCat,Design!$N$34:$W$57))))","v":105},{"$f":"SUM(IF($A70=SoilCat,IF($B70=DrainCat,IF(H$3=ESALCat,Design!$N$34:$W$57))))","v":105},{"$f":"SUM(IF($A70=SoilCat,IF($B70=DrainCat,IF(I$3=ESALCat,Design!$N$34:$W$57))))","v":105},{"$f":"SUM(IF($A70=SoilCat,IF($B70=DrainCat,IF(J$3=ESALCat,Design!$N$34:$W$57))))","v":105},{"$f":"SUM(IF($A70=SoilCat,IF($B70=DrainCat,IF(K$3=ESALCat,Design!$N$34:$W$57))))","v":105},{"$f":"SUM(IF($A70=SoilCat,IF($B70=DrainCat,IF(L$3=ESALCat,Design!$N$34:$W$57))))","v":105},{"$f":"SUM(IF($A70=SoilCat,IF($B70=DrainCat,IF(M$3=ESALCat,Design!$N$34:$W$57))))","v":105},{"$f":"SUM(IF($A70=SoilCat,IF($B70=DrainCat,IF(N$3=ESALCat,Design!$N$34:$W$57))))","v":105},{"$f":"SUM(IF($A70=SoilCat,IF($B70=DrainCat,IF(O$3=ESALCat,Design!$N$34:$W$57))))","v":105}]
[6,"Fair",null,null,"Asphalt Treated Base",{"$f":"SUM(IF($A71=SoilCat,IF($B71=DrainCat,IF(F$3=ESALCat,Design!$AH$34:$AQ$57))))","v":100},{"$f":"SUM(IF($A71=SoilCat,IF($B71=DrainCat,IF(G$3=ESALCat,Design!$AH$34:$AQ$57))))","v":100},{"$f":"SUM(IF($A71=SoilCat,IF($B71=DrainCat,IF(H$3=ESALCat,Design!$AH$34:$AQ$57))))","v":100},{"$f":"SUM(IF($A71=SoilCat,IF($B71=DrainCat,IF(I$3=ESALCat,Design!$AH$34:$AQ$57))))","v":100},{"$f":"SUM(IF($A71=SoilCat,IF($B71=DrainCat,IF(J$3=ESALCat,Design!$AH$34:$AQ$57))))","v":100},{"$f":"SUM(IF($A71=SoilCat,IF($B71=DrainCat,IF(K$3=ESALCat,Design!$AH$34:$AQ$57))))","v":100},{"$f":"SUM(IF($A71=SoilCat,IF($B71=DrainCat,IF(L$3=ESALCat,Design!$AH$34:$AQ$57))))","v":100},{"$f":"SUM(IF($A71=SoilCat,IF($B71=DrainCat,IF(M$3=ESALCat,Design!$AH$34:$AQ$57))))","v":100},{"$f":"SUM(IF($A71=SoilCat,IF($B71=DrainCat,IF(N$3=ESALCat,Design!$AH$34:$AQ$57))))","v":100},{"$f":"SUM(IF($A71=SoilCat,IF($B71=DrainCat,IF(O$3=ESALCat,Design!$AH$34:$AQ$57))))","v":100}]
[6,"Fair",null,null,"Unbound Dense Graded Base",{"$f":"SUM(IF($A72=SoilCat,IF($B72=DrainCat,IF(F$3=ESALCat,Design!$BB$34:$BK$57))))","v":100},{"$f":"SUM(IF($A72=SoilCat,IF($B72=DrainCat,IF(G$3=ESALCat,Design!$BB$34:$BK$57))))","v":100},{"$f":"SUM(IF($A72=SoilCat,IF($B72=DrainCat,IF(H$3=ESALCat,Design!$BB$34:$BK$57))))","v":100},{"$f":"SUM(IF($A72=SoilCat,IF($B72=DrainCat,IF(I$3=ESALCat,Design!$BB$34:$BK$57))))","v":100},{"$f":"SUM(IF($A72=SoilCat,IF($B72=DrainCat,IF(J$3=ESALCat,Design!$BB$34:$BK$57))))","v":100},{"$f":"SUM(IF($A72=SoilCat,IF($B72=DrainCat,IF(K$3=ESALCat,Design!$BB$34:$BK$57))))","v":150},{"$f":"SUM(IF($A72=SoilCat,IF($B72=DrainCat,IF(L$3=ESALCat,Design!$BB$34:$BK$57))))","v":150},{"$f":"SUM(IF($A72=SoilCat,IF($B72=DrainCat,IF(M$3=ESALCat,Design!$BB$34:$BK$57))))","v":150},{"$f":"SUM(IF($A72=SoilCat,IF($B72=DrainCat,IF(N$3=ESALCat,Design!$BB$34:$BK$57))))","v":150},{"$f":"SUM(IF($A72=SoilCat,IF($B72=DrainCat,IF(O$3=ESALCat,Design!$BB$34:$BK$57))))","v":150}]
[6,"Fair",null,null,"Unbound Dense Graded Subbase",{"$f":"SUM(IF($A73=SoilCat,IF($B73=DrainCat,IF(F$3=ESALCat,Design!$BV$34:$CE$57))))","v":0},{"$f":"SUM(IF($A73=SoilCat,IF($B73=DrainCat,IF(G$3=ESALCat,Design!$BV$34:$CE$57))))","v":0},{"$f":"SUM(IF($A73=SoilCat,IF($B73=DrainCat,IF(H$3=ESALCat,Design!$BV$34:$CE$57))))","v":0},{"$f":"SUM(IF($A73=SoilCat,IF($B73=DrainCat,IF(I$3=ESALCat,Design!$BV$34:$CE$57))))","v":0},{"$f":"SUM(IF($A73=SoilCat,IF($B73=DrainCat,IF(J$3=ESALCat,Design!$BV$34:$CE$57))))","v":0},{"$f":"SUM(IF($A73=SoilCat,IF($B73=DrainCat,IF(K$3=ESALCat,Design!$BV$34:$CE$57))))","v":0},{"$f":"SUM(IF($A73=SoilCat,IF($B73=DrainCat,IF(L$3=ESALCat,Design!$BV$34:$CE$57))))","v":150},{"$f":"SUM(IF($A73=SoilCat,IF($B73=DrainCat,IF(M$3=ESALCat,Design!$BV$34:$CE$57))))","v":250},{"$f":"SUM(IF($A73=SoilCat,IF($B73=DrainCat,IF(N$3=ESALCat,Design!$BV$34:$CE$57))))","v":425},{"$f":"SUM(IF($A73=SoilCat,IF($B73=DrainCat,IF(O$3=ESALCat,Design!$BV$34:$CE$57))))","v":575}]
[6,"Poor",null,"Poor","Pavers and Bedding",{"$f":"SUM(IF($A74=SoilCat,IF($B74=DrainCat,IF(F$3=ESALCat,Design!$N$34:$W$57))))","v":105},{"$f":"SUM(IF($A74=SoilCat,IF($B74=DrainCat,IF(G$3=ESALCat,Design!$N$34:$W$57))))","v":105},{"$f":"SUM(IF($A74=SoilCat,IF($B74=DrainCat,IF(H$3=ESALCat,Design!$N$34:$W$57))))","v":105},{"$f":"SUM(IF($A74=SoilCat,IF($B74=DrainCat,IF(I$3=ESALCat,Design!$N$34:$W$57))))","v":105},{"$f":"SUM(IF($A74=SoilCat,IF($B74=DrainCat,IF(J$3=ESALCat,Design!$N$34:$W$57))))","v":105},{"$f":"SUM(IF($A74=SoilCat,IF($B74=DrainCat,IF(K$3=ESALCat,Design!$N$34:$W$57))))","v":105},{"$f":"SUM(IF($A74=SoilCat,IF($B74=DrainCat,IF(L$3=ESALCat,Design!$N$34:$W$57))))","v":105},{"$f":"SUM(IF($A74=SoilCat,IF($B74=DrainCat,IF(M$3=ESALCat,Design!$N$34:$W$57))))","v":105},{"$f":"SUM(IF($A74=SoilCat,IF($B74=DrainCat,IF(N$3=ESALCat,Design!$N$34:$W$57))))","v":105},{"$f":"SUM(IF($A74=SoilCat,IF($B74=DrainCat,IF(O$3=ESALCat,Design!$N$34:$W$57))))","v":105}]
[6,"Poor",null,null,"Asphalt Treated Base",{"$f":"SUM(IF($A75=SoilCat,IF($B75=DrainCat,IF(F$3=ESALCat,Design!$AH$34:$AQ$57))))","v":100},{"$f":"SUM(IF($A75=SoilCat,IF($B75=DrainCat,IF(G$3=ESALCat,Design!$AH$34:$AQ$57))))","v":100},{"$f":"SUM(IF($A75=SoilCat,IF($B75=DrainCat,IF(H$3=ESALCat,Design!$AH$34:$AQ$57))))","v":100},{"$f":"SUM(IF($A75=SoilCat,IF($B75=DrainCat,IF(I$3=ESALCat,Design!$AH$34:$AQ$57))))","v":100},{"$f":"SUM(IF($A75=SoilCat,IF($B75=DrainCat,IF(J$3=ESALCat,Design!$AH$34:$AQ$57))))","v":100},{"$f":"SUM(IF($A75=SoilCat,IF($B75=DrainCat,IF(K$3=ESALCat,Design!$AH$34:$AQ$57))))","v":100},{"$f":"SUM(IF($A75=SoilCat,IF($B75=DrainCat,IF(L$3=ESALCat,Design!$AH$34:$AQ$57))))","v":100},{"$f":"SUM(IF($A75=SoilCat,IF($B75=DrainCat,IF(M$3=ESALCat,Design!$AH$34:$AQ$57))))","v":100},{"$f":"SUM(IF($A75=SoilCat,IF($B75=DrainCat,IF(N$3=ESALCat,Design!$AH$34:$AQ$57))))","v":100},{"$f":"SUM(IF($A75=SoilCat,IF($B75=DrainCat,IF(O$3=ESALCat,Design!$AH$34:$AQ$57))))","v":100}]
[6,"Poor",null,null,"Unbound Dense Graded Base",{"$f":"SUM(IF($A76=SoilCat,IF($B76=DrainCat,IF(F$3=ESALCat,Design!$BB$34:$BK$57))))","v":100},{"$f":"SUM(IF($A76=SoilCat,IF($B76=DrainCat,IF(G$3=ESALCat,Design!$BB$34:$BK$57))))","v":100},{"$f":"SUM(IF($A76=SoilCat,IF($B76=DrainCat,IF(H$3=ESALCat,Design!$BB$34:$BK$57))))","v":100},{"$f":"SUM(IF($A76=SoilCat,IF($B76=DrainCat,IF(I$3=ESALCat,Design!$BB$34:$BK$57))))","v":100},{"$f":"SUM(IF($A76=SoilCat,IF($B76=DrainCat,IF(J$3=ESALCat,Design!$BB$34:$BK$57))))","v":125},{"$f":"SUM(IF($A76=SoilCat,IF($B76=DrainCat,IF(K$3=ESALCat,Design!$BB$34:$BK$57))))","v":150},{"$f":"SUM(IF($A76=SoilCat,IF($B76=DrainCat,IF(L$3=ESALCat,Design!$BB$34:$BK$57))))","v":150},{"$f":"SUM(IF($A76=SoilCat,IF($B76=DrainCat,IF(M$3=ESALCat,Design!$BB$34:$BK$57))))","v":150},{"$f":"SUM(IF($A76=SoilCat,IF($B76=DrainCat,IF(N$3=ESALCat,Design!$BB$34:$BK$57))))","v":150},{"$f":"SUM(IF($A76=SoilCat,IF($B76=DrainCat,IF(O$3=ESALCat,Design!$BB$34:$BK$57))))","v":150}]
[6,"Poor",null,null,"Unbound Dense Graded Subbase",{"$f":"SUM(IF($A77=SoilCat,IF($B77=DrainCat,IF(F$3=ESALCat,Design!$BV$34:$CE$57))))","v":0},{"$f":"SUM(IF($A77=SoilCat,IF($B77=DrainCat,IF(G$3=ESALCat,Design!$BV$34:$CE$57))))","v":0},{"$f":"SUM(IF($A77=SoilCat,IF($B77=DrainCat,IF(H$3=ESALCat,Design!$BV$34:$CE$57))))","v":0},{"$f":"SUM(IF($A77=SoilCat,IF($B77=DrainCat,IF(I$3=ESALCat,Design!$BV$34:$CE$57))))","v":0},{"$f":"SUM(IF($A77=SoilCat,IF($B77=DrainCat,IF(J$3=ESALCat,Design!$BV$34:$CE$57))))","v":0},{"$f":"SUM(IF($A77=SoilCat,IF($B77=DrainCat,IF(K$3=ESALCat,Design!$BV$34:$CE$57))))","v":150},{"$f":"SUM(IF($A77=SoilCat,IF($B77=DrainCat,IF(L$3=ESALCat,Design!$BV$34:$CE$57))))","v":250},{"$f":"SUM(IF($A77=SoilCat,IF($B77=DrainCat,IF(M$3=ESALCat,Design!$BV$34:$CE$57))))","v":400},{"$f":"SUM(IF($A77=SoilCat,IF($B77=DrainCat,IF(N$3=ESALCat,Design!$BV$34:$CE$57))))","v":600},{"$f":"SUM(IF($A77=SoilCat,IF($B77=DrainCat,IF(O$3=ESALCat,Design!$BV$34:$CE$57))))","v":750}]
[7,"Good","Category 7","Good","Pavers and Bedding",{"$f":"SUM(IF($A78=SoilCat,IF($B78=DrainCat,IF(F$3=ESALCat,Design!$N$34:$W$57))))","v":105},{"$f":"SUM(IF($A78=SoilCat,IF($B78=DrainCat,IF(G$3=ESALCat,Design!$N$34:$W$57))))","v":105},{"$f":"SUM(IF($A78=SoilCat,IF($B78=DrainCat,IF(H$3=ESALCat,Design!$N$34:$W$57))))","v":105},{"$f":"SUM(IF($A78=SoilCat,IF($B78=DrainCat,IF(I$3=ESALCat,Design!$N$34:$W$57))))","v":105},{"$f":"SUM(IF($A78=SoilCat,IF($B78=DrainCat,IF(J$3=ESALCat,Design!$N$34:$W$57))))","v":105},{"$f":"SUM(IF($A78=SoilCat,IF($B78=DrainCat,IF(K$3=ESALCat,Design!$N$34:$W$57))))","v":105},{"$f":"SUM(IF($A78=SoilCat,IF($B78=DrainCat,IF(L$3=ESALCat,Design!$N$34:$W$57))))","v":105},{"$f":"SUM(IF($A78=SoilCat,IF($B78=DrainCat,IF(M$3=ESALCat,Design!$N$34:$W$57))))","v":105},{"$f":"SUM(IF($A78=SoilCat,IF($B78=DrainCat,IF(N$3=ESALCat,Design!$N$34:$W$57))))","v":105},{"$f":"SUM(IF($A78=SoilCat,IF($B78=DrainCat,IF(O$3=ESALCat,Design!$N$34:$W$57))))","v":105}]
[7,"Good",null,null,"Asphalt Treated Base",{"$f":"SUM(IF($A79=SoilCat,IF($B79=DrainCat,IF(F$3=ESALCat,Design!$AH$34:$AQ$57))))","v":100},{"$f":"SUM(IF($A79=SoilCat,IF($B79=DrainCat,IF(G$3=ESALCat,Design!$AH$34:$AQ$57))))","v":100},{"$f":"SUM(IF($A79=SoilCat,IF($B79=DrainCat,IF(H$3=ESALCat,Design!$AH$34:$AQ$57))))","v":100},{"$f":"SUM(IF($A79=SoilCat,IF($B79=DrainCat,IF(I$3=ESALCat,Design!$AH$34:$AQ$57))))","v":100},{"$f":"SUM(IF($A79=SoilCat,IF($B79=DrainCat,IF(J$3=ESALCat,Design!$AH$34:$AQ$57))))","v":100},{"$f":"SUM(IF($A79=SoilCat,IF($B79=DrainCat,IF(K$3=ESALCat,Design!$AH$34:$AQ$57))))","v":100},{"$f":"SUM(IF($A79=SoilCat,IF($B79=DrainCat,IF(L$3=ESALCat,Design!$AH$34:$AQ$57))))","v":100},{"$f":"SUM(IF($A79=SoilCat,IF($B79=DrainCat,IF(M$3=ESALCat,Design!$AH$34:$AQ$57))))","v":100},{"$f":"SUM(IF($A79=SoilCat,IF($B79=DrainCat,IF(N$3=ESALCat,Design!$AH$34:$AQ$57))))","v":100},{"$f":"SUM(IF($A79=SoilCat,IF($B79=DrainCat,IF(O$3=ESALCat,Design!$AH$34:$AQ$57))))","v":100}]
[7,"Good",null,null,"Unbound Dense Graded Base",{"$f":"SUM(IF($A80=SoilCat,IF($B80=DrainCat,IF(F$3=ESALCat,Design!$BB$34:$BK$57))))","v":100},{"$f":"SUM(IF($A80=SoilCat,IF($B80=DrainCat,IF(G$3=ESALCat,Design!$BB$34:$BK$57))))","v":100},{"$f":"SUM(IF($A80=SoilCat,IF($B80=DrainCat,IF(H$3=ESALCat,Design!$BB$34:$BK$57))))","v":100},{"$f":"SUM(IF($A80=SoilCat,IF($B80=DrainCat,IF(I$3=ESALCat,Design!$BB$34:$BK$57))))","v":100},{"$f":"SUM(IF($A80=SoilCat,IF($B80=DrainCat,IF(J$3=ESALCat,Design!$BB$34:$BK$57))))","v":100},{"$f":"SUM(IF($A80=SoilCat,IF($B80=DrainCat,IF(K$3=ESALCat,Design!$BB$34:$BK$57))))","v":150},{"$f":"SUM(IF($A80=SoilCat,IF($B80=DrainCat,IF(L$3=ESALCat,Design!$BB$34:$BK$57))))","v":200},{"$f":"SUM(IF($A80=SoilCat,IF($B80=DrainCat,IF(M$3=ESALCat,Design!$BB$34:$BK$57))))","v":150},{"$f":"SUM(IF($A80=SoilCat,IF($B80=DrainCat,IF(N$3=ESALCat,Design!$BB$34:$BK$57))))","v":150},{"$f":"SUM(IF($A80=SoilCat,IF($B80=DrainCat,IF(O$3=ESALCat,Design!$BB$34:$BK$57))))","v":150}]
[7,"Good",null,null,"Unbound Dense Graded Subbase",{"$f":"SUM(IF($A81=SoilCat,IF($B81=DrainCat,IF(F$3=ESALCat,Design!$BV$34:$CE$57))))","v":0},{"$f":"SUM(IF($A81=SoilCat,IF($B81=DrainCat,IF(G$3=ESALCat,Design!$BV$34:$CE$57))))","v":0},{"$f":"SUM(IF($A81=SoilCat,IF($B81=DrainCat,IF(H$3=ESALCat,Design!$BV$34:$CE$57))))","v":0},{"$f":"SUM(IF($A81=SoilCat,IF($B81=DrainCat,IF(I$3=ESALCat,Design!$BV$34:$CE$57))))","v":0},{"$f":"SUM(IF($A81=SoilCat,IF($B81=DrainCat,IF(J$3=ESALCat,Design!$BV$34:$CE$57))))","v":0},{"$f":"SUM(IF($A81=SoilCat,IF($B81=DrainCat,IF(K$3=ESALCat,Design!$BV$34:$CE$57))))","v":0},{"$f":"SUM(IF($A81=SoilCat,IF($B81=DrainCat,IF(L$3=ESALCat,Design!$BV$34:$CE$57))))","v":0},{"$f":"SUM(IF($A81=SoilCat,IF($B81=DrainCat,IF(M$3=ESALCat,Design!$BV$34:$CE$57))))","v":200},{"$f":"SUM(IF($A81=SoilCat,IF($B81=DrainCat,IF(N$3=ESALCat,Design!$BV$34:$CE$57))))","v":400},{"$f":"SUM(IF($A81=SoilCat,IF($B81=DrainCat,IF(O$3=ESALCat,Design!$BV$34:$CE$57))))","v":525}]
[7,"Fair",null,"Fair","Pavers and Bedding",{"$f":"SUM(IF($A82=SoilCat,IF($B82=DrainCat,IF(F$3=ESALCat,Design!$N$34:$W$57))))","v":105},{"$f":"SUM(IF($A82=SoilCat,IF($B82=DrainCat,IF(G$3=ESALCat,Design!$N$34:$W$57))))","v":105},{"$f":"SUM(IF($A82=SoilCat,IF($B82=DrainCat,IF(H$3=ESALCat,Design!$N$34:$W$57))))","v":105},{"$f":"SUM(IF($A82=SoilCat,IF($B82=DrainCat,IF(I$3=ESALCat,Design!$N$34:$W$57))))","v":105},{"$f":"SUM(IF($A82=SoilCat,IF($B82=DrainCat,IF(J$3=ESALCat,Design!$N$34:$W$57))))","v":105},{"$f":"SUM(IF($A82=SoilCat,IF($B82=DrainCat,IF(K$3=ESALCat,Design!$N$34:$W$57))))","v":105},{"$f":"SUM(IF($A82=SoilCat,IF($B82=DrainCat,IF(L$3=ESALCat,Design!$N$34:$W$57))))","v":105},{"$f":"SUM(IF($A82=SoilCat,IF($B82=DrainCat,IF(M$3=ESALCat,Design!$N$34:$W$57))))","v":105},{"$f":"SUM(IF($A82=SoilCat,IF($B82=DrainCat,IF(N$3=ESALCat,Design!$N$34:$W$57))))","v":105},{"$f":"SUM(IF($A82=SoilCat,IF($B82=DrainCat,IF(O$3=ESALCat,Design!$N$34:$W$57))))","v":105}]
[7,"Fair",null,null,"Asphalt Treated Base",{"$f":"SUM(IF($A83=SoilCat,IF($B83=DrainCat,IF(F$3=ESALCat,Design!$AH$34:$AQ$57))))","v":100},{"$f":"SUM(IF($A83=SoilCat,IF($B83=DrainCat,IF(G$3=ESALCat,Design!$AH$34:$AQ$57))))","v":100},{"$f":"SUM(IF($A83=SoilCat,IF($B83=DrainCat,IF(H$3=ESALCat,Design!$AH$34:$AQ$57))))","v":100},{"$f":"SUM(IF($A83=SoilCat,IF($B83=DrainCat,IF(I$3=ESALCat,Design!$AH$34:$AQ$57))))","v":100},{"$f":"SUM(IF($A83=SoilCat,IF($B83=DrainCat,IF(J$3=ESALCat,Design!$AH$34:$AQ$57))))","v":100},{"$f":"SUM(IF($A83=SoilCat,IF($B83=DrainCat,IF(K$3=ESALCat,Design!$AH$34:$AQ$57))))","v":100},{"$f":"SUM(IF($A83=SoilCat,IF($B83=DrainCat,IF(L$3=ESALCat,Design!$AH$34:$AQ$57))))","v":100},{"$f":"SUM(IF($A83=SoilCat,IF($B83=DrainCat,IF(M$3=ESALCat,Design!$AH$34:$AQ$57))))","v":100},{"$f":"SUM(IF($A83=SoilCat,IF($B83=DrainCat,IF(N$3=ESALCat,Design!$AH$34:$AQ$57))))","v":100},{"$f":"SUM(IF($A83=SoilCat,IF($B83=DrainCat,IF(O$3=ESALCat,Design!$AH$34:$AQ$57))))","v":100}]
[7,"Fair",null,null,"Unbound Dense Graded Base",{"$f":"SUM(IF($A84=SoilCat,IF($B84=DrainCat,IF(F$3=ESALCat,Design!$BB$34:$BK$57))))","v":100},{"$f":"SUM(IF($A84=SoilCat,IF($B84=DrainCat,IF(G$3=ESALCat,Design!$BB$34:$BK$57))))","v":100},{"$f":"SUM(IF($A84=SoilCat,IF($B84=DrainCat,IF(H$3=ESALCat,Design!$BB$34:$BK$57))))","v":100},{"$f":"SUM(IF($A84=SoilCat,IF($B84=DrainCat,IF(I$3=ESALCat,Design!$BB$34:$BK$57))))","v":100},{"$f":"SUM(IF($A84=SoilCat,IF($B84=DrainCat,IF(J$3=ESALCat,Design!$BB$34:$BK$57))))","v":100},{"$f":"SUM(IF($A84=SoilCat,IF($B84=DrainCat,IF(K$3=ESALCat,Design!$BB$34:$BK$57))))","v":200},{"$f":"SUM(IF($A84=SoilCat,IF($B84=DrainCat,IF(L$3=ESALCat,Design!$BB$34:$BK$57))))","v":150},{"$f":"SUM(IF($A84=SoilCat,IF($B84=DrainCat,IF(M$3=ESALCat,Design!$BB$34:$BK$57))))","v":150},{"$f":"SUM(IF($A84=SoilCat,IF($B84=DrainCat,IF(N$3=ESALCat,Design!$BB$34:$BK$57))))","v":150},{"$f":"SUM(IF($A84=SoilCat,IF($B84=DrainCat,IF(O$3=ESALCat,Design!$BB$34:$BK$57))))","v":150}]
[7,"Fair",null,null,"Unbound Dense Graded Subbase",{"$f":"SUM(IF($A85=SoilCat,IF($B85=DrainCat,IF(F$3=ESALCat,Design!$BV$34:$CE$57))))","v":0},{"$f":"SUM(IF($A85=SoilCat,IF($B85=DrainCat,IF(G$3=ESALCat,Design!$BV$34:$CE$57))))","v":0},{"$f":"SUM(IF($A85=SoilCat,IF($B85=DrainCat,IF(H$3=ESALCat,Design!$BV$34:$CE$57))))","v":0},{"$f":"SUM(IF($A85=SoilCat,IF($B85=DrainCat,IF(I$3=ESALCat,Design!$BV$34:$CE$57))))","v":0},{"$f":"SUM(IF($A85=SoilCat,IF($B85=DrainCat,IF(J$3=ESALCat,Design!$BV$34:$CE$57))))","v":0},{"$f":"SUM(IF($A85=SoilCat,IF($B85=DrainCat,IF(K$3=ESALCat,Design!$BV$34:$CE$57))))","v":0},{"$f":"SUM(IF($A85=SoilCat,IF($B85=DrainCat,IF(L$3=ESALCat,Design!$BV$34:$CE$57))))","v":200},{"$f":"SUM(IF($A85=SoilCat,IF($B85=DrainCat,IF(M$3=ESALCat,Design!$BV$34:$CE$57))))","v":350},{"$f":"SUM(IF($A85=SoilCat,IF($B85=DrainCat,IF(N$3=ESALCat,Design!$BV$34:$CE$57))))","v":525},{"$f":"SUM(IF($A85=SoilCat,IF($B85=DrainCat,IF(O$3=ESALCat,Design!$BV$34:$CE$57))))","v":700}]
[7,"Poor",null,"Poor","Pavers and Bedding",{"$f":"SUM(IF($A86=SoilCat,IF($B86=DrainCat,IF(F$3=ESALCat,Design!$N$34:$W$57))))","v":105},{"$f":"SUM(IF($A86=SoilCat,IF($B86=DrainCat,IF(G$3=ESALCat,Design!$N$34:$W$57))))","v":105},{"$f":"SUM(IF($A86=SoilCat,IF($B86=DrainCat,IF(H$3=ESALCat,Design!$N$34:$W$57))))","v":105},{"$f":"SUM(IF($A86=SoilCat,IF($B86=DrainCat,IF(I$3=ESALCat,Design!$N$34:$W$57))))","v":105},{"$f":"SUM(IF($A86=SoilCat,IF($B86=DrainCat,IF(J$3=ESALCat,Design!$N$34:$W$57))))","v":105},{"$f":"SUM(IF($A86=SoilCat,IF($B86=DrainCat,IF(K$3=ESALCat,Design!$N$34:$W$57))))","v":105},{"$f":"SUM(IF($A86=SoilCat,IF($B86=DrainCat,IF(L$3=ESALCat,Design!$N$34:$W$57))))","v":105},{"$f":"SUM(IF($A86=SoilCat,IF($B86=DrainCat,IF(M$3=ESALCat,Design!$N$34:$W$57))))","v":105},{"$f":"SUM(IF($A86=SoilCat,IF($B86=DrainCat,IF(N$3=ESALCat,Design!$N$34:$W$57))))","v":105},{"$f":"SUM(IF($A86=SoilCat,IF($B86=DrainCat,IF(O$3=ESALCat,Design!$N$34:$W$57))))","v":105}]
[7,"Poor",null,null,"Asphalt Treated Base",{"$f":"SUM(IF($A87=SoilCat,IF($B87=DrainCat,IF(F$3=ESALCat,Design!$AH$34:$AQ$57))))","v":100},{"$f":"SUM(IF($A87=SoilCat,IF($B87=DrainCat,IF(G$3=ESALCat,Design!$AH$34:$AQ$57))))","v":100},{"$f":"SUM(IF($A87=SoilCat,IF($B87=DrainCat,IF(H$3=ESALCat,Design!$AH$34:$AQ$57))))","v":100},{"$f":"SUM(IF($A87=SoilCat,IF($B87=DrainCat,IF(I$3=ESALCat,Design!$AH$34:$AQ$57))))","v":100},{"$f":"SUM(IF($A87=SoilCat,IF($B87=DrainCat,IF(J$3=ESALCat,Design!$AH$34:$AQ$57))))","v":100},{"$f":"SUM(IF($A87=SoilCat,IF($B87=DrainCat,IF(K$3=ESALCat,Design!$AH$34:$AQ$57))))","v":100},{"$f":"SUM(IF($A87=SoilCat,IF($B87=DrainCat,IF(L$3=ESALCat,Design!$AH$34:$AQ$57))))","v":100},{"$f":"SUM(IF($A87=SoilCat,IF($B87=DrainCat,IF(M$3=ESALCat,Design!$AH$34:$AQ$57))))","v":100},{"$f":"SUM(IF($A87=SoilCat,IF($B87=DrainCat,IF(N$3=ESALCat,Design!$AH$34:$AQ$57))))","v":100},{"$f":"SUM(IF($A87=SoilCat,IF($B87=DrainCat,IF(O$3=ESALCat,Design!$AH$34:$AQ$57))))","v":100}]
[7,"Poor",null,null,"Unbound Dense Graded Base",{"$f":"SUM(IF($A88=SoilCat,IF($B88=DrainCat,IF(F$3=ESALCat,Design!$BB$34:$BK$57))))","v":100},{"$f":"SUM(IF($A88=SoilCat,IF($B88=DrainCat,IF(G$3=ESALCat,Design!$BB$34:$BK$57))))","v":100},{"$f":"SUM(IF($A88=SoilCat,IF($B88=DrainCat,IF(H$3=ESALCat,Design!$BB$34:$BK$57))))","v":100},{"$f":"SUM(IF($A88=SoilCat,IF($B88=DrainCat,IF(I$3=ESALCat,Design!$BB$34:$BK$57))))","v":100},{"$f":"SUM(IF($A88=SoilCat,IF($B88=DrainCat,IF(J$3=ESALCat,Design!$BB$34:$BK$57))))","v":175},{"$f":"SUM(IF($A88=SoilCat,IF($B88=DrainCat,IF(K$3=ESALCat,Design!$BB$34:$BK$57))))","v":150},{"$f":"SUM(IF($A88=SoilCat,IF($B88=DrainCat,IF(L$3=ESALCat,Design!$BB$34:$BK$57))))","v":150},{"$f":"SUM(IF($A88=SoilCat,IF($B88=DrainCat,IF(M$3=ESALCat,Design!$BB$34:$BK$57))))","v":150},{"$f":"SUM(IF($A88=SoilCat,IF($B88=DrainCat,IF(N$3=ESALCat,Design!$BB$34:$BK$57))))","v":150},{"$f":"SUM(IF($A88=SoilCat,IF($B88=DrainCat,IF(O$3=ESALCat,Design!$BB$34:$BK$57))))","v":150}]
[7,"Poor",null,null,"Unbound Dense Graded Subbase",{"$f":"SUM(IF($A89=SoilCat,IF($B89=DrainCat,IF(F$3=ESALCat,Design!$BV$34:$CE$57))))","v":0},{"$f":"SUM(IF($A89=SoilCat,IF($B89=DrainCat,IF(G$3=ESALCat,Design!$BV$34:$CE$57))))","v":0},{"$f":"SUM(IF($A89=SoilCat,IF($B89=DrainCat,IF(H$3=ESALCat,Design!$BV$34:$CE$57))))","v":0},{"$f":"SUM(IF($A89=SoilCat,IF($B89=DrainCat,IF(I$3=ESALCat,Design!$BV$34:$CE$57))))","v":0},{"$f":"SUM(IF($A89=SoilCat,IF($B89=DrainCat,IF(J$3=ESALCat,Design!$BV$34:$CE$57))))","v":0},{"$f":"SUM(IF($A89=SoilCat,IF($B89=DrainCat,IF(K$3=ESALCat,Design!$BV$34:$CE$57))))","v":200},{"$f":"SUM(IF($A89=SoilCat,IF($B89=DrainCat,IF(L$3=ESALCat,Design!$BV$34:$CE$57))))","v":350},{"$f":"SUM(IF($A89=SoilCat,IF($B89=DrainCat,IF(M$3=ESALCat,Design!$BV$34:$CE$57))))","v":475},{"$f":"SUM(IF($A89=SoilCat,IF($B89=DrainCat,IF(N$3=ESALCat,Design!$BV$34:$CE$57))))","v":675},{"$f":"SUM(IF($A89=SoilCat,IF($B89=DrainCat,IF(O$3=ESALCat,Design!$BV$34:$CE$57))))","v":850}]
[8,"Good","Category 8","Good","Pavers and Bedding",{"$f":"SUM(IF($A90=SoilCat,IF($B90=DrainCat,IF(F$3=ESALCat,Design!$N$34:$W$57))))","v":105},{"$f":"SUM(IF($A90=SoilCat,IF($B90=DrainCat,IF(G$3=ESALCat,Design!$N$34:$W$57))))","v":105},{"$f":"SUM(IF($A90=SoilCat,IF($B90=DrainCat,IF(H$3=ESALCat,Design!$N$34:$W$57))))","v":105},{"$f":"SUM(IF($A90=SoilCat,IF($B90=DrainCat,IF(I$3=ESALCat,Design!$N$34:$W$57))))","v":105},{"$f":"SUM(IF($A90=SoilCat,IF($B90=DrainCat,IF(J$3=ESALCat,Design!$N$34:$W$57))))","v":105},{"$f":"SUM(IF($A90=SoilCat,IF($B90=DrainCat,IF(K$3=ESALCat,Design!$N$34:$W$57))))","v":105},{"$f":"SUM(IF($A90=SoilCat,IF($B90=DrainCat,IF(L$3=ESALCat,Design!$N$34:$W$57))))","v":105},{"$f":"SUM(IF($A90=SoilCat,IF($B90=DrainCat,IF(M$3=ESALCat,Design!$N$34:$W$57))))","v":105},{"$f":"SUM(IF($A90=SoilCat,IF($B90=DrainCat,IF(N$3=ESALCat,Design!$N$34:$W$57))))","v":105},{"$f":"SUM(IF($A90=SoilCat,IF($B90=DrainCat,IF(O$3=ESALCat,Design!$N$34:$W$57))))","v":105}]
[8,"Good",null,null,"Asphalt Treated Base",{"$f":"SUM(IF($A91=SoilCat,IF($B91=DrainCat,IF(F$3=ESALCat,Design!$AH$34:$AQ$57))))","v":100},{"$f":"SUM(IF($A91=SoilCat,IF($B91=DrainCat,IF(G$3=ESALCat,Design!$AH$34:$AQ$57))))","v":100},{"$f":"SUM(IF($A91=SoilCat,IF($B91=DrainCat,IF(H$3=ESALCat,Design!$AH$34:$AQ$57))))","v":100},{"$f":"SUM(IF($A91=SoilCat,IF($B91=DrainCat,IF(I$3=ESALCat,Design!$AH$34:$AQ$57))))","v":100},{"$f":"SUM(IF($A91=SoilCat,IF($B91=DrainCat,IF(J$3=ESALCat,Design!$AH$34:$AQ$57))))","v":100},{"$f":"SUM(IF($A91=SoilCat,IF($B91=DrainCat,IF(K$3=ESALCat,Design!$AH$34:$AQ$57))))","v":100},{"$f":"SUM(IF($A91=SoilCat,IF($B91=DrainCat,IF(L$3=ESALCat,Design!$AH$34:$AQ$57))))","v":100},{"$f":"SUM(IF($A91=SoilCat,IF($B91=DrainCat,IF(M$3=ESALCat,Design!$AH$34:$AQ$57))))","v":100},{"$f":"SUM(IF($A91=SoilCat,IF($B91=DrainCat,IF(N$3=ESALCat,Design!$AH$34:$AQ$57))))","v":100},{"$f":"SUM(IF($A91=SoilCat,IF($B91=DrainCat,IF(O$3=ESALCat,Design!$AH$34:$AQ$57))))","v":100}]
[8,"Good",null,null,"Unbound Dense Graded Base",{"$f":"SUM(IF($A92=SoilCat,IF($B92=DrainCat,IF(F$3=ESALCat,Design!$BB$34:$BK$57))))","v":100},{"$f":"SUM(IF($A92=SoilCat,IF($B92=DrainCat,IF(G$3=ESALCat,Design!$BB$34:$BK$57))))","v":100},{"$f":"SUM(IF($A92=SoilCat,IF($B92=DrainCat,IF(H$3=ESALCat,Design!$BB$34:$BK$57))))","v":100},{"$f":"SUM(IF($A92=SoilCat,IF($B92=DrainCat,IF(I$3=ESALCat,Design!$BB$34:$BK$57))))","v":100},{"$f":"SUM(IF($A92=SoilCat,IF($B92=DrainCat,IF(J$3=ESALCat,Design!$BB$34:$BK$57))))","v":100},{"$f":"SUM(IF($A92=SoilCat,IF($B92=DrainCat,IF(K$3=ESALCat,Design!$BB$34:$BK$57))))","v":150},{"$f":"SUM(IF($A92=SoilCat,IF($B92=DrainCat,IF(L$3=ESALCat,Design!$BB$34:$BK$57))))","v":150},{"$f":"SUM(IF($A92=SoilCat,IF($B92=DrainCat,IF(M$3=ESALCat,Design!$BB$34:$BK$57))))","v":150},{"$f":"SUM(IF($A92=SoilCat,IF($B92=DrainCat,IF(N$3=ESALCat,Design!$BB$34:$BK$57))))","v":150},{"$f":"SUM(IF($A92=SoilCat,IF($B92=DrainCat,IF(O$3=ESALCat,Design!$BB$34:$BK$57))))","v":150}]
[8,"Good",null,null,"Unbound Dense Graded Subbase",{"$f":"SUM(IF($A93=SoilCat,IF($B93=DrainCat,IF(F$3=ESALCat,Design!$BV$34:$CE$57))))","v":0},{"$f":"SUM(IF($A93=SoilCat,IF($B93=DrainCat,IF(G$3=ESALCat,Design!$BV$34:$CE$57))))","v":0},{"$f":"SUM(IF($A93=SoilCat,IF($B93=DrainCat,IF(H$3=ESALCat,Design!$BV$34:$CE$57))))","v":0},{"$f":"SUM(IF($A93=SoilCat,IF($B93=DrainCat,IF(I$3=ESALCat,Design!$BV$34:$CE$57))))","v":0},{"$f":"SUM(IF($A93=SoilCat,IF($B93=DrainCat,IF(J$3=ESALCat,Design!$BV$34:$CE$57))))","v":0},{"$f":"SUM(IF($A93=SoilCat,IF($B93=DrainCat,IF(K$3=ESALCat,Design!$BV$34:$CE$57))))","v":0},{"$f":"SUM(IF($A93=SoilCat,IF($B93=DrainCat,IF(L$3=ESALCat,Design!$BV$34:$CE$57))))","v":150},{"$f":"SUM(IF($A93=SoilCat,IF($B93=DrainCat,IF(M$3=ESALCat,Design!$BV$34:$CE$57))))","v":250},{"$f":"SUM(IF($A93=SoilCat,IF($B93=DrainCat,IF(N$3=ESALCat,Design!$BV$34:$CE$57))))","v":425},{"$f":"SUM(IF($A93=SoilCat,IF($B93=DrainCat,IF(O$3=ESALCat,Design!$BV$34:$CE$57))))","v":575}]
[8,"Fair",null,"Fair","Pavers and Bedding",{"$f":"SUM(IF($A94=SoilCat,IF($B94=DrainCat,IF(F$3=ESALCat,Design!$N$34:$W$57))))","v":105},{"$f":"SUM(IF($A94=SoilCat,IF($B94=DrainCat,IF(G$3=ESALCat,Design!$N$34:$W$57))))","v":105},{"$f":"SUM(IF($A94=SoilCat,IF($B94=DrainCat,IF(H$3=ESALCat,Design!$N$34:$W$57))))","v":105},{"$f":"SUM(IF($A94=SoilCat,IF($B94=DrainCat,IF(I$3=ESALCat,Design!$N$34:$W$57))))","v":105},{"$f":"SUM(IF($A94=SoilCat,IF($B94=DrainCat,IF(J$3=ESALCat,Design!$N$34:$W$57))))","v":105},{"$f":"SUM(IF($A94=SoilCat,IF($B94=DrainCat,IF(K$3=ESALCat,Design!$N$34:$W$57))))","v":105},{"$f":"SUM(IF($A94=SoilCat,IF($B94=DrainCat,IF(L$3=ESALCat,Design!$N$34:$W$57))))","v":105},{"$f":"SUM(IF($A94=SoilCat,IF($B94=DrainCat,IF(M$3=ESALCat,Design!$N$34:$W$57))))","v":105},{"$f":"SUM(IF($A94=SoilCat,IF($B94=DrainCat,IF(N$3=ESALCat,Design!$N$34:$W$57))))","v":105},{"$f":"SUM(IF($A94=SoilCat,IF($B94=DrainCat,IF(O$3=ESALCat,Design!$N$34:$W$57))))","v":105}]
[8,"Fair",null,null,"Asphalt Treated Base",{"$f":"SUM(IF($A95=SoilCat,IF($B95=DrainCat,IF(F$3=ESALCat,Design!$AH$34:$AQ$57))))","v":100},{"$f":"SUM(IF($A95=SoilCat,IF($B95=DrainCat,IF(G$3=ESALCat,Design!$AH$34:$AQ$57))))","v":100},{"$f":"SUM(IF($A95=SoilCat,IF($B95=DrainCat,IF(H$3=ESALCat,Design!$AH$34:$AQ$57))))","v":100},{"$f":"SUM(IF($A95=SoilCat,IF($B95=DrainCat,IF(I$3=ESALCat,Design!$AH$34:$AQ$57))))","v":100},{"$f":"SUM(IF($A95=SoilCat,IF($B95=DrainCat,IF(J$3=ESALCat,Design!$AH$34:$AQ$57))))","v":100},{"$f":"SUM(IF($A95=SoilCat,IF($B95=DrainCat,IF(K$3=ESALCat,Design!$AH$34:$AQ$57))))","v":100},{"$f":"SUM(IF($A95=SoilCat,IF($B95=DrainCat,IF(L$3=ESALCat,Design!$AH$34:$AQ$57))))","v":100},{"$f":"SUM(IF($A95=SoilCat,IF($B95=DrainCat,IF(M$3=ESALCat,Design!$AH$34:$AQ$57))))","v":100},{"$f":"SUM(IF($A95=SoilCat,IF($B95=DrainCat,IF(N$3=ESALCat,Design!$AH$34:$AQ$57))))","v":100},{"$f":"SUM(IF($A95=SoilCat,IF($B95=DrainCat,IF(O$3=ESALCat,Design!$AH$34:$AQ$57))))","v":100}]
[8,"Fair",null,null,"Unbound Dense Graded Base",{"$f":"SUM(IF($A96=SoilCat,IF($B96=DrainCat,IF(F$3=ESALCat,Design!$BB$34:$BK$57))))","v":100},{"$f":"SUM(IF($A96=SoilCat,IF($B96=DrainCat,IF(G$3=ESALCat,Design!$BB$34:$BK$57))))","v":100},{"$f":"SUM(IF($A96=SoilCat,IF($B96=DrainCat,IF(H$3=ESALCat,Design!$BB$34:$BK$57))))","v":100},{"$f":"SUM(IF($A96=SoilCat,IF($B96=DrainCat,IF(I$3=ESALCat,Design!$BB$34:$BK$57))))","v":100},{"$f":"SUM(IF($A96=SoilCat,IF($B96=DrainCat,IF(J$3=ESALCat,Design!$BB$34:$BK$57))))","v":100},{"$f":"SUM(IF($A96=SoilCat,IF($B96=DrainCat,IF(K$3=ESALCat,Design!$BB$34:$BK$57))))","v":200},{"$f":"SUM(IF($A96=SoilCat,IF($B96=DrainCat,IF(L$3=ESALCat,Design!$BB$34:$BK$57))))","v":150},{"$f":"SUM(IF($A96=SoilCat,IF($B96=DrainCat,IF(M$3=ESALCat,Design!$BB$34:$BK$57))))","v":150},{"$f":"SUM(IF($A96=SoilCat,IF($B96=DrainCat,IF(N$3=ESALCat,Design!$BB$34:$BK$57))))","v":150},{"$f":"SUM(IF($A96=SoilCat,IF($B96=DrainCat,IF(O$3=ESALCat,Design!$BB$34:$BK$57))))","v":150}]
[8,"Fair",null,null,"Unbound Dense Graded Subbase",{"$f":"SUM(IF($A97=SoilCat,IF($B97=DrainCat,IF(F$3=ESALCat,Design!$BV$34:$CE$57))))","v":0},{"$f":"SUM(IF($A97=SoilCat,IF($B97=DrainCat,IF(G$3=ESALCat,Design!$BV$34:$CE$57))))","v":0},{"$f":"SUM(IF($A97=SoilCat,IF($B97=DrainCat,IF(H$3=ESALCat,Design!$BV$34:$CE$57))))","v":0},{"$f":"SUM(IF($A97=SoilCat,IF($B97=DrainCat,IF(I$3=ESALCat,Design!$BV$34:$CE$57))))","v":0},{"$f":"SUM(IF($A97=SoilCat,IF($B97=DrainCat,IF(J$3=ESALCat,Design!$BV$34:$CE$57))))","v":0},{"$f":"SUM(IF($A97=SoilCat,IF($B97=DrainCat,IF(K$3=ESALCat,Design!$BV$34:$CE$57))))","v":0},{"$f":"SUM(IF($A97=SoilCat,IF($B97=DrainCat,IF(L$3=ESALCat,Design!$BV$34:$CE$57))))","v":200},{"$f":"SUM(IF($A97=SoilCat,IF($B97=DrainCat,IF(M$3=ESALCat,Design!$BV$34:$CE$57))))","v":350},{"$f":"SUM(IF($A97=SoilCat,IF($B97=DrainCat,IF(N$3=ESALCat,Design!$BV$34:$CE$57))))","v":525},{"$f":"SUM(IF($A97=SoilCat,IF($B97=DrainCat,IF(O$3=ESALCat,Design!$BV$34:$CE$57))))","v":700}]
[8,"Poor",null,"Poor","Pavers and Bedding",{"$f":"SUM(IF($A98=SoilCat,IF($B98=DrainCat,IF(F$3=ESALCat,Design!$N$34:$W$57))))","v":105},{"$f":"SUM(IF($A98=SoilCat,IF($B98=DrainCat,IF(G$3=ESALCat,Design!$N$34:$W$57))))","v":105},{"$f":"SUM(IF($A98=SoilCat,IF($B98=DrainCat,IF(H$3=ESALCat,Design!$N$34:$W$57))))","v":105},{"$f":"SUM(IF($A98=SoilCat,IF($B98=DrainCat,IF(I$3=ESALCat,Design!$N$34:$W$57))))","v":105},{"$f":"SUM(IF($A98=SoilCat,IF($B98=DrainCat,IF(J$3=ESALCat,Design!$N$34:$W$57))))","v":105},{"$f":"SUM(IF($A98=SoilCat,IF($B98=DrainCat,IF(K$3=ESALCat,Design!$N$34:$W$57))))","v":105},{"$f":"SUM(IF($A98=SoilCat,IF($B98=DrainCat,IF(L$3=ESALCat,Design!$N$34:$W$57))))","v":105},{"$f":"SUM(IF($A98=SoilCat,IF($B98=DrainCat,IF(M$3=ESALCat,Design!$N$34:$W$57))))","v":105},{"$f":"SUM(IF($A98=SoilCat,IF($B98=DrainCat,IF(N$3=ESALCat,Design!$N$34:$W$57))))","v":105},{"$f":"SUM(IF($A98=SoilCat,IF($B98=DrainCat,IF(O$3=ESALCat,Design!$N$34:$W$57))))","v":105}]
[8,"Poor",null,null,"Asphalt Treated Base",{"$f":"SUM(IF($A99=SoilCat,IF($B99=DrainCat,IF(F$3=ESALCat,Design!$AH$34:$AQ$57))))","v":100},{"$f":"SUM(IF($A99=SoilCat,IF($B99=DrainCat,IF(G$3=ESALCat,Design!$AH$34:$AQ$57))))","v":100},{"$f":"SUM(IF($A99=SoilCat,IF($B99=DrainCat,IF(H$3=ESALCat,Design!$AH$34:$AQ$57))))","v":100},{"$f":"SUM(IF($A99=SoilCat,IF($B99=DrainCat,IF(I$3=ESALCat,Design!$AH$34:$AQ$57))))","v":100},{"$f":"SUM(IF($A99=SoilCat,IF($B99=DrainCat,IF(J$3=ESALCat,Design!$AH$34:$AQ$57))))","v":100},{"$f":"SUM(IF($A99=SoilCat,IF($B99=DrainCat,IF(K$3=ESALCat,Design!$AH$34:$AQ$57))))","v":100},{"$f":"SUM(IF($A99=SoilCat,IF($B99=DrainCat,IF(L$3=ESALCat,Design!$AH$34:$AQ$57))))","v":100},{"$f":"SUM(IF($A99=SoilCat,IF($B99=DrainCat,IF(M$3=ESALCat,Design!$AH$34:$AQ$57))))","v":100},{"$f":"SUM(IF($A99=SoilCat,IF($B99=DrainCat,IF(N$3=ESALCat,Design!$AH$34:$AQ$57))))","v":100},{"$f":"SUM(IF($A99=SoilCat,IF($B99=DrainCat,IF(O$3=ESALCat,Design!$AH$34:$AQ$57))))","v":100}]
[8,"Poor",null,null,"Unbound Dense Graded Base",{"$f":"SUM(IF($A100=SoilCat,IF($B100=DrainCat,IF(F$3=ESALCat,Design!$BB$34:$BK$57))))","v":100},{"$f":"SUM(IF($A100=SoilCat,IF($B100=DrainCat,IF(G$3=ESALCat,Design!$BB$34:$BK$57))))","v":100},{"$f":"SUM(IF($A100=SoilCat,IF($B100=DrainCat,IF(H$3=ESALCat,Design!$BB$34:$BK$57))))","v":100},{"$f":"SUM(IF($A100=SoilCat,IF($B100=DrainCat,IF(I$3=ESALCat,Design!$BB$34:$BK$57))))","v":100},{"$f":"SUM(IF($A100=SoilCat,IF($B100=DrainCat,IF(J$3=ESALCat,Design!$BB$34:$BK$57))))","v":175},{"$f":"SUM(IF($A100=SoilCat,IF($B100=DrainCat,IF(K$3=ESALCat,Design!$BB$34:$BK$57))))","v":150},{"$f":"SUM(IF($A100=SoilCat,IF($B100=DrainCat,IF(L$3=ESALCat,Design!$BB$34:$BK$57))))","v":150},{"$f":"SUM(IF($A100=SoilCat,IF($B100=DrainCat,IF(M$3=ESALCat,Design!$BB$34:$BK$57))))","v":150},{"$f":"SUM(IF($A100=SoilCat,IF($B100=DrainCat,IF(N$3=ESALCat,Design!$BB$34:$BK$57))))","v":150},{"$f":"SUM(IF($A100=SoilCat,IF($B100=DrainCat,IF(O$3=ESALCat,Design!$BB$34:$BK$57))))","v":150}]
[8,"Poor",null,null,"Unbound Dense Graded Subbase",{"$f":"SUM(IF($A101=SoilCat,IF($B101=DrainCat,IF(F$3=ESALCat,Design!$BV$34:$CE$57))))","v":0},{"$f":"SUM(IF($A101=SoilCat,IF($B101=DrainCat,IF(G$3=ESALCat,Design!$BV$34:$CE$57))))","v":0},{"$f":"SUM(IF($A101=SoilCat,IF($B101=DrainCat,IF(H$3=ESALCat,Design!$BV$34:$CE$57))))","v":0},{"$f":"SUM(IF($A101=SoilCat,IF($B101=DrainCat,IF(I$3=ESALCat,Design!$BV$34:$CE$57))))","v":0},{"$f":"SUM(IF($A101=SoilCat,IF($B101=DrainCat,IF(J$3=ESALCat,Design!$BV$34:$CE$57))))","v":0},{"$f":"SUM(IF($A101=SoilCat,IF($B101=DrainCat,IF(K$3=ESALCat,Design!$BV$34:$CE$57))))","v":200},{"$f":"SUM(IF($A101=SoilCat,IF($B101=DrainCat,IF(L$3=ESALCat,Design!$BV$34:$CE$57))))","v":350},{"$f":"SUM(IF($A101=SoilCat,IF($B101=DrainCat,IF(M$3=ESALCat,Design!$BV$34:$CE$57))))","v":475},{"$f":"SUM(IF($A101=SoilCat,IF($B101=DrainCat,IF(N$3=ESALCat,Design!$BV$34:$CE$57))))","v":675},{"$f":"SUM(IF($A101=SoilCat,IF($B101=DrainCat,IF(O$3=ESALCat,Design!$BV$34:$CE$57))))","v":850}]

{"sheet":"CTB","index":5,"n_rows":101,"n_cols":15,"rows_kept":101,"cut":false,"hidden":false,"merged":[[65,2,76,2],[65,3,68,3],[69,3,72,3],[73,3,76,3],[41,2,52,2],[41,3,44,3],[45,3,48,3],[49,3,52,3],[53,2,64,2],[53,3,56,3],[57,3,60,3],[61,3,64,3],[17,2,28,2],[17,3,20,3],[21,3,24,3],[25,3,28,3],[29,2,40,2],[29,3,32,3],[33,3,36,3],[37,3,40,3],[5,2,16,2],[5,3,8,3],[9,3,12,3],[13,3,16,3],[0,2,1,14],[2,2,4,2],[2,3,4,3],[4,5,4,14],[89,2,100,2],[89,3,92,3],[93,3,96,3],[97,3,100,3],[77,2,88,2],[77,3,80,3],[81,3,84,3],[85,3,88,3]]}
[null,null,"CEMENT TREATED BASE\nSTRUCTURE THICKNESSES (mm)"]
[]
[null,null,null,"Drainage","ESALs",10000,20000,50000,100000,200000,500000,1000000,2000000,5000000,10000000]
[null,null,null,null,"TI",{"$f":"9*(F3/1000000)^0.119","v":5.2028644266514625},{"$f":"9*(G3/1000000)^0.119","v":5.6502163682481852},6.301151766600797,6.8429364924616367,7.4313048747790562,8.2874312748453587,9,9.7738367069006493,10.899835407763195,11.837023489730147]
[null,null,null,null,"Layer Type"]
[1,"Good","Category 1","Good","Pavers and Bedding",{"$f":"SUM(IF($A6=SoilCat,IF($B6=DrainCat,IF(F$3=ESALCat,Design!$N$64:$W$87))))","v":105},{"$f":"SUM(IF($A6=SoilCat,IF($B6=DrainCat,IF(G$3=ESALCat,Design!$N$64:$W$87))))","v":105},{"$f":"SUM(IF($A6=SoilCat,IF($B6=DrainCat,IF(H$3=ESALCat,Design!$N$64:$W$87))))","v":105},{"$f":"SUM(IF($A6=SoilCat,IF($B6=DrainCat,IF(I$3=ESALCat,Design!$N$64:$W$87))))","v":105},{"$f":"SUM(IF($A6=SoilCat,IF($B6=DrainCat,IF(J$3=ESALCat,Design!$N$64:$W$87))))","v":105},{"$f":"SUM(IF($A6=SoilCat,IF($B6=DrainCat,IF(K$3=ESALCat,Design!$N$64:$W$87))))","v":105},{"$f":"SUM(IF($A6=SoilCat,IF($B6=DrainCat,IF(L$3=ESALCat,Design!$N$64:$W$87))))","v":105},{"$f":"SUM(IF($A6=SoilCat,IF($B6=DrainCat,IF(M$3=ESALCat,Design!$N$64:$W$87))))","v":105},{"$f":"SUM(IF($A6=SoilCat,IF($B6=DrainCat,IF(N$3=ESALCat,Design!$N$64:$W$87))))","v":105},{"$f":"SUM(IF($A6=SoilCat,IF($B6=DrainCat,IF(O$3=ESALCat,Design!$N$64:$W$87))))","v":105}]
[1,"Good",null,null,"Cement Treated Base",{"$f":"SUM(IF($A7=SoilCat,IF($B7=DrainCat,IF(F$3=ESALCat,Design!$AH$64:$AQ$87))))","v":100},{"$f":"SUM(IF($A7=SoilCat,IF($B7=DrainCat,IF(G$3=ESALCat,Design!$AH$64:$AQ$87))))","v":100},{"$f":"SUM(IF($A7=SoilCat,IF($B7=DrainCat,IF(H$3=ESALCat,Design!$AH$64:$AQ$87))))","v":100},{"$f":"SUM(IF($A7=SoilCat,IF($B7=DrainCat,IF(I$3=ESALCat,Design!$AH$64:$AQ$87))))","v":100},{"$f":"SUM(IF($A7=SoilCat,IF($B7=DrainCat,IF(J$3=ESALCat,Design!$AH$64:$AQ$87))))","v":100},{"$f":"SUM(IF($A7=SoilCat,IF($B7=DrainCat,IF(K$3=ESALCat,Design!$AH$64:$AQ$87))))","v":100},{"$f":"SUM(IF($A7=SoilCat,IF($B7=DrainCat,IF(L$3=ESALCat,Design!$AH$64:$AQ$87))))","v":100},{"$f":"SUM(IF($A7=SoilCat,IF($B7=DrainCat,IF(M$3=ESALCat,Design!$AH$64:$AQ$87))))","v":100},{"$f":"SUM(IF($A7=SoilCat,IF($B7=DrainCat,IF(N$3=ESALCat,Design!$AH$64:$AQ$87))))","v":100},{"$f":"SUM(IF($A7=SoilCat,IF($B7=DrainCat,IF(O$3=ESALCat,Design!$AH$64:$AQ$87))))","v":100}]
[1,"Good",null,null,"Unbound Dense Graded Base",{"$f":"SUM(IF($A8=SoilCat,IF($B8=DrainCat,IF(F$3=ESALCat,Design!$BB$64:$BK$87))))","v":100},{"$f":"SUM(IF($A8=SoilCat,IF($B8=DrainCat,IF(G$3=ESALCat,Design!$BB$64:$BK$87))))","v":100},{"$f":"SUM(IF($A8=SoilCat,IF($B8=DrainCat,IF(H$3=ESALCat,Design!$BB$64:$BK$87))))","v":100},{"$f":"SUM(IF($A8=SoilCat,IF($B8=DrainCat,IF(I$3=ESALCat,Design!$BB$64:$BK$87))))","v":100},{"$f":"SUM(IF($A8=SoilCat,IF($B8=DrainCat,IF(J$3=ESALCat,Design!$BB$64:$BK$87))))","v":100},{"$f":"SUM(IF($A8=SoilCat,IF($B8=DrainCat,IF(K$3=ESALCat,Design!$BB$64:$BK$87))))","v":150},{"$f":"SUM(IF($A8=SoilCat,IF($B8=DrainCat,IF(L$3=ESALCat,Design!$BB$64:$BK$87))))","v":150},{"$f":"SUM(IF($A8=SoilCat,IF($B8=DrainCat,IF(M$3=ESALCat,Design!$BB$64:$BK$87))))","v":150},{"$f":"SUM(IF($A8=SoilCat,IF($B8=DrainCat,IF(N$3=ESALCat,Design!$BB$64:$BK$87))))","v":150},{"$f":"SUM(IF($A8=SoilCat,IF($B8=DrainCat,IF(O$3=ESALCat,Design!$BB$64:$BK$87))))","v":200}]
[1,"Good",null,null,"Unbound Dense Graded Subbase",{"$f":"SUM(IF($A9=SoilCat,IF($B9=DrainCat,IF(F$3=ESALCat,Design!$BV$64:$CE$87))))","v":0},{"$f":"SUM(IF($A9=SoilCat,IF($B9=DrainCat,IF(G$3=ESALCat,Design!$BV$64:$CE$87))))","v":0},{"$f":"SUM(IF($A9=SoilCat,IF($B9=DrainCat,IF(H$3=ESALCat,Design!$BV$64:$CE$87))))","v":0},{"$f":"SUM(IF($A9=SoilCat,IF($B9=DrainCat,IF(I$3=ESALCat,Design!$BV$64:$CE$87))))","v":0},{"$f":"SUM(IF($A9=SoilCat,IF($B9=DrainCat,IF(J$3=ESALCat,Design!$BV$64:$CE$87))))","v":0},{"$f":"SUM(IF($A9=SoilCat,IF($B9=DrainCat,IF(K$3=ESALCat,Design!$BV$64:$CE$87))))","v":0},{"$f":"SUM(IF($A9=SoilCat,IF($B9=DrainCat,IF(L$3=ESALCat,Design!$BV$64:$CE$87))))","v":0},{"$f":"SUM(IF($A9=SoilCat,IF($B9=DrainCat,IF(M$3=ESALCat,Design!$BV$64:$CE$87))))","v":0},{"$f":"SUM(IF($A9=SoilCat,IF($B9=DrainCat,IF(N$3=ESALCat,Design!$BV$64:$CE$87))))","v":0},{"$f":"SUM(IF($A9=SoilCat,IF($B9=DrainCat,IF(O$3=ESALCat,Design!$BV$64:$CE$87))))","v":0}]
[1,"Fair",null,"Fair","Pavers and Bedding",{"$f":"SUM(IF($A10=SoilCat,IF($B10=DrainCat,IF(F$3=ESALCat,Design!$N$64:$W$87))))","v":105},{"$f":"SUM(IF($A10=SoilCat,IF($B10=DrainCat,IF(G$3=ESALCat,Design!$N$64:$W$87))))","v":105},{"$f":"SUM(IF($A10=SoilCat,IF($B10=DrainCat,IF(H$3=ESALCat,Design!$N$64:$W$87))))","v":105},{"$f":"SUM(IF($A10=SoilCat,IF($B10=DrainCat,IF(I$3=ESALCat,Design!$N$64:$W$87))))","v":105},{"$f":"SUM(IF($A10=SoilCat,IF($B10=DrainCat,IF(J$3=ESALCat,Design!$N$64:$W$87))))","v":105},{"$f":"SUM(IF($A10=SoilCat,IF($B10=DrainCat,IF(K$3=ESALCat,Design!$N$64:$W$87))))","v":105},{"$f":"SUM(IF($A10=SoilCat,IF($B10=DrainCat,IF(L$3=ESALCat,Design!$N$64:$W$87))))","v":105},{"$f":"SUM(IF($A10=SoilCat,IF($B10=DrainCat,IF(M$3=ESALCat,Design!$N$64:$W$87))))","v":105},{"$f":"SUM(IF($A10=SoilCat,IF($B10=DrainCat,IF(N$3=ESALCat,Design!$N$64:$W$87))))","v":105},{"$f":"SUM(IF($A10=SoilCat,IF($B10=DrainCat,IF(O$3=ESALCat,Design!$N$64:$W$87))))","v":105}]
[1,"Fair",null,null,"Cement Treated Base",{"$f":"SUM(IF($A11=SoilCat,IF($B11=DrainCat,IF(F$3=ESALCat,Design!$AH$64:$AQ$87))))","v":100},{"$f":"SUM(IF($A11=SoilCat,IF($B11=DrainCat,IF(G$3=ESALCat,Design!$AH$64:$AQ$87))))","v":100},{"$f":"SUM(IF($A11=SoilCat,IF($B11=DrainCat,IF(H$3=ESALCat,Design!$AH$64:$AQ$87))))","v":100},{"$f":"SUM(IF($A11=SoilCat,IF($B11=DrainCat,IF(I$3=ESALCat,Design!$AH$64:$AQ$87))))","v":100},{"$f":"SUM(IF($A11=SoilCat,IF($B11=DrainCat,IF(J$3=ESALCat,Design!$AH$64:$AQ$87))))","v":100},{"$f":"SUM(IF($A11=SoilCat,IF($B11=DrainCat,IF(K$3=ESALCat,Design!$AH$64:$AQ$87))))","v":100},{"$f":"SUM(IF($A11=SoilCat,IF($B11=DrainCat,IF(L$3=ESALCat,Design!$AH$64:$AQ$87))))","v":100},{"$f":"SUM(IF($A11=SoilCat,IF($B11=DrainCat,IF(M$3=ESALCat,Design!$AH$64:$AQ$87))))","v":100},{"$f":"SUM(IF($A11=SoilCat,IF($B11=DrainCat,IF(N$3=ESALCat,Design!$AH$64:$AQ$87))))","v":100},{"$f":"SUM(IF($A11=SoilCat,IF($B11=DrainCat,IF(O$3=ESALCat,Design!$AH$64:$AQ$87))))","v":100}]
[1,"Fair",null,null,"Unbound Dense Graded Base",{"$f":"SUM(IF($A12=SoilCat,IF($B12=DrainCat,IF(F$3=ESALCat,Design!$BB$64:$BK$87))))","v":100},{"$f":"SUM(IF($A12=SoilCat,IF($B12=DrainCat,IF(G$3=ESALCat,Design!$BB$64:$BK$87))))","v":100},{"$f":"SUM(IF($A12=SoilCat,IF($B12=DrainCat,IF(H$3=ESALCat,Design!$BB$64:$BK$87))))","v":100},{"$f":"SUM(IF($A12=SoilCat,IF($B12=DrainCat,IF(I$3=ESALCat,Design!$BB$64:$BK$87))))","v":100},{"$f":"SUM(IF($A12=SoilCat,IF($B12=DrainCat,IF(J$3=ESALCat,Design!$BB$64:$BK$87))))","v":100},{"$f":"SUM(IF($A12=SoilCat,IF($B12=DrainCat,IF(K$3=ESALCat,Design!$BB$64:$BK$87))))","v":150},{"$f":"SUM(IF($A12=SoilCat,IF($B12=DrainCat,IF(L$3=ESALCat,Design!$BB$64:$BK$87))))","v":150},{"$f":"SUM(IF($A12=SoilCat,IF($B12=DrainCat,IF(M$3=ESALCat,Design!$BB$64:$BK$87))))","v":150},{"$f":"SUM(IF($A12=SoilCat,IF($B12=DrainCat,IF(N$3=ESALCat,Design!$BB$64:$BK$87))))","v":175},{"$f":"SUM(IF($A12=SoilCat,IF($B12=DrainCat,IF(O$3=ESALCat,Design!$BB$64:$BK$87))))","v":150}]
[1,"Fair",null,null,"Unbound Dense Graded Subbase",{"$f":"SUM(IF($A13=SoilCat,IF($B13=DrainCat,IF(F$3=ESALCat,Design!$BV$64:$CE$87))))","v":0},{"$f":"SUM(IF($A13=SoilCat,IF($B13=DrainCat,IF(G$3=ESALCat,Design!$BV$64:$CE$87))))","v":0},{"$f":"SUM(IF($A13=SoilCat,IF($B13=DrainCat,IF(H$3=ESALCat,Design!$BV$64:$CE$87))))","v":0},{"$f":"SUM(IF($A13=SoilCat,IF($B13=DrainCat,IF(I$3=ESALCat,Design!$BV$64:$CE$87))))","v":0},{"$f":"SUM(IF($A13=SoilCat,IF($B13=DrainCat,IF(J$3=ESALCat,Design!$BV$64:$CE$87))))","v":0},{"$f":"SUM(IF($A13=SoilCat,IF($B13=DrainCat,IF(K$3=ESALCat,Design!$BV$64:$CE$87))))","v":0},{"$f":"SUM(IF($A13=SoilCat,IF($B13=DrainCat,IF(L$3=ESALCat,Design!$BV$64:$CE$87))))","v":0},{"$f":"SUM(IF($A13=SoilCat,IF($B13=DrainCat,IF(M$3=ESALCat,Design!$BV$64:$CE$87))))","v":0},{"$f":"SUM(IF($A13=SoilCat,IF($B13=DrainCat,IF(N$3=ESALCat,Design!$BV$64:$CE$87))))","v":0},{"$f":"SUM(IF($A13=SoilCat,IF($B13=DrainCat,IF(O$3=ESALCat,Design!$BV$64:$CE$87))))","v":150}]
[1,"Poor",null,"Poor","Pavers and Bedding",{"$f":"SUM(IF($A14=SoilCat,IF($B14=DrainCat,IF(F$3=ESALCat,Design!$N$64:$W$87))))","v":105},{"$f":"SUM(IF($A14=SoilCat,IF($B14=DrainCat,IF(G$3=ESALCat,Design!$N$64:$W$87))))","v":105},{"$f":"SUM(IF($A14=SoilCat,IF($B14=DrainCat,IF(H$3=ESALCat,Design!$N$64:$W$87))))","v":105},{"$f":"SUM(IF($A14=SoilCat,IF($B14=DrainCat,IF(I$3=ESALCat,Design!$N$64:$W$87))))","v":105},{"$f":"SUM(IF($A14=SoilCat,IF($B14=DrainCat,IF(J$3=ESALCat,Design!$N$64:$W$87))))","v":105},{"$f":"SUM(IF($A14=SoilCat,IF($B14=DrainCat,IF(K$3=ESALCat,Design!$N$64:$W$87))))","v":105},{"$f":"SUM(IF($A14=SoilCat,IF($B14=DrainCat,IF(L$3=ESALCat,Design!$N$64:$W$87))))","v":105},{"$f":"SUM(IF($A14=SoilCat,IF($B14=DrainCat,IF(M$3=ESALCat,Design!$N$64:$W$87))))","v":105},{"$f":"SUM(IF($A14=SoilCat,IF($B14=DrainCat,IF(N$3=ESALCat,Design!$N$64:$W$87))))","v":105},{"$f":"SUM(IF($A14=SoilCat,IF($B14=DrainCat,IF(O$3=ESALCat,Design!$N$64:$W$87))))","v":105}]
[1,"Poor",null,null,"Cement Treated Base",{"$f":"SUM(IF($A15=SoilCat,IF($B15=DrainCat,IF(F$3=ESALCat,Design!$AH$64:$AQ$87))))","v":100},{"$f":"SUM(IF($A15=SoilCat,IF($B15=DrainCat,IF(G$3=ESALCat,Design!$AH$64:$AQ$87))))","v":100},{"$f":"SUM(IF($A15=SoilCat,IF($B15=DrainCat,IF(H$3=ESALCat,Design!$AH$64:$AQ$87))))","v":100},{"$f":"SUM(IF($A15=SoilCat,IF($B15=DrainCat,IF(I$3=ESALCat,Design!$AH$64:$AQ$87))))","v":100},{"$f":"SUM(IF($A15=SoilCat,IF($B15=DrainCat,IF(J$3=ESALCat,Design!$AH$64:$AQ$87))))","v":100},{"$f":"SUM(IF($A15=SoilCat,IF($B15=DrainCat,IF(K$3=ESALCat,Design!$AH$64:$AQ$87))))","v":100},{"$f":"SUM(IF($A15=SoilCat,IF($B15=DrainCat,IF(L$3=ESALCat,Design!$AH$64:$AQ$87))))","v":100},{"$f":"SUM(IF($A15=SoilCat,IF($B15=DrainCat,IF(M$3=ESALCat,Design!$AH$64:$AQ$87))))","v":100},{"$f":"SUM(IF($A15=SoilCat,IF($B15=DrainCat,IF(N$3=ESALCat,Design!$AH$64:$AQ$87))))","v":100},{"$f":"SUM(IF($A15=SoilCat,IF($B15=DrainCat,IF(O$3=ESALCat,Design!$AH$64:$AQ$87))))","v":100}]
[1,"Poor",null,null,"Unbound Dense Graded Base",{"$f":"SUM(IF($A16=SoilCat,IF($B16=DrainCat,IF(F$3=ESALCat,Design!$BB$64:$BK$87))))","v":100},{"$f":"SUM(IF($A16=SoilCat,IF($B16=DrainCat,IF(G$3=ESALCat,Design!$BB$64:$BK$87))))","v":100},{"$f":"SUM(IF($A16=SoilCat,IF($B16=DrainCat,IF(H$3=ESALCat,Design!$BB$64:$BK$87))))","v":100},{"$f":"SUM(IF($A16=SoilCat,IF($B16=DrainCat,IF(I$3=ESALCat,Design!$BB$64:$BK$87))))","v":100},{"$f":"SUM(IF($A16=SoilCat,IF($B16=DrainCat,IF(J$3=ESALCat,Design!$BB$64:$BK$87))))","v":100},{"$f":"SUM(IF($A16=SoilCat,IF($B16=DrainCat,IF(K$3=ESALCat,Design!$BB$64:$BK$87))))","v":150},{"$f":"SUM(IF($A16=SoilCat,IF($B16=DrainCat,IF(L$3=ESALCat,Design!$BB$64:$BK$87))))","v":150},{"$f":"SUM(IF($A16=SoilCat,IF($B16=DrainCat,IF(M$3=ESALCat,Design!$BB$64:$BK$87))))","v":150},{"$f":"SUM(IF($A16=SoilCat,IF($B16=DrainCat,IF(N$3=ESALCat,Design!$BB$64:$BK$87))))","v":200},{"$f":"SUM(IF($A16=SoilCat,IF($B16=DrainCat,IF(O$3=ESALCat,Design!$BB$64:$BK$87))))","v":150}]
[1,"Poor",null,null,"Unbound Dense Graded Subbase",{"$f":"SUM(IF($A17=SoilCat,IF($B17=DrainCat,IF(F$3=ESALCat,Design!$BV$64:$CE$87))))","v":0},{"$f":"SUM(IF($A17=SoilCat,IF($B17=DrainCat,IF(G$3=ESALCat,Design!$BV$64:$CE$87))))","v":0},{"$f":"SUM(IF($A17=SoilCat,IF($B17=DrainCat,IF(H$3=ESALCat,Design!$BV$64:$CE$87))))","v":0},{"$f":"SUM(IF($A17=SoilCat,IF($B17=DrainCat,IF(I$3=ESALCat,Design!$BV$64:$CE$87))))","v":0},{"$f":"SUM(IF($A17=SoilCat,IF($B17=DrainCat,IF(J$3=ESALCat,Design!$BV$64:$CE$87))))","v":0},{"$f":"SUM(IF($A17=SoilCat,IF($B17=DrainCat,IF(K$3=ESALCat,Design!$BV$64:$CE$87))))","v":0},{"$f":"SUM(IF($A17=SoilCat,IF($B17=DrainCat,IF(L$3=ESALCat,Design!$BV$64:$CE$87))))","v":0},{"$f":"SUM(IF($A17=SoilCat,IF($B17=DrainCat,IF(M$3=ESALCat,Design!$BV$64:$CE$87))))","v":0},{"$f":"SUM(IF($A17=SoilCat,IF($B17=DrainCat,IF(N$3=ESALCat,Design!$BV$64:$CE$87))))","v":0},{"$f":"SUM(IF($A17=SoilCat,IF($B17=DrainCat,IF(O$3=ESALCat,Design!$BV$64:$CE$87))))","v":200}]
[2,"Good","Category 2","Good","Pavers and Bedding",{"$f":"SUM(IF($A18=SoilCat,IF($B18=DrainCat,IF(F$3=ESALCat,Design!$N$64:$W$87))))","v":105},{"$f":"SUM(IF($A18=SoilCat,IF($B18=DrainCat,IF(G$3=ESALCat,Design!$N$64:$W$87))))","v":105},{"$f":"SUM(IF($A18=SoilCat,IF($B18=DrainCat,IF(H$3=ESALCat,Design!$N$64:$W$87))))","v":105},{"$f":"SUM(IF($A18=SoilCat,IF($B18=DrainCat,IF(I$3=ESALCat,Design!$N$64:$W$87))))","v":105},{"$f":"SUM(IF($A18=SoilCat,IF($B18=DrainCat,IF(J$3=ESALCat,Design!$N$64:$W$87))))","v":105},{"$f":"SUM(IF($A18=SoilCat,IF($B18=DrainCat,IF(K$3=ESALCat,Design!$N$64:$W$87))))","v":105},{"$f":"SUM(IF($A18=SoilCat,IF($B18=DrainCat,IF(L$3=ESALCat,Design!$N$64:$W$87))))","v":105},{"$f":"SUM(IF($A18=SoilCat,IF($B18=DrainCat,IF(M$3=ESALCat,Design!$N$64:$W$87))))","v":105},{"$f":"SUM(IF($A18=SoilCat,IF($B18=DrainCat,IF(N$3=ESALCat,Design!$N$64:$W$87))))","v":105},{"$f":"SUM(IF($A18=SoilCat,IF($B18=DrainCat,IF(O$3=ESALCat,Design!$N$64:$W$87))))","v":105}]
[2,"Good",null,null,"Cement Treated Base",{"$f":"SUM(IF($A19=SoilCat,IF($B19=DrainCat,IF(F$3=ESALCat,Design!$AH$64:$AQ$87))))","v":100},{"$f":"SUM(IF($A19=SoilCat,IF($B19=DrainCat,IF(G$3=ESALCat,Design!$AH$64:$AQ$87))))","v":100},{"$f":"SUM(IF($A19=SoilCat,IF($B19=DrainCat,IF(H$3=ESALCat,Design!$AH$64:$AQ$87))))","v":100},{"$f":"SUM(IF($A19=SoilCat,IF($B19=DrainCat,IF(I$3=ESALCat,Design!$AH$64:$AQ$87))))","v":100},{"$f":"SUM(IF($A19=SoilCat,IF($B19=DrainCat,IF(J$3=ESALCat,Design!$AH$64:$AQ$87))))","v":100},{"$f":"SUM(IF($A19=SoilCat,IF($B19=DrainCat,IF(K$3=ESALCat,Design!$AH$64:$AQ$87))))","v":100},{"$f":"SUM(IF($A19=SoilCat,IF($B19=DrainCat,IF(L$3=ESALCat,Design!$AH$64:$AQ$87))))","v":100},{"$f":"SUM(IF($A19=SoilCat,IF($B19=DrainCat,IF(M$3=ESALCat,Design!$AH$64:$AQ$87))))","v":100},{"$f":"SUM(IF($A19=SoilCat,IF($B19=DrainCat,IF(N$3=ESALCat,Design!$AH$64:$AQ$87))))","v":100},{"$f":"SUM(IF($A19=SoilCat,IF($B19=DrainCat,IF(O$3=ESALCat,Design!$AH$64:$AQ$87))))","v":100}]
[2,"Good",null,null,"Unbound Dense Graded Base",{"$f":"SUM(IF($A20=SoilCat,IF($B20=DrainCat,IF(F$3=ESALCat,Design!$BB$64:$BK$87))))","v":100},{"$f":"SUM(IF($A20=SoilCat,IF($B20=DrainCat,IF(G$3=ESALCat,Design!$BB$64:$BK$87))))","v":100},{"$f":"SUM(IF($A20=SoilCat,IF($B20=DrainCat,IF(H$3=ESALCat,Design!$BB$64:$BK$87))))","v":100},{"$f":"SUM(IF($A20=SoilCat,IF($B20=DrainCat,IF(I$3=ESALCat,Design!$BB$64:$BK$87))))","v":100},{"$f":"SUM(IF($A20=SoilCat,IF($B20=DrainCat,IF(J$3=ESALCat,Design!$BB$64:$BK$87))))","v":100},{"$f":"SUM(IF($A20=SoilCat,IF($B20=DrainCat,IF(K$3=ESALCat,Design!$BB$64:$BK$87))))","v":150},{"$f":"SUM(IF($A20=SoilCat,IF($B20=DrainCat,IF(L$3=ESALCat,Design!$BB$64:$BK$87))))","v":150},{"$f":"SUM(IF($A20=SoilCat,IF($B20=DrainCat,IF(M$3=ESALCat,Design!$BB$64:$BK$87))))","v":150},{"$f":"SUM(IF($A20=SoilCat,IF($B20=DrainCat,IF(N$3=ESALCat,Design!$BB$64:$BK$87))))","v":175},{"$f":"SUM(IF($A20=SoilCat,IF($B20=DrainCat,IF(O$3=ESALCat,Design!$BB$64:$BK$87))))","v":150}]
[2,"Good",null,null,"Unbound Dense Graded Subbase",{"$f":"SUM(IF($A21=SoilCat,IF($B21=DrainCat,IF(F$3=ESALCat,Design!$BV$64:$CE$87))))","v":0},{"$f":"SUM(IF($A21=SoilCat,IF($B21=DrainCat,IF(G$3=ESALCat,Design!$BV$64:$CE$87))))","v":0},{"$f":"SUM(IF($A21=SoilCat,IF($B21=DrainCat,IF(H$3=ESALCat,Design!$BV$64:$CE$87))))","v":0},{"$f":"SUM(IF($A21=SoilCat,IF($B21=DrainCat,IF(I$3=ESALCat,Design!$BV$64:$CE$87))))","v":0},{"$f":"SUM(IF($A21=SoilCat,IF($B21=DrainCat,IF(J$3=ESALCat,Design!$BV$64:$CE$87))))","v":0},{"$f":"SUM(IF($A21=SoilCat,IF($B21=DrainCat,IF(K$3=ESALCat,Design!$BV$64:$CE$87))))","v":0},{"$f":"SUM(IF($A21=SoilCat,IF($B21=DrainCat,IF(L$3=ESALCat,Design!$BV$64:$CE$87))))","v":0},{"$f":"SUM(IF($A21=SoilCat,IF($B21=DrainCat,IF(M$3=ESALCat,Design!$BV$64:$CE$87))))","v":0},{"$f":"SUM(IF($A21=SoilCat,IF($B21=DrainCat,IF(N$3=ESALCat,Design!$BV$64:$CE$87))))","v":0},{"$f":"SUM(IF($A21=SoilCat,IF($B21=DrainCat,IF(O$3=ESALCat,Design!$BV$64:$CE$87))))","v":150}]
[2,"Fair",null,"Fair","Pavers and Bedding",{"$f":"SUM(IF($A22=SoilCat,IF($B22=DrainCat,IF(F$3=ESALCat,Design!$N$64:$W$87))))","v":105},{"$f":"SUM(IF($A22=SoilCat,IF($B22=DrainCat,IF(G$3=ESALCat,Design!$N$64:$W$87))))","v":105},{"$f":"SUM(IF($A22=SoilCat,IF($B22=DrainCat,IF(H$3=ESALCat,Design!$N$64:$W$87))))","v":105},{"$f":"SUM(IF($A22=SoilCat,IF($B22=DrainCat,IF(I$3=ESALCat,Design!$N$64:$W$87))))","v":105},{"$f":"SUM(IF($A22=SoilCat,IF($B22=DrainCat,IF(J$3=ESALCat,Design!$N$64:$W$87))))","v":105},{"$f":"SUM(IF($A22=SoilCat,IF($B22=DrainCat,IF(K$3=ESALCat,Design!$N$64:$W$87))))","v":105},{"$f":"SUM(IF($A22=SoilCat,IF($B22=DrainCat,IF(L$3=ESALCat,Design!$N$64:$W$87))))","v":105},{"$f":"SUM(IF($A22=SoilCat,IF($B22=DrainCat,IF(M$3=ESALCat,Design!$N$64:$W$87))))","v":105},{"$f":"SUM(IF($A22=SoilCat,IF($B22=DrainCat,IF(N$3=ESALCat,Design!$N$64:$W$87))))","v":105},{"$f":"SUM(IF($A22=SoilCat,IF($B22=DrainCat,IF(O$3=ESALCat,Design!$N$64:$W$87))))","v":105}]
[2,"Fair",null,null,"Cement Treated Base",{"$f":"SUM(IF($A23=SoilCat,IF($B23=DrainCat,IF(F$3=ESALCat,Design!$AH$64:$AQ$87))))","v":100},{"$f":"SUM(IF($A23=SoilCat,IF($B23=DrainCat,IF(G$3=ESALCat,Design!$AH$64:$AQ$87))))","v":100},{"$f":"SUM(IF($A23=SoilCat,IF($B23=DrainCat,IF(H$3=ESALCat,Design!$AH$64:$AQ$87))))","v":100},{"$f":"SUM(IF($A23=SoilCat,IF($B23=DrainCat,IF(I$3=ESALCat,Design!$AH$64:$AQ$87))))","v":100},{"$f":"SUM(IF($A23=SoilCat,IF($B23=DrainCat,IF(J$3=ESALCat,Design!$AH$64:$AQ$87))))","v":100},{"$f":"SUM(IF($A23=SoilCat,IF($B23=DrainCat,IF(K$3=ESALCat,Design!$AH$64:$AQ$87))))","v":100},{"$f":"SUM(IF($A23=SoilCat,IF($B23=DrainCat,IF(L$3=ESALCat,Design!$AH$64:$AQ$87))))","v":100},{"$f":"SUM(IF($A23=SoilCat,IF($B23=DrainCat,IF(M$3=ESALCat,Design!$AH$64:$AQ$87))))","v":100},{"$f":"SUM(IF($A23=SoilCat,IF($B23=DrainCat,IF(N$3=ESALCat,Design!$AH$64:$AQ$87))))","v":100},{"$f":"SUM(IF($A23=SoilCat,IF($B23=DrainCat,IF(O$3=ESALCat,Design!$AH$64:$AQ$87))))","v":100}]
[2,"Fair",null,null,"Unbound Dense Graded Base",{"$f":"SUM(IF($A24=SoilCat,IF($B24=DrainCat,IF(F$3=ESALCat,Design!$BB$64:$BK$87))))","v":100},{"$f":"SUM(IF($A24=SoilCat,IF($B24=DrainCat,IF(G$3=ESALCat,Design!$BB$64:$BK$87))))","v":100},{"$f":"SUM(IF($A24=SoilCat,IF($B24=DrainCat,IF(H$3=ESALCat,Design!$BB$64:$BK$87))))","v":100},{"$f":"SUM(IF($A24=SoilCat,IF($B24=DrainCat,IF(I$3=ESALCat,Design!$BB$64:$BK$87))))","v":100},{"$f":"SUM(IF($A24=SoilCat,IF($B24=DrainCat,IF(J$3=ESALCat,Design!$BB$64:$BK$87))))","v":100},{"$f":"SUM(IF($A24=SoilCat,IF($B24=DrainCat,IF(K$3=ESALCat,Design!$BB$64:$BK$87))))","v":150},{"$f":"SUM(IF($A24=SoilCat,IF($B24=DrainCat,IF(L$3=ESALCat,Design!$BB$64:$BK$87))))","v":150},{"$f":"SUM(IF($A24=SoilCat,IF($B24=DrainCat,IF(M$3=ESALCat,Design!$BB$64:$BK$87))))","v":150},{"$f":"SUM(IF($A24=SoilCat,IF($B24=DrainCat,IF(N$3=ESALCat,Design!$BB$64:$BK$87))))","v":200},{"$f":"SUM(IF($A24=SoilCat,IF($B24=DrainCat,IF(O$3=ESALCat,Design!$BB$64:$BK$87))))","v":150}]
[2,"Fair",null,null,"Unbound Dense Graded Subbase",{"$f":"SUM(IF($A25=SoilCat,IF($B25=DrainCat,IF(F$3=ESALCat,Design!$BV$64:$CE$87))))","v":0},{"$f":"SUM(IF($A25=SoilCat,IF($B25=DrainCat,IF(G$3=ESALCat,Design!$BV$64:$CE$87))))","v":0},{"$f":"SUM(IF($A25=SoilCat,IF($B25=DrainCat,IF(H$3=ESALCat,Design!$BV$64:$CE$87))))","v":0},{"$f":"SUM(IF($A25=SoilCat,IF($B25=DrainCat,IF(I$3=ESALCat,Design!$BV$64:$CE$87))))","v":0},{"$f":"SUM(IF($A25=SoilCat,IF($B25=DrainCat,IF(J$3=ESALCat,Design!$BV$64:$CE$87))))","v":0},{"$f":"SUM(IF($A25=SoilCat,IF($B25=DrainCat,IF(K$3=ESALCat,Design!$BV$64:$CE$87))))","v":0},{"$f":"SUM(IF($A25=SoilCat,IF($B25=DrainCat,IF(L$3=ESALCat,Design!$BV$64:$CE$87))))","v":0},{"$f":"SUM(IF($A25=SoilCat,IF($B25=DrainCat,IF(M$3=ESALCat,Design!$BV$64:$CE$87))))","v":0},{"$f":"SUM(IF($A25=SoilCat,IF($B25=DrainCat,IF(N$3=ESALCat,Design!$BV$64:$CE$87))))","v":0},{"$f":"SUM(IF($A25=SoilCat,IF($B25=DrainCat,IF(O$3=ESALCat,Design!$BV$64:$CE$87))))","v":200}]
[2,"Poor",null,"Poor","Pavers and Bedding",{"$f":"SUM(IF($A26=SoilCat,IF($B26=DrainCat,IF(F$3=ESALCat,Design!$N$64:$W$87))))","v":105},{"$f":"SUM(IF($A26=SoilCat,IF($B26=DrainCat,IF(G$3=ESALCat,Design!$N$64:$W$87))))","v":105},{"$f":"SUM(IF($A26=SoilCat,IF($B26=DrainCat,IF(H$3=ESALCat,Design!$N$64:$W$87))))","v":105},{"$f":"SUM(IF($A26=SoilCat,IF($B26=DrainCat,IF(I$3=ESALCat,Design!$N$64:$W$87))))","v":105},{"$f":"SUM(IF($A26=SoilCat,IF($B26=DrainCat,IF(J$3=ESALCat,Design!$N$64:$W$87))))","v":105},{"$f":"SUM(IF($A26=SoilCat,IF($B26=DrainCat,IF(K$3=ESALCat,Design!$N$64:$W$87))))","v":105},{"$f":"SUM(IF($A26=SoilCat,IF($B26=DrainCat,IF(L$3=ESALCat,Design!$N$64:$W$87))))","v":105},{"$f":"SUM(IF($A26=SoilCat,IF($B26=DrainCat,IF(M$3=ESALCat,Design!$N$64:$W$87))))","v":105},{"$f":"SUM(IF($A26=SoilCat,IF($B26=DrainCat,IF(N$3=ESALCat,Design!$N$64:$W$87))))","v":105},{"$f":"SUM(IF($A26=SoilCat,IF($B26=DrainCat,IF(O$3=ESALCat,Design!$N$64:$W$87))))","v":105}]
[2,"Poor",null,null,"Cement Treated Base",{"$f":"SUM(IF($A27=SoilCat,IF($B27=DrainCat,IF(F$3=ESALCat,Design!$AH$64:$AQ$87))))","v":100},{"$f":"SUM(IF($A27=SoilCat,IF($B27=DrainCat,IF(G$3=ESALCat,Design!$AH$64:$AQ$87))))","v":100},{"$f":"SUM(IF($A27=SoilCat,IF($B27=DrainCat,IF(H$3=ESALCat,Design!$AH$64:$AQ$87))))","v":100},{"$f":"SUM(IF($A27=SoilCat,IF($B27=DrainCat,IF(I$3=ESALCat,Design!$AH$64:$AQ$87))))","v":100},{"$f":"SUM(IF($A27=SoilCat,IF($B27=DrainCat,IF(J$3=ESALCat,Design!$AH$64:$AQ$87))))","v":100},{"$f":"SUM(IF($A27=SoilCat,IF($B27=DrainCat,IF(K$3=ESALCat,Design!$AH$64:$AQ$87))))","v":100},{"$f":"SUM(IF($A27=SoilCat,IF($B27=DrainCat,IF(L$3=ESALCat,Design!$AH$64:$AQ$87))))","v":100},{"$f":"SUM(IF($A27=SoilCat,IF($B27=DrainCat,IF(M$3=ESALCat,Design!$AH$64:$AQ$87))))","v":100},{"$f":"SUM(IF($A27=SoilCat,IF($B27=DrainCat,IF(N$3=ESALCat,Design!$AH$64:$AQ$87))))","v":100},{"$f":"SUM(IF($A27=SoilCat,IF($B27=DrainCat,IF(O$3=ESALCat,Design!$AH$64:$AQ$87))))","v":100}]
[2,"Poor",null,null,"Unbound Dense Graded Base",{"$f":"SUM(IF($A28=SoilCat,IF($B28=DrainCat,IF(F$3=ESALCat,Design!$BB$64:$BK$87))))","v":100},{"$f":"SUM(IF($A28=SoilCat,IF($B28=DrainCat,IF(G$3=ESALCat,Design!$BB$64:$BK$87))))","v":100},{"$f":"SUM(IF($A28=SoilCat,IF($B28=DrainCat,IF(H$3=ESALCat,Design!$BB$64:$BK$87))))","v":100},{"$f":"SUM(IF($A28=SoilCat,IF($B28=DrainCat,IF(I$3=ESALCat,Design!$BB$64:$BK$87))))","v":100},{"$f":"SUM(IF($A28=SoilCat,IF($B28=DrainCat,IF(J$3=ESALCat,Design!$BB$64:$BK$87))))","v":100},{"$f":"SUM(IF($A28=SoilCat,IF($B28=DrainCat,IF(K$3=ESALCat,Design!$BB$64:$BK$87))))","v":150},{"$f":"SUM(IF($A28=SoilCat,IF($B28=DrainCat,IF(L$3=ESALCat,Design!$BB$64:$BK$87))))","v":150},{"$f":"SUM(IF($A28=SoilCat,IF($B28=DrainCat,IF(M$3=ESALCat,Design!$BB$64:$BK$87))))","v":175},{"$f":"SUM(IF($A28=SoilCat,IF($B28=DrainCat,IF(N$3=ESALCat,Design!$BB$64:$BK$87))))","v":150},{"$f":"SUM(IF($A28=SoilCat,IF($B28=DrainCat,IF(O$3=ESALCat,Design!$BB$64:$BK$87))))","v":150}]
[2,"Poor",null,null,"Unbound Dense Graded Subbase",{"$f":"SUM(IF($A29=SoilCat,IF($B29=DrainCat,IF(F$3=ESALCat,Design!$BV$64:$CE$87))))","v":0},{"$f":"SUM(IF($A29=SoilCat,IF($B29=DrainCat,IF(G$3=ESALCat,Design!$BV$64:$CE$87))))","v":0},{"$f":"SUM(IF($A29=SoilCat,IF($B29=DrainCat,IF(H$3=ESALCat,Design!$BV$64:$CE$87))))","v":0},{"$f":"SUM(IF($A29=SoilCat,IF($B29=DrainCat,IF(I$3=ESALCat,Design!$BV$64:$CE$87))))","v":0},{"$f":"SUM(IF($A29=SoilCat,IF($B29=DrainCat,IF(J$3=ESALCat,Design!$BV$64:$CE$87))))","v":0},{"$f":"SUM(IF($A29=SoilCat,IF($B29=DrainCat,IF(K$3=ESALCat,Design!$BV$64:$CE$87))))","v":0},{"$f":"SUM(IF($A29=SoilCat,IF($B29=DrainCat,IF(L$3=ESALCat,Design!$BV$64:$CE$87))))","v":0},{"$f":"SUM(IF($A29=SoilCat,IF($B29=DrainCat,IF(M$3=ESALCat,Design!$BV$64:$CE$87))))","v":0},{"$f":"SUM(IF($A29=SoilCat,IF($B29=DrainCat,IF(N$3=ESALCat,Design!$BV$64:$CE$87))))","v":200},{"$f":"SUM(IF($A29=SoilCat,IF($B29=DrainCat,IF(O$3=ESALCat,Design!$BV$64:$CE$87))))","v":325}]
[3,"Good","Category 3","Good","Pavers and Bedding",{"$f":"SUM(IF($A30=SoilCat,IF($B30=DrainCat,IF(F$3=ESALCat,Design!$N$64:$W$87))))","v":105},{"$f":"SUM(IF($A30=SoilCat,IF($B30=DrainCat,IF(G$3=ESALCat,Design!$N$64:$W$87))))","v":105},{"$f":"SUM(IF($A30=SoilCat,IF($B30=DrainCat,IF(H$3=ESALCat,Design!$N$64:$W$87))))","v":105},{"$f":"SUM(IF($A30=SoilCat,IF($B30=DrainCat,IF(I$3=ESALCat,Design!$N$64:$W$87))))","v":105},{"$f":"SUM(IF($A30=SoilCat,IF($B30=DrainCat,IF(J$3=ESALCat,Design!$N$64:$W$87))))","v":105},{"$f":"SUM(IF($A30=SoilCat,IF($B30=DrainCat,IF(K$3=ESALCat,Design!$N$64:$W$87))))","v":105},{"$f":"SUM(IF($A30=SoilCat,IF($B30=DrainCat,IF(L$3=ESALCat,Design!$N$64:$W$87))))","v":105},{"$f":"SUM(IF($A30=SoilCat,IF($B30=DrainCat,IF(M$3=ESALCat,Design!$N$64:$W$87))))","v":105},{"$f":"SUM(IF($A30=SoilCat,IF($B30=DrainCat,IF(N$3=ESALCat,Design!$N$64:$W$87))))","v":105},{"$f":"SUM(IF($A30=SoilCat,IF($B30=DrainCat,IF(O$3=ESALCat,Design!$N$64:$W$87))))","v":105}]
[3,"Good",null,null,"Cement Treated Base",{"$f":"SUM(IF($A31=SoilCat,IF($B31=DrainCat,IF(F$3=ESALCat,Design!$AH$64:$AQ$87))))","v":100},{"$f":"SUM(IF($A31=SoilCat,IF($B31=DrainCat,IF(G$3=ESALCat,Design!$AH$64:$AQ$87))))","v":100},{"$f":"SUM(IF($A31=SoilCat,IF($B31=DrainCat,IF(H$3=ESALCat,Design!$AH$64:$AQ$87))))","v":100},{"$f":"SUM(IF($A31=SoilCat,IF($B31=DrainCat,IF(I$3=ESALCat,Design!$AH$64:$AQ$87))))","v":100},{"$f":"SUM(IF($A31=SoilCat,IF($B31=DrainCat,IF(J$3=ESALCat,Design!$AH$64:$AQ$87))))","v":100},{"$f":"SUM(IF($A31=SoilCat,IF($B31=DrainCat,IF(K$3=ESALCat,Design!$AH$64:$AQ$87))))","v":100},{"$f":"SUM(IF($A31=SoilCat,IF($B31=DrainCat,IF(L$3=ESALCat,Design!$AH$64:$AQ$87))))","v":100},{"$f":"SUM(IF($A31=SoilCat,IF($B31=DrainCat,IF(M$3=ESALCat,Design!$AH$64:$AQ$87))))","v":100},{"$f":"SUM(IF($A31=SoilCat,IF($B31=DrainCat,IF(N$3=ESALCat,Design!$AH$64:$AQ$87))))","v":100},{"$f":"SUM(IF($A31=SoilCat,IF($B31=DrainCat,IF(O$3=ESALCat,Design!$AH$64:$AQ$87))))","v":100}]
[3,"Good",null,null,"Unbound Dense Graded Base",{"$f":"SUM(IF($A32=SoilCat,IF($B32=DrainCat,IF(F$3=ESALCat,Design!$BB$64:$BK$87))))","v":100},{"$f":"SUM(IF($A32=SoilCat,IF($B32=DrainCat,IF(G$3=ESALCat,Design!$BB$64:$BK$87))))","v":100},{"$f":"SUM(IF($A32=SoilCat,IF($B32=DrainCat,IF(H$3=ESALCat,Design!$BB$64:$BK$87))))","v":100},{"$f":"SUM(IF($A32=SoilCat,IF($B32=DrainCat,IF(I$3=ESALCat,Design!$BB$64:$BK$87))))","v":100},{"$f":"SUM(IF($A32=SoilCat,IF($B32=DrainCat,IF(J$3=ESALCat,Design!$BB$64:$BK$87))))","v":100},{"$f":"SUM(IF($A32=SoilCat,IF($B32=DrainCat,IF(K$3=ESALCat,Design!$BB$64:$BK$87))))","v":150},{"$f":"SUM(IF($A32=SoilCat,IF($B32=DrainCat,IF(L$3=ESALCat,Design!$BB$64:$BK$87))))","v":150},{"$f":"SUM(IF($A32=SoilCat,IF($B32=DrainCat,IF(M$3=ESALCat,Design!$BB$64:$BK$87))))","v":150},{"$f":"SUM(IF($A32=SoilCat,IF($B32=DrainCat,IF(N$3=ESALCat,Design!$BB$64:$BK$87))))","v":200},{"$f":"SUM(IF($A32=SoilCat,IF($B32=DrainCat,IF(O$3=ESALCat,Design!$BB$64:$BK$87))))","v":150}]
[3,"Good",null,null,"Unbound Dense Graded Subbase",{"$f":"SUM(IF($A33=SoilCat,IF($B33=DrainCat,IF(F$3=ESALCat,Design!$BV$64:$CE$87))))","v":0},{"$f":"SUM(IF($A33=SoilCat,IF($B33=DrainCat,IF(G$3=ESALCat,Design!$BV$64:$CE$87))))","v":0},{"$f":"SUM(IF($A33=SoilCat,IF($B33=DrainCat,IF(H$3=ESALCat,Design!$BV$64:$CE$87))))","v":0},{"$f":"SUM(IF($A33=SoilCat,IF($B33=DrainCat,IF(I$3=ESALCat,Design!$BV$64:$CE$87))))","v":0},{"$f":"SUM(IF($A33=SoilCat,IF($B33=DrainCat,IF(J$3=ESALCat,Design!$BV$64:$CE$87))))","v":0},{"$f":"SUM(IF($A33=SoilCat,IF($B33=DrainCat,IF(K$3=ESALCat,Design!$BV$64:$CE$87))))","v":0},{"$f":"SUM(IF($A33=SoilCat,IF($B33=DrainCat,IF(L$3=ESALCat,Design!$BV$64:$CE$87))))","v":0},{"$f":"SUM(IF($A33=SoilCat,IF($B33=DrainCat,IF(M$3=ESALCat,Design!$BV$64:$CE$87))))","v":0},{"$f":"SUM(IF($A33=SoilCat,IF($B33=DrainCat,IF(N$3=ESALCat,Design!$BV$64:$CE$87))))","v":0},{"$f":"SUM(IF($A33=SoilCat,IF($B33=DrainCat,IF(O$3=ESALCat,Design!$BV$64:$CE$87))))","v":200}]
[3,"Fair",null,"Fair","Pavers and Bedding",{"$f":"SUM(IF($A34=SoilCat,IF($B34=DrainCat,IF(F$3=ESALCat,Design!$N$64:$W$87))))","v":105},{"$f":"SUM(IF($A34=SoilCat,IF($B34=DrainCat,IF(G$3=ESALCat,Design!$N$64:$W$87))))","v":105},{"$f":"SUM(IF($A34=SoilCat,IF($B34=DrainCat,IF(H$3=ESALCat,Design!$N$64:$W$87))))","v":105},{"$f":"SUM(IF($A34=SoilCat,IF($B34=DrainCat,IF(I$3=ESALCat,Design!$N$64:$W$87))))","v":105},{"$f":"SUM(IF($A34=SoilCat,IF($B34=DrainCat,IF(J$3=ESALCat,Design!$N$64:$W$87))))","v":105},{"$f":"SUM(IF($A34=SoilCat,IF($B34=DrainCat,IF(K$3=ESALCat,Design!$N$64:$W$87))))","v":105},{"$f":"SUM(IF($A34=SoilCat,IF($B34=DrainCat,IF(L$3=ESALCat,Design!$N$64:$W$87))))","v":105},{"$f":"SUM(IF($A34=SoilCat,IF($B34=DrainCat,IF(M$3=ESALCat,Design!$N$64:$W$87))))","v":105},{"$f":"SUM(IF($A34=SoilCat,IF($B34=DrainCat,IF(N$3=ESALCat,Design!$N$64:$W$87))))","v":105},{"$f":"SUM(IF($A34=SoilCat,IF($B34=DrainCat,IF(O$3=ESALCat,Design!$N$64:$W$87))))","v":105}]
[3,"Fair",null,null,"Cement Treated Base",{"$f":"SUM(IF($A35=SoilCat,IF($B35=DrainCat,IF(F$3=ESALCat,Design!$AH$64:$AQ$87))))","v":100},{"$f":"SUM(IF($A35=SoilCat,IF($B35=DrainCat,IF(G$3=ESALCat,Design!$AH$64:$AQ$87))))","v":100},{"$f":"SUM(IF($A35=SoilCat,IF($B35=DrainCat,IF(H$3=ESALCat,Design!$AH$64:$AQ$87))))","v":100},{"$f":"SUM(IF($A35=SoilCat,IF($B35=DrainCat,IF(I$3=ESALCat,Design!$AH$64:$AQ$87))))","v":100},{"$f":"SUM(IF($A35=SoilCat,IF($B35=DrainCat,IF(J$3=ESALCat,Design!$AH$64:$AQ$87))))","v":100},{"$f":"SUM(IF($A35=SoilCat,IF($B35=DrainCat,IF(K$3=ESALCat,Design!$AH$64:$AQ$87))))","v":100},{"$f":"SUM(IF($A35=SoilCat,IF($B35=DrainCat,IF(L$3=ESALCat,Design!$AH$64:$AQ$87))))","v":100},{"$f":"SUM(IF($A35=SoilCat,IF($B35=DrainCat,IF(M$3=ESALCat,Design!$AH$64:$AQ$87))))","v":100},{"$f":"SUM(IF($A35=SoilCat,IF($B35=DrainCat,IF(N$3=ESALCat,Design!$AH$64:$AQ$87))))","v":100},{"$f":"SUM(IF($A35=SoilCat,IF($B35=DrainCat,IF(O$3=ESALCat,Design!$AH$64:$AQ$87))))","v":100}]
[3,"Fair",null,null,"Unbound Dense Graded Base",{"$f":"SUM(IF($A36=SoilCat,IF($B36=DrainCat,IF(F$3=ESALCat,Design!$BB$64:$BK$87))))","v":100},{"$f":"SUM(IF($A36=SoilCat,IF($B36=DrainCat,IF(G$3=ESALCat,Design!$BB$64:$BK$87))))","v":100},{"$f":"SUM(IF($A36=SoilCat,IF($B36=DrainCat,IF(H$3=ESALCat,Design!$BB$64:$BK$87))))","v":100},{"$f":"SUM(IF($A36=SoilCat,IF($B36=DrainCat,IF(I$3=ESALCat,Design!$BB$64:$BK$87))))","v":100},{"$f":"SUM(IF($A36=SoilCat,IF($B36=DrainCat,IF(J$3=ESALCat,Design!$BB$64:$BK$87))))","v":100},{"$f":"SUM(IF($A36=SoilCat,IF($B36=DrainCat,IF(K$3=ESALCat,Design!$BB$64:$BK$87))))","v":150},{"$f":"SUM(IF($A36=SoilCat,IF($B36=DrainCat,IF(L$3=ESALCat,Design!$BB$64:$BK$87))))","v":150},{"$f":"SUM(IF($A36=SoilCat,IF($B36=DrainCat,IF(M$3=ESALCat,Design!$BB$64:$BK$87))))","v":175},{"$f":"SUM(IF($A36=SoilCat,IF($B36=DrainCat,IF(N$3=ESALCat,Design!$BB$64:$BK$87))))","v":150},{"$f":"SUM(IF($A36=SoilCat,IF($B36=DrainCat,IF(O$3=ESALCat,Design!$BB$64:$BK$87))))","v":150}]
[3,"Fair",null,null,"Unbound Dense Graded Subbase",{"$f":"SUM(IF($A37=SoilCat,IF($B37=DrainCat,IF(F$3=ESALCat,Design!$BV$64:$CE$87))))","v":0},{"$f":"SUM(IF($A37=SoilCat,IF($B37=DrainCat,IF(G$3=ESALCat,Design!$BV$64:$CE$87))))","v":0},{"$f":"SUM(IF($A37=SoilCat,IF($B37=DrainCat,IF(H$3=ESALCat,Design!$BV$64:$CE$87))))","v":0},{"$f":"SUM(IF($A37=SoilCat,IF($B37=DrainCat,IF(I$3=ESALCat,Design!$BV$64:$CE$87))))","v":0},{"$f":"SUM(IF($A37=SoilCat,IF($B37=DrainCat,IF(J$3=ESALCat,Design!$BV$64:$CE$87))))","v":0},{"$f":"SUM(IF($A37=SoilCat,IF($B37=DrainCat,IF(K$3=ESALCat,Design!$BV$64:$CE$87))))","v":0},{"$f":"SUM(IF($A37=SoilCat,IF($B37=DrainCat,IF(L$3=ESALCat,Design!$BV$64:$CE$87))))","v":0},{"$f":"SUM(IF($A37=SoilCat,IF($B37=DrainCat,IF(M$3=ESALCat,Design!$BV$64:$CE$87))))","v":0},{"$f":"SUM(IF($A37=SoilCat,IF($B37=DrainCat,IF(N$3=ESALCat,Design!$BV$64:$CE$87))))","v":200},{"$f":"SUM(IF($A37=SoilCat,IF($B37=DrainCat,IF(O$3=ESALCat,Design!$BV$64:$CE$87))))","v":325}]
[3,"Poor",null,"Poor","Pavers and Bedding",{"$f":"SUM(IF($A38=SoilCat,IF($B38=DrainCat,IF(F$3=ESALCat,Design!$N$64:$W$87))))","v":105},{"$f":"SUM(IF($A38=SoilCat,IF($B38=DrainCat,IF(G$3=ESALCat,Design!$N$64:$W$87))))","v":105},{"$f":"SUM(IF($A38=SoilCat,IF($B38=DrainCat,IF(H$3=ESALCat,Design!$N$64:$W$87))))","v":105},{"$f":"SUM(IF($A38=SoilCat,IF($B38=DrainCat,IF(I$3=ESALCat,Design!$N$64:$W$87))))","v":105},{"$f":"SUM(IF($A38=SoilCat,IF($B38=DrainCat,IF(J$3=ESALCat,Design!$N$64:$W$87))))","v":105},{"$f":"SUM(IF($A38=SoilCat,IF($B38=DrainCat,IF(K$3=ESALCat,Design!$N$64:$W$87))))","v":105},{"$f":"SUM(IF($A38=SoilCat,IF($B38=DrainCat,IF(L$3=ESALCat,Design!$N$64:$W$87))))","v":105},{"$f":"SUM(IF($A38=SoilCat,IF($B38=DrainCat,IF(M$3=ESALCat,Design!$N$64:$W$87))))","v":105},{"$f":"SUM(IF($A38=SoilCat,IF($B38=DrainCat,IF(N$3=ESALCat,Design!$N$64:$W$87))))","v":105},{"$f":"SUM(IF($A38=SoilCat,IF($B38=DrainCat,IF(O$3=ESALCat,Design!$N$64:$W$87))))","v":105}]
[3,"Poor",null,null,"Cement Treated Base",{"$f":"SUM(IF($A39=SoilCat,IF($B39=DrainCat,IF(F$3=ESALCat,Design!$AH$64:$AQ$87))))","v":100},{"$f":"SUM(IF($A39=SoilCat,IF($B39=DrainCat,IF(G$3=ESALCat,Design!$AH$64:$AQ$87))))","v":100},{"$f":"SUM(IF($A39=SoilCat,IF($B39=DrainCat,IF(H$3=ESALCat,Design!$AH$64:$AQ$87))))","v":100},{"$f":"SUM(IF($A39=SoilCat,IF($B39=DrainCat,IF(I$3=ESALCat,Design!$AH$64:$AQ$87))))","v":100},{"$f":"SUM(IF($A39=SoilCat,IF($B39=DrainCat,IF(J$3=ESALCat,Design!$AH$64:$AQ$87))))","v":100},{"$f":"SUM(IF($A39=SoilCat,IF($B39=DrainCat,IF(K$3=ESALCat,Design!$AH$64:$AQ$87))))","v":100},{"$f":"SUM(IF($A39=SoilCat,IF($B39=DrainCat,IF(L$3=ESALCat,Design!$AH$64:$AQ$87))))","v":100},{"$f":"SUM(IF($A39=SoilCat,IF($B39=DrainCat,IF(M$3=ESALCat,Design!$AH$64:$AQ$87))))","v":100},{"$f":"SUM(IF($A39=SoilCat,IF($B39=DrainCat,IF(N$3=ESALCat,Design!$AH$64:$AQ$87))))","v":100},{"$f":"SUM(IF($A39=SoilCat,IF($B39=DrainCat,IF(O$3=ESALCat,Design!$AH$64:$AQ$87))))","v":100}]
[3,"Poor",null,null,"Unbound Dense Graded Base",{"$f":"SUM(IF($A40=SoilCat,IF($B40=DrainCat,IF(F$3=ESALCat,Design!$BB$64:$BK$87))))","v":100},{"$f":"SUM(IF($A40=SoilCat,IF($B40=DrainCat,IF(G$3=ESALCat,Design!$BB$64:$BK$87))))","v":100},{"$f":"SUM(IF($A40=SoilCat,IF($B40=DrainCat,IF(H$3=ESALCat,Design!$BB$64:$BK$87))))","v":100},{"$f":"SUM(IF($A40=SoilCat,IF($B40=DrainCat,IF(I$3=ESALCat,Design!$BB$64:$BK$87))))","v":100},{"$f":"SUM(IF($A40=SoilCat,IF($B40=DrainCat,IF(J$3=ESALCat,Design!$BB$64:$BK$87))))","v":100},{"$f":"SUM(IF($A40=SoilCat,IF($B40=DrainCat,IF(K$3=ESALCat,Design!$BB$64:$BK$87))))","v":150},{"$f":"SUM(IF($A40=SoilCat,IF($B40=DrainCat,IF(L$3=ESALCat,Design!$BB$64:$BK$87))))","v":200},{"$f":"SUM(IF($A40=SoilCat,IF($B40=DrainCat,IF(M$3=ESALCat,Design!$BB$64:$BK$87))))","v":150},{"$f":"SUM(IF($A40=SoilCat,IF($B40=DrainCat,IF(N$3=ESALCat,Design!$BB$64:$BK$87))))","v":150},{"$f":"SUM(IF($A40=SoilCat,IF($B40=DrainCat,IF(O$3=ESALCat,Design!$BB$64:$BK$87))))","v":150}]
[3,"Poor",null,null,"Unbound Dense Graded Subbase",{"$f":"SUM(IF($A41=SoilCat,IF($B41=DrainCat,IF(F$3=ESALCat,Design!$BV$64:$CE$87))))","v":0},{"$f":"SUM(IF($A41=SoilCat,IF($B41=DrainCat,IF(G$3=ESALCat,Design!$BV$64:$CE$87))))","v":0},{"$f":"SUM(IF($A41=SoilCat,IF($B41=DrainCat,IF(H$3=ESALCat,Design!$BV$64:$CE$87))))","v":0},{"$f":"SUM(IF($A41=SoilCat,IF($B41=DrainCat,IF(I$3=ESALCat,Design!$BV$64:$CE$87))))","v":0},{"$f":"SUM(IF($A41=SoilCat,IF($B41=DrainCat,IF(J$3=ESALCat,Design!$BV$64:$CE$87))))","v":0},{"$f":"SUM(IF($A41=SoilCat,IF($B41=DrainCat,IF(K$3=ESALCat,Design!$BV$64:$CE$87))))","v":0},{"$f":"SUM(IF($A41=SoilCat,IF($B41=DrainCat,IF(L$3=ESALCat,Design!$BV$64:$CE$87))))","v":0},{"$f":"SUM(IF($A41=SoilCat,IF($B41=DrainCat,IF(M$3=ESALCat,Design!$BV$64:$CE$87))))","v":200},{"$f":"SUM(IF($A41=SoilCat,IF($B41=DrainCat,IF(N$3=ESALCat,Design!$BV$64:$CE$87))))","v":350},{"$f":"SUM(IF($A41=SoilCat,IF($B41=DrainCat,IF(O$3=ESALCat,Design!$BV$64:$CE$87))))","v":500}]
[4,"Good","Category 4","Good","Pavers and Bedding",{"$f":"SUM(IF($A42=SoilCat,IF($B42=DrainCat,IF(F$3=ESALCat,Design!$N$64:$W$87))))","v":105},{"$f":"SUM(IF($A42=SoilCat,IF($B42=DrainCat,IF(G$3=ESALCat,Design!$N$64:$W$87))))","v":105},{"$f":"SUM(IF($A42=SoilCat,IF($B42=DrainCat,IF(H$3=ESALCat,Design!$N$64:$W$87))))","v":105},{"$f":"SUM(IF($A42=SoilCat,IF($B42=DrainCat,IF(I$3=ESALCat,Design!$N$64:$W$87))))","v":105},{"$f":"SUM(IF($A42=SoilCat,IF($B42=DrainCat,IF(J$3=ESALCat,Design!$N$64:$W$87))))","v":105},{"$f":"SUM(IF($A42=SoilCat,IF($B42=DrainCat,IF(K$3=ESALCat,Design!$N$64:$W$87))))","v":105},{"$f":"SUM(IF($A42=SoilCat,IF($B42=DrainCat,IF(L$3=ESALCat,Design!$N$64:$W$87))))","v":105},{"$f":"SUM(IF($A42=SoilCat,IF($B42=DrainCat,IF(M$3=ESALCat,Design!$N$64:$W$87))))","v":105},{"$f":"SUM(IF($A42=SoilCat,IF($B42=DrainCat,IF(N$3=ESALCat,Design!$N$64:$W$87))))","v":105},{"$f":"SUM(IF($A42=SoilCat,IF($B42=DrainCat,IF(O$3=ESALCat,Design!$N$64:$W$87))))","v":105}]
[4,"Good",null,null,"Cement Treated Base",{"$f":"SUM(IF($A43=SoilCat,IF($B43=DrainCat,IF(F$3=ESALCat,Design!$AH$64:$AQ$87))))","v":100},{"$f":"SUM(IF($A43=SoilCat,IF($B43=DrainCat,IF(G$3=ESALCat,Design!$AH$64:$AQ$87))))","v":100},{"$f":"SUM(IF($A43=SoilCat,IF($B43=DrainCat,IF(H$3=ESALCat,Design!$AH$64:$AQ$87))))","v":100},{"$f":"SUM(IF($A43=SoilCat,IF($B43=DrainCat,IF(I$3=ESALCat,Design!$AH$64:$AQ$87))))","v":100},{"$f":"SUM(IF($A43=SoilCat,IF($B43=DrainCat,IF(J$3=ESALCat,Design!$AH$64:$AQ$87))))","v":100},{"$f":"SUM(IF($A43=SoilCat,IF($B43=DrainCat,IF(K$3=ESALCat,Design!$AH$64:$AQ$87))))","v":100},{"$f":"SUM(IF($A43=SoilCat,IF($B43=DrainCat,IF(L$3=ESALCat,Design!$AH$64:$AQ$87))))","v":100},{"$f":"SUM(IF($A43=SoilCat,IF($B43=DrainCat,IF(M$3=ESALCat,Design!$AH$64:$AQ$87))))","v":100},{"$f":"SUM(IF($A43=SoilCat,IF($B43=DrainCat,IF(N$3=ESALCat,Design!$AH$64:$AQ$87))))","v":100},{"$f":"SUM(IF($A43=SoilCat,IF($B43=DrainCat,IF(O$3=ESALCat,Design!$AH$64:$AQ$87))))","v":100}]
[4,"Good",null,null,"Unbound Dense Graded Base",{"$f":"SUM(IF($A44=SoilCat,IF($B44=DrainCat,IF(F$3=ESALCat,Design!$BB$64:$BK$87))))","v":100},{"$f":"SUM(IF($A44=SoilCat,IF($B44=DrainCat,IF(G$3=ESALCat,Design!$BB$64:$BK$87))))","v":100},{"$f":"SUM(IF($A44=SoilCat,IF($B44=DrainCat,IF(H$3=ESALCat,Design!$BB$64:$BK$87))))","v":100},{"$f":"SUM(IF($A44=SoilCat,IF($B44=DrainCat,IF(I$3=ESALCat,Design!$BB$64:$BK$87))))","v":100},{"$f":"SUM(IF($A44=SoilCat,IF($B44=DrainCat,IF(J$3=ESALCat,Design!$BB$64:$BK$87))))","v":100},{"$f":"SUM(IF($A44=SoilCat,IF($B44=DrainCat,IF(K$3=ESALCat,Design!$BB$64:$BK$87))))","v":150},{"$f":"SUM(IF($A44=SoilCat,IF($B44=DrainCat,IF(L$3=ESALCat,Design!$BB$64:$BK$87))))","v":150},{"$f":"SUM(IF($A44=SoilCat,IF($B44=DrainCat,IF(M$3=ESALCat,Design!$BB$64:$BK$87))))","v":175},{"$f":"SUM(IF($A44=SoilCat,IF($B44=DrainCat,IF(N$3=ESALCat,Design!$BB$64:$BK$87))))","v":150},{"$f":"SUM(IF($A44=SoilCat,IF($B44=DrainCat,IF(O$3=ESALCat,Design!$BB$64:$BK$87))))","v":150}]
[4,"Good",null,null,"Unbound Dense Graded Subbase",{"$f":"SUM(IF($A45=SoilCat,IF($B45=DrainCat,IF(F$3=ESALCat,Design!$BV$64:$CE$87))))","v":0},{"$f":"SUM(IF($A45=SoilCat,IF($B45=DrainCat,IF(G$3=ESALCat,Design!$BV$64:$CE$87))))","v":0},{"$f":"SUM(IF($A45=SoilCat,IF($B45=DrainCat,IF(H$3=ESALCat,Design!$BV$64:$CE$87))))","v":0},{"$f":"SUM(IF($A45=SoilCat,IF($B45=DrainCat,IF(I$3=ESALCat,Design!$BV$64:$CE$87))))","v":0},{"$f":"SUM(IF($A45=SoilCat,IF($B45=DrainCat,IF(J$3=ESALCat,Design!$BV$64:$CE$87))))","v":0},{"$f":"SUM(IF($A45=SoilCat,IF($B45=DrainCat,IF(K$3=ESALCat,Design!$BV$64:$CE$87))))","v":0},{"$f":"SUM(IF($A45=SoilCat,IF($B45=DrainCat,IF(L$3=ESALCat,Design!$BV$64:$CE$87))))","v":0},{"$f":"SUM(IF($A45=SoilCat,IF($B45=DrainCat,IF(M$3=ESALCat,Design!$BV$64:$CE$87))))","v":0},{"$f":"SUM(IF($A45=SoilCat,IF($B45=DrainCat,IF(N$3=ESALCat,Design!$BV$64:$CE$87))))","v":200},{"$f":"SUM(IF($A45=SoilCat,IF($B45=DrainCat,IF(O$3=ESALCat,Design!$BV$64:$CE$87))))","v":325}]
[4,"Fair",null,"Fair","Pavers and Bedding",{"$f":"SUM(IF($A46=SoilCat,IF($B46=DrainCat,IF(F$3=ESALCat,Design!$N$64:$W$87))))","v":105},{"$f":"SUM(IF($A46=SoilCat,IF($B46=DrainCat,IF(G$3=ESALCat,Design!$N$64:$W$87))))","v":105},{"$f":"SUM(IF($A46=SoilCat,IF($B46=DrainCat,IF(H$3=ESALCat,Design!$N$64:$W$87))))","v":105},{"$f":"SUM(IF($A46=SoilCat,IF($B46=DrainCat,IF(I$3=ESALCat,Design!$N$64:$W$87))))","v":105},{"$f":"SUM(IF($A46=SoilCat,IF($B46=DrainCat,IF(J$3=ESALCat,Design!$N$64:$W$87))))","v":105},{"$f":"SUM(IF($A46=SoilCat,IF($B46=DrainCat,IF(K$3=ESALCat,Design!$N$64:$W$87))))","v":105},{"$f":"SUM(IF($A46=SoilCat,IF($B46=DrainCat,IF(L$3=ESALCat,Design!$N$64:$W$87))))","v":105},{"$f":"SUM(IF($A46=SoilCat,IF($B46=DrainCat,IF(M$3=ESALCat,Design!$N$64:$W$87))))","v":105},{"$f":"SUM(IF($A46=SoilCat,IF($B46=DrainCat,IF(N$3=ESALCat,Design!$N$64:$W$87))))","v":105},{"$f":"SUM(IF($A46=SoilCat,IF($B46=DrainCat,IF(O$3=ESALCat,Design!$N$64:$W$87))))","v":105}]
[4,"Fair",null,null,"Cement Treated Base",{"$f":"SUM(IF($A47=SoilCat,IF($B47=DrainCat,IF(F$3=ESALCat,Design!$AH$64:$AQ$87))))","v":100},{"$f":"SUM(IF($A47=SoilCat,IF($B47=DrainCat,IF(G$3=ESALCat,Design!$AH$64:$AQ$87))))","v":100},{"$f":"SUM(IF($A47=SoilCat,IF($B47=DrainCat,IF(H$3=ESALCat,Design!$AH$64:$AQ$87))))","v":100},{"$f":"SUM(IF($A47=SoilCat,IF($B47=DrainCat,IF(I$3=ESALCat,Design!$AH$64:$AQ$87))))","v":100},{"$f":"SUM(IF($A47=SoilCat,IF($B47=DrainCat,IF(J$3=ESALCat,Design!$AH$64:$AQ$87))))","v":100},{"$f":"SUM(IF($A47=SoilCat,IF($B47=DrainCat,IF(K$3=ESALCat,Design!$AH$64:$AQ$87))))","v":100},{"$f":"SUM(IF($A47=SoilCat,IF($B47=DrainCat,IF(L$3=ESALCat,Design!$AH$64:$AQ$87))))","v":100},{"$f":"SUM(IF($A47=SoilCat,IF($B47=DrainCat,IF(M$3=ESALCat,Design!$AH$64:$AQ$87))))","v":100},{"$f":"SUM(IF($A47=SoilCat,IF($B47=DrainCat,IF(N$3=ESALCat,Design!$AH$64:$AQ$87))))","v":100},{"$f":"SUM(IF($A47=SoilCat,IF($B47=DrainCat,IF(O$3=ESALCat,Design!$AH$64:$AQ$87))))","v":100}]
[4,"Fair",null,null,"Unbound Dense Graded Base",{"$f":"SUM(IF($A48=SoilCat,IF($B48=DrainCat,IF(F$3=ESALCat,Design!$BB$64:$BK$87))))","v":100},{"$f":"SUM(IF($A48=SoilCat,IF($B48=DrainCat,IF(G$3=ESALCat,Design!$BB$64:$BK$87))))","v":100},{"$f":"SUM(IF($A48=SoilCat,IF($B48=DrainCat,IF(H$3=ESALCat,Design!$BB$64:$BK$87))))","v":100},{"$f":"SUM(IF($A48=SoilCat,IF($B48=DrainCat,IF(I$3=ESALCat,Design!$BB$64:$BK$87))))","v":100},{"$f":"SUM(IF($A48=SoilCat,IF($B48=DrainCat,IF(J$3=ESALCat,Design!$BB$64:$BK$87))))","v":100},{"$f":"SUM(IF($A48=SoilCat,IF($B48=DrainCat,IF(K$3=ESALCat,Design!$BB$64:$BK$87))))","v":150},{"$f":"SUM(IF($A48=SoilCat,IF($B48=DrainCat,IF(L$3=ESALCat,Design!$BB$64:$BK$87))))","v":200},{"$f":"SUM(IF($A48=SoilCat,IF($B48=DrainCat,IF(M$3=ESALCat,Design!$BB$64:$BK$87))))","v":150},{"$f":"SUM(IF($A48=SoilCat,IF($B48=DrainCat,IF(N$3=ESALCat,Design!$BB$64:$BK$87))))","v":150},{"$f":"SUM(IF($A48=SoilCat,IF($B48=DrainCat,IF(O$3=ESALCat,Design!$BB$64:$BK$87))))","v":150}]
[4,"Fair",null,null,"Unbound Dense Graded Subbase",{"$f":"SUM(IF($A49=SoilCat,IF($B49=DrainCat,IF(F$3=ESALCat,Design!$BV$64:$CE$87))))","v":0},{"$f":"SUM(IF($A49=SoilCat,IF($B49=DrainCat,IF(G$3=ESALCat,Design!$BV$64:$CE$87))))","v":0},{"$f":"SUM(IF($A49=SoilCat,IF($B49=DrainCat,IF(H$3=ESALCat,Design!$BV$64:$CE$87))))","v":0},{"$f":"SUM(IF($A49=SoilCat,IF($B49=DrainCat,IF(I$3=ESALCat,Design!$BV$64:$CE$87))))","v":0},{"$f":"SUM(IF($A49=SoilCat,IF($B49=DrainCat,IF(J$3=ESALCat,Design!$BV$64:$CE$87))))","v":0},{"$f":"SUM(IF($A49=SoilCat,IF($B49=DrainCat,IF(K$3=ESALCat,Design!$BV$64:$CE$87))))","v":0},{"$f":"SUM(IF($A49=SoilCat,IF($B49=DrainCat,IF(L$3=ESALCat,Design!$BV$64:$CE$87))))","v":0},{"$f":"SUM(IF($A49=SoilCat,IF($B49=DrainCat,IF(M$3=ESALCat,Design!$BV$64:$CE$87))))","v":200},{"$f":"SUM(IF($A49=SoilCat,IF($B49=DrainCat,IF(N$3=ESALCat,Design!$BV$64:$CE$87))))","v":350},{"$f":"SUM(IF($A49=SoilCat,IF($B49=DrainCat,IF(O$3=ESALCat,Design!$BV$64:$CE$87))))","v":500}]
[4,"Poor",null,"Poor","Pavers and Bedding",{"$f":"SUM(IF($A50=SoilCat,IF($B50=DrainCat,IF(F$3=ESALCat,Design!$N$64:$W$87))))","v":105},{"$f":"SUM(IF($A50=SoilCat,IF($B50=DrainCat,IF(G$3=ESALCat,Design!$N$64:$W$87))))","v":105},{"$f":"SUM(IF($A50=SoilCat,IF($B50=DrainCat,IF(H$3=ESALCat,Design!$N$64:$W$87))))","v":105},{"$f":"SUM(IF($A50=SoilCat,IF($B50=DrainCat,IF(I$3=ESALCat,Design!$N$64:$W$87))))","v":105},{"$f":"SUM(IF($A50=SoilCat,IF($B50=DrainCat,IF(J$3=ESALCat,Design!$N$64:$W$87))))","v":105},{"$f":"SUM(IF($A50=SoilCat,IF($B50=DrainCat,IF(K$3=ESALCat,Design!$N$64:$W$87))))","v":105},{"$f":"SUM(IF($A50=SoilCat,IF($B50=DrainCat,IF(L$3=ESALCat,Design!$N$64:$W$87))))","v":105},{"$f":"SUM(IF($A50=SoilCat,IF($B50=DrainCat,IF(M$3=ESALCat,Design!$N$64:$W$87))))","v":105},{"$f":"SUM(IF($A50=SoilCat,IF($B50=DrainCat,IF(N$3=ESALCat,Design!$N$64:$W$87))))","v":105},{"$f":"SUM(IF($A50=SoilCat,IF($B50=DrainCat,IF(O$3=ESALCat,Design!$N$64:$W$87))))","v":105}]
[4,"Poor",null,null,"Cement Treated Base",{"$f":"SUM(IF($A51=SoilCat,IF($B51=DrainCat,IF(F$3=ESALCat,Design!$AH$64:$AQ$87))))","v":100},{"$f":"SUM(IF($A51=SoilCat,IF($B51=DrainCat,IF(G$3=ESALCat,Design!$AH$64:$AQ$87))))","v":100},{"$f":"SUM(IF($A51=SoilCat,IF($B51=DrainCat,IF(H$3=ESALCat,Design!$AH$64:$AQ$87))))","v":100},{"$f":"SUM(IF($A51=SoilCat,IF($B51=DrainCat,IF(I$3=ESALCat,Design!$AH$64:$AQ$87))))","v":100},{"$f":"SUM(IF($A51=SoilCat,IF($B51=DrainCat,IF(J$3=ESALCat,Design!$AH$64:$AQ$87))))","v":100},{"$f":"SUM(IF($A51=SoilCat,IF($B51=DrainCat,IF(K$3=ESALCat,Design!$AH$64:$AQ$87))))","v":100},{"$f":"SUM(IF($A51=SoilCat,IF($B51=DrainCat,IF(L$3=ESALCat,Design!$AH$64:$AQ$87))))","v":100},{"$f":"SUM(IF($A51=SoilCat,IF($B51=DrainCat,IF(M$3=ESALCat,Design!$AH$64:$AQ$87))))","v":100},{"$f":"SUM(IF($A51=SoilCat,IF($B51=DrainCat,IF(N$3=ESALCat,Design!$AH$64:$AQ$87))))","v":100},{"$f":"SUM(IF($A51=SoilCat,IF($B51=DrainCat,IF(O$3=ESALCat,Design!$AH$64:$AQ$87))))","v":100}]
[4,"Poor",null,null,"Unbound Dense Graded Base",{"$f":"SUM(IF($A52=SoilCat,IF($B52=DrainCat,IF(F$3=ESALCat,Design!$BB$64:$BK$87))))","v":100},{"$f":"SUM(IF($A52=SoilCat,IF($B52=DrainCat,IF(G$3=ESALCat,Design!$BB$64:$BK$87))))","v":100},{"$f":"SUM(IF($A52=SoilCat,IF($B52=DrainCat,IF(H$3=ESALCat,Design!$BB$64:$BK$87))))","v":100},{"$f":"SUM(IF($A52=SoilCat,IF($B52=DrainCat,IF(I$3=ESALCat,Design!$BB$64:$BK$87))))","v":100},{"$f":"SUM(IF($A52=SoilCat,IF($B52=DrainCat,IF(J$3=ESALCat,Design!$BB$64:$BK$87))))","v":100},{"$f":"SUM(IF($A52=SoilCat,IF($B52=DrainCat,IF(K$3=ESALCat,Design!$BB$64:$BK$87))))","v":175},{"$f":"SUM(IF($A52=SoilCat,IF($B52=DrainCat,IF(L$3=ESALCat,Design!$BB$64:$BK$87))))","v":150},{"$f":"SUM(IF($A52=SoilCat,IF($B52=DrainCat,IF(M$3=ESALCat,Design!$BB$64:$BK$87))))","v":150},{"$f":"SUM(IF($A52=SoilCat,IF($B52=DrainCat,IF(N$3=ESALCat,Design!$BB$64:$BK$87))))","v":150},{"$f":"SUM(IF($A52=SoilCat,IF($B52=DrainCat,IF(O$3=ESALCat,Design!$BB$64:$BK$87))))","v":150}]
[4,"Poor",null,null,"Unbound Dense Graded Subbase",{"$f":"SUM(IF($A53=SoilCat,IF($B53=DrainCat,IF(F$3=ESALCat,Design!$BV$64:$CE$87))))","v":0},{"$f":"SUM(IF($A53=SoilCat,IF($B53=DrainCat,IF(G$3=ESALCat,Design!$BV$64:$CE$87))))","v":0},{"$f":"SUM(IF($A53=SoilCat,IF($B53=DrainCat,IF(H$3=ESALCat,Design!$BV$64:$CE$87))))","v":0},{"$f":"SUM(IF($A53=SoilCat,IF($B53=DrainCat,IF(I$3=ESALCat,Design!$BV$64:$CE$87))))","v":0},{"$f":"SUM(IF($A53=SoilCat,IF($B53=DrainCat,IF(J$3=ESALCat,Design!$BV$64:$CE$87))))","v":0},{"$f":"SUM(IF($A53=SoilCat,IF($B53=DrainCat,IF(K$3=ESALCat,Design!$BV$64:$CE$87))))","v":0},{"$f":"SUM(IF($A53=SoilCat,IF($B53=DrainCat,IF(L$3=ESALCat,Design!$BV$64:$CE$87))))","v":150},{"$f":"SUM(IF($A53=SoilCat,IF($B53=DrainCat,IF(M$3=ESALCat,Design!$BV$64:$CE$87))))","v":250},{"$f":"SUM(IF($A53=SoilCat,IF($B53=DrainCat,IF(N$3=ESALCat,Design!$BV$64:$CE$87))))","v":425},{"$f":"SUM(IF($A53=SoilCat,IF($B53=DrainCat,IF(O$3=ESALCat,Design!$BV$64:$CE$87))))","v":575}]
[5,"Good","Category 5","Good","Pavers and Bedding",{"$f":"SUM(IF($A54=SoilCat,IF($B54=DrainCat,IF(F$3=ESALCat,Design!$N$64:$W$87))))","v":105},{"$f":"SUM(IF($A54=SoilCat,IF($B54=DrainCat,IF(G$3=ESALCat,Design!$N$64:$W$87))))","v":105},{"$f":"SUM(IF($A54=SoilCat,IF($B54=DrainCat,IF(H$3=ESALCat,Design!$N$64:$W$87))))","v":105},{"$f":"SUM(IF($A54=SoilCat,IF($B54=DrainCat,IF(I$3=ESALCat,Design!$N$64:$W$87))))","v":105},{"$f":"SUM(IF($A54=SoilCat,IF($B54=DrainCat,IF(J$3=ESALCat,Design!$N$64:$W$87))))","v":105},{"$f":"SUM(IF($A54=SoilCat,IF($B54=DrainCat,IF(K$3=ESALCat,Design!$N$64:$W$87))))","v":105},{"$f":"SUM(IF($A54=SoilCat,IF($B54=DrainCat,IF(L$3=ESALCat,Design!$N$64:$W$87))))","v":105},{"$f":"SUM(IF($A54=SoilCat,IF($B54=DrainCat,IF(M$3=ESALCat,Design!$N$64:$W$87))))","v":105},{"$f":"SUM(IF($A54=SoilCat,IF($B54=DrainCat,IF(N$3=ESALCat,Design!$N$64:$W$87))))","v":105},{"$f":"SUM(IF($A54=SoilCat,IF($B54=DrainCat,IF(O$3=ESALCat,Design!$N$64:$W$87))))","v":105}]
[5,"Good",null,null,"Cement Treated Base",{"$f":"SUM(IF($A55=SoilCat,IF($B55=DrainCat,IF(F$3=ESALCat,Design!$AH$64:$AQ$87))))","v":100},{"$f":"SUM(IF($A55=SoilCat,IF($B55=DrainCat,IF(G$3=ESALCat,Design!$AH$64:$AQ$87))))","v":100},{"$f":"SUM(IF($A55=SoilCat,IF($B55=DrainCat,IF(H$3=ESALCat,Design!$AH$64:$AQ$87))))","v":100},{"$f":"SUM(IF($A55=SoilCat,IF($B55=DrainCat,IF(I$3=ESALCat,Design!$AH$64:$AQ$87))))","v":100},{"$f":"SUM(IF($A55=SoilCat,IF($B55=DrainCat,IF(J$3=ESALCat,Design!$AH$64:$AQ$87))))","v":100},{"$f":"SUM(IF($A55=SoilCat,IF($B55=DrainCat,IF(K$3=ESALCat,Design!$AH$64:$AQ$87))))","v":100},{"$f":"SUM(IF($A55=SoilCat,IF($B55=DrainCat,IF(L$3=ESALCat,Design!$AH$64:$AQ$87))))","v":100},{"$f":"SUM(IF($A55=SoilCat,IF($B55=DrainCat,IF(M$3=ESALCat,Design!$AH$64:$AQ$87))))","v":100},{"$f":"SUM(IF($A55=SoilCat,IF($B55=DrainCat,IF(N$3=ESALCat,Design!$AH$64:$AQ$87))))","v":100},{"$f":"SUM(IF($A55=SoilCat,IF($B55=DrainCat,IF(O$3=ESALCat,Design!$AH$64:$AQ$87))))","v":100}]
[5,"Good",null,null,"Unbound Dense Graded Base",{"$f":"SUM(IF($A56=SoilCat,IF($B56=DrainCat,IF(F$3=ESALCat,Design!$BB$64:$BK$87))))","v":100},{"$f":"SUM(IF($A56=SoilCat,IF($B56=DrainCat,IF(G$3=ESALCat,Design!$BB$64:$BK$87))))","v":100},{"$f":"SUM(IF($A56=SoilCat,IF($B56=DrainCat,IF(H$3=ESALCat,Design!$BB$64:$BK$87))))","v":100},{"$f":"SUM(IF($A56=SoilCat,IF($B56=DrainCat,IF(I$3=ESALCat,Design!$BB$64:$BK$87))))","v":100},{"$f":"SUM(IF($A56=SoilCat,IF($B56=DrainCat,IF(J$3=ESALCat,Design!$BB$64:$BK$87))))","v":100},{"$f":"SUM(IF($A56=SoilCat,IF($B56=DrainCat,IF(K$3=ESALCat,Design!$BB$64:$BK$87))))","v":150},{"$f":"SUM(IF($A56=SoilCat,IF($B56=DrainCat,IF(L$3=ESALCat,Design!$BB$64:$BK$87))))","v":175},{"$f":"SUM(IF($A56=SoilCat,IF($B56=DrainCat,IF(M$3=ESALCat,Design!$BB$64:$BK$87))))","v":150},{"$f":"SUM(IF($A56=SoilCat,IF($B56=DrainCat,IF(N$3=ESALCat,Design!$BB$64:$BK$87))))","v":150},{"$f":"SUM(IF($A56=SoilCat,IF($B56=DrainCat,IF(O$3=ESALCat,Design!$BB$64:$BK$87))))","v":150}]
[5,"Good",null,null,"Unbound Dense Graded Subbase",{"$f":"SUM(IF($A57=SoilCat,IF($B57=DrainCat,IF(F$3=ESALCat,Design!$BV$64:$CE$87))))","v":0},{"$f":"SUM(IF($A57=SoilCat,IF($B57=DrainCat,IF(G$3=ESALCat,Design!$BV$64:$CE$87))))","v":0},{"$f":"SUM(IF($A57=SoilCat,IF($B57=DrainCat,IF(H$3=ESALCat,Design!$BV$64:$CE$87))))","v":0},{"$f":"SUM(IF($A57=SoilCat,IF($B57=DrainCat,IF(I$3=ESALCat,Design!$BV$64:$CE$87))))","v":0},{"$f":"SUM(IF($A57=SoilCat,IF($B57=DrainCat,IF(J$3=ESALCat,Design!$BV$64:$CE$87))))","v":0},{"$f":"SUM(IF($A57=SoilCat,IF($B57=DrainCat,IF(K$3=ESALCat,Design!$BV$64:$CE$87))))","v":0},{"$f":"SUM(IF($A57=SoilCat,IF($B57=DrainCat,IF(L$3=ESALCat,Design!$BV$64:$CE$87))))","v":0},{"$f":"SUM(IF($A57=SoilCat,IF($B57=DrainCat,IF(M$3=ESALCat,Design!$BV$64:$CE$87))))","v":150},{"$f":"SUM(IF($A57=SoilCat,IF($B57=DrainCat,IF(N$3=ESALCat,Design!$BV$64:$CE$87))))","v":300},{"$f":"SUM(IF($A57=SoilCat,IF($B57=DrainCat,IF(O$3=ESALCat,Design!$BV$64:$CE$87))))","v":425}]
[5,"Fair",null,"Fair","Pavers and Bedding",{"$f":"SUM(IF($A58=SoilCat,IF($B58=DrainCat,IF(F$3=ESALCat,Design!$N$64:$W$87))))","v":105},{"$f":"SUM(IF($A58=SoilCat,IF($B58=DrainCat,IF(G$3=ESALCat,Design!$N$64:$W$87))))","v":105},{"$f":"SUM(IF($A58=SoilCat,IF($B58=DrainCat,IF(H$3=ESALCat,Design!$N$64:$W$87))))","v":105},{"$f":"SUM(IF($A58=SoilCat,IF($B58=DrainCat,IF(I$3=ESALCat,Design!$N$64:$W$87))))","v":105},{"$f":"SUM(IF($A58=SoilCat,IF($B58=DrainCat,IF(J$3=ESALCat,Design!$N$64:$W$87))))","v":105},{"$f":"SUM(IF($A58=SoilCat,IF($B58=DrainCat,IF(K$3=ESALCat,Design!$N$64:$W$87))))","v":105},{"$f":"SUM(IF($A58=SoilCat,IF($B58=DrainCat,IF(L$3=ESALCat,Design!$N$64:$W$87))))","v":105},{"$f":"SUM(IF($A58=SoilCat,IF($B58=DrainCat,IF(M$3=ESALCat,Design!$N$64:$W$87))))","v":105},{"$f":"SUM(IF($A58=SoilCat,IF($B58=DrainCat,IF(N$3=ESALCat,Design!$N$64:$W$87))))","v":105},{"$f":"SUM(IF($A58=SoilCat,IF($B58=DrainCat,IF(O$3=ESALCat,Design!$N$64:$W$87))))","v":105}]
[5,"Fair",null,null,"Cement Treated Base",{"$f":"SUM(IF($A59=SoilCat,IF($B59=DrainCat,IF(F$3=ESALCat,Design!$AH$64:$AQ$87))))","v":100},{"$f":"SUM(IF($A59=SoilCat,IF($B59=DrainCat,IF(G$3=ESALCat,Design!$AH$64:$AQ$87))))","v":100},{"$f":"SUM(IF($A59=SoilCat,IF($B59=DrainCat,IF(H$3=ESALCat,Design!$AH$64:$AQ$87))))","v":100},{"$f":"SUM(IF($A59=SoilCat,IF($B59=DrainCat,IF(I$3=ESALCat,Design!$AH$64:$AQ$87))))","v":100},{"$f":"SUM(IF($A59=SoilCat,IF($B59=DrainCat,IF(J$3=ESALCat,Design!$AH$64:$AQ$87))))","v":100},{"$f":"SUM(IF($A59=SoilCat,IF($B59=DrainCat,IF(K$3=ESALCat,Design!$AH$64:$AQ$87))))","v":100},{"$f":"SUM(IF($A59=SoilCat,IF($B59=DrainCat,IF(L$3=ESALCat,Design!$AH$64:$AQ$87))))","v":100},{"$f":"SUM(IF($A59=SoilCat,IF($B59=DrainCat,IF(M$3=ESALCat,Design!$AH$64:$AQ$87))))","v":100},{"$f":"SUM(IF($A59=SoilCat,IF($B59=DrainCat,IF(N$3=ESALCat,Design!$AH$64:$AQ$87))))","v":100},{"$f":"SUM(IF($A59=SoilCat,IF($B59=DrainCat,IF(O$3=ESALCat,Design!$AH$64:$AQ$87))))","v":100}]
[5,"Fair",null,null,"Unbound Dense Graded Base",{"$f":"SUM(IF($A60=SoilCat,IF($B60=DrainCat,IF(F$3=ESALCat,Design!$BB$64:$BK$87))))","v":100},{"$f":"SUM(IF($A60=SoilCat,IF($B60=DrainCat,IF(G$3=ESALCat,Design!$BB$64:$BK$87))))","v":100},{"$f":"SUM(IF($A60=SoilCat,IF($B60=DrainCat,IF(H$3=ESALCat,Design!$BB$64:$BK$87))))","v":100},{"$f":"SUM(IF($A60=SoilCat,IF($B60=DrainCat,IF(I$3=ESALCat,Design!$BB$64:$BK$87))))","v":100},{"$f":"SUM(IF($A60=SoilCat,IF($B60=DrainCat,IF(J$3=ESALCat,Design!$BB$64:$BK$87))))","v":100},{"$f":"SUM(IF($A60=SoilCat,IF($B60=DrainCat,IF(K$3=ESALCat,Design!$BB$64:$BK$87))))","v":175},{"$f":"SUM(IF($A60=SoilCat,IF($B60=DrainCat,IF(L$3=ESALCat,Design!$BB$64:$BK$87))))","v":150},{"$f":"SUM(IF($A60=SoilCat,IF($B60=DrainCat,IF(M$3=ESALCat,Design!$BB$64:$BK$87))))","v":150},{"$f":"SUM(IF($A60=SoilCat,IF($B60=DrainCat,IF(N$3=ESALCat,Design!$BB$64:$BK$87))))","v":150},{"$f":"SUM(IF($A60=SoilCat,IF($B60=DrainCat,IF(O$3=ESALCat,Design!$BB$64:$BK$87))))","v":150}]
[5,"Fair",null,null,"Unbound Dense Graded Subbase",{"$f":"SUM(IF($A61=SoilCat,IF($B61=DrainCat,IF(F$3=ESALCat,Design!$BV$64:$CE$87))))","v":0},{"$f":"SUM(IF($A61=SoilCat,IF($B61=DrainCat,IF(G$3=ESALCat,Design!$BV$64:$CE$87))))","v":0},{"$f":"SUM(IF($A61=SoilCat,IF($B61=DrainCat,IF(H$3=ESALCat,Design!$BV$64:$CE$87))))","v":0},{"$f":"SUM(IF($A61=SoilCat,IF($B61=DrainCat,IF(I$3=ESALCat,Design!$BV$64:$CE$87))))","v":0},{"$f":"SUM(IF($A61=SoilCat,IF($B61=DrainCat,IF(J$3=ESALCat,Design!$BV$64:$CE$87))))","v":0},{"$f":"SUM(IF($A61=SoilCat,IF($B61=DrainCat,IF(K$3=ESALCat,Design!$BV$64:$CE$87))))","v":0},{"$f":"SUM(IF($A61=SoilCat,IF($B61=DrainCat,IF(L$3=ESALCat,Design!$BV$64:$CE$87))))","v":150},{"$f":"SUM(IF($A61=SoilCat,IF($B61=DrainCat,IF(M$3=ESALCat,Design!$BV$64:$CE$87))))","v":250},{"$f":"SUM(IF($A61=SoilCat,IF($B61=DrainCat,IF(N$3=ESALCat,Design!$BV$64:$CE$87))))","v":425},{"$f":"SUM(IF($A61=SoilCat,IF($B61=DrainCat,IF(O$3=ESALCat,Design!$BV$64:$CE$87))))","v":575}]
[5,"Poor",null,"Poor","Pavers and Bedding",{"$f":"SUM(IF($A62=SoilCat,IF($B62=DrainCat,IF(F$3=ESALCat,Design!$N$64:$W$87))))","v":105},{"$f":"SUM(IF($A62=SoilCat,IF($B62=DrainCat,IF(G$3=ESALCat,Design!$N$64:$W$87))))","v":105},{"$f":"SUM(IF($A62=SoilCat,IF($B62=DrainCat,IF(H$3=ESALCat,Design!$N$64:$W$87))))","v":105},{"$f":"SUM(IF($A62=SoilCat,IF($B62=DrainCat,IF(I$3=ESALCat,Design!$N$64:$W$87))))","v":105},{"$f":"SUM(IF($A62=SoilCat,IF($B62=DrainCat,IF(J$3=ESALCat,Design!$N$64:$W$87))))","v":105},{"$f":"SUM(IF($A62=SoilCat,IF($B62=DrainCat,IF(K$3=ESALCat,Design!$N$64:$W$87))))","v":105},{"$f":"SUM(IF($A62=SoilCat,IF($B62=DrainCat,IF(L$3=ESALCat,Design!$N$64:$W$87))))","v":105},{"$f":"SUM(IF($A62=SoilCat,IF($B62=DrainCat,IF(M$3=ESALCat,Design!$N$64:$W$87))))","v":105},{"$f":"SUM(IF($A62=SoilCat,IF($B62=DrainCat,IF(N$3=ESALCat,Design!$N$64:$W$87))))","v":105},{"$f":"SUM(IF($A62=SoilCat,IF($B62=DrainCat,IF(O$3=ESALCat,Design!$N$64:$W$87))))","v":105}]
[5,"Poor",null,null,"Cement Treated Base",{"$f":"SUM(IF($A63=SoilCat,IF($B63=DrainCat,IF(F$3=ESALCat,Design!$AH$64:$AQ$87))))","v":100},{"$f":"SUM(IF($A63=SoilCat,IF($B63=DrainCat,IF(G$3=ESALCat,Design!$AH$64:$AQ$87))))","v":100},{"$f":"SUM(IF($A63=SoilCat,IF($B63=DrainCat,IF(H$3=ESALCat,Design!$AH$64:$AQ$87))))","v":100},{"$f":"SUM(IF($A63=SoilCat,IF($B63=DrainCat,IF(I$3=ESALCat,Design!$AH$64:$AQ$87))))","v":100},{"$f":"SUM(IF($A63=SoilCat,IF($B63=DrainCat,IF(J$3=ESALCat,Design!$AH$64:$AQ$87))))","v":100},{"$f":"SUM(IF($A63=SoilCat,IF($B63=DrainCat,IF(K$3=ESALCat,Design!$AH$64:$AQ$87))))","v":100},{"$f":"SUM(IF($A63=SoilCat,IF($B63=DrainCat,IF(L$3=ESALCat,Design!$AH$64:$AQ$87))))","v":100},{"$f":"SUM(IF($A63=SoilCat,IF($B63=DrainCat,IF(M$3=ESALCat,Design!$AH$64:$AQ$87))))","v":100},{"$f":"SUM(IF($A63=SoilCat,IF($B63=DrainCat,IF(N$3=ESALCat,Design!$AH$64:$AQ$87))))","v":100},{"$f":"SUM(IF($A63=SoilCat,IF($B63=DrainCat,IF(O$3=ESALCat,Design!$AH$64:$AQ$87))))","v":100}]
[5,"Poor",null,null,"Unbound Dense Graded Base",{"$f":"SUM(IF($A64=SoilCat,IF($B64=DrainCat,IF(F$3=ESALCat,Design!$BB$64:$BK$87))))","v":100},{"$f":"SUM(IF($A64=SoilCat,IF($B64=DrainCat,IF(G$3=ESALCat,Design!$BB$64:$BK$87))))","v":100},{"$f":"SUM(IF($A64=SoilCat,IF($B64=DrainCat,IF(H$3=ESALCat,Design!$BB$64:$BK$87))))","v":100},{"$f":"SUM(IF($A64=SoilCat,IF($B64=DrainCat,IF(I$3=ESALCat,Design!$BB$64:$BK$87))))","v":100},{"$f":"SUM(IF($A64=SoilCat,IF($B64=DrainCat,IF(J$3=ESALCat,Design!$BB$64:$BK$87))))","v":125},{"$f":"SUM(IF($A64=SoilCat,IF($B64=DrainCat,IF(K$3=ESALCat,Design!$BB$64:$BK$87))))","v":200},{"$f":"SUM(IF($A64=SoilCat,IF($B64=DrainCat,IF(L$3=ESALCat,Design!$BB$64:$BK$87))))","v":150},{"$f":"SUM(IF($A64=SoilCat,IF($B64=DrainCat,IF(M$3=ESALCat,Design!$BB$64:$BK$87))))","v":150},{"$f":"SUM(IF($A64=SoilCat,IF($B64=DrainCat,IF(N$3=ESALCat,Design!$BB$64:$BK$87))))","v":150},{"$f":"SUM(IF($A64=SoilCat,IF($B64=DrainCat,IF(O$3=ESALCat,Design!$BB$64:$BK$87))))","v":150}]
[5,"Poor",null,null,"Unbound Dense Graded Subbase",{"$f":"SUM(IF($A65=SoilCat,IF($B65=DrainCat,IF(F$3=ESALCat,Design!$BV$64:$CE$87))))","v":0},{"$f":"SUM(IF($A65=SoilCat,IF($B65=DrainCat,IF(G$3=ESALCat,Design!$BV$64:$CE$87))))","v":0},{"$f":"SUM(IF($A65=SoilCat,IF($B65=DrainCat,IF(H$3=ESALCat,Design!$BV$64:$CE$87))))","v":0},{"$f":"SUM(IF($A65=SoilCat,IF($B65=DrainCat,IF(I$3=ESALCat,Design!$BV$64:$CE$87))))","v":0},{"$f":"SUM(IF($A65=SoilCat,IF($B65=DrainCat,IF(J$3=ESALCat,Design!$BV$64:$CE$87))))","v":0},{"$f":"SUM(IF($A65=SoilCat,IF($B65=DrainCat,IF(K$3=ESALCat,Design!$BV$64:$CE$87))))","v":0},{"$f":"SUM(IF($A65=SoilCat,IF($B65=DrainCat,IF(L$3=ESALCat,Design!$BV$64:$CE$87))))","v":200},{"$f":"SUM(IF($A65=SoilCat,IF($B65=DrainCat,IF(M$3=ESALCat,Design!$BV$64:$CE$87))))","v":325},{"$f":"SUM(IF($A65=SoilCat,IF($B65=DrainCat,IF(N$3=ESALCat,Design!$BV$64:$CE$87))))","v":525},{"$f":"SUM(IF($A65=SoilCat,IF($B65=DrainCat,IF(O$3=ESALCat,Design!$BV$64:$CE$87))))","v":675}]
[6,"Good","Category 6","Good","Pavers and Bedding",{"$f":"SUM(IF($A66=SoilCat,IF($B66=DrainCat,IF(F$3=ESALCat,Design!$N$64:$W$87))))","v":105},{"$f":"SUM(IF($A66=SoilCat,IF($B66=DrainCat,IF(G$3=ESALCat,Design!$N$64:$W$87))))","v":105},{"$f":"SUM(IF($A66=SoilCat,IF($B66=DrainCat,IF(H$3=ESALCat,Design!$N$64:$W$87))))","v":105},{"$f":"SUM(IF($A66=SoilCat,IF($B66=DrainCat,IF(I$3=ESALCat,Design!$N$64:$W$87))))","v":105},{"$f":"SUM(IF($A66=SoilCat,IF($B66=DrainCat,IF(J$3=ESALCat,Design!$N$64:$W$87))))","v":105},{"$f":"SUM(IF($A66=SoilCat,IF($B66=DrainCat,IF(K$3=ESALCat,Design!$N$64:$W$87))))","v":105},{"$f":"SUM(IF($A66=SoilCat,IF($B66=DrainCat,IF(L$3=ESALCat,Design!$N$64:$W$87))))","v":105},{"$f":"SUM(IF($A66=SoilCat,IF($B66=DrainCat,IF(M$3=ESALCat,Design!$N$64:$W$87))))","v":105},{"$f":"SUM(IF($A66=SoilCat,IF($B66=DrainCat,IF(N$3=ESALCat,Design!$N$64:$W$87))))","v":105},{"$f":"SUM(IF($A66=SoilCat,IF($B66=DrainCat,IF(O$3=ESALCat,Design!$N$64:$W$87))))","v":105}]
[6,"Good",null,null,"Cement Treated Base",{"$f":"SUM(IF($A67=SoilCat,IF($B67=DrainCat,IF(F$3=ESALCat,Design!$AH$64:$AQ$87))))","v":100},{"$f":"SUM(IF($A67=SoilCat,IF($B67=DrainCat,IF(G$3=ESALCat,Design!$AH$64:$AQ$87))))","v":100},{"$f":"SUM(IF($A67=SoilCat,IF($B67=DrainCat,IF(H$3=ESALCat,Design!$AH$64:$AQ$87))))","v":100},{"$f":"SUM(IF($A67=SoilCat,IF($B67=DrainCat,IF(I$3=ESALCat,Design!$AH$64:$AQ$87))))","v":100},{"$f":"SUM(IF($A67=SoilCat,IF($B67=DrainCat,IF(J$3=ESALCat,Design!$AH$64:$AQ$87))))","v":100},{"$f":"SUM(IF($A67=SoilCat,IF($B67=DrainCat,IF(K$3=ESALCat,Design!$AH$64:$AQ$87))))","v":100},{"$f":"SUM(IF($A67=SoilCat,IF($B67=DrainCat,IF(L$3=ESALCat,Design!$AH$64:$AQ$87))))","v":100},{"$f":"SUM(IF($A67=SoilCat,IF($B67=DrainCat,IF(M$3=ESALCat,Design!$AH$64:$AQ$87))))","v":100},{"$f":"SUM(IF($A67=SoilCat,IF($B67=DrainCat,IF(N$3=ESALCat,Design!$AH$64:$AQ$87))))","v":100},{"$f":"SUM(IF($A67=SoilCat,IF($B67=DrainCat,IF(O$3=ESALCat,Design!$AH$64:$AQ$87))))","v":100}]
[6,"Good",null,null,"Unbound Dense Graded Base",{"$f":"SUM(IF($A68=SoilCat,IF($B68=DrainCat,IF(F$3=ESALCat,Design!$BB$64:$BK$87))))","v":100},{"$f":"SUM(IF($A68=SoilCat,IF($B68=DrainCat,IF(G$3=ESALCat,Design!$BB$64:$BK$87))))","v":100},{"$f":"SUM(IF($A68=SoilCat,IF($B68=DrainCat,IF(H$3=ESALCat,Design!$BB$64:$BK$87))))","v":100},{"$f":"SUM(IF($A68=SoilCat,IF($B68=DrainCat,IF(I$3=ESALCat,Design!$BB$64:$BK$87))))","v":100},{"$f":"SUM(IF($A68=SoilCat,IF($B68=DrainCat,IF(J$3=ESALCat,Design!$BB$64:$BK$87))))","v":100},{"$f":"SUM(IF($A68=SoilCat,IF($B68=DrainCat,IF(K$3=ESALCat,Design!$BB$64:$BK$87))))","v":175},{"$f":"SUM(IF($A68=SoilCat,IF($B68=DrainCat,IF(L$3=ESALCat,Design!$BB$64:$BK$87))))","v":150},{"$f":"SUM(IF($A68=SoilCat,IF($B68=DrainCat,IF(M$3=ESALCat,Design!$BB$64:$BK$87))))","v":150},{"$f":"SUM(IF($A68=SoilCat,IF($B68=DrainCat,IF(N$3=ESALCat,Design!$BB$64:$BK$87))))","v":150},{"$f":"SUM(IF($A68=SoilCat,IF($B68=DrainCat,IF(O$3=ESALCat,Design!$BB$64:$BK$87))))","v":150}]
[6,"Good",null,null,"Unbound Dense Graded Subbase",{"$f":"SUM(IF($A69=SoilCat,IF($B69=DrainCat,IF(F$3=ESALCat,Design!$BV$64:$CE$87))))","v":0},{"$f":"SUM(IF($A69=SoilCat,IF($B69=DrainCat,IF(G$3=ESALCat,Design!$BV$64:$CE$87))))","v":0},{"$f":"SUM(IF($A69=SoilCat,IF($B69=DrainCat,IF(H$3=ESALCat,Design!$BV$64:$CE$87))))","v":0},{"$f":"SUM(IF($A69=SoilCat,IF($B69=DrainCat,IF(I$3=ESALCat,Design!$BV$64:$CE$87))))","v":0},{"$f":"SUM(IF($A69=SoilCat,IF($B69=DrainCat,IF(J$3=ESALCat,Design!$BV$64:$CE$87))))","v":0},{"$f":"SUM(IF($A69=SoilCat,IF($B69=DrainCat,IF(K$3=ESALCat,Design!$BV$64:$CE$87))))","v":0},{"$f":"SUM(IF($A69=SoilCat,IF($B69=DrainCat,IF(L$3=ESALCat,Design!$BV$64:$CE$87))))","v":150},{"$f":"SUM(IF($A69=SoilCat,IF($B69=DrainCat,IF(M$3=ESALCat,Design!$BV$64:$CE$87))))","v":250},{"$f":"SUM(IF($A69=SoilCat,IF($B69=DrainCat,IF(N$3=ESALCat,Design!$BV$64:$CE$87))))","v":425},{"$f":"SUM(IF($A69=SoilCat,IF($B69=DrainCat,IF(O$3=ESALCat,Design!$BV$64:$CE$87))))","v":575}]
[6,"Fair",null,"Fair","Pavers and Bedding",{"$f":"SUM(IF($A70=SoilCat,IF($B70=DrainCat,IF(F$3=ESALCat,Design!$N$64:$W$87))))","v":105},{"$f":"SUM(IF($A70=SoilCat,IF($B70=DrainCat,IF(G$3=ESALCat,Design!$N$64:$W$87))))","v":105},{"$f":"SUM(IF($A70=SoilCat,IF($B70=DrainCat,IF(H$3=ESALCat,Design!$N$64:$W$87))))","v":105},{"$f":"SUM(IF($A70=SoilCat,IF($B70=DrainCat,IF(I$3=ESALCat,Design!$N$64:$W$87))))","v":105},{"$f":"SUM(IF($A70=SoilCat,IF($B70=DrainCat,IF(J$3=ESALCat,Design!$N$64:$W$87))))","v":105},{"$f":"SUM(IF($A70=SoilCat,IF($B70=DrainCat,IF(K$3=ESALCat,Design!$N$64:$W$87))))","v":105},{"$f":"SUM(IF($A70=SoilCat,IF($B70=DrainCat,IF(L$3=ESALCat,Design!$N$64:$W$87))))","v":105},{"$f":"SUM(IF($A70=SoilCat,IF($B70=DrainCat,IF(M$3=ESALCat,Design!$N$64:$W$87))))","v":105},{"$f":"SUM(IF($A70=SoilCat,IF($B70=DrainCat,IF(N$3=ESALCat,Design!$N$64:$W$87))))","v":105},{"$f":"SUM(IF($A70=SoilCat,IF($B70=DrainCat,IF(O$3=ESALCat,Design!$N$64:$W$87))))","v":105}]
[6,"Fair",null,null,"Cement Treated Base",{"$f":"SUM(IF($A71=SoilCat,IF($B71=DrainCat,IF(F$3=ESALCat,Design!$AH$64:$AQ$87))))","v":100},{"$f":"SUM(IF($A71=SoilCat,IF($B71=DrainCat,IF(G$3=ESALCat,Design!$AH$64:$AQ$87))))","v":100},{"$f":"SUM(IF($A71=SoilCat,IF($B71=DrainCat,IF(H$3=ESALCat,Design!$AH$64:$AQ$87))))","v":100},{"$f":"SUM(IF($A71=SoilCat,IF($B71=DrainCat,IF(I$3=ESALCat,Design!$AH$64:$AQ$87))))","v":100},{"$f":"SUM(IF($A71=SoilCat,IF($B71=DrainCat,IF(J$3=ESALCat,Design!$AH$64:$AQ$87))))","v":100},{"$f":"SUM(IF($A71=SoilCat,IF($B71=DrainCat,IF(K$3=ESALCat,Design!$AH$64:$AQ$87))))","v":100},{"$f":"SUM(IF($A71=SoilCat,IF($B71=DrainCat,IF(L$3=ESALCat,Design!$AH$64:$AQ$87))))","v":100},{"$f":"SUM(IF($A71=SoilCat,IF($B71=DrainCat,IF(M$3=ESALCat,Design!$AH$64:$AQ$87))))","v":100},{"$f":"SUM(IF($A71=SoilCat,IF($B71=DrainCat,IF(N$3=ESALCat,Design!$AH$64:$AQ$87))))","v":100},{"$f":"SUM(IF($A71=SoilCat,IF($B71=DrainCat,IF(O$3=ESALCat,Design!$AH$64:$AQ$87))))","v":100}]
[6,"Fair",null,null,"Unbound Dense Graded Base",{"$f":"SUM(IF($A72=SoilCat,IF($B72=DrainCat,IF(F$3=ESALCat,Design!$BB$64:$BK$87))))","v":100},{"$f":"SUM(IF($A72=SoilCat,IF($B72=DrainCat,IF(G$3=ESALCat,Design!$BB$64:$BK$87))))","v":100},{"$f":"SUM(IF($A72=SoilCat,IF($B72=DrainCat,IF(H$3=ESALCat,Design!$BB$64:$BK$87))))","v":100},{"$f":"SUM(IF($A72=SoilCat,IF($B72=DrainCat,IF(I$3=ESALCat,Design!$BB$64:$BK$87))))","v":100},{"$f":"SUM(IF($A72=SoilCat,IF($B72=DrainCat,IF(J$3=ESALCat,Design!$BB$64:$BK$87))))","v":125},{"$f":"SUM(IF($A72=SoilCat,IF($B72=DrainCat,IF(K$3=ESALCat,Design!$BB$64:$BK$87))))","v":200},{"$f":"SUM(IF($A72=SoilCat,IF($B72=DrainCat,IF(L$3=ESALCat,Design!$BB$64:$BK$87))))","v":150},{"$f":"SUM(IF($A72=SoilCat,IF($B72=DrainCat,IF(M$3=ESALCat,Design!$BB$64:$BK$87))))","v":150},{"$f":"SUM(IF($A72=SoilCat,IF($B72=DrainCat,IF(N$3=ESALCat,Design!$BB$64:$BK$87))))","v":150},{"$f":"SUM(IF($A72=SoilCat,IF($B72=DrainCat,IF(O$3=ESALCat,Design!$BB$64:$BK$87))))","v":150}]
[6,"Fair",null,null,"Unbound Dense Graded Subbase",{"$f":"SUM(IF($A73=SoilCat,IF($B73=DrainCat,IF(F$3=ESALCat,Design!$BV$64:$CE$87))))","v":0},{"$f":"SUM(IF($A73=SoilCat,IF($B73=DrainCat,IF(G$3=ESALCat,Design!$BV$64:$CE$87))))","v":0},{"$f":"SUM(IF($A73=SoilCat,IF($B73=DrainCat,IF(H$3=ESALCat,Design!$BV$64:$CE$87))))","v":0},{"$f":"SUM(IF($A73=SoilCat,IF($B73=DrainCat,IF(I$3=ESALCat,Design!$BV$64:$CE$87))))","v":0},{"$f":"SUM(IF($A73=SoilCat,IF($B73=DrainCat,IF(J$3=ESALCat,Design!$BV$64:$CE$87))))","v":0},{"$f":"SUM(IF($A73=SoilCat,IF($B73=DrainCat,IF(K$3=ESALCat,Design!$BV$64:$CE$87))))","v":0},{"$f":"SUM(IF($A73=SoilCat,IF($B73=DrainCat,IF(L$3=ESALCat,Design!$BV$64:$CE$87))))","v":200},{"$f":"SUM(IF($A73=SoilCat,IF($B73=DrainCat,IF(M$3=ESALCat,Design!$BV$64:$CE$87))))","v":325},{"$f":"SUM(IF($A73=SoilCat,IF($B73=DrainCat,IF(N$3=ESALCat,Design!$BV$64:$CE$87))))","v":525},{"$f":"SUM(IF($A73=SoilCat,IF($B73=DrainCat,IF(O$3=ESALCat,Design!$BV$64:$CE$87))))","v":675}]
[6,"Poor",null,"Poor","Pavers and Bedding",{"$f":"SUM(IF($A74=SoilCat,IF($B74=DrainCat,IF(F$3=ESALCat,Design!$N$64:$W$87))))","v":105},{"$f":"SUM(IF($A74=SoilCat,IF($B74=DrainCat,IF(G$3=ESALCat,Design!$N$64:$W$87))))","v":105},{"$f":"SUM(IF($A74=SoilCat,IF($B74=DrainCat,IF(H$3=ESALCat,Design!$N$64:$W$87))))","v":105},{"$f":"SUM(IF($A74=SoilCat,IF($B74=DrainCat,IF(I$3=ESALCat,Design!$N$64:$W$87))))","v":105},{"$f":"SUM(IF($A74=SoilCat,IF($B74=DrainCat,IF(J$3=ESALCat,Design!$N$64:$W$87))))","v":105},{"$f":"SUM(IF($A74=SoilCat,IF($B74=DrainCat,IF(K$3=ESALCat,Design!$N$64:$W$87))))","v":105},{"$f":"SUM(IF($A74=SoilCat,IF($B74=DrainCat,IF(L$3=ESALCat,Design!$N$64:$W$87))))","v":105},{"$f":"SUM(IF($A74=SoilCat,IF($B74=DrainCat,IF(M$3=ESALCat,Design!$N$64:$W$87))))","v":105},{"$f":"SUM(IF($A74=SoilCat,IF($B74=DrainCat,IF(N$3=ESALCat,Design!$N$64:$W$87))))","v":105},{"$f":"SUM(IF($A74=SoilCat,IF($B74=DrainCat,IF(O$3=ESALCat,Design!$N$64:$W$87))))","v":105}]
[6,"Poor",null,null,"Cement Treated Base",{"$f":"SUM(IF($A75=SoilCat,IF($B75=DrainCat,IF(F$3=ESALCat,Design!$AH$64:$AQ$87))))","v":100},{"$f":"SUM(IF($A75=SoilCat,IF($B75=DrainCat,IF(G$3=ESALCat,Design!$AH$64:$AQ$87))))","v":100},{"$f":"SUM(IF($A75=SoilCat,IF($B75=DrainCat,IF(H$3=ESALCat,Design!$AH$64:$AQ$87))))","v":100},{"$f":"SUM(IF($A75=SoilCat,IF($B75=DrainCat,IF(I$3=ESALCat,Design!$AH$64:$AQ$87))))","v":100},{"$f":"SUM(IF($A75=SoilCat,IF($B75=DrainCat,IF(J$3=ESALCat,Design!$AH$64:$AQ$87))))","v":100},{"$f":"SUM(IF($A75=SoilCat,IF($B75=DrainCat,IF(K$3=ESALCat,Design!$AH$64:$AQ$87))))","v":100},{"$f":"SUM(IF($A75=SoilCat,IF($B75=DrainCat,IF(L$3=ESALCat,Design!$AH$64:$AQ$87))))","v":100},{"$f":"SUM(IF($A75=SoilCat,IF($B75=DrainCat,IF(M$3=ESALCat,Design!$AH$64:$AQ$87))))","v":100},{"$f":"SUM(IF($A75=SoilCat,IF($B75=DrainCat,IF(N$3=ESALCat,Design!$AH$64:$AQ$87))))","v":100},{"$f":"SUM(IF($A75=SoilCat,IF($B75=DrainCat,IF(O$3=ESALCat,Design!$AH$64:$AQ$87))))","v":100}]
[6,"Poor",null,null,"Unbound Dense Graded Base",{"$f":"SUM(IF($A76=SoilCat,IF($B76=DrainCat,IF(F$3=ESALCat,Design!$BB$64:$BK$87))))","v":100},{"$f":"SUM(IF($A76=SoilCat,IF($B76=DrainCat,IF(G$3=ESALCat,Design!$BB$64:$BK$87))))","v":100},{"$f":"SUM(IF($A76=SoilCat,IF($B76=DrainCat,IF(H$3=ESALCat,Design!$BB$64:$BK$87))))","v":100},{"$f":"SUM(IF($A76=SoilCat,IF($B76=DrainCat,IF(I$3=ESALCat,Design!$BB$64:$BK$87))))","v":125},{"$f":"SUM(IF($A76=SoilCat,IF($B76=DrainCat,IF(J$3=ESALCat,Design!$BB$64:$BK$87))))","v":200},{"$f":"SUM(IF($A76=SoilCat,IF($B76=DrainCat,IF(K$3=ESALCat,Design!$BB$64:$BK$87))))","v":150},{"$f":"SUM(IF($A76=SoilCat,IF($B76=DrainCat,IF(L$3=ESALCat,Design!$BB$64:$BK$87))))","v":150},{"$f":"SUM(IF($A76=SoilCat,IF($B76=DrainCat,IF(M$3=ESALCat,Design!$BB$64:$BK$87))))","v":150},{"$f":"SUM(IF($A76=SoilCat,IF($B76=DrainCat,IF(N$3=ESALCat,Design!$BB$64:$BK$87))))","v":150},{"$f":"SUM(IF($A76=SoilCat,IF($B76=DrainCat,IF(O$3=ESALCat,Design!$BB$64:$BK$87))))","v":150}]
[6,"Poor",null,null,"Unbound Dense Graded Subbase",{"$f":"SUM(IF($A77=SoilCat,IF($B77=DrainCat,IF(F$3=ESALCat,Design!$BV$64:$CE$87))))","v":0},{"$f":"SUM(IF($A77=SoilCat,IF($B77=DrainCat,IF(G$3=ESALCat,Design!$BV$64:$CE$87))))","v":0},{"$f":"SUM(IF($A77=SoilCat,IF($B77=DrainCat,IF(H$3=ESALCat,Design!$BV$64:$CE$87))))","v":0},{"$f":"SUM(IF($A77=SoilCat,IF($B77=DrainCat,IF(I$3=ESALCat,Design!$BV$64:$CE$87))))","v":0},{"$f":"SUM(IF($A77=SoilCat,IF($B77=DrainCat,IF(J$3=ESALCat,Design!$BV$64:$CE$87))))","v":0},{"$f":"SUM(IF($A77=SoilCat,IF($B77=DrainCat,IF(K$3=ESALCat,Design!$BV$64:$CE$87))))","v":225},{"$f":"SUM(IF($A77=SoilCat,IF($B77=DrainCat,IF(L$3=ESALCat,Design!$BV$64:$CE$87))))","v":350},{"$f":"SUM(IF($A77=SoilCat,IF($B77=DrainCat,IF(M$3=ESALCat,Design!$BV$64:$CE$87))))","v":475},{"$f":"SUM(IF($A77=SoilCat,IF($B77=DrainCat,IF(N$3=ESALCat,Design!$BV$64:$CE$87))))","v":675},{"$f":"SUM(IF($A77=SoilCat,IF($B77=DrainCat,IF(O$3=ESALCat,Design!$BV$64:$CE$87))))","v":825}]
[7,"Good","Category 7","Good","Pavers and Bedding",{"$f":"SUM(IF($A78=SoilCat,IF($B78=DrainCat,IF(F$3=ESALCat,Design!$N$64:$W$87))))","v":105},{"$f":"SUM(IF($A78=SoilCat,IF($B78=DrainCat,IF(G$3=ESALCat,Design!$N$64:$W$87))))","v":105},{"$f":"SUM(IF($A78=SoilCat,IF($B78=DrainCat,IF(H$3=ESALCat,Design!$N$64:$W$87))))","v":105},{"$f":"SUM(IF($A78=SoilCat,IF($B78=DrainCat,IF(I$3=ESALCat,Design!$N$64:$W$87))))","v":105},{"$f":"SUM(IF($A78=SoilCat,IF($B78=DrainCat,IF(J$3=ESALCat,Design!$N$64:$W$87))))","v":105},{"$f":"SUM(IF($A78=SoilCat,IF($B78=DrainCat,IF(K$3=ESALCat,Design!$N$64:$W$87))))","v":105},{"$f":"SUM(IF($A78=SoilCat,IF($B78=DrainCat,IF(L$3=ESALCat,Design!$N$64:$W$87))))","v":105},{"$f":"SUM(IF($A78=SoilCat,IF($B78=DrainCat,IF(M$3=ESALCat,Design!$N$64:$W$87))))","v":105},{"$f":"SUM(IF($A78=SoilCat,IF($B78=DrainCat,IF(N$3=ESALCat,Design!$N$64:$W$87))))","v":105},{"$f":"SUM(IF($A78=SoilCat,IF($B78=DrainCat,IF(O$3=ESALCat,Design!$N$64:$W$87))))","v":105}]
[7,"Good",null,null,"Cement Treated Base",{"$f":"SUM(IF($A79=SoilCat,IF($B79=DrainCat,IF(F$3=ESALCat,Design!$AH$64:$AQ$87))))","v":100},{"$f":"SUM(IF($A79=SoilCat,IF($B79=DrainCat,IF(G$3=ESALCat,Design!$AH$64:$AQ$87))))","v":100},{"$f":"SUM(IF($A79=SoilCat,IF($B79=DrainCat,IF(H$3=ESALCat,Design!$AH$64:$AQ$87))))","v":100},{"$f":"SUM(IF($A79=SoilCat,IF($B79=DrainCat,IF(I$3=ESALCat,Design!$AH$64:$AQ$87))))","v":100},{"$f":"SUM(IF($A79=SoilCat,IF($B79=DrainCat,IF(J$3=ESALCat,Design!$AH$64:$AQ$87))))","v":100},{"$f":"SUM(IF($A79=SoilCat,IF($B79=DrainCat,IF(K$3=ESALCat,Design!$AH$64:$AQ$87))))","v":100},{"$f":"SUM(IF($A79=SoilCat,IF($B79=DrainCat,IF(L$3=ESALCat,Design!$AH$64:$AQ$87))))","v":100},{"$f":"SUM(IF($A79=SoilCat,IF($B79=DrainCat,IF(M$3=ESALCat,Design!$AH$64:$AQ$87))))","v":100},{"$f":"SUM(IF($A79=SoilCat,IF($B79=DrainCat,IF(N$3=ESALCat,Design!$AH$64:$AQ$87))))","v":100},{"$f":"SUM(IF($A79=SoilCat,IF($B79=DrainCat,IF(O$3=ESALCat,Design!$AH$64:$AQ$87))))","v":100}]
[7,"Good",null,null,"Unbound Dense Graded Base",{"$f":"SUM(IF($A80=SoilCat,IF($B80=DrainCat,IF(F$3=ESALCat,Design!$BB$64:$BK$87))))","v":100},{"$f":"SUM(IF($A80=SoilCat,IF($B80=DrainCat,IF(G$3=ESALCat,Design!$BB$64:$BK$87))))","v":100},{"$f":"SUM(IF($A80=SoilCat,IF($B80=DrainCat,IF(H$3=ESALCat,Design!$BB$64:$BK$87))))","v":100},{"$f":"SUM(IF($A80=SoilCat,IF($B80=DrainCat,IF(I$3=ESALCat,Design!$BB$64:$BK$87))))","v":100},{"$f":"SUM(IF($A80=SoilCat,IF($B80=DrainCat,IF(J$3=ESALCat,Design!$BB$64:$BK$87))))","v":100},{"$f":"SUM(IF($A80=SoilCat,IF($B80=DrainCat,IF(K$3=ESALCat,Design!$BB$64:$BK$87))))","v":200},{"$f":"SUM(IF($A80=SoilCat,IF($B80=DrainCat,IF(L$3=ESALCat,Design!$BB$64:$BK$87))))","v":150},{"$f":"SUM(IF($A80=SoilCat,IF($B80=DrainCat,IF(M$3=ESALCat,Design!$BB$64:$BK$87))))","v":150},{"$f":"SUM(IF($A80=SoilCat,IF($B80=DrainCat,IF(N$3=ESALCat,Design!$BB$64:$BK$87))))","v":150},{"$f":"SUM(IF($A80=SoilCat,IF($B80=DrainCat,IF(O$3=ESALCat,Design!$BB$64:$BK$87))))","v":150}]
[7,"Good",null,null,"Unbound Dense Graded Subbase",{"$f":"SUM(IF($A81=SoilCat,IF($B81=DrainCat,IF(F$3=ESALCat,Design!$BV$64:$CE$87))))","v":0},{"$f":"SUM(IF($A81=SoilCat,IF($B81=DrainCat,IF(G$3=ESALCat,Design!$BV$64:$CE$87))))","v":0},{"$f":"SUM(IF($A81=SoilCat,IF($B81=DrainCat,IF(H$3=ESALCat,Design!$BV$64:$CE$87))))","v":0},{"$f":"SUM(IF($A81=SoilCat,IF($B81=DrainCat,IF(I$3=ESALCat,Design!$BV$64:$CE$87))))","v":0},{"$f":"SUM(IF($A81=SoilCat,IF($B81=DrainCat,IF(J$3=ESALCat,Design!$BV$64:$CE$87))))","v":0},{"$f":"SUM(IF($A81=SoilCat,IF($B81=DrainCat,IF(K$3=ESALCat,Design!$BV$64:$CE$87))))","v":0},{"$f":"SUM(IF($A81=SoilCat,IF($B81=DrainCat,IF(L$3=ESALCat,Design!$BV$64:$CE$87))))","v":175},{"$f":"SUM(IF($A81=SoilCat,IF($B81=DrainCat,IF(M$3=ESALCat,Design!$BV$64:$CE$87))))","v":300},{"$f":"SUM(IF($A81=SoilCat,IF($B81=DrainCat,IF(N$3=ESALCat,Design!$BV$64:$CE$87))))","v":475},{"$f":"SUM(IF($A81=SoilCat,IF($B81=DrainCat,IF(O$3=ESALCat,Design!$BV$64:$CE$87))))","v":625}]
[7,"Fair",null,"Fair","Pavers and Bedding",{"$f":"SUM(IF($A82=SoilCat,IF($B82=DrainCat,IF(F$3=ESALCat,Design!$N$64:$W$87))))","v":105},{"$f":"SUM(IF($A82=SoilCat,IF($B82=DrainCat,IF(G$3=ESALCat,Design!$N$64:$W$87))))","v":105},{"$f":"SUM(IF($A82=SoilCat,IF($B82=DrainCat,IF(H$3=ESALCat,Design!$N$64:$W$87))))","v":105},{"$f":"SUM(IF($A82=SoilCat,IF($B82=DrainCat,IF(I$3=ESALCat,Design!$N$64:$W$87))))","v":105},{"$f":"SUM(IF($A82=SoilCat,IF($B82=DrainCat,IF(J$3=ESALCat,Design!$N$64:$W$87))))","v":105},{"$f":"SUM(IF($A82=SoilCat,IF($B82=DrainCat,IF(K$3=ESALCat,Design!$N$64:$W$87))))","v":105},{"$f":"SUM(IF($A82=SoilCat,IF($B82=DrainCat,IF(L$3=ESALCat,Design!$N$64:$W$87))))","v":105},{"$f":"SUM(IF($A82=SoilCat,IF($B82=DrainCat,IF(M$3=ESALCat,Design!$N$64:$W$87))))","v":105},{"$f":"SUM(IF($A82=SoilCat,IF($B82=DrainCat,IF(N$3=ESALCat,Design!$N$64:$W$87))))","v":105},{"$f":"SUM(IF($A82=SoilCat,IF($B82=DrainCat,IF(O$3=ESALCat,Design!$N$64:$W$87))))","v":105}]
[7,"Fair",null,null,"Cement Treated Base",{"$f":"SUM(IF($A83=SoilCat,IF($B83=DrainCat,IF(F$3=ESALCat,Design!$AH$64:$AQ$87))))","v":100},{"$f":"SUM(IF($A83=SoilCat,IF($B83=DrainCat,IF(G$3=ESALCat,Design!$AH$64:$AQ$87))))","v":100},{"$f":"SUM(IF($A83=SoilCat,IF($B83=DrainCat,IF(H$3=ESALCat,Design!$AH$64:$AQ$87))))","v":100},{"$f":"SUM(IF($A83=SoilCat,IF($B83=DrainCat,IF(I$3=ESALCat,Design!$AH$64:$AQ$87))))","v":100},{"$f":"SUM(IF($A83=SoilCat,IF($B83=DrainCat,IF(J$3=ESALCat,Design!$AH$64:$AQ$87))))","v":100},{"$f":"SUM(IF($A83=SoilCat,IF($B83=DrainCat,IF(K$3=ESALCat,Design!$AH$64:$AQ$87))))","v":100},{"$f":"SUM(IF($A83=SoilCat,IF($B83=DrainCat,IF(L$3=ESALCat,Design!$AH$64:$AQ$87))))","v":100},{"$f":"SUM(IF($A83=SoilCat,IF($B83=DrainCat,IF(M$3=ESALCat,Design!$AH$64:$AQ$87))))","v":100},{"$f":"SUM(IF($A83=SoilCat,IF($B83=DrainCat,IF(N$3=ESALCat,Design!$AH$64:$AQ$87))))","v":100},{"$f":"SUM(IF($A83=SoilCat,IF($B83=DrainCat,IF(O$3=ESALCat,Design!$AH$64:$AQ$87))))","v":100}]
[7,"Fair",null,null,"Unbound Dense Graded Base",{"$f":"SUM(IF($A84=SoilCat,IF($B84=DrainCat,IF(F$3=ESALCat,Design!$BB$64:$BK$87))))","v":100},{"$f":"SUM(IF($A84=SoilCat,IF($B84=DrainCat,IF(G$3=ESALCat,Design!$BB$64:$BK$87))))","v":100},{"$f":"SUM(IF($A84=SoilCat,IF($B84=DrainCat,IF(H$3=ESALCat,Design!$BB$64:$BK$87))))","v":100},{"$f":"SUM(IF($A84=SoilCat,IF($B84=DrainCat,IF(I$3=ESALCat,Design!$BB$64:$BK$87))))","v":100},{"$f":"SUM(IF($A84=SoilCat,IF($B84=DrainCat,IF(J$3=ESALCat,Design!$BB$64:$BK$87))))","v":175},{"$f":"SUM(IF($A84=SoilCat,IF($B84=DrainCat,IF(K$3=ESALCat,Design!$BB$64:$BK$87))))","v":150},{"$f":"SUM(IF($A84=SoilCat,IF($B84=DrainCat,IF(L$3=ESALCat,Design!$BB$64:$BK$87))))","v":150},{"$f":"SUM(IF($A84=SoilCat,IF($B84=DrainCat,IF(M$3=ESALCat,Design!$BB$64:$BK$87))))","v":150},{"$f":"SUM(IF($A84=SoilCat,IF($B84=DrainCat,IF(N$3=ESALCat,Design!$BB$64:$BK$87))))","v":150},{"$f":"SUM(IF($A84=SoilCat,IF($B84=DrainCat,IF(O$3=ESALCat,Design!$BB$64:$BK$87))))","v":150}]
[7,"Fair",null,null,"Unbound Dense Graded Subbase",{"$f":"SUM(IF($A85=SoilCat,IF($B85=DrainCat,IF(F$3=ESALCat,Design!$BV$64:$CE$87))))","v":0},{"$f":"SUM(IF($A85=SoilCat,IF($B85=DrainCat,IF(G$3=ESALCat,Design!$BV$64:$CE$87))))","v":0},{"$f":"SUM(IF($A85=SoilCat,IF($B85=DrainCat,IF(H$3=ESALCat,Design!$BV$64:$CE$87))))","v":0},{"$f":"SUM(IF($A85=SoilCat,IF($B85=DrainCat,IF(I$3=ESALCat,Design!$BV$64:$CE$87))))","v":0},{"$f":"SUM(IF($A85=SoilCat,IF($B85=DrainCat,IF(J$3=ESALCat,Design!$BV$64:$CE$87))))","v":0},{"$f":"SUM(IF($A85=SoilCat,IF($B85=DrainCat,IF(K$3=ESALCat,Design!$BV$64:$CE$87))))","v":175},{"$f":"SUM(IF($A85=SoilCat,IF($B85=DrainCat,IF(L$3=ESALCat,Design!$BV$64:$CE$87))))","v":300},{"$f":"SUM(IF($A85=SoilCat,IF($B85=DrainCat,IF(M$3=ESALCat,Design!$BV$64:$CE$87))))","v":425},{"$f":"SUM(IF($A85=SoilCat,IF($B85=DrainCat,IF(N$3=ESALCat,Design!$BV$64:$CE$87))))","v":625},{"$f":"SUM(IF($A85=SoilCat,IF($B85=DrainCat,IF(O$3=ESALCat,Design!$BV$64:$CE$87))))","v":775}]
[7,"Poor",null,"Poor","Pavers and Bedding",{"$f":"SUM(IF($A86=SoilCat,IF($B86=DrainCat,IF(F$3=ESALCat,Design!$N$64:$W$87))))","v":105},{"$f":"SUM(IF($A86=SoilCat,IF($B86=DrainCat,IF(G$3=ESALCat,Design!$N$64:$W$87))))","v":105},{"$f":"SUM(IF($A86=SoilCat,IF($B86=DrainCat,IF(H$3=ESALCat,Design!$N$64:$W$87))))","v":105},{"$f":"SUM(IF($A86=SoilCat,IF($B86=DrainCat,IF(I$3=ESALCat,Design!$N$64:$W$87))))","v":105},{"$f":"SUM(IF($A86=SoilCat,IF($B86=DrainCat,IF(J$3=ESALCat,Design!$N$64:$W$87))))","v":105},{"$f":"SUM(IF($A86=SoilCat,IF($B86=DrainCat,IF(K$3=ESALCat,Design!$N$64:$W$87))))","v":105},{"$f":"SUM(IF($A86=SoilCat,IF($B86=DrainCat,IF(L$3=ESALCat,Design!$N$64:$W$87))))","v":105},{"$f":"SUM(IF($A86=SoilCat,IF($B86=DrainCat,IF(M$3=ESALCat,Design!$N$64:$W$87))))","v":105},{"$f":"SUM(IF($A86=SoilCat,IF($B86=DrainCat,IF(N$3=ESALCat,Design!$N$64:$W$87))))","v":105},{"$f":"SUM(IF($A86=SoilCat,IF($B86=DrainCat,IF(O$3=ESALCat,Design!$N$64:$W$87))))","v":105}]
[7,"Poor",null,null,"Cement Treated Base",{"$f":"SUM(IF($A87=SoilCat,IF($B87=DrainCat,IF(F$3=ESALCat,Design!$AH$64:$AQ$87))))","v":100},{"$f":"SUM(IF($A87=SoilCat,IF($B87=DrainCat,IF(G$3=ESALCat,Design!$AH$64:$AQ$87))))","v":100},{"$f":"SUM(IF($A87=SoilCat,IF($B87=DrainCat,IF(H$3=ESALCat,Design!$AH$64:$AQ$87))))","v":100},{"$f":"SUM(IF($A87=SoilCat,IF($B87=DrainCat,IF(I$3=ESALCat,Design!$AH$64:$AQ$87))))","v":100},{"$f":"SUM(IF($A87=SoilCat,IF($B87=DrainCat,IF(J$3=ESALCat,Design!$AH$64:$AQ$87))))","v":100},{"$f":"SUM(IF($A87=SoilCat,IF($B87=DrainCat,IF(K$3=ESALCat,Design!$AH$64:$AQ$87))))","v":100},{"$f":"SUM(IF($A87=SoilCat,IF($B87=DrainCat,IF(L$3=ESALCat,Design!$AH$64:$AQ$87))))","v":100},{"$f":"SUM(IF($A87=SoilCat,IF($B87=DrainCat,IF(M$3=ESALCat,Design!$AH$64:$AQ$87))))","v":100},{"$f":"SUM(IF($A87=SoilCat,IF($B87=DrainCat,IF(N$3=ESALCat,Design!$AH$64:$AQ$87))))","v":100},{"$f":"SUM(IF($A87=SoilCat,IF($B87=DrainCat,IF(O$3=ESALCat,Design!$AH$64:$AQ$87))))","v":100}]
[7,"Poor",null,null,"Unbound Dense Graded Base",{"$f":"SUM(IF($A88=SoilCat,IF($B88=DrainCat,IF(F$3=ESALCat,Design!$BB$64:$BK$87))))","v":100},{"$f":"SUM(IF($A88=SoilCat,IF($B88=DrainCat,IF(G$3=ESALCat,Design!$BB$64:$BK$87))))","v":100},{"$f":"SUM(IF($A88=SoilCat,IF($B88=DrainCat,IF(H$3=ESALCat,Design!$BB$64:$BK$87))))","v":100},{"$f":"SUM(IF($A88=SoilCat,IF($B88=DrainCat,IF(I$3=ESALCat,Design!$BB$64:$BK$87))))","v":175},{"$f":"SUM(IF($A88=SoilCat,IF($B88=DrainCat,IF(J$3=ESALCat,Design!$BB$64:$BK$87))))","v":100},{"$f":"SUM(IF($A88=SoilCat,IF($B88=DrainCat,IF(K$3=ESALCat,Design!$BB$64:$BK$87))))","v":150},{"$f":"SUM(IF($A88=SoilCat,IF($B88=DrainCat,IF(L$3=ESALCat,Design!$BB$64:$BK$87))))","v":150},{"$f":"SUM(IF($A88=SoilCat,IF($B88=DrainCat,IF(M$3=ESALCat,Design!$BB$64:$BK$87))))","v":150},{"$f":"SUM(IF($A88=SoilCat,IF($B88=DrainCat,IF(N$3=ESALCat,Design!$BB$64:$BK$87))))","v":150},{"$f":"SUM(IF($A88=SoilCat,IF($B88=DrainCat,IF(O$3=ESALCat,Design!$BB$64:$BK$87))))","v":150}]
[7,"Poor",null,null,"Unbound Dense Graded Subbase",{"$f":"SUM(IF($A89=SoilCat,IF($B89=DrainCat,IF(F$3=ESALCat,Design!$BV$64:$CE$87))))","v":0},{"$f":"SUM(IF($A89=SoilCat,IF($B89=DrainCat,IF(G$3=ESALCat,Design!$BV$64:$CE$87))))","v":0},{"$f":"SUM(IF($A89=SoilCat,IF($B89=DrainCat,IF(H$3=ESALCat,Design!$BV$64:$CE$87))))","v":0},{"$f":"SUM(IF($A89=SoilCat,IF($B89=DrainCat,IF(I$3=ESALCat,Design!$BV$64:$CE$87))))","v":0},{"$f":"SUM(IF($A89=SoilCat,IF($B89=DrainCat,IF(J$3=ESALCat,Design!$BV$64:$CE$87))))","v":200},{"$f":"SUM(IF($A89=SoilCat,IF($B89=DrainCat,IF(K$3=ESALCat,Design!$BV$64:$CE$87))))","v":300},{"$f":"SUM(IF($A89=SoilCat,IF($B89=DrainCat,IF(L$3=ESALCat,Design!$BV$64:$CE$87))))","v":425},{"$f":"SUM(IF($A89=SoilCat,IF($B89=DrainCat,IF(M$3=ESALCat,Design!$BV$64:$CE$87))))","v":575},{"$f":"SUM(IF($A89=SoilCat,IF($B89=DrainCat,IF(N$3=ESALCat,Design!$BV$64:$CE$87))))","v":775},{"$f":"SUM(IF($A89=SoilCat,IF($B89=DrainCat,IF(O$3=ESALCat,Design!$BV$64:$CE$87))))","v":925}]
[8,"Good","Category 8","Good","Pavers and Bedding",{"$f":"SUM(IF($A90=SoilCat,IF($B90=DrainCat,IF(F$3=ESALCat,Design!$N$64:$W$87))))","v":105},{"$f":"SUM(IF($A90=SoilCat,IF($B90=DrainCat,IF(G$3=ESALCat,Design!$N$64:$W$87))))","v":105},{"$f":"SUM(IF($A90=SoilCat,IF($B90=DrainCat,IF(H$3=ESALCat,Design!$N$64:$W$87))))","v":105},{"$f":"SUM(IF($A90=SoilCat,IF($B90=DrainCat,IF(I$3=ESALCat,Design!$N$64:$W$87))))","v":105},{"$f":"SUM(IF($A90=SoilCat,IF($B90=DrainCat,IF(J$3=ESALCat,Design!$N$64:$W$87))))","v":105},{"$f":"SUM(IF($A90=SoilCat,IF($B90=DrainCat,IF(K$3=ESALCat,Design!$N$64:$W$87))))","v":105},{"$f":"SUM(IF($A90=SoilCat,IF($B90=DrainCat,IF(L$3=ESALCat,Design!$N$64:$W$87))))","v":105},{"$f":"SUM(IF($A90=SoilCat,IF($B90=DrainCat,IF(M$3=ESALCat,Design!$N$64:$W$87))))","v":105},{"$f":"SUM(IF($A90=SoilCat,IF($B90=DrainCat,IF(N$3=ESALCat,Design!$N$64:$W$87))))","v":105},{"$f":"SUM(IF($A90=SoilCat,IF($B90=DrainCat,IF(O$3=ESALCat,Design!$N$64:$W$87))))","v":105}]
[8,"Good",null,null,"Cement Treated Base",{"$f":"SUM(IF($A91=SoilCat,IF($B91=DrainCat,IF(F$3=ESALCat,Design!$AH$64:$AQ$87))))","v":100},{"$f":"SUM(IF($A91=SoilCat,IF($B91=DrainCat,IF(G$3=ESALCat,Design!$AH$64:$AQ$87))))","v":100},{"$f":"SUM(IF($A91=SoilCat,IF($B91=DrainCat,IF(H$3=ESALCat,Design!$AH$64:$AQ$87))))","v":100},{"$f":"SUM(IF($A91=SoilCat,IF($B91=DrainCat,IF(I$3=ESALCat,Design!$AH$64:$AQ$87))))","v":100},{"$f":"SUM(IF($A91=SoilCat,IF($B91=DrainCat,IF(J$3=ESALCat,Design!$AH$64:$AQ$87))))","v":100},{"$f":"SUM(IF($A91=SoilCat,IF($B91=DrainCat,IF(K$3=ESALCat,Design!$AH$64:$AQ$87))))","v":100},{"$f":"SUM(IF($A91=SoilCat,IF($B91=DrainCat,IF(L$3=ESALCat,Design!$AH$64:$AQ$87))))","v":100},{"$f":"SUM(IF($A91=SoilCat,IF($B91=DrainCat,IF(M$3=ESALCat,Design!$AH$64:$AQ$87))))","v":100},{"$f":"SUM(IF($A91=SoilCat,IF($B91=DrainCat,IF(N$3=ESALCat,Design!$AH$64:$AQ$87))))","v":100},{"$f":"SUM(IF($A91=SoilCat,IF($B91=DrainCat,IF(O$3=ESALCat,Design!$AH$64:$AQ$87))))","v":100}]
[8,"Good",null,null,"Unbound Dense Graded Base",{"$f":"SUM(IF($A92=SoilCat,IF($B92=DrainCat,IF(F$3=ESALCat,Design!$BB$64:$BK$87))))","v":100},{"$f":"SUM(IF($A92=SoilCat,IF($B92=DrainCat,IF(G$3=ESALCat,Design!$BB$64:$BK$87))))","v":100},{"$f":"SUM(IF($A92=SoilCat,IF($B92=DrainCat,IF(H$3=ESALCat,Design!$BB$64:$BK$87))))","v":100},{"$f":"SUM(IF($A92=SoilCat,IF($B92=DrainCat,IF(I$3=ESALCat,Design!$BB$64:$BK$87))))","v":100},{"$f":"SUM(IF($A92=SoilCat,IF($B92=DrainCat,IF(J$3=ESALCat,Design!$BB$64:$BK$87))))","v":125},{"$f":"SUM(IF($A92=SoilCat,IF($B92=DrainCat,IF(K$3=ESALCat,Design!$BB$64:$BK$87))))","v":200},{"$f":"SUM(IF($A92=SoilCat,IF($B92=DrainCat,IF(L$3=ESALCat,Design!$BB$64:$BK$87))))","v":150},{"$f":"SUM(IF($A92=SoilCat,IF($B92=DrainCat,IF(M$3=ESALCat,Design!$BB$64:$BK$87))))","v":150},{"$f":"SUM(IF($A92=SoilCat,IF($B92=DrainCat,IF(N$3=ESALCat,Design!$BB$64:$BK$87))))","v":150},{"$f":"SUM(IF($A92=SoilCat,IF($B92=DrainCat,IF(O$3=ESALCat,Design!$BB$64:$BK$87))))","v":150}]
[8,"Good",null,null,"Unbound Dense Graded Subbase",{"$f":"SUM(IF($A93=SoilCat,IF($B93=DrainCat,IF(F$3=ESALCat,Design!$BV$64:$CE$87))))","v":0},{"$f":"SUM(IF($A93=SoilCat,IF($B93=DrainCat,IF(G$3=ESALCat,Design!$BV$64:$CE$87))))","v":0},{"$f":"SUM(IF($A93=SoilCat,IF($B93=DrainCat,IF(H$3=ESALCat,Design!$BV$64:$CE$87))))","v":0},{"$f":"SUM(IF($A93=SoilCat,IF($B93=DrainCat,IF(I$3=ESALCat,Design!$BV$64:$CE$87))))","v":0},{"$f":"SUM(IF($A93=SoilCat,IF($B93=DrainCat,IF(J$3=ESALCat,Design!$BV$64:$CE$87))))","v":0},{"$f":"SUM(IF($A93=SoilCat,IF($B93=DrainCat,IF(K$3=ESALCat,Design!$BV$64:$CE$87))))","v":0},{"$f":"SUM(IF($A93=SoilCat,IF($B93=DrainCat,IF(L$3=ESALCat,Design!$BV$64:$CE$87))))","v":200},{"$f":"SUM(IF($A93=SoilCat,IF($B93=DrainCat,IF(M$3=ESALCat,Design!$BV$64:$CE$87))))","v":325},{"$f":"SUM(IF($A93=SoilCat,IF($B93=DrainCat,IF(N$3=ESALCat,Design!$BV$64:$CE$87))))","v":525},{"$f":"SUM(IF($A93=SoilCat,IF($B93=DrainCat,IF(O$3=ESALCat,Design!$BV$64:$CE$87))))","v":675}]
[8,"Fair",null,"Fair","Pavers and Bedding",{"$f":"SUM(IF($A94=SoilCat,IF($B94=DrainCat,IF(F$3=ESALCat,Design!$N$64:$W$87))))","v":105},{"$f":"SUM(IF($A94=SoilCat,IF($B94=DrainCat,IF(G$3=ESALCat,Design!$N$64:$W$87))))","v":105},{"$f":"SUM(IF($A94=SoilCat,IF($B94=DrainCat,IF(H$3=ESALCat,Design!$N$64:$W$87))))","v":105},{"$f":"SUM(IF($A94=SoilCat,IF($B94=DrainCat,IF(I$3=ESALCat,Design!$N$64:$W$87))))","v":105},{"$f":"SUM(IF($A94=SoilCat,IF($B94=DrainCat,IF(J$3=ESALCat,Design!$N$64:$W$87))))","v":105},{"$f":"SUM(IF($A94=SoilCat,IF($B94=DrainCat,IF(K$3=ESALCat,Design!$N$64:$W$87))))","v":105},{"$f":"SUM(IF($A94=SoilCat,IF($B94=DrainCat,IF(L$3=ESALCat,Design!$N$64:$W$87))))","v":105},{"$f":"SUM(IF($A94=SoilCat,IF($B94=DrainCat,IF(M$3=ESALCat,Design!$N$64:$W$87))))","v":105},{"$f":"SUM(IF($A94=SoilCat,IF($B94=DrainCat,IF(N$3=ESALCat,Design!$N$64:$W$87))))","v":105},{"$f":"SUM(IF($A94=SoilCat,IF($B94=DrainCat,IF(O$3=ESALCat,Design!$N$64:$W$87))))","v":105}]
[8,"Fair",null,null,"Cement Treated Base",{"$f":"SUM(IF($A95=SoilCat,IF($B95=DrainCat,IF(F$3=ESALCat,Design!$AH$64:$AQ$87))))","v":100},{"$f":"SUM(IF($A95=SoilCat,IF($B95=DrainCat,IF(G$3=ESALCat,Design!$AH$64:$AQ$87))))","v":100},{"$f":"SUM(IF($A95=SoilCat,IF($B95=DrainCat,IF(H$3=ESALCat,Design!$AH$64:$AQ$87))))","v":100},{"$f":"SUM(IF($A95=SoilCat,IF($B95=DrainCat,IF(I$3=ESALCat,Design!$AH$64:$AQ$87))))","v":100},{"$f":"SUM(IF($A95=SoilCat,IF($B95=DrainCat,IF(J$3=ESALCat,Design!$AH$64:$AQ$87))))","v":100},{"$f":"SUM(IF($A95=SoilCat,IF($B95=DrainCat,IF(K$3=ESALCat,Design!$AH$64:$AQ$87))))","v":100},{"$f":"SUM(IF($A95=SoilCat,IF($B95=DrainCat,IF(L$3=ESALCat,Design!$AH$64:$AQ$87))))","v":100},{"$f":"SUM(IF($A95=SoilCat,IF($B95=DrainCat,IF(M$3=ESALCat,Design!$AH$64:$AQ$87))))","v":100},{"$f":"SUM(IF($A95=SoilCat,IF($B95=DrainCat,IF(N$3=ESALCat,Design!$AH$64:$AQ$87))))","v":100},{"$f":"SUM(IF($A95=SoilCat,IF($B95=DrainCat,IF(O$3=ESALCat,Design!$AH$64:$AQ$87))))","v":100}]
[8,"Fair",null,null,"Unbound Dense Graded Base",{"$f":"SUM(IF($A96=SoilCat,IF($B96=DrainCat,IF(F$3=ESALCat,Design!$BB$64:$BK$87))))","v":100},{"$f":"SUM(IF($A96=SoilCat,IF($B96=DrainCat,IF(G$3=ESALCat,Design!$BB$64:$BK$87))))","v":100},{"$f":"SUM(IF($A96=SoilCat,IF($B96=DrainCat,IF(H$3=ESALCat,Design!$BB$64:$BK$87))))","v":100},{"$f":"SUM(IF($A96=SoilCat,IF($B96=DrainCat,IF(I$3=ESALCat,Design!$BB$64:$BK$87))))","v":100},{"$f":"SUM(IF($A96=SoilCat,IF($B96=DrainCat,IF(J$3=ESALCat,Design!$BB$64:$BK$87))))","v":175},{"$f":"SUM(IF($A96=SoilCat,IF($B96=DrainCat,IF(K$3=ESALCat,Design!$BB$64:$BK$87))))","v":150},{"$f":"SUM(IF($A96=SoilCat,IF($B96=DrainCat,IF(L$3=ESALCat,Design!$BB$64:$BK$87))))","v":150},{"$f":"SUM(IF($A96=SoilCat,IF($B96=DrainCat,IF(M$3=ESALCat,Design!$BB$64:$BK$87))))","v":150},{"$f":"SUM(IF($A96=SoilCat,IF($B96=DrainCat,IF(N$3=ESALCat,Design!$BB$64:$BK$87))))","v":150},{"$f":"SUM(IF($A96=SoilCat,IF($B96=DrainCat,IF(O$3=ESALCat,Design!$BB$64:$BK$87))))","v":150}]
[8,"Fair",null,null,"Unbound Dense Graded Subbase",{"$f":"SUM(IF($A97=SoilCat,IF($B97=DrainCat,IF(F$3=ESALCat,Design!$BV$64:$CE$87))))","v":0},{"$f":"SUM(IF($A97=SoilCat,IF($B97=DrainCat,IF(G$3=ESALCat,Design!$BV$64:$CE$87))))","v":0},{"$f":"SUM(IF($A97=SoilCat,IF($B97=DrainCat,IF(H$3=ESALCat,Design!$BV$64:$CE$87))))","v":0},{"$f":"SUM(IF($A97=SoilCat,IF($B97=DrainCat,IF(I$3=ESALCat,Design!$BV$64:$CE$87))))","v":0},{"$f":"SUM(IF($A97=SoilCat,IF($B97=DrainCat,IF(J$3=ESALCat,Design!$BV$64:$CE$87))))","v":0},{"$f":"SUM(IF($A97=SoilCat,IF($B97=DrainCat,IF(K$3=ESALCat,Design!$BV$64:$CE$87))))","v":175},{"$f":"SUM(IF($A97=SoilCat,IF($B97=DrainCat,IF(L$3=ESALCat,Design!$BV$64:$CE$87))))","v":300},{"$f":"SUM(IF($A97=SoilCat,IF($B97=DrainCat,IF(M$3=ESALCat,Design!$BV$64:$CE$87))))","v":425},{"$f":"SUM(IF($A97=SoilCat,IF($B97=DrainCat,IF(N$3=ESALCat,Design!$BV$64:$CE$87))))","v":625},{"$f":"SUM(IF($A97=SoilCat,IF($B97=DrainCat,IF(O$3=ESALCat,Design!$BV$64:$CE$87))))","v":775}]
[8,"Poor",null,"Poor","Pavers and Bedding",{"$f":"SUM(IF($A98=SoilCat,IF($B98=DrainCat,IF(F$3=ESALCat,Design!$N$64:$W$87))))","v":105},{"$f":"SUM(IF($A98=SoilCat,IF($B98=DrainCat,IF(G$3=ESALCat,Design!$N$64:$W$87))))","v":105},{"$f":"SUM(IF($A98=SoilCat,IF($B98=DrainCat,IF(H$3=ESALCat,Design!$N$64:$W$87))))","v":105},{"$f":"SUM(IF($A98=SoilCat,IF($B98=DrainCat,IF(I$3=ESALCat,Design!$N$64:$W$87))))","v":105},{"$f":"SUM(IF($A98=SoilCat,IF($B98=DrainCat,IF(J$3=ESALCat,Design!$N$64:$W$87))))","v":105},{"$f":"SUM(IF($A98=SoilCat,IF($B98=DrainCat,IF(K$3=ESALCat,Design!$N$64:$W$87))))","v":105},{"$f":"SUM(IF($A98=SoilCat,IF($B98=DrainCat,IF(L$3=ESALCat,Design!$N$64:$W$87))))","v":105},{"$f":"SUM(IF($A98=SoilCat,IF($B98=DrainCat,IF(M$3=ESALCat,Design!$N$64:$W$87))))","v":105},{"$f":"SUM(IF($A98=SoilCat,IF($B98=DrainCat,IF(N$3=ESALCat,Design!$N$64:$W$87))))","v":105},{"$f":"SUM(IF($A98=SoilCat,IF($B98=DrainCat,IF(O$3=ESALCat,Design!$N$64:$W$87))))","v":105}]
[8,"Poor",null,null,"Cement Treated Base",{"$f":"SUM(IF($A99=SoilCat,IF($B99=DrainCat,IF(F$3=ESALCat,Design!$AH$64:$AQ$87))))","v":100},{"$f":"SUM(IF($A99=SoilCat,IF($B99=DrainCat,IF(G$3=ESALCat,Design!$AH$64:$AQ$87))))","v":100},{"$f":"SUM(IF($A99=SoilCat,IF($B99=DrainCat,IF(H$3=ESALCat,Design!$AH$64:$AQ$87))))","v":100},{"$f":"SUM(IF($A99=SoilCat,IF($B99=DrainCat,IF(I$3=ESALCat,Design!$AH$64:$AQ$87))))","v":100},{"$f":"SUM(IF($A99=SoilCat,IF($B99=DrainCat,IF(J$3=ESALCat,Design!$AH$64:$AQ$87))))","v":100},{"$f":"SUM(IF($A99=SoilCat,IF($B99=DrainCat,IF(K$3=ESALCat,Design!$AH$64:$AQ$87))))","v":100},{"$f":"SUM(IF($A99=SoilCat,IF($B99=DrainCat,IF(L$3=ESALCat,Design!$AH$64:$AQ$87))))","v":100},{"$f":"SUM(IF($A99=SoilCat,IF($B99=DrainCat,IF(M$3=ESALCat,Design!$AH$64:$AQ$87))))","v":100},{"$f":"SUM(IF($A99=SoilCat,IF($B99=DrainCat,IF(N$3=ESALCat,Design!$AH$64:$AQ$87))))","v":100},{"$f":"SUM(IF($A99=SoilCat,IF($B99=DrainCat,IF(O$3=ESALCat,Design!$AH$64:$AQ$87))))","v":100}]
[8,"Poor",null,null,"Unbound Dense Graded Base",{"$f":"SUM(IF($A100=SoilCat,IF($B100=DrainCat,IF(F$3=ESALCat,Design!$BB$64:$BK$87))))","v":100},{"$f":"SUM(IF($A100=SoilCat,IF($B100=DrainCat,IF(G$3=ESALCat,Design!$BB$64:$BK$87))))","v":100},{"$f":"SUM(IF($A100=SoilCat,IF($B100=DrainCat,IF(H$3=ESALCat,Design!$BB$64:$BK$87))))","v":100},{"$f":"SUM(IF($A100=SoilCat,IF($B100=DrainCat,IF(I$3=ESALCat,Design!$BB$64:$BK$87))))","v":175},{"$f":"SUM(IF($A100=SoilCat,IF($B100=DrainCat,IF(J$3=ESALCat,Design!$BB$64:$BK$87))))","v":100},{"$f":"SUM(IF($A100=SoilCat,IF($B100=DrainCat,IF(K$3=ESALCat,Design!$BB$64:$BK$87))))","v":150},{"$f":"SUM(IF($A100=SoilCat,IF($B100=DrainCat,IF(L$3=ESALCat,Design!$BB$64:$BK$87))))","v":150},{"$f":"SUM(IF($A100=SoilCat,IF($B100=DrainCat,IF(M$3=ESALCat,Design!$BB$64:$BK$87))))","v":150},{"$f":"SUM(IF($A100=SoilCat,IF($B100=DrainCat,IF(N$3=ESALCat,Design!$BB$64:$BK$87))))","v":150},{"$f":"SUM(IF($A100=SoilCat,IF($B100=DrainCat,IF(O$3=ESALCat,Design!$BB$64:$BK$87))))","v":150}]
[8,"Poor",null,null,"Unbound Dense Graded Subbase",{"$f":"SUM(IF($A101=SoilCat,IF($B101=DrainCat,IF(F$3=ESALCat,Design!$BV$64:$CE$87))))","v":0},{"$f":"SUM(IF($A101=SoilCat,IF($B101=DrainCat,IF(G$3=ESALCat,Design!$BV$64:$CE$87))))","v":0},{"$f":"SUM(IF($A101=SoilCat,IF($B101=DrainCat,IF(H$3=ESALCat,Design!$BV$64:$CE$87))))","v":0},{"$f":"SUM(IF($A101=SoilCat,IF($B101=DrainCat,IF(I$3=ESALCat,Design!$BV$64:$CE$87))))","v":0},{"$f":"SUM(IF($A101=SoilCat,IF($B101=DrainCat,IF(J$3=ESALCat,Design!$BV$64:$CE$87))))","v":200},{"$f":"SUM(IF($A101=SoilCat,IF($B101=DrainCat,IF(K$3=ESALCat,Design!$BV$64:$CE$87))))","v":300},{"$f":"SUM(IF($A101=SoilCat,IF($B101=DrainCat,IF(L$3=ESALCat,Design!$BV$64:$CE$87))))","v":425},{"$f":"SUM(IF($A101=SoilCat,IF($B101=DrainCat,IF(M$3=ESALCat,Design!$BV$64:$CE$87))))","v":575},{"$f":"SUM(IF($A101=SoilCat,IF($B101=DrainCat,IF(N$3=ESALCat,Design!$BV$64:$CE$87))))","v":775},{"$f":"SUM(IF($A101=SoilCat,IF($B101=DrainCat,IF(O$3=ESALCat,Design!$BV$64:$CE$87))))","v":925}]

{"sheet":"AC","index":6,"n_rows":77,"n_cols":15,"rows_kept":77,"cut":false,"hidden":false,"merged":[[14,2,22,2],[14,3,16,3],[17,3,19,3],[20,3,22,3],[0,2,1,14],[5,2,13,2],[5,3,7,3],[8,3,10,3],[11,3,13,3],[2,3,4,3],[2,2,4,2],[4,5,4,14],[32,2,40,2],[32,3,34,3],[35,3,37,3],[38,3,40,3],[23,2,31,2],[23,3,25,3],[26,3,28,3],[29,3,31,3],[50,2,58,2],[50,3,52,3],[53,3,55,3],[56,3,58,3],[41,2,49,2],[41,3,43,3],[44,3,46,3],[47,3,49,3],[68,2,76,2],[68,3,70,3],[71,3,73,3],[74,3,76,3],[59,2,67,2],[59,3,61,3],[62,3,64,3],[65,3,67,3]]}
[null,null,"ASPHALT CONCRETE BASE\nSTRUCTURE THICKNESSES (mm)"]
[]
[null,null,null,"Drainage","ESALs",10000,20000,50000,100000,200000,500000,1000000,2000000,5000000,10000000]
[null,null,null,null,"TI",{"$f":"9*(F3/1000000)^0.119","v":5.2028644266514625},{"$f":"9*(G3/1000000)^0.119","v":5.6502163682481852},6.301151766600797,6.8429364924616367,7.4313048747790562,8.2874312748453587,9,9.7738367069006493,10.899835407763195,11.837023489730147]
[null,null,null,null,"Layer Type"]
[1,"Good","Category 1","Good","Pavers and Bedding",{"$f":"SUM(IF($A6=SoilCat,IF($B6=DrainCat,IF(F$3=ESALCat,Design!$N$4:$W$27))))","v":105},{"$f":"SUM(IF($A6=SoilCat,IF($B6=DrainCat,IF(G$3=ESALCat,Design!$N$4:$W$27))))","v":105},{"$f":"SUM(IF($A6=SoilCat,IF($B6=DrainCat,IF(H$3=ESALCat,Design!$N$4:$W$27))))","v":105},{"$f":"SUM(IF($A6=SoilCat,IF($B6=DrainCat,IF(I$3=ESALCat,Design!$N$4:$W$27))))","v":105},{"$f":"SUM(IF($A6=SoilCat,IF($B6=DrainCat,IF(J$3=ESALCat,Design!$N$4:$W$27))))","v":105},{"$f":"SUM(IF($A6=SoilCat,IF($B6=DrainCat,IF(K$3=ESALCat,Design!$N$4:$W$27))))","v":105},{"$f":"SUM(IF($A6=SoilCat,IF($B6=DrainCat,IF(L$3=ESALCat,Design!$N$4:$W$27))))","v":105},{"$f":"SUM(IF($A6=SoilCat,IF($B6=DrainCat,IF(M$3=ESALCat,Design!$N$4:$W$27))))","v":105},{"$f":"SUM(IF($A6=SoilCat,IF($B6=DrainCat,IF(N$3=ESALCat,Design!$N$4:$W$27))))","v":105},{"$f":"SUM(IF($A6=SoilCat,IF($B6=DrainCat,IF(O$3=ESALCat,Design!$N$4:$W$27))))","v":105}]
[1,"Good",null,null,"Asphalt Concrete Base",{"$f":"SUM(IF($A7=SoilCat,IF($B7=DrainCat,IF(F$3=ESALCat,Design!$BB$94:$BK$117))))","v":50},{"$f":"SUM(IF($A7=SoilCat,IF($B7=DrainCat,IF(G$3=ESALCat,Design!$BB$94:$BK$117))))","v":50},{"$f":"SUM(IF($A7=SoilCat,IF($B7=DrainCat,IF(H$3=ESALCat,Design!$BB$94:$BK$117))))","v":50},{"$f":"SUM(IF($A7=SoilCat,IF($B7=DrainCat,IF(I$3=ESALCat,Design!$BB$94:$BK$117))))","v":50},{"$f":"SUM(IF($A7=SoilCat,IF($B7=DrainCat,IF(J$3=ESALCat,Design!$BB$94:$BK$117))))","v":50},{"$f":"SUM(IF($A7=SoilCat,IF($B7=DrainCat,IF(K$3=ESALCat,Design!$BB$94:$BK$117))))","v":50},{"$f":"SUM(IF($A7=SoilCat,IF($B7=DrainCat,IF(L$3=ESALCat,Design!$BB$94:$BK$117))))","v":50},{"$f":"SUM(IF($A7=SoilCat,IF($B7=DrainCat,IF(M$3=ESALCat,Design!$BB$94:$BK$117))))","v":50},{"$f":"SUM(IF($A7=SoilCat,IF($B7=DrainCat,IF(N$3=ESALCat,Design!$BB$94:$BK$117))))","v":50},{"$f":"SUM(IF($A7=SoilCat,IF($B7=DrainCat,IF(O$3=ESALCat,Design!$BB$94:$BK$117))))","v":50}]
[1,"Good",null,null,"Unbound Dense Graded Base",{"$f":"SUM(IF($A8=SoilCat,IF($B8=DrainCat,IF(F$3=ESALCat,Design!$AH$94:$AQ$117))))","v":100},{"$f":"SUM(IF($A8=SoilCat,IF($B8=DrainCat,IF(G$3=ESALCat,Design!$AH$94:$AQ$117))))","v":100},{"$f":"SUM(IF($A8=SoilCat,IF($B8=DrainCat,IF(H$3=ESALCat,Design!$AH$94:$AQ$117))))","v":100},{"$f":"SUM(IF($A8=SoilCat,IF($B8=DrainCat,IF(I$3=ESALCat,Design!$AH$94:$AQ$117))))","v":100},{"$f":"SUM(IF($A8=SoilCat,IF($B8=DrainCat,IF(J$3=ESALCat,Design!$AH$94:$AQ$117))))","v":100},{"$f":"SUM(IF($A8=SoilCat,IF($B8=DrainCat,IF(K$3=ESALCat,Design!$AH$94:$AQ$117))))","v":150},{"$f":"SUM(IF($A8=SoilCat,IF($B8=DrainCat,IF(L$3=ESALCat,Design!$AH$94:$AQ$117))))","v":150},{"$f":"SUM(IF($A8=SoilCat,IF($B8=DrainCat,IF(M$3=ESALCat,Design!$AH$94:$AQ$117))))","v":150},{"$f":"SUM(IF($A8=SoilCat,IF($B8=DrainCat,IF(N$3=ESALCat,Design!$AH$94:$AQ$117))))","v":150},{"$f":"SUM(IF($A8=SoilCat,IF($B8=DrainCat,IF(O$3=ESALCat,Design!$AH$94:$AQ$117))))","v":150}]
[1,"Fair",null,"Fair","Pavers and Bedding",{"$f":"SUM(IF($A9=SoilCat,IF($B9=DrainCat,IF(F$3=ESALCat,Design!$N$4:$W$27))))","v":105},{"$f":"SUM(IF($A9=SoilCat,IF($B9=DrainCat,IF(G$3=ESALCat,Design!$N$4:$W$27))))","v":105},{"$f":"SUM(IF($A9=SoilCat,IF($B9=DrainCat,IF(H$3=ESALCat,Design!$N$4:$W$27))))","v":105},{"$f":"SUM(IF($A9=SoilCat,IF($B9=DrainCat,IF(I$3=ESALCat,Design!$N$4:$W$27))))","v":105},{"$f":"SUM(IF($A9=SoilCat,IF($B9=DrainCat,IF(J$3=ESALCat,Design!$N$4:$W$27))))","v":105},{"$f":"SUM(IF($A9=SoilCat,IF($B9=DrainCat,IF(K$3=ESALCat,Design!$N$4:$W$27))))","v":105},{"$f":"SUM(IF($A9=SoilCat,IF($B9=DrainCat,IF(L$3=ESALCat,Design!$N$4:$W$27))))","v":105},{"$f":"SUM(IF($A9=SoilCat,IF($B9=DrainCat,IF(M$3=ESALCat,Design!$N$4:$W$27))))","v":105},{"$f":"SUM(IF($A9=SoilCat,IF($B9=DrainCat,IF(N$3=ESALCat,Design!$N$4:$W$27))))","v":105},{"$f":"SUM(IF($A9=SoilCat,IF($B9=DrainCat,IF(O$3=ESALCat,Design!$N$4:$W$27))))","v":105}]
[1,"Fair",null,null,"Asphalt Concrete Base",{"$f":"SUM(IF($A10=SoilCat,IF($B10=DrainCat,IF(F$3=ESALCat,Design!$BB$94:$BK$117))))","v":50},{"$f":"SUM(IF($A10=SoilCat,IF($B10=DrainCat,IF(G$3=ESALCat,Design!$BB$94:$BK$117))))","v":50},{"$f":"SUM(IF($A10=SoilCat,IF($B10=DrainCat,IF(H$3=ESALCat,Design!$BB$94:$BK$117))))","v":50},{"$f":"SUM(IF($A10=SoilCat,IF($B10=DrainCat,IF(I$3=ESALCat,Design!$BB$94:$BK$117))))","v":50},{"$f":"SUM(IF($A10=SoilCat,IF($B10=DrainCat,IF(J$3=ESALCat,Design!$BB$94:$BK$117))))","v":50},{"$f":"SUM(IF($A10=SoilCat,IF($B10=DrainCat,IF(K$3=ESALCat,Design!$BB$94:$BK$117))))","v":50},{"$f":"SUM(IF($A10=SoilCat,IF($B10=DrainCat,IF(L$3=ESALCat,Design!$BB$94:$BK$117))))","v":50},{"$f":"SUM(IF($A10=SoilCat,IF($B10=DrainCat,IF(M$3=ESALCat,Design!$BB$94:$BK$117))))","v":50},{"$f":"SUM(IF($A10=SoilCat,IF($B10=DrainCat,IF(N$3=ESALCat,Design!$BB$94:$BK$117))))","v":50},{"$f":"SUM(IF($A10=SoilCat,IF($B10=DrainCat,IF(O$3=ESALCat,Design!$BB$94:$BK$117))))","v":50}]
[1,"Fair",null,null,"Unbound Dense Graded Base",{"$f":"SUM(IF($A11=SoilCat,IF($B11=DrainCat,IF(F$3=ESALCat,Design!$AH$94:$AQ$117))))","v":100},{"$f":"SUM(IF($A11=SoilCat,IF($B11=DrainCat,IF(G$3=ESALCat,Design!$AH$94:$AQ$117))))","v":100},{"$f":"SUM(IF($A11=SoilCat,IF($B11=DrainCat,IF(H$3=ESALCat,Design!$AH$94:$AQ$117))))","v":100},{"$f":"SUM(IF($A11=SoilCat,IF($B11=DrainCat,IF(I$3=ESALCat,Design!$AH$94:$AQ$117))))","v":100},{"$f":"SUM(IF($A11=SoilCat,IF($B11=DrainCat,IF(J$3=ESALCat,Design!$AH$94:$AQ$117))))","v":100},{"$f":"SUM(IF($A11=SoilCat,IF($B11=DrainCat,IF(K$3=ESALCat,Design!$AH$94:$AQ$117))))","v":150},{"$f":"SUM(IF($A11=SoilCat,IF($B11=DrainCat,IF(L$3=ESALCat,Design!$AH$94:$AQ$117))))","v":150},{"$f":"SUM(IF($A11=SoilCat,IF($B11=DrainCat,IF(M$3=ESALCat,Design!$AH$94:$AQ$117))))","v":150},{"$f":"SUM(IF($A11=SoilCat,IF($B11=DrainCat,IF(N$3=ESALCat,Design!$AH$94:$AQ$117))))","v":150},{"$f":"SUM(IF($A11=SoilCat,IF($B11=DrainCat,IF(O$3=ESALCat,Design!$AH$94:$AQ$117))))","v":150}]
[1,"Poor",null,"Poor","Pavers and Bedding",{"$f":"SUM(IF($A12=SoilCat,IF($B12=DrainCat,IF(F$3=ESALCat,Design!$N$4:$W$27))))","v":105},{"$f":"SUM(IF($A12=SoilCat,IF($B12=DrainCat,IF(G$3=ESALCat,Design!$N$4:$W$27))))","v":105},{"$f":"SUM(IF($A12=SoilCat,IF($B12=DrainCat,IF(H$3=ESALCat,Design!$N$4:$W$27))))","v":105},{"$f":"SUM(IF($A12=SoilCat,IF($B12=DrainCat,IF(I$3=ESALCat,Design!$N$4:$W$27))))","v":105},{"$f":"SUM(IF($A12=SoilCat,IF($B12=DrainCat,IF(J$3=ESALCat,Design!$N$4:$W$27))))","v":105},{"$f":"SUM(IF($A12=SoilCat,IF($B12=DrainCat,IF(K$3=ESALCat,Design!$N$4:$W$27))))","v":105},{"$f":"SUM(IF($A12=SoilCat,IF($B12=DrainCat,IF(L$3=ESALCat,Design!$N$4:$W$27))))","v":105},{"$f":"SUM(IF($A12=SoilCat,IF($B12=DrainCat,IF(M$3=ESALCat,Design!$N$4:$W$27))))","v":105},{"$f":"SUM(IF($A12=SoilCat,IF($B12=DrainCat,IF(N$3=ESALCat,Design!$N$4:$W$27))))","v":105},{"$f":"SUM(IF($A12=SoilCat,IF($B12=DrainCat,IF(O$3=ESALCat,Design!$N$4:$W$27))))","v":105}]
[1,"Poor",null,null,"Asphalt Concrete Base",{"$f":"SUM(IF($A13=SoilCat,IF($B13=DrainCat,IF(F$3=ESALCat,Design!$BB$94:$BK$117))))","v":50},{"$f":"SUM(IF($A13=SoilCat,IF($B13=DrainCat,IF(G$3=ESALCat,Design!$BB$94:$BK$117))))","v":50},{"$f":"SUM(IF($A13=SoilCat,IF($B13=DrainCat,IF(H$3=ESALCat,Design!$BB$94:$BK$117))))","v":50},{"$f":"SUM(IF($A13=SoilCat,IF($B13=DrainCat,IF(I$3=ESALCat,Design!$BB$94:$BK$117))))","v":50},{"$f":"SUM(IF($A13=SoilCat,IF($B13=DrainCat,IF(J$3=ESALCat,Design!$BB$94:$BK$117))))","v":50},{"$f":"SUM(IF($A13=SoilCat,IF($B13=DrainCat,IF(K$3=ESALCat,Design!$BB$94:$BK$117))))","v":50},{"$f":"SUM(IF($A13=SoilCat,IF($B13=DrainCat,IF(L$3=ESALCat,Design!$BB$94:$BK$117))))","v":50},{"$f":"SUM(IF($A13=SoilCat,IF($B13=DrainCat,IF(M$3=ESALCat,Design!$BB$94:$BK$117))))","v":50},{"$f":"SUM(IF($A13=SoilCat,IF($B13=DrainCat,IF(N$3=ESALCat,Design!$BB$94:$BK$117))))","v":50},{"$f":"SUM(IF($A13=SoilCat,IF($B13=DrainCat,IF(O$3=ESALCat,Design!$BB$94:$BK$117))))","v":70}]
[1,"Poor",null,null,"Unbound Dense Graded Base",{"$f":"SUM(IF($A14=SoilCat,IF($B14=DrainCat,IF(F$3=ESALCat,Design!$AH$94:$AQ$117))))","v":100},{"$f":"SUM(IF($A14=SoilCat,IF($B14=DrainCat,IF(G$3=ESALCat,Design!$AH$94:$AQ$117))))","v":100},{"$f":"SUM(IF($A14=SoilCat,IF($B14=DrainCat,IF(H$3=ESALCat,Design!$AH$94:$AQ$117))))","v":100},{"$f":"SUM(IF($A14=SoilCat,IF($B14=DrainCat,IF(I$3=ESALCat,Design!$AH$94:$AQ$117))))","v":100},{"$f":"SUM(IF($A14=SoilCat,IF($B14=DrainCat,IF(J$3=ESALCat,Design!$AH$94:$AQ$117))))","v":100},{"$f":"SUM(IF($A14=SoilCat,IF($B14=DrainCat,IF(K$3=ESALCat,Design!$AH$94:$AQ$117))))","v":150},{"$f":"SUM(IF($A14=SoilCat,IF($B14=DrainCat,IF(L$3=ESALCat,Design!$AH$94:$AQ$117))))","v":150},{"$f":"SUM(IF($A14=SoilCat,IF($B14=DrainCat,IF(M$3=ESALCat,Design!$AH$94:$AQ$117))))","v":150},{"$f":"SUM(IF($A14=SoilCat,IF($B14=DrainCat,IF(N$3=ESALCat,Design!$AH$94:$AQ$117))))","v":150},{"$f":"SUM(IF($A14=SoilCat,IF($B14=DrainCat,IF(O$3=ESALCat,Design!$AH$94:$AQ$117))))","v":150}]
[2,"Good","Category 2","Good","Pavers and Bedding",{"$f":"SUM(IF($A15=SoilCat,IF($B15=DrainCat,IF(F$3=ESALCat,Design!$N$4:$W$27))))","v":105},{"$f":"SUM(IF($A15=SoilCat,IF($B15=DrainCat,IF(G$3=ESALCat,Design!$N$4:$W$27))))","v":105},{"$f":"SUM(IF($A15=SoilCat,IF($B15=DrainCat,IF(H$3=ESALCat,Design!$N$4:$W$27))))","v":105},{"$f":"SUM(IF($A15=SoilCat,IF($B15=DrainCat,IF(I$3=ESALCat,Design!$N$4:$W$27))))","v":105},{"$f":"SUM(IF($A15=SoilCat,IF($B15=DrainCat,IF(J$3=ESALCat,Design!$N$4:$W$27))))","v":105},{"$f":"SUM(IF($A15=SoilCat,IF($B15=DrainCat,IF(K$3=ESALCat,Design!$N$4:$W$27))))","v":105},{"$f":"SUM(IF($A15=SoilCat,IF($B15=DrainCat,IF(L$3=ESALCat,Design!$N$4:$W$27))))","v":105},{"$f":"SUM(IF($A15=SoilCat,IF($B15=DrainCat,IF(M$3=ESALCat,Design!$N$4:$W$27))))","v":105},{"$f":"SUM(IF($A15=SoilCat,IF($B15=DrainCat,IF(N$3=ESALCat,Design!$N$4:$W$27))))","v":105},{"$f":"SUM(IF($A15=SoilCat,IF($B15=DrainCat,IF(O$3=ESALCat,Design!$N$4:$W$27))))","v":105}]
[2,"Good",null,null,"Asphalt Concrete Base",{"$f":"SUM(IF($A16=SoilCat,IF($B16=DrainCat,IF(F$3=ESALCat,Design!$BB$94:$BK$117))))","v":50},{"$f":"SUM(IF($A16=SoilCat,IF($B16=DrainCat,IF(G$3=ESALCat,Design!$BB$94:$BK$117))))","v":50},{"$f":"SUM(IF($A16=SoilCat,IF($B16=DrainCat,IF(H$3=ESALCat,Design!$BB$94:$BK$117))))","v":50},{"$f":"SUM(IF($A16=SoilCat,IF($B16=DrainCat,IF(I$3=ESALCat,Design!$BB$94:$BK$117))))","v":50},{"$f":"SUM(IF($A16=SoilCat,IF($B16=DrainCat,IF(J$3=ESALCat,Design!$BB$94:$BK$117))))","v":50},{"$f":"SUM(IF($A16=SoilCat,IF($B16=DrainCat,IF(K$3=ESALCat,Design!$BB$94:$BK$117))))","v":50},{"$f":"SUM(IF($A16=SoilCat,IF($B16=DrainCat,IF(L$3=ESALCat,Design!$BB$94:$BK$117))))","v":50},{"$f":"SUM(IF($A16=SoilCat,IF($B16=DrainCat,IF(M$3=ESALCat,Design!$BB$94:$BK$117))))","v":50},{"$f":"SUM(IF($A16=SoilCat,IF($B16=DrainCat,IF(N$3=ESALCat,Design!$BB$94:$BK$117))))","v":50},{"$f":"SUM(IF($A16=SoilCat,IF($B16=DrainCat,IF(O$3=ESALCat,Design!$BB$94:$BK$117))))","v":50}]
[2,"Good",null,null,"Unbound Dense Graded Base",{"$f":"SUM(IF($A17=SoilCat,IF($B17=DrainCat,IF(F$3=ESALCat,Design!$AH$94:$AQ$117))))","v":100},{"$f":"SUM(IF($A17=SoilCat,IF($B17=DrainCat,IF(G$3=ESALCat,Design!$AH$94:$AQ$117))))","v":100},{"$f":"SUM(IF($A17=SoilCat,IF($B17=DrainCat,IF(H$3=ESALCat,Design!$AH$94:$AQ$117))))","v":100},{"$f":"SUM(IF($A17=SoilCat,IF($B17=DrainCat,IF(I$3=ESALCat,Design!$AH$94:$AQ$117))))","v":100},{"$f":"SUM(IF($A17=SoilCat,IF($B17=DrainCat,IF(J$3=ESALCat,Design!$AH$94:$AQ$117))))","v":100},{"$f":"SUM(IF($A17=SoilCat,IF($B17=DrainCat,IF(K$3=ESALCat,Design!$AH$94:$AQ$117))))","v":150},{"$f":"SUM(IF($A17=SoilCat,IF($B17=DrainCat,IF(L$3=ESALCat,Design!$AH$94:$AQ$117))))","v":150},{"$f":"SUM(IF($A17=SoilCat,IF($B17=DrainCat,IF(M$3=ESALCat,Design!$AH$94:$AQ$117))))","v":150},{"$f":"SUM(IF($A17=SoilCat,IF($B17=DrainCat,IF(N$3=ESALCat,Design!$AH$94:$AQ$117))))","v":150},{"$f":"SUM(IF($A17=SoilCat,IF($B17=DrainCat,IF(O$3=ESALCat,Design!$AH$94:$AQ$117))))","v":150}]
[2,"Fair",null,"Fair","Pavers and Bedding",{"$f":"SUM(IF($A18=SoilCat,IF($B18=DrainCat,IF(F$3=ESALCat,Design!$N$4:$W$27))))","v":105},{"$f":"SUM(IF($A18=SoilCat,IF($B18=DrainCat,IF(G$3=ESALCat,Design!$N$4:$W$27))))","v":105},{"$f":"SUM(IF($A18=SoilCat,IF($B18=DrainCat,IF(H$3=ESALCat,Design!$N$4:$W$27))))","v":105},{"$f":"SUM(IF($A18=SoilCat,IF($B18=DrainCat,IF(I$3=ESALCat,Design!$N$4:$W$27))))","v":105},{"$f":"SUM(IF($A18=SoilCat,IF($B18=DrainCat,IF(J$3=ESALCat,Design!$N$4:$W$27))))","v":105},{"$f":"SUM(IF($A18=SoilCat,IF($B18=DrainCat,IF(K$3=ESALCat,Design!$N$4:$W$27))))","v":105},{"$f":"SUM(IF($A18=SoilCat,IF($B18=DrainCat,IF(L$3=ESALCat,Design!$N$4:$W$27))))","v":105},{"$f":"SUM(IF($A18=SoilCat,IF($B18=DrainCat,IF(M$3=ESALCat,Design!$N$4:$W$27))))","v":105},{"$f":"SUM(IF($A18=SoilCat,IF($B18=DrainCat,IF(N$3=ESALCat,Design!$N$4:$W$27))))","v":105},{"$f":"SUM(IF($A18=SoilCat,IF($B18=DrainCat,IF(O$3=ESALCat,Design!$N$4:$W$27))))","v":105}]
[2,"Fair",null,null,"Asphalt Concrete Base",{"$f":"SUM(IF($A19=SoilCat,IF($B19=DrainCat,IF(F$3=ESALCat,Design!$BB$94:$BK$117))))","v":50},{"$f":"SUM(IF($A19=SoilCat,IF($B19=DrainCat,IF(G$3=ESALCat,Design!$BB$94:$BK$117))))","v":50},{"$f":"SUM(IF($A19=SoilCat,IF($B19=DrainCat,IF(H$3=ESALCat,Design!$BB$94:$BK$117))))","v":50},{"$f":"SUM(IF($A19=SoilCat,IF($B19=DrainCat,IF(I$3=ESALCat,Design!$BB$94:$BK$117))))","v":50},{"$f":"SUM(IF($A19=SoilCat,IF($B19=DrainCat,IF(J$3=ESALCat,Design!$BB$94:$BK$117))))","v":50},{"$f":"SUM(IF($A19=SoilCat,IF($B19=DrainCat,IF(K$3=ESALCat,Design!$BB$94:$BK$117))))","v":50},{"$f":"SUM(IF($A19=SoilCat,IF($B19=DrainCat,IF(L$3=ESALCat,Design!$BB$94:$BK$117))))","v":50},{"$f":"SUM(IF($A19=SoilCat,IF($B19=DrainCat,IF(M$3=ESALCat,Design!$BB$94:$BK$117))))","v":50},{"$f":"SUM(IF($A19=SoilCat,IF($B19=DrainCat,IF(N$3=ESALCat,Design!$BB$94:$BK$117))))","v":50},{"$f":"SUM(IF($A19=SoilCat,IF($B19=DrainCat,IF(O$3=ESALCat,Design!$BB$94:$BK$117))))","v":70}]
[2,"Fair",null,null,"Unbound Dense Graded Base",{"$f":"SUM(IF($A20=SoilCat,IF($B20=DrainCat,IF(F$3=ESALCat,Design!$AH$94:$AQ$117))))","v":100},{"$f":"SUM(IF($A20=SoilCat,IF($B20=DrainCat,IF(G$3=ESALCat,Design!$AH$94:$AQ$117))))","v":100},{"$f":"SUM(IF($A20=SoilCat,IF($B20=DrainCat,IF(H$3=ESALCat,Design!$AH$94:$AQ$117))))","v":100},{"$f":"SUM(IF($A20=SoilCat,IF($B20=DrainCat,IF(I$3=ESALCat,Design!$AH$94:$AQ$117))))","v":100},{"$f":"SUM(IF($A20=SoilCat,IF($B20=DrainCat,IF(J$3=ESALCat,Design!$AH$94:$AQ$117))))","v":100},{"$f":"SUM(IF($A20=SoilCat,IF($B20=DrainCat,IF(K$3=ESALCat,Design!$AH$94:$AQ$117))))","v":150},{"$f":"SUM(IF($A20=SoilCat,IF($B20=DrainCat,IF(L$3=ESALCat,Design!$AH$94:$AQ$117))))","v":150},{"$f":"SUM(IF($A20=SoilCat,IF($B20=DrainCat,IF(M$3=ESALCat,Design!$AH$94:$AQ$117))))","v":150},{"$f":"SUM(IF($A20=SoilCat,IF($B20=DrainCat,IF(N$3=ESALCat,Design!$AH$94:$AQ$117))))","v":150},{"$f":"SUM(IF($A20=SoilCat,IF($B20=DrainCat,IF(O$3=ESALCat,Design!$AH$94:$AQ$117))))","v":150}]
[2,"Poor",null,"Poor","Pavers and Bedding",{"$f":"SUM(IF($A21=SoilCat,IF($B21=DrainCat,IF(F$3=ESALCat,Design!$N$4:$W$27))))","v":105},{"$f":"SUM(IF($A21=SoilCat,IF($B21=DrainCat,IF(G$3=ESALCat,Design!$N$4:$W$27))))","v":105},{"$f":"SUM(IF($A21=SoilCat,IF($B21=DrainCat,IF(H$3=ESALCat,Design!$N$4:$W$27))))","v":105},{"$f":"SUM(IF($A21=SoilCat,IF($B21=DrainCat,IF(I$3=ESALCat,Design!$N$4:$W$27))))","v":105},{"$f":"SUM(IF($A21=SoilCat,IF($B21=DrainCat,IF(J$3=ESALCat,Design!$N$4:$W$27))))","v":105},{"$f":"SUM(IF($A21=SoilCat,IF($B21=DrainCat,IF(K$3=ESALCat,Design!$N$4:$W$27))))","v":105},{"$f":"SUM(IF($A21=SoilCat,IF($B21=DrainCat,IF(L$3=ESALCat,Design!$N$4:$W$27))))","v":105},{"$f":"SUM(IF($A21=SoilCat,IF($B21=DrainCat,IF(M$3=ESALCat,Design!$N$4:$W$27))))","v":105},{"$f":"SUM(IF($A21=SoilCat,IF($B21=DrainCat,IF(N$3=ESALCat,Design!$N$4:$W$27))))","v":105},{"$f":"SUM(IF($A21=SoilCat,IF($B21=DrainCat,IF(O$3=ESALCat,Design!$N$4:$W$27))))","v":105}]
[2,"Poor",null,null,"Asphalt Concrete Base",{"$f":"SUM(IF($A22=SoilCat,IF($B22=DrainCat,IF(F$3=ESALCat,Design!$BB$94:$BK$117))))","v":50},{"$f":"SUM(IF($A22=SoilCat,IF($B22=DrainCat,IF(G$3=ESALCat,Design!$BB$94:$BK$117))))","v":50},{"$f":"SUM(IF($A22=SoilCat,IF($B22=DrainCat,IF(H$3=ESALCat,Design!$BB$94:$BK$117))))","v":50},{"$f":"SUM(IF($A22=SoilCat,IF($B22=DrainCat,IF(I$3=ESALCat,Design!$BB$94:$BK$117))))","v":50},{"$f":"SUM(IF($A22=SoilCat,IF($B22=DrainCat,IF(J$3=ESALCat,Design!$BB$94:$BK$117))))","v":50},{"$f":"SUM(IF($A22=SoilCat,IF($B22=DrainCat,IF(K$3=ESALCat,Design!$BB$94:$BK$117))))","v":50},{"$f":"SUM(IF($A22=SoilCat,IF($B22=DrainCat,IF(L$3=ESALCat,Design!$BB$94:$BK$117))))","v":50},{"$f":"SUM(IF($A22=SoilCat,IF($B22=DrainCat,IF(M$3=ESALCat,Design!$BB$94:$BK$117))))","v":50},{"$f":"SUM(IF($A22=SoilCat,IF($B22=DrainCat,IF(N$3=ESALCat,Design!$BB$94:$BK$117))))","v":70},{"$f":"SUM(IF($A22=SoilCat,IF($B22=DrainCat,IF(O$3=ESALCat,Design!$BB$94:$BK$117))))","v":100}]
[2,"Poor",null,null,"Unbound Dense Graded Base",{"$f":"SUM(IF($A23=SoilCat,IF($B23=DrainCat,IF(F$3=ESALCat,Design!$AH$94:$AQ$117))))","v":100},{"$f":"SUM(IF($A23=SoilCat,IF($B23=DrainCat,IF(G$3=ESALCat,Design!$AH$94:$AQ$117))))","v":100},{"$f":"SUM(IF($A23=SoilCat,IF($B23=DrainCat,IF(H$3=ESALCat,Design!$AH$94:$AQ$117))))","v":100},{"$f":"SUM(IF($A23=SoilCat,IF($B23=DrainCat,IF(I$3=ESALCat,Design!$AH$94:$AQ$117))))","v":100},{"$f":"SUM(IF($A23=SoilCat,IF($B23=DrainCat,IF(J$3=ESALCat,Design!$AH$94:$AQ$117))))","v":100},{"$f":"SUM(IF($A23=SoilCat,IF($B23=DrainCat,IF(K$3=ESALCat,Design!$AH$94:$AQ$117))))","v":150},{"$f":"SUM(IF($A23=SoilCat,IF($B23=DrainCat,IF(L$3=ESALCat,Design!$AH$94:$AQ$117))))","v":150},{"$f":"SUM(IF($A23=SoilCat,IF($B23=DrainCat,IF(M$3=ESALCat,Design!$AH$94:$AQ$117))))","v":150},{"$f":"SUM(IF($A23=SoilCat,IF($B23=DrainCat,IF(N$3=ESALCat,Design!$AH$94:$AQ$117))))","v":150},{"$f":"SUM(IF($A23=SoilCat,IF($B23=DrainCat,IF(O$3=ESALCat,Design!$AH$94:$AQ$117))))","v":150}]
[3,"Good","Category 3","Good","Pavers and Bedding",{"$f":"SUM(IF($A24=SoilCat,IF($B24=DrainCat,IF(F$3=ESALCat,Design!$N$4:$W$27))))","v":105},{"$f":"SUM(IF($A24=SoilCat,IF($B24=DrainCat,IF(G$3=ESALCat,Design!$N$4:$W$27))))","v":105},{"$f":"SUM(IF($A24=SoilCat,IF($B24=DrainCat,IF(H$3=ESALCat,Design!$N$4:$W$27))))","v":105},{"$f":"SUM(IF($A24=SoilCat,IF($B24=DrainCat,IF(I$3=ESALCat,Design!$N$4:$W$27))))","v":105},{"$f":"SUM(IF($A24=SoilCat,IF($B24=DrainCat,IF(J$3=ESALCat,Design!$N$4:$W$27))))","v":105},{"$f":"SUM(IF($A24=SoilCat,IF($B24=DrainCat,IF(K$3=ESALCat,Design!$N$4:$W$27))))","v":105},{"$f":"SUM(IF($A24=SoilCat,IF($B24=DrainCat,IF(L$3=ESALCat,Design!$N$4:$W$27))))","v":105},{"$f":"SUM(IF($A24=SoilCat,IF($B24=DrainCat,IF(M$3=ESALCat,Design!$N$4:$W$27))))","v":105},{"$f":"SUM(IF($A24=SoilCat,IF($B24=DrainCat,IF(N$3=ESALCat,Design!$N$4:$W$27))))","v":105},{"$f":"SUM(IF($A24=SoilCat,IF($B24=DrainCat,IF(O$3=ESALCat,Design!$N$4:$W$27))))","v":105}]
[3,"Good",null,null,"Asphalt Concrete Base",{"$f":"SUM(IF($A25=SoilCat,IF($B25=DrainCat,IF(F$3=ESALCat,Design!$BB$94:$BK$117))))","v":50},{"$f":"SUM(IF($A25=SoilCat,IF($B25=DrainCat,IF(G$3=ESALCat,Design!$BB$94:$BK$117))))","v":50},{"$f":"SUM(IF($A25=SoilCat,IF($B25=DrainCat,IF(H$3=ESALCat,Design!$BB$94:$BK$117))))","v":50},{"$f":"SUM(IF($A25=SoilCat,IF($B25=DrainCat,IF(I$3=ESALCat,Design!$BB$94:$BK$117))))","v":50},{"$f":"SUM(IF($A25=SoilCat,IF($B25=DrainCat,IF(J$3=ESALCat,Design!$BB$94:$BK$117))))","v":50},{"$f":"SUM(IF($A25=SoilCat,IF($B25=DrainCat,IF(K$3=ESALCat,Design!$BB$94:$BK$117))))","v":50},{"$f":"SUM(IF($A25=SoilCat,IF($B25=DrainCat,IF(L$3=ESALCat,Design!$BB$94:$BK$117))))","v":50},{"$f":"SUM(IF($A25=SoilCat,IF($B25=DrainCat,IF(M$3=ESALCat,Design!$BB$94:$BK$117))))","v":50},{"$f":"SUM(IF($A25=SoilCat,IF($B25=DrainCat,IF(N$3=ESALCat,Design!$BB$94:$BK$117))))","v":50},{"$f":"SUM(IF($A25=SoilCat,IF($B25=DrainCat,IF(O$3=ESALCat,Design!$BB$94:$BK$117))))","v":70}]
[3,"Good",null,null,"Unbound Dense Graded Base",{"$f":"SUM(IF($A26=SoilCat,IF($B26=DrainCat,IF(F$3=ESALCat,Design!$AH$94:$AQ$117))))","v":100},{"$f":"SUM(IF($A26=SoilCat,IF($B26=DrainCat,IF(G$3=ESALCat,Design!$AH$94:$AQ$117))))","v":100},{"$f":"SUM(IF($A26=SoilCat,IF($B26=DrainCat,IF(H$3=ESALCat,Design!$AH$94:$AQ$117))))","v":100},{"$f":"SUM(IF($A26=SoilCat,IF($B26=DrainCat,IF(I$3=ESALCat,Design!$AH$94:$AQ$117))))","v":100},{"$f":"SUM(IF($A26=SoilCat,IF($B26=DrainCat,IF(J$3=ESALCat,Design!$AH$94:$AQ$117))))","v":100},{"$f":"SUM(IF($A26=SoilCat,IF($B26=DrainCat,IF(K$3=ESALCat,Design!$AH$94:$AQ$117))))","v":150},{"$f":"SUM(IF($A26=SoilCat,IF($B26=DrainCat,IF(L$3=ESALCat,Design!$AH$94:$AQ$117))))","v":150},{"$f":"SUM(IF($A26=SoilCat,IF($B26=DrainCat,IF(M$3=ESALCat,Design!$AH$94:$AQ$117))))","v":150},{"$f":"SUM(IF($A26=SoilCat,IF($B26=DrainCat,IF(N$3=ESALCat,Design!$AH$94:$AQ$117))))","v":150},{"$f":"SUM(IF($A26=SoilCat,IF($B26=DrainCat,IF(O$3=ESALCat,Design!$AH$94:$AQ$117))))","v":150}]
[3,"Fair",null,"Fair","Pavers and Bedding",{"$f":"SUM(IF($A27=SoilCat,IF($B27=DrainCat,IF(F$3=ESALCat,Design!$N$4:$W$27))))","v":105},{"$f":"SUM(IF($A27=SoilCat,IF($B27=DrainCat,IF(G$3=ESALCat,Design!$N$4:$W$27))))","v":105},{"$f":"SUM(IF($A27=SoilCat,IF($B27=DrainCat,IF(H$3=ESALCat,Design!$N$4:$W$27))))","v":105},{"$f":"SUM(IF($A27=SoilCat,IF($B27=DrainCat,IF(I$3=ESALCat,Design!$N$4:$W$27))))","v":105},{"$f":"SUM(IF($A27=SoilCat,IF($B27=DrainCat,IF(J$3=ESALCat,Design!$N$4:$W$27))))","v":105},{"$f":"SUM(IF($A27=SoilCat,IF($B27=DrainCat,IF(K$3=ESALCat,Design!$N$4:$W$27))))","v":105},{"$f":"SUM(IF($A27=SoilCat,IF($B27=DrainCat,IF(L$3=ESALCat,Design!$N$4:$W$27))))","v":105},{"$f":"SUM(IF($A27=SoilCat,IF($B27=DrainCat,IF(M$3=ESALCat,Design!$N$4:$W$27))))","v":105},{"$f":"SUM(IF($A27=SoilCat,IF($B27=DrainCat,IF(N$3=ESALCat,Design!$N$4:$W$27))))","v":105},{"$f":"SUM(IF($A27=SoilCat,IF($B27=DrainCat,IF(O$3=ESALCat,Design!$N$4:$W$27))))","v":105}]
[3,"Fair",null,null,"Asphalt Concrete Base",{"$f":"SUM(IF($A28=SoilCat,IF($B28=DrainCat,IF(F$3=ESALCat,Design!$BB$94:$BK$117))))","v":50},{"$f":"SUM(IF($A28=SoilCat,IF($B28=DrainCat,IF(G$3=ESALCat,Design!$BB$94:$BK$117))))","v":50},{"$f":"SUM(IF($A28=SoilCat,IF($B28=DrainCat,IF(H$3=ESALCat,Design!$BB$94:$BK$117))))","v":50},{"$f":"SUM(IF($A28=SoilCat,IF($B28=DrainCat,IF(I$3=ESALCat,Design!$BB$94:$BK$117))))","v":50},{"$f":"SUM(IF($A28=SoilCat,IF($B28=DrainCat,IF(J$3=ESALCat,Design!$BB$94:$BK$117))))","v":50},{"$f":"SUM(IF($A28=SoilCat,IF($B28=DrainCat,IF(K$3=ESALCat,Design!$BB$94:$BK$117))))","v":50},{"$f":"SUM(IF($A28=SoilCat,IF($B28=DrainCat,IF(L$3=ESALCat,Design!$BB$94:$BK$117))))","v":50},{"$f":"SUM(IF($A28=SoilCat,IF($B28=DrainCat,IF(M$3=ESALCat,Design!$BB$94:$BK$117))))","v":50},{"$f":"SUM(IF($A28=SoilCat,IF($B28=DrainCat,IF(N$3=ESALCat,Design!$BB$94:$BK$117))))","v":70},{"$f":"SUM(IF($A28=SoilCat,IF($B28=DrainCat,IF(O$3=ESALCat,Design!$BB$94:$BK$117))))","v":100}]
[3,"Fair",null,null,"Unbound Dense Graded Base",{"$f":"SUM(IF($A29=SoilCat,IF($B29=DrainCat,IF(F$3=ESALCat,Design!$AH$94:$AQ$117))))","v":100},{"$f":"SUM(IF($A29=SoilCat,IF($B29=DrainCat,IF(G$3=ESALCat,Design!$AH$94:$AQ$117))))","v":100},{"$f":"SUM(IF($A29=SoilCat,IF($B29=DrainCat,IF(H$3=ESALCat,Design!$AH$94:$AQ$117))))","v":100},{"$f":"SUM(IF($A29=SoilCat,IF($B29=DrainCat,IF(I$3=ESALCat,Design!$AH$94:$AQ$117))))","v":100},{"$f":"SUM(IF($A29=SoilCat,IF($B29=DrainCat,IF(J$3=ESALCat,Design!$AH$94:$AQ$117))))","v":100},{"$f":"SUM(IF($A29=SoilCat,IF($B29=DrainCat,IF(K$3=ESALCat,Design!$AH$94:$AQ$117))))","v":150},{"$f":"SUM(IF($A29=SoilCat,IF($B29=DrainCat,IF(L$3=ESALCat,Design!$AH$94:$AQ$117))))","v":150},{"$f":"SUM(IF($A29=SoilCat,IF($B29=DrainCat,IF(M$3=ESALCat,Design!$AH$94:$AQ$117))))","v":150},{"$f":"SUM(IF($A29=SoilCat,IF($B29=DrainCat,IF(N$3=ESALCat,Design!$AH$94:$AQ$117))))","v":150},{"$f":"SUM(IF($A29=SoilCat,IF($B29=DrainCat,IF(O$3=ESALCat,Design!$AH$94:$AQ$117))))","v":150}]
[3,"Poor",null,"Poor","Pavers and Bedding",{"$f":"SUM(IF($A30=SoilCat,IF($B30=DrainCat,IF(F$3=ESALCat,Design!$N$4:$W$27))))","v":105},{"$f":"SUM(IF($A30=SoilCat,IF($B30=DrainCat,IF(G$3=ESALCat,Design!$N$4:$W$27))))","v":105},{"$f":"SUM(IF($A30=SoilCat,IF($B30=DrainCat,IF(H$3=ESALCat,Design!$N$4:$W$27))))","v":105},{"$f":"SUM(IF($A30=SoilCat,IF($B30=DrainCat,IF(I$3=ESALCat,Design!$N$4:$W$27))))","v":105},{"$f":"SUM(IF($A30=SoilCat,IF($B30=DrainCat,IF(J$3=ESALCat,Design!$N$4:$W$27))))","v":105},{"$f":"SUM(IF($A30=SoilCat,IF($B30=DrainCat,IF(K$3=ESALCat,Design!$N$4:$W$27))))","v":105},{"$f":"SUM(IF($A30=SoilCat,IF($B30=DrainCat,IF(L$3=ESALCat,Design!$N$4:$W$27))))","v":105},{"$f":"SUM(IF($A30=SoilCat,IF($B30=DrainCat,IF(M$3=ESALCat,Design!$N$4:$W$27))))","v":105},{"$f":"SUM(IF($A30=SoilCat,IF($B30=DrainCat,IF(N$3=ESALCat,Design!$N$4:$W$27))))","v":105},{"$f":"SUM(IF($A30=SoilCat,IF($B30=DrainCat,IF(O$3=ESALCat,Design!$N$4:$W$27))))","v":105}]
[3,"Poor",null,null,"Asphalt Concrete Base",{"$f":"SUM(IF($A31=SoilCat,IF($B31=DrainCat,IF(F$3=ESALCat,Design!$BB$94:$BK$117))))","v":50},{"$f":"SUM(IF($A31=SoilCat,IF($B31=DrainCat,IF(G$3=ESALCat,Design!$BB$94:$BK$117))))","v":50},{"$f":"SUM(IF($A31=SoilCat,IF($B31=DrainCat,IF(H$3=ESALCat,Design!$BB$94:$BK$117))))","v":50},{"$f":"SUM(IF($A31=SoilCat,IF($B31=DrainCat,IF(I$3=ESALCat,Design!$BB$94:$BK$117))))","v":50},{"$f":"SUM(IF($A31=SoilCat,IF($B31=DrainCat,IF(J$3=ESALCat,Design!$BB$94:$BK$117))))","v":50},{"$f":"SUM(IF($A31=SoilCat,IF($B31=DrainCat,IF(K$3=ESALCat,Design!$BB$94:$BK$117))))","v":50},{"$f":"SUM(IF($A31=SoilCat,IF($B31=DrainCat,IF(L$3=ESALCat,Design!$BB$94:$BK$117))))","v":50},{"$f":"SUM(IF($A31=SoilCat,IF($B31=DrainCat,IF(M$3=ESALCat,Design!$BB$94:$BK$117))))","v":70},{"$f":"SUM(IF($A31=SoilCat,IF($B31=DrainCat,IF(N$3=ESALCat,Design!$BB$94:$BK$117))))","v":100},{"$f":"SUM(IF($A31=SoilCat,IF($B31=DrainCat,IF(O$3=ESALCat,Design!$BB$94:$BK$117))))","v":130}]
[3,"Poor",null,null,"Unbound Dense Graded Base",{"$f":"SUM(IF($A32=SoilCat,IF($B32=DrainCat,IF(F$3=ESALCat,Design!$AH$94:$AQ$117))))","v":100},{"$f":"SUM(IF($A32=SoilCat,IF($B32=DrainCat,IF(G$3=ESALCat,Design!$AH$94:$AQ$117))))","v":100},{"$f":"SUM(IF($A32=SoilCat,IF($B32=DrainCat,IF(H$3=ESALCat,Design!$AH$94:$AQ$117))))","v":100},{"$f":"SUM(IF($A32=SoilCat,IF($B32=DrainCat,IF(I$3=ESALCat,Design!$AH$94:$AQ$117))))","v":100},{"$f":"SUM(IF($A32=SoilCat,IF($B32=DrainCat,IF(J$3=ESALCat,Design!$AH$94:$AQ$117))))","v":100},{"$f":"SUM(IF($A32=SoilCat,IF($B32=DrainCat,IF(K$3=ESALCat,Design!$AH$94:$AQ$117))))","v":150},{"$f":"SUM(IF($A32=SoilCat,IF($B32=DrainCat,IF(L$3=ESALCat,Design!$AH$94:$AQ$117))))","v":150},{"$f":"SUM(IF($A32=SoilCat,IF($B32=DrainCat,IF(M$3=ESALCat,Design!$AH$94:$AQ$117))))","v":150},{"$f":"SUM(IF($A32=SoilCat,IF($B32=DrainCat,IF(N$3=ESALCat,Design!$AH$94:$AQ$117))))","v":150},{"$f":"SUM(IF($A32=SoilCat,IF($B32=DrainCat,IF(O$3=ESALCat,Design!$AH$94:$AQ$117))))","v":150}]
[4,"Good","Category 4","Good","Pavers and Bedding",{"$f":"SUM(IF($A33=SoilCat,IF($B33=DrainCat,IF(F$3=ESALCat,Design!$N$4:$W$27))))","v":105},{"$f":"SUM(IF($A33=SoilCat,IF($B33=DrainCat,IF(G$3=ESALCat,Design!$N$4:$W$27))))","v":105},{"$f":"SUM(IF($A33=SoilCat,IF($B33=DrainCat,IF(H$3=ESALCat,Design!$N$4:$W$27))))","v":105},{"$f":"SUM(IF($A33=SoilCat,IF($B33=DrainCat,IF(I$3=ESALCat,Design!$N$4:$W$27))))","v":105},{"$f":"SUM(IF($A33=SoilCat,IF($B33=DrainCat,IF(J$3=ESALCat,Design!$N$4:$W$27))))","v":105},{"$f":"SUM(IF($A33=SoilCat,IF($B33=DrainCat,IF(K$3=ESALCat,Design!$N$4:$W$27))))","v":105},{"$f":"SUM(IF($A33=SoilCat,IF($B33=DrainCat,IF(L$3=ESALCat,Design!$N$4:$W$27))))","v":105},{"$f":"SUM(IF($A33=SoilCat,IF($B33=DrainCat,IF(M$3=ESALCat,Design!$N$4:$W$27))))","v":105},{"$f":"SUM(IF($A33=SoilCat,IF($B33=DrainCat,IF(N$3=ESALCat,Design!$N$4:$W$27))))","v":105},{"$f":"SUM(IF($A33=SoilCat,IF($B33=DrainCat,IF(O$3=ESALCat,Design!$N$4:$W$27))))","v":105}]
[4,"Good",null,null,"Asphalt Concrete Base",{"$f":"SUM(IF($A34=SoilCat,IF($B34=DrainCat,IF(F$3=ESALCat,Design!$BB$94:$BK$117))))","v":50},{"$f":"SUM(IF($A34=SoilCat,IF($B34=DrainCat,IF(G$3=ESALCat,Design!$BB$94:$BK$117))))","v":50},{"$f":"SUM(IF($A34=SoilCat,IF($B34=DrainCat,IF(H$3=ESALCat,Design!$BB$94:$BK$117))))","v":50},{"$f":"SUM(IF($A34=SoilCat,IF($B34=DrainCat,IF(I$3=ESALCat,Design!$BB$94:$BK$117))))","v":50},{"$f":"SUM(IF($A34=SoilCat,IF($B34=DrainCat,IF(J$3=ESALCat,Design!$BB$94:$BK$117))))","v":50},{"$f":"SUM(IF($A34=SoilCat,IF($B34=DrainCat,IF(K$3=ESALCat,Design!$BB$94:$BK$117))))","v":50},{"$f":"SUM(IF($A34=SoilCat,IF($B34=DrainCat,IF(L$3=ESALCat,Design!$BB$94:$BK$117))))","v":50},{"$f":"SUM(IF($A34=SoilCat,IF($B34=DrainCat,IF(M$3=ESALCat,Design!$BB$94:$BK$117))))","v":50},{"$f":"SUM(IF($A34=SoilCat,IF($B34=DrainCat,IF(N$3=ESALCat,Design!$BB$94:$BK$117))))","v":70},{"$f":"SUM(IF($A34=SoilCat,IF($B34=DrainCat,IF(O$3=ESALCat,Design!$BB$94:$BK$117))))","v":100}]
[4,"Good",null,null,"Unbound Dense Graded Base",{"$f":"SUM(IF($A35=SoilCat,IF($B35=DrainCat,IF(F$3=ESALCat,Design!$AH$94:$AQ$117))))","v":100},{"$f":"SUM(IF($A35=SoilCat,IF($B35=DrainCat,IF(G$3=ESALCat,Design!$AH$94:$AQ$117))))","v":100},{"$f":"SUM(IF($A35=SoilCat,IF($B35=DrainCat,IF(H$3=ESALCat,Design!$AH$94:$AQ$117))))","v":100},{"$f":"SUM(IF($A35=SoilCat,IF($B35=DrainCat,IF(I$3=ESALCat,Design!$AH$94:$AQ$117))))","v":100},{"$f":"SUM(IF($A35=SoilCat,IF($B35=DrainCat,IF(J$3=ESALCat,Design!$AH$94:$AQ$117))))","v":100},{"$f":"SUM(IF($A35=SoilCat,IF($B35=DrainCat,IF(K$3=ESALCat,Design!$AH$94:$AQ$117))))","v":150},{"$f":"SUM(IF($A35=SoilCat,IF($B35=DrainCat,IF(L$3=ESALCat,Design!$AH$94:$AQ$117))))","v":150},{"$f":"SUM(IF($A35=SoilCat,IF($B35=DrainCat,IF(M$3=ESALCat,Design!$AH$94:$AQ$117))))","v":150},{"$f":"SUM(IF($A35=SoilCat,IF($B35=DrainCat,IF(N$3=ESALCat,Design!$AH$94:$AQ$117))))","v":150},{"$f":"SUM(IF($A35=SoilCat,IF($B35=DrainCat,IF(O$3=ESALCat,Design!$AH$94:$AQ$117))))","v":150}]
[4,"Fair",null,"Fair","Pavers and Bedding",{"$f":"SUM(IF($A36=SoilCat,IF($B36=DrainCat,IF(F$3=ESALCat,Design!$N$4:$W$27))))","v":105},{"$f":"SUM(IF($A36=SoilCat,IF($B36=DrainCat,IF(G$3=ESALCat,Design!$N$4:$W$27))))","v":105},{"$f":"SUM(IF($A36=SoilCat,IF($B36=DrainCat,IF(H$3=ESALCat,Design!$N$4:$W$27))))","v":105},{"$f":"SUM(IF($A36=SoilCat,IF($B36=DrainCat,IF(I$3=ESALCat,Design!$N$4:$W$27))))","v":105},{"$f":"SUM(IF($A36=SoilCat,IF($B36=DrainCat,IF(J$3=ESALCat,Design!$N$4:$W$27))))","v":105},{"$f":"SUM(IF($A36=SoilCat,IF($B36=DrainCat,IF(K$3=ESALCat,Design!$N$4:$W$27))))","v":105},{"$f":"SUM(IF($A36=SoilCat,IF($B36=DrainCat,IF(L$3=ESALCat,Design!$N$4:$W$27))))","v":105},{"$f":"SUM(IF($A36=SoilCat,IF($B36=DrainCat,IF(M$3=ESALCat,Design!$N$4:$W$27))))","v":105},{"$f":"SUM(IF($A36=SoilCat,IF($B36=DrainCat,IF(N$3=ESALCat,Design!$N$4:$W$27))))","v":105},{"$f":"SUM(IF($A36=SoilCat,IF($B36=DrainCat,IF(O$3=ESALCat,Design!$N$4:$W$27))))","v":105}]
[4,"Fair",null,null,"Asphalt Concrete Base",{"$f":"SUM(IF($A37=SoilCat,IF($B37=DrainCat,IF(F$3=ESALCat,Design!$BB$94:$BK$117))))","v":50},{"$f":"SUM(IF($A37=SoilCat,IF($B37=DrainCat,IF(G$3=ESALCat,Design!$BB$94:$BK$117))))","v":50},{"$f":"SUM(IF($A37=SoilCat,IF($B37=DrainCat,IF(H$3=ESALCat,Design!$BB$94:$BK$117))))","v":50},{"$f":"SUM(IF($A37=SoilCat,IF($B37=DrainCat,IF(I$3=ESALCat,Design!$BB$94:$BK$117))))","v":50},{"$f":"SUM(IF($A37=SoilCat,IF($B37=DrainCat,IF(J$3=ESALCat,Design!$BB$94:$BK$117))))","v":50},{"$f":"SUM(IF($A37=SoilCat,IF($B37=DrainCat,IF(K$3=ESALCat,Design!$BB$94:$BK$117))))","v":50},{"$f":"SUM(IF($A37=SoilCat,IF($B37=DrainCat,IF(L$3=ESALCat,Design!$BB$94:$BK$117))))","v":50},{"$f":"SUM(IF($A37=SoilCat,IF($B37=DrainCat,IF(M$3=ESALCat,Design!$BB$94:$BK$117))))","v":70},{"$f":"SUM(IF($A37=SoilCat,IF($B37=DrainCat,IF(N$3=ESALCat,Design!$BB$94:$BK$117))))","v":100},{"$f":"SUM(IF($A37=SoilCat,IF($B37=DrainCat,IF(O$3=ESALCat,Design!$BB$94:$BK$117))))","v":130}]
[4,"Fair",null,null,"Unbound Dense Graded Base",{"$f":"SUM(IF($A38=SoilCat,IF($B38=DrainCat,IF(F$3=ESALCat,Design!$AH$94:$AQ$117))))","v":100},{"$f":"SUM(IF($A38=SoilCat,IF($B38=DrainCat,IF(G$3=ESALCat,Design!$AH$94:$AQ$117))))","v":100},{"$f":"SUM(IF($A38=SoilCat,IF($B38=DrainCat,IF(H$3=ESALCat,Design!$AH$94:$AQ$117))))","v":100},{"$f":"SUM(IF($A38=SoilCat,IF($B38=DrainCat,IF(I$3=ESALCat,Design!$AH$94:$AQ$117))))","v":100},{"$f":"SUM(IF($A38=SoilCat,IF($B38=DrainCat,IF(J$3=ESALCat,Design!$AH$94:$AQ$117))))","v":100},{"$f":"SUM(IF($A38=SoilCat,IF($B38=DrainCat,IF(K$3=ESALCat,Design!$AH$94:$AQ$117))))","v":150},{"$f":"SUM(IF($A38=SoilCat,IF($B38=DrainCat,IF(L$3=ESALCat,Design!$AH$94:$AQ$117))))","v":150},{"$f":"SUM(IF($A38=SoilCat,IF($B38=DrainCat,IF(M$3=ESALCat,Design!$AH$94:$AQ$117))))","v":150},{"$f":"SUM(IF($A38=SoilCat,IF($B38=DrainCat,IF(N$3=ESALCat,Design!$AH$94:$AQ$117))))","v":150},{"$f":"SUM(IF($A38=SoilCat,IF($B38=DrainCat,IF(O$3=ESALCat,Design!$AH$94:$AQ$117))))","v":150}]
[4,"Poor",null,"Poor","Pavers and Bedding",{"$f":"SUM(IF($A39=SoilCat,IF($B39=DrainCat,IF(F$3=ESALCat,Design!$N$4:$W$27))))","v":105},{"$f":"SUM(IF($A39=SoilCat,IF($B39=DrainCat,IF(G$3=ESALCat,Design!$N$4:$W$27))))","v":105},{"$f":"SUM(IF($A39=SoilCat,IF($B39=DrainCat,IF(H$3=ESALCat,Design!$N$4:$W$27))))","v":105},{"$f":"SUM(IF($A39=SoilCat,IF($B39=DrainCat,IF(I$3=ESALCat,Design!$N$4:$W$27))))","v":105},{"$f":"SUM(IF($A39=SoilCat,IF($B39=DrainCat,IF(J$3=ESALCat,Design!$N$4:$W$27))))","v":105},{"$f":"SUM(IF($A39=SoilCat,IF($B39=DrainCat,IF(K$3=ESALCat,Design!$N$4:$W$27))))","v":105},{"$f":"SUM(IF($A39=SoilCat,IF($B39=DrainCat,IF(L$3=ESALCat,Design!$N$4:$W$27))))","v":105},{"$f":"SUM(IF($A39=SoilCat,IF($B39=DrainCat,IF(M$3=ESALCat,Design!$N$4:$W$27))))","v":105},{"$f":"SUM(IF($A39=SoilCat,IF($B39=DrainCat,IF(N$3=ESALCat,Design!$N$4:$W$27))))","v":105},{"$f":"SUM(IF($A39=SoilCat,IF($B39=DrainCat,IF(O$3=ESALCat,Design!$N$4:$W$27))))","v":105}]
[4,"Poor",null,null,"Asphalt Concrete Base",{"$f":"SUM(IF($A40=SoilCat,IF($B40=DrainCat,IF(F$3=ESALCat,Design!$BB$94:$BK$117))))","v":50},{"$f":"SUM(IF($A40=SoilCat,IF($B40=DrainCat,IF(G$3=ESALCat,Design!$BB$94:$BK$117))))","v":50},{"$f":"SUM(IF($A40=SoilCat,IF($B40=DrainCat,IF(H$3=ESALCat,Design!$BB$94:$BK$117))))","v":50},{"$f":"SUM(IF($A40=SoilCat,IF($B40=DrainCat,IF(I$3=ESALCat,Design!$BB$94:$BK$117))))","v":50},{"$f":"SUM(IF($A40=SoilCat,IF($B40=DrainCat,IF(J$3=ESALCat,Design!$BB$94:$BK$117))))","v":50},{"$f":"SUM(IF($A40=SoilCat,IF($B40=DrainCat,IF(K$3=ESALCat,Design!$BB$94:$BK$117))))","v":50},{"$f":"SUM(IF($A40=SoilCat,IF($B40=DrainCat,IF(L$3=ESALCat,Design!$BB$94:$BK$117))))","v":50},{"$f":"SUM(IF($A40=SoilCat,IF($B40=DrainCat,IF(M$3=ESALCat,Design!$BB$94:$BK$117))))","v":80},{"$f":"SUM(IF($A40=SoilCat,IF($B40=DrainCat,IF(N$3=ESALCat,Design!$BB$94:$BK$117))))","v":120},{"$f":"SUM(IF($A40=SoilCat,IF($B40=DrainCat,IF(O$3=ESALCat,Design!$BB$94:$BK$117))))","v":140}]
[4,"Poor",null,null,"Unbound Dense Graded Base",{"$f":"SUM(IF($A41=SoilCat,IF($B41=DrainCat,IF(F$3=ESALCat,Design!$AH$94:$AQ$117))))","v":100},{"$f":"SUM(IF($A41=SoilCat,IF($B41=DrainCat,IF(G$3=ESALCat,Design!$AH$94:$AQ$117))))","v":100},{"$f":"SUM(IF($A41=SoilCat,IF($B41=DrainCat,IF(H$3=ESALCat,Design!$AH$94:$AQ$117))))","v":100},{"$f":"SUM(IF($A41=SoilCat,IF($B41=DrainCat,IF(I$3=ESALCat,Design!$AH$94:$AQ$117))))","v":100},{"$f":"SUM(IF($A41=SoilCat,IF($B41=DrainCat,IF(J$3=ESALCat,Design!$AH$94:$AQ$117))))","v":100},{"$f":"SUM(IF($A41=SoilCat,IF($B41=DrainCat,IF(K$3=ESALCat,Design!$AH$94:$AQ$117))))","v":150},{"$f":"SUM(IF($A41=SoilCat,IF($B41=DrainCat,IF(L$3=ESALCat,Design!$AH$94:$AQ$117))))","v":150},{"$f":"SUM(IF($A41=SoilCat,IF($B41=DrainCat,IF(M$3=ESALCat,Design!$AH$94:$AQ$117))))","v":150},{"$f":"SUM(IF($A41=SoilCat,IF($B41=DrainCat,IF(N$3=ESALCat,Design!$AH$94:$AQ$117))))","v":150},{"$f":"SUM(IF($A41=SoilCat,IF($B41=DrainCat,IF(O$3=ESALCat,Design!$AH$94:$AQ$117))))","v":150}]
[5,"Good","Category 5","Good","Pavers and Bedding",{"$f":"SUM(IF($A42=SoilCat,IF($B42=DrainCat,IF(F$3=ESALCat,Design!$N$4:$W$27))))","v":105},{"$f":"SUM(IF($A42=SoilCat,IF($B42=DrainCat,IF(G$3=ESALCat,Design!$N$4:$W$27))))","v":105},{"$f":"SUM(IF($A42=SoilCat,IF($B42=DrainCat,IF(H$3=ESALCat,Design!$N$4:$W$27))))","v":105},{"$f":"SUM(IF($A42=SoilCat,IF($B42=DrainCat,IF(I$3=ESALCat,Design!$N$4:$W$27))))","v":105},{"$f":"SUM(IF($A42=SoilCat,IF($B42=DrainCat,IF(J$3=ESALCat,Design!$N$4:$W$27))))","v":105},{"$f":"SUM(IF($A42=SoilCat,IF($B42=DrainCat,IF(K$3=ESALCat,Design!$N$4:$W$27))))","v":105},{"$f":"SUM(IF($A42=SoilCat,IF($B42=DrainCat,IF(L$3=ESALCat,Design!$N$4:$W$27))))","v":105},{"$f":"SUM(IF($A42=SoilCat,IF($B42=DrainCat,IF(M$3=ESALCat,Design!$N$4:$W$27))))","v":105},{"$f":"SUM(IF($A42=SoilCat,IF($B42=DrainCat,IF(N$3=ESALCat,Design!$N$4:$W$27))))","v":105},{"$f":"SUM(IF($A42=SoilCat,IF($B42=DrainCat,IF(O$3=ESALCat,Design!$N$4:$W$27))))","v":105}]
[5,"Good",null,null,"Asphalt Concrete Base",{"$f":"SUM(IF($A43=SoilCat,IF($B43=DrainCat,IF(F$3=ESALCat,Design!$BB$94:$BK$117))))","v":50},{"$f":"SUM(IF($A43=SoilCat,IF($B43=DrainCat,IF(G$3=ESALCat,Design!$BB$94:$BK$117))))","v":50},{"$f":"SUM(IF($A43=SoilCat,IF($B43=DrainCat,IF(H$3=ESALCat,Design!$BB$94:$BK$117))))","v":50},{"$f":"SUM(IF($A43=SoilCat,IF($B43=DrainCat,IF(I$3=ESALCat,Design!$BB$94:$BK$117))))","v":50},{"$f":"SUM(IF($A43=SoilCat,IF($B43=DrainCat,IF(J$3=ESALCat,Design!$BB$94:$BK$117))))","v":50},{"$f":"SUM(IF($A43=SoilCat,IF($B43=DrainCat,IF(K$3=ESALCat,Design!$BB$94:$BK$117))))","v":50},{"$f":"SUM(IF($A43=SoilCat,IF($B43=DrainCat,IF(L$3=ESALCat,Design!$BB$94:$BK$117))))","v":50},{"$f":"SUM(IF($A43=SoilCat,IF($B43=DrainCat,IF(M$3=ESALCat,Design!$BB$94:$BK$117))))","v":50},{"$f":"SUM(IF($A43=SoilCat,IF($B43=DrainCat,IF(N$3=ESALCat,Design!$BB$94:$BK$117))))","v":90},{"$f":"SUM(IF($A43=SoilCat,IF($B43=DrainCat,IF(O$3=ESALCat,Design!$BB$94:$BK$117))))","v":120}]
[5,"Good",null,null,"Unbound Dense Graded Base",{"$f":"SUM(IF($A44=SoilCat,IF($B44=DrainCat,IF(F$3=ESALCat,Design!$AH$94:$AQ$117))))","v":100},{"$f":"SUM(IF($A44=SoilCat,IF($B44=DrainCat,IF(G$3=ESALCat,Design!$AH$94:$AQ$117))))","v":100},{"$f":"SUM(IF($A44=SoilCat,IF($B44=DrainCat,IF(H$3=ESALCat,Design!$AH$94:$AQ$117))))","v":100},{"$f":"SUM(IF($A44=SoilCat,IF($B44=DrainCat,IF(I$3=ESALCat,Design!$AH$94:$AQ$117))))","v":100},{"$f":"SUM(IF($A44=SoilCat,IF($B44=DrainCat,IF(J$3=ESALCat,Design!$AH$94:$AQ$117))))","v":100},{"$f":"SUM(IF($A44=SoilCat,IF($B44=DrainCat,IF(K$3=ESALCat,Design!$AH$94:$AQ$117))))","v":150},{"$f":"SUM(IF($A44=SoilCat,IF($B44=DrainCat,IF(L$3=ESALCat,Design!$AH$94:$AQ$117))))","v":150},{"$f":"SUM(IF($A44=SoilCat,IF($B44=DrainCat,IF(M$3=ESALCat,Design!$AH$94:$AQ$117))))","v":150},{"$f":"SUM(IF($A44=SoilCat,IF($B44=DrainCat,IF(N$3=ESALCat,Design!$AH$94:$AQ$117))))","v":150},{"$f":"SUM(IF($A44=SoilCat,IF($B44=DrainCat,IF(O$3=ESALCat,Design!$AH$94:$AQ$117))))","v":150}]
[5,"Fair",null,"Fair","Pavers and Bedding",{"$f":"SUM(IF($A45=SoilCat,IF($B45=DrainCat,IF(F$3=ESALCat,Design!$N$4:$W$27))))","v":105},{"$f":"SUM(IF($A45=SoilCat,IF($B45=DrainCat,IF(G$3=ESALCat,Design!$N$4:$W$27))))","v":105},{"$f":"SUM(IF($A45=SoilCat,IF($B45=DrainCat,IF(H$3=ESALCat,Design!$N$4:$W$27))))","v":105},{"$f":"SUM(IF($A45=SoilCat,IF($B45=DrainCat,IF(I$3=ESALCat,Design!$N$4:$W$27))))","v":105},{"$f":"SUM(IF($A45=SoilCat,IF($B45=DrainCat,IF(J$3=ESALCat,Design!$N$4:$W$27))))","v":105},{"$f":"SUM(IF($A45=SoilCat,IF($B45=DrainCat,IF(K$3=ESALCat,Design!$N$4:$W$27))))","v":105},{"$f":"SUM(IF($A45=SoilCat,IF($B45=DrainCat,IF(L$3=ESALCat,Design!$N$4:$W$27))))","v":105},{"$f":"SUM(IF($A45=SoilCat,IF($B45=DrainCat,IF(M$3=ESALCat,Design!$N$4:$W$27))))","v":105},{"$f":"SUM(IF($A45=SoilCat,IF($B45=DrainCat,IF(N$3=ESALCat,Design!$N$4:$W$27))))","v":105},{"$f":"SUM(IF($A45=SoilCat,IF($B45=DrainCat,IF(O$3=ESALCat,Design!$N$4:$W$27))))","v":105}]
[5,"Fair",null,null,"Asphalt Concrete Base",{"$f":"SUM(IF($A46=SoilCat,IF($B46=DrainCat,IF(F$3=ESALCat,Design!$BB$94:$BK$117))))","v":50},{"$f":"SUM(IF($A46=SoilCat,IF($B46=DrainCat,IF(G$3=ESALCat,Design!$BB$94:$BK$117))))","v":50},{"$f":"SUM(IF($A46=SoilCat,IF($B46=DrainCat,IF(H$3=ESALCat,Design!$BB$94:$BK$117))))","v":50},{"$f":"SUM(IF($A46=SoilCat,IF($B46=DrainCat,IF(I$3=ESALCat,Design!$BB$94:$BK$117))))","v":50},{"$f":"SUM(IF($A46=SoilCat,IF($B46=DrainCat,IF(J$3=ESALCat,Design!$BB$94:$BK$117))))","v":50},{"$f":"SUM(IF($A46=SoilCat,IF($B46=DrainCat,IF(K$3=ESALCat,Design!$BB$94:$BK$117))))","v":50},{"$f":"SUM(IF($A46=SoilCat,IF($B46=DrainCat,IF(L$3=ESALCat,Design!$BB$94:$BK$117))))","v":50},{"$f":"SUM(IF($A46=SoilCat,IF($B46=DrainCat,IF(M$3=ESALCat,Design!$BB$94:$BK$117))))","v":80},{"$f":"SUM(IF($A46=SoilCat,IF($B46=DrainCat,IF(N$3=ESALCat,Design!$BB$94:$BK$117))))","v":120},{"$f":"SUM(IF($A46=SoilCat,IF($B46=DrainCat,IF(O$3=ESALCat,Design!$BB$94:$BK$117))))","v":140}]
[5,"Fair",null,null,"Unbound Dense Graded Base",{"$f":"SUM(IF($A47=SoilCat,IF($B47=DrainCat,IF(F$3=ESALCat,Design!$AH$94:$AQ$117))))","v":100},{"$f":"SUM(IF($A47=SoilCat,IF($B47=DrainCat,IF(G$3=ESALCat,Design!$AH$94:$AQ$117))))","v":100},{"$f":"SUM(IF($A47=SoilCat,IF($B47=DrainCat,IF(H$3=ESALCat,Design!$AH$94:$AQ$117))))","v":100},{"$f":"SUM(IF($A47=SoilCat,IF($B47=DrainCat,IF(I$3=ESALCat,Design!$AH$94:$AQ$117))))","v":100},{"$f":"SUM(IF($A47=SoilCat,IF($B47=DrainCat,IF(J$3=ESALCat,Design!$AH$94:$AQ$117))))","v":100},{"$f":"SUM(IF($A47=SoilCat,IF($B47=DrainCat,IF(K$3=ESALCat,Design!$AH$94:$AQ$117))))","v":150},{"$f":"SUM(IF($A47=SoilCat,IF($B47=DrainCat,IF(L$3=ESALCat,Design!$AH$94:$AQ$117))))","v":150},{"$f":"SUM(IF($A47=SoilCat,IF($B47=DrainCat,IF(M$3=ESALCat,Design!$AH$94:$AQ$117))))","v":150},{"$f":"SUM(IF($A47=SoilCat,IF($B47=DrainCat,IF(N$3=ESALCat,Design!$AH$94:$AQ$117))))","v":150},{"$f":"SUM(IF($A47=SoilCat,IF($B47=DrainCat,IF(O$3=ESALCat,Design!$AH$94:$AQ$117))))","v":150}]
[5,"Poor",null,"Poor","Pavers and Bedding",{"$f":"SUM(IF($A48=SoilCat,IF($B48=DrainCat,IF(F$3=ESALCat,Design!$N$4:$W$27))))","v":105},{"$f":"SUM(IF($A48=SoilCat,IF($B48=DrainCat,IF(G$3=ESALCat,Design!$N$4:$W$27))))","v":105},{"$f":"SUM(IF($A48=SoilCat,IF($B48=DrainCat,IF(H$3=ESALCat,Design!$N$4:$W$27))))","v":105},{"$f":"SUM(IF($A48=SoilCat,IF($B48=DrainCat,IF(I$3=ESALCat,Design!$N$4:$W$27))))","v":105},{"$f":"SUM(IF($A48=SoilCat,IF($B48=DrainCat,IF(J$3=ESALCat,Design!$N$4:$W$27))))","v":105},{"$f":"SUM(IF($A48=SoilCat,IF($B48=DrainCat,IF(K$3=ESALCat,Design!$N$4:$W$27))))","v":105},{"$f":"SUM(IF($A48=SoilCat,IF($B48=DrainCat,IF(L$3=ESALCat,Design!$N$4:$W$27))))","v":105},{"$f":"SUM(IF($A48=SoilCat,IF($B48=DrainCat,IF(M$3=ESALCat,Design!$N$4:$W$27))))","v":105},{"$f":"SUM(IF($A48=SoilCat,IF($B48=DrainCat,IF(N$3=ESALCat,Design!$N$4:$W$27))))","v":105},{"$f":"SUM(IF($A48=SoilCat,IF($B48=DrainCat,IF(O$3=ESALCat,Design!$N$4:$W$27))))","v":105}]
[5,"Poor",null,null,"Asphalt Concrete Base",{"$f":"SUM(IF($A49=SoilCat,IF($B49=DrainCat,IF(F$3=ESALCat,Design!$BB$94:$BK$117))))","v":50},{"$f":"SUM(IF($A49=SoilCat,IF($B49=DrainCat,IF(G$3=ESALCat,Design!$BB$94:$BK$117))))","v":50},{"$f":"SUM(IF($A49=SoilCat,IF($B49=DrainCat,IF(H$3=ESALCat,Design!$BB$94:$BK$117))))","v":50},{"$f":"SUM(IF($A49=SoilCat,IF($B49=DrainCat,IF(I$3=ESALCat,Design!$BB$94:$BK$117))))","v":50},{"$f":"SUM(IF($A49=SoilCat,IF($B49=DrainCat,IF(J$3=ESALCat,Design!$BB$94:$BK$117))))","v":50},{"$f":"SUM(IF($A49=SoilCat,IF($B49=DrainCat,IF(K$3=ESALCat,Design!$BB$94:$BK$117))))","v":50},{"$f":"SUM(IF($A49=SoilCat,IF($B49=DrainCat,IF(L$3=ESALCat,Design!$BB$94:$BK$117))))","v":70},{"$f":"SUM(IF($A49=SoilCat,IF($B49=DrainCat,IF(M$3=ESALCat,Design!$BB$94:$BK$117))))","v":100},{"$f":"SUM(IF($A49=SoilCat,IF($B49=DrainCat,IF(N$3=ESALCat,Design!$BB$94:$BK$117))))","v":130},{"$f":"SUM(IF($A49=SoilCat,IF($B49=DrainCat,IF(O$3=ESALCat,Design!$BB$94:$BK$117))))","v":160}]
[5,"Poor",null,null,"Unbound Dense Graded Base",{"$f":"SUM(IF($A50=SoilCat,IF($B50=DrainCat,IF(F$3=ESALCat,Design!$AH$94:$AQ$117))))","v":100},{"$f":"SUM(IF($A50=SoilCat,IF($B50=DrainCat,IF(G$3=ESALCat,Design!$AH$94:$AQ$117))))","v":100},{"$f":"SUM(IF($A50=SoilCat,IF($B50=DrainCat,IF(H$3=ESALCat,Design!$AH$94:$AQ$117))))","v":100},{"$f":"SUM(IF($A50=SoilCat,IF($B50=DrainCat,IF(I$3=ESALCat,Design!$AH$94:$AQ$117))))","v":100},{"$f":"SUM(IF($A50=SoilCat,IF($B50=DrainCat,IF(J$3=ESALCat,Design!$AH$94:$AQ$117))))","v":100},{"$f":"SUM(IF($A50=SoilCat,IF($B50=DrainCat,IF(K$3=ESALCat,Design!$AH$94:$AQ$117))))","v":150},{"$f":"SUM(IF($A50=SoilCat,IF($B50=DrainCat,IF(L$3=ESALCat,Design!$AH$94:$AQ$117))))","v":150},{"$f":"SUM(IF($A50=SoilCat,IF($B50=DrainCat,IF(M$3=ESALCat,Design!$AH$94:$AQ$117))))","v":150},{"$f":"SUM(IF($A50=SoilCat,IF($B50=DrainCat,IF(N$3=ESALCat,Design!$AH$94:$AQ$117))))","v":150},{"$f":"SUM(IF($A50=SoilCat,IF($B50=DrainCat,IF(O$3=ESALCat,Design!$AH$94:$AQ$117))))","v":150}]
[6,"Good","Category 6","Good","Pavers and Bedding",{"$f":"SUM(IF($A51=SoilCat,IF($B51=DrainCat,IF(F$3=ESALCat,Design!$N$4:$W$27))))","v":105},{"$f":"SUM(IF($A51=SoilCat,IF($B51=DrainCat,IF(G$3=ESALCat,Design!$N$4:$W$27))))","v":105},{"$f":"SUM(IF($A51=SoilCat,IF($B51=DrainCat,IF(H$3=ESALCat,Design!$N$4:$W$27))))","v":105},{"$f":"SUM(IF($A51=SoilCat,IF($B51=DrainCat,IF(I$3=ESALCat,Design!$N$4:$W$27))))","v":105},{"$f":"SUM(IF($A51=SoilCat,IF($B51=DrainCat,IF(J$3=ESALCat,Design!$N$4:$W$27))))","v":105},{"$f":"SUM(IF($A51=SoilCat,IF($B51=DrainCat,IF(K$3=ESALCat,Design!$N$4:$W$27))))","v":105},{"$f":"SUM(IF($A51=SoilCat,IF($B51=DrainCat,IF(L$3=ESALCat,Design!$N$4:$W$27))))","v":105},{"$f":"SUM(IF($A51=SoilCat,IF($B51=DrainCat,IF(M$3=ESALCat,Design!$N$4:$W$27))))","v":105},{"$f":"SUM(IF($A51=SoilCat,IF($B51=DrainCat,IF(N$3=ESALCat,Design!$N$4:$W$27))))","v":105},{"$f":"SUM(IF($A51=SoilCat,IF($B51=DrainCat,IF(O$3=ESALCat,Design!$N$4:$W$27))))","v":105}]
[6,"Good",null,null,"Asphalt Concrete Base",{"$f":"SUM(IF($A52=SoilCat,IF($B52=DrainCat,IF(F$3=ESALCat,Design!$BB$94:$BK$117))))","v":50},{"$f":"SUM(IF($A52=SoilCat,IF($B52=DrainCat,IF(G$3=ESALCat,Design!$BB$94:$BK$117))))","v":50},{"$f":"SUM(IF($A52=SoilCat,IF($B52=DrainCat,IF(H$3=ESALCat,Design!$BB$94:$BK$117))))","v":50},{"$f":"SUM(IF($A52=SoilCat,IF($B52=DrainCat,IF(I$3=ESALCat,Design!$BB$94:$BK$117))))","v":50},{"$f":"SUM(IF($A52=SoilCat,IF($B52=DrainCat,IF(J$3=ESALCat,Design!$BB$94:$BK$117))))","v":50},{"$f":"SUM(IF($A52=SoilCat,IF($B52=DrainCat,IF(K$3=ESALCat,Design!$BB$94:$BK$117))))","v":50},{"$f":"SUM(IF($A52=SoilCat,IF($B52=DrainCat,IF(L$3=ESALCat,Design!$BB$94:$BK$117))))","v":50},{"$f":"SUM(IF($A52=SoilCat,IF($B52=DrainCat,IF(M$3=ESALCat,Design!$BB$94:$BK$117))))","v":80},{"$f":"SUM(IF($A52=SoilCat,IF($B52=DrainCat,IF(N$3=ESALCat,Design!$BB$94:$BK$117))))","v":120},{"$f":"SUM(IF($A52=SoilCat,IF($B52=DrainCat,IF(O$3=ESALCat,Design!$BB$94:$BK$117))))","v":140}]
[6,"Good",null,null,"Unbound Dense Graded Base",{"$f":"SUM(IF($A53=SoilCat,IF($B53=DrainCat,IF(F$3=ESALCat,Design!$AH$94:$AQ$117))))","v":100},{"$f":"SUM(IF($A53=SoilCat,IF($B53=DrainCat,IF(G$3=ESALCat,Design!$AH$94:$AQ$117))))","v":100},{"$f":"SUM(IF($A53=SoilCat,IF($B53=DrainCat,IF(H$3=ESALCat,Design!$AH$94:$AQ$117))))","v":100},{"$f":"SUM(IF($A53=SoilCat,IF($B53=DrainCat,IF(I$3=ESALCat,Design!$AH$94:$AQ$117))))","v":100},{"$f":"SUM(IF($A53=SoilCat,IF($B53=DrainCat,IF(J$3=ESALCat,Design!$AH$94:$AQ$117))))","v":100},{"$f":"SUM(IF($A53=SoilCat,IF($B53=DrainCat,IF(K$3=ESALCat,Design!$AH$94:$AQ$117))))","v":150},{"$f":"SUM(IF($A53=SoilCat,IF($B53=DrainCat,IF(L$3=ESALCat,Design!$AH$94:$AQ$117))))","v":150},{"$f":"SUM(IF($A53=SoilCat,IF($B53=DrainCat,IF(M$3=ESALCat,Design!$AH$94:$AQ$117))))","v":150},{"$f":"SUM(IF($A53=SoilCat,IF($B53=DrainCat,IF(N$3=ESALCat,Design!$AH$94:$AQ$117))))","v":150},{"$f":"SUM(IF($A53=SoilCat,IF($B53=DrainCat,IF(O$3=ESALCat,Design!$AH$94:$AQ$117))))","v":150}]
[6,"Fair",null,"Fair","Pavers and Bedding",{"$f":"SUM(IF($A54=SoilCat,IF($B54=DrainCat,IF(F$3=ESALCat,Design!$N$4:$W$27))))","v":105},{"$f":"SUM(IF($A54=SoilCat,IF($B54=DrainCat,IF(G$3=ESALCat,Design!$N$4:$W$27))))","v":105},{"$f":"SUM(IF($A54=SoilCat,IF($B54=DrainCat,IF(H$3=ESALCat,Design!$N$4:$W$27))))","v":105},{"$f":"SUM(IF($A54=SoilCat,IF($B54=DrainCat,IF(I$3=ESALCat,Design!$N$4:$W$27))))","v":105},{"$f":"SUM(IF($A54=SoilCat,IF($B54=DrainCat,IF(J$3=ESALCat,Design!$N$4:$W$27))))","v":105},{"$f":"SUM(IF($A54=SoilCat,IF($B54=DrainCat,IF(K$3=ESALCat,Design!$N$4:$W$27))))","v":105},{"$f":"SUM(IF($A54=SoilCat,IF($B54=DrainCat,IF(L$3=ESALCat,Design!$N$4:$W$27))))","v":105},{"$f":"SUM(IF($A54=SoilCat,IF($B54=DrainCat,IF(M$3=ESALCat,Design!$N$4:$W$27))))","v":105},{"$f":"SUM(IF($A54=SoilCat,IF($B54=DrainCat,IF(N$3=ESALCat,Design!$N$4:$W$27))))","v":105},{"$f":"SUM(IF($A54=SoilCat,IF($B54=DrainCat,IF(O$3=ESALCat,Design!$N$4:$W$27))))","v":105}]
[6,"Fair",null,null,"Asphalt Concrete Base",{"$f":"SUM(IF($A55=SoilCat,IF($B55=DrainCat,IF(F$3=ESALCat,Design!$BB$94:$BK$117))))","v":50},{"$f":"SUM(IF($A55=SoilCat,IF($B55=DrainCat,IF(G$3=ESALCat,Design!$BB$94:$BK$117))))","v":50},{"$f":"SUM(IF($A55=SoilCat,IF($B55=DrainCat,IF(H$3=ESALCat,Design!$BB$94:$BK$117))))","v":50},{"$f":"SUM(IF($A55=SoilCat,IF($B55=DrainCat,IF(I$3=ESALCat,Design!$BB$94:$BK$117))))","v":50},{"$f":"SUM(IF($A55=SoilCat,IF($B55=DrainCat,IF(J$3=ESALCat,Design!$BB$94:$BK$117))))","v":50},{"$f":"SUM(IF($A55=SoilCat,IF($B55=DrainCat,IF(K$3=ESALCat,Design!$BB$94:$BK$117))))","v":50},{"$f":"SUM(IF($A55=SoilCat,IF($B55=DrainCat,IF(L$3=ESALCat,Design!$BB$94:$BK$117))))","v":70},{"$f":"SUM(IF($A55=SoilCat,IF($B55=DrainCat,IF(M$3=ESALCat,Design!$BB$94:$BK$117))))","v":100},{"$f":"SUM(IF($A55=SoilCat,IF($B55=DrainCat,IF(N$3=ESALCat,Design!$BB$94:$BK$117))))","v":130},{"$f":"SUM(IF($A55=SoilCat,IF($B55=DrainCat,IF(O$3=ESALCat,Design!$BB$94:$BK$117))))","v":160}]
[6,"Fair",null,null,"Unbound Dense Graded Base",{"$f":"SUM(IF($A56=SoilCat,IF($B56=DrainCat,IF(F$3=ESALCat,Design!$AH$94:$AQ$117))))","v":100},{"$f":"SUM(IF($A56=SoilCat,IF($B56=DrainCat,IF(G$3=ESALCat,Design!$AH$94:$AQ$117))))","v":100},{"$f":"SUM(IF($A56=SoilCat,IF($B56=DrainCat,IF(H$3=ESALCat,Design!$AH$94:$AQ$117))))","v":100},{"$f":"SUM(IF($A56=SoilCat,IF($B56=DrainCat,IF(I$3=ESALCat,Design!$AH$94:$AQ$117))))","v":100},{"$f":"SUM(IF($A56=SoilCat,IF($B56=DrainCat,IF(J$3=ESALCat,Design!$AH$94:$AQ$117))))","v":100},{"$f":"SUM(IF($A56=SoilCat,IF($B56=DrainCat,IF(K$3=ESALCat,Design!$AH$94:$AQ$117))))","v":150},{"$f":"SUM(IF($A56=SoilCat,IF($B56=DrainCat,IF(L$3=ESALCat,Design!$AH$94:$AQ$117))))","v":150},{"$f":"SUM(IF($A56=SoilCat,IF($B56=DrainCat,IF(M$3=ESALCat,Design!$AH$94:$AQ$117))))","v":150},{"$f":"SUM(IF($A56=SoilCat,IF($B56=DrainCat,IF(N$3=ESALCat,Design!$AH$94:$AQ$117))))","v":150},{"$f":"SUM(IF($A56=SoilCat,IF($B56=DrainCat,IF(O$3=ESALCat,Design!$AH$94:$AQ$117))))","v":150}]
[6,"Poor",null,"Poor","Pavers and Bedding",{"$f":"SUM(IF($A57=SoilCat,IF($B57=DrainCat,IF(F$3=ESALCat,Design!$N$4:$W$27))))","v":105},{"$f":"SUM(IF($A57=SoilCat,IF($B57=DrainCat,IF(G$3=ESALCat,Design!$N$4:$W$27))))","v":105},{"$f":"SUM(IF($A57=SoilCat,IF($B57=DrainCat,IF(H$3=ESALCat,Design!$N$4:$W$27))))","v":105},{"$f":"SUM(IF($A57=SoilCat,IF($B57=DrainCat,IF(I$3=ESALCat,Design!$N$4:$W$27))))","v":105},{"$f":"SUM(IF($A57=SoilCat,IF($B57=DrainCat,IF(J$3=ESALCat,Design!$N$4:$W$27))))","v":105},{"$f":"SUM(IF($A57=SoilCat,IF($B57=DrainCat,IF(K$3=ESALCat,Design!$N$4:$W$27))))","v":105},{"$f":"SUM(IF($A57=SoilCat,IF($B57=DrainCat,IF(L$3=ESALCat,Design!$N$4:$W$27))))","v":105},{"$f":"SUM(IF($A57=SoilCat,IF($B57=DrainCat,IF(M$3=ESALCat,Design!$N$4:$W$27))))","v":105},{"$f":"SUM(IF($A57=SoilCat,IF($B57=DrainCat,IF(N$3=ESALCat,Design!$N$4:$W$27))))","v":105},{"$f":"SUM(IF($A57=SoilCat,IF($B57=DrainCat,IF(O$3=ESALCat,Design!$N$4:$W$27))))","v":105}]
[6,"Poor",null,null,"Asphalt Concrete Base",{"$f":"SUM(IF($A58=SoilCat,IF($B58=DrainCat,IF(F$3=ESALCat,Design!$BB$94:$BK$117))))","v":50},{"$f":"SUM(IF($A58=SoilCat,IF($B58=DrainCat,IF(G$3=ESALCat,Design!$BB$94:$BK$117))))","v":50},{"$f":"SUM(IF($A58=SoilCat,IF($B58=DrainCat,IF(H$3=ESALCat,Design!$BB$94:$BK$117))))","v":50},{"$f":"SUM(IF($A58=SoilCat,IF($B58=DrainCat,IF(I$3=ESALCat,Design!$BB$94:$BK$117))))","v":50},{"$f":"SUM(IF($A58=SoilCat,IF($B58=DrainCat,IF(J$3=ESALCat,Design!$BB$94:$BK$117))))","v":60},{"$f":"SUM(IF($A58=SoilCat,IF($B58=DrainCat,IF(K$3=ESALCat,Design!$BB$94:$BK$117))))","v":70},{"$f":"SUM(IF($A58=SoilCat,IF($B58=DrainCat,IF(L$3=ESALCat,Design!$BB$94:$BK$117))))","v":100},{"$f":"SUM(IF($A58=SoilCat,IF($B58=DrainCat,IF(M$3=ESALCat,Design!$BB$94:$BK$117))))","v":130},{"$f":"SUM(IF($A58=SoilCat,IF($B58=DrainCat,IF(N$3=ESALCat,Design!$BB$94:$BK$117))))","v":170},{"$f":"SUM(IF($A58=SoilCat,IF($B58=DrainCat,IF(O$3=ESALCat,Design!$BB$94:$BK$117))))","v":200}]
[6,"Poor",null,null,"Unbound Dense Graded Base",{"$f":"SUM(IF($A59=SoilCat,IF($B59=DrainCat,IF(F$3=ESALCat,Design!$AH$94:$AQ$117))))","v":100},{"$f":"SUM(IF($A59=SoilCat,IF($B59=DrainCat,IF(G$3=ESALCat,Design!$AH$94:$AQ$117))))","v":100},{"$f":"SUM(IF($A59=SoilCat,IF($B59=DrainCat,IF(H$3=ESALCat,Design!$AH$94:$AQ$117))))","v":100},{"$f":"SUM(IF($A59=SoilCat,IF($B59=DrainCat,IF(I$3=ESALCat,Design!$AH$94:$AQ$117))))","v":100},{"$f":"SUM(IF($A59=SoilCat,IF($B59=DrainCat,IF(J$3=ESALCat,Design!$AH$94:$AQ$117))))","v":100},{"$f":"SUM(IF($A59=SoilCat,IF($B59=DrainCat,IF(K$3=ESALCat,Design!$AH$94:$AQ$117))))","v":150},{"$f":"SUM(IF($A59=SoilCat,IF($B59=DrainCat,IF(L$3=ESALCat,Design!$AH$94:$AQ$117))))","v":150},{"$f":"SUM(IF($A59=SoilCat,IF($B59=DrainCat,IF(M$3=ESALCat,Design!$AH$94:$AQ$117))))","v":150},{"$f":"SUM(IF($A59=SoilCat,IF($B59=DrainCat,IF(N$3=ESALCat,Design!$AH$94:$AQ$117))))","v":150},{"$f":"SUM(IF($A59=SoilCat,IF($B59=DrainCat,IF(O$3=ESALCat,Design!$AH$94:$AQ$117))))","v":150}]
[7,"Good","Category 7","Good","Pavers and Bedding",{"$f":"SUM(IF($A60=SoilCat,IF($B60=DrainCat,IF(F$3=ESALCat,Design!$N$4:$W$27))))","v":105},{"$f":"SUM(IF($A60=SoilCat,IF($B60=DrainCat,IF(G$3=ESALCat,Design!$N$4:$W$27))))","v":105},{"$f":"SUM(IF($A60=SoilCat,IF($B60=DrainCat,IF(H$3=ESALCat,Design!$N$4:$W$27))))","v":105},{"$f":"SUM(IF($A60=SoilCat,IF($B60=DrainCat,IF(I$3=ESALCat,Design!$N$4:$W$27))))","v":105},{"$f":"SUM(IF($A60=SoilCat,IF($B60=DrainCat,IF(J$3=ESALCat,Design!$N$4:$W$27))))","v":105},{"$f":"SUM(IF($A60=SoilCat,IF($B60=DrainCat,IF(K$3=ESALCat,Design!$N$4:$W$27))))","v":105},{"$f":"SUM(IF($A60=SoilCat,IF($B60=DrainCat,IF(L$3=ESALCat,Design!$N$4:$W$27))))","v":105},{"$f":"SUM(IF($A60=SoilCat,IF($B60=DrainCat,IF(M$3=ESALCat,Design!$N$4:$W$27))))","v":105},{"$f":"SUM(IF($A60=SoilCat,IF($B60=DrainCat,IF(N$3=ESALCat,Design!$N$4:$W$27))))","v":105},{"$f":"SUM(IF($A60=SoilCat,IF($B60=DrainCat,IF(O$3=ESALCat,Design!$N$4:$W$27))))","v":105}]
[7,"Good",null,null,"Asphalt Concrete Base",{"$f":"SUM(IF($A61=SoilCat,IF($B61=DrainCat,IF(F$3=ESALCat,Design!$BB$94:$BK$117))))","v":50},{"$f":"SUM(IF($A61=SoilCat,IF($B61=DrainCat,IF(G$3=ESALCat,Design!$BB$94:$BK$117))))","v":50},{"$f":"SUM(IF($A61=SoilCat,IF($B61=DrainCat,IF(H$3=ESALCat,Design!$BB$94:$BK$117))))","v":50},{"$f":"SUM(IF($A61=SoilCat,IF($B61=DrainCat,IF(I$3=ESALCat,Design!$BB$94:$BK$117))))","v":50},{"$f":"SUM(IF($A61=SoilCat,IF($B61=DrainCat,IF(J$3=ESALCat,Design!$BB$94:$BK$117))))","v":50},{"$f":"SUM(IF($A61=SoilCat,IF($B61=DrainCat,IF(K$3=ESALCat,Design!$BB$94:$BK$117))))","v":50},{"$f":"SUM(IF($A61=SoilCat,IF($B61=DrainCat,IF(L$3=ESALCat,Design!$BB$94:$BK$117))))","v":60},{"$f":"SUM(IF($A61=SoilCat,IF($B61=DrainCat,IF(M$3=ESALCat,Design!$BB$94:$BK$117))))","v":90},{"$f":"SUM(IF($A61=SoilCat,IF($B61=DrainCat,IF(N$3=ESALCat,Design!$BB$94:$BK$117))))","v":130},{"$f":"SUM(IF($A61=SoilCat,IF($B61=DrainCat,IF(O$3=ESALCat,Design!$BB$94:$BK$117))))","v":160}]
[7,"Good",null,null,"Unbound Dense Graded Base",{"$f":"SUM(IF($A62=SoilCat,IF($B62=DrainCat,IF(F$3=ESALCat,Design!$AH$94:$AQ$117))))","v":100},{"$f":"SUM(IF($A62=SoilCat,IF($B62=DrainCat,IF(G$3=ESALCat,Design!$AH$94:$AQ$117))))","v":100},{"$f":"SUM(IF($A62=SoilCat,IF($B62=DrainCat,IF(H$3=ESALCat,Design!$AH$94:$AQ$117))))","v":100},{"$f":"SUM(IF($A62=SoilCat,IF($B62=DrainCat,IF(I$3=ESALCat,Design!$AH$94:$AQ$117))))","v":100},{"$f":"SUM(IF($A62=SoilCat,IF($B62=DrainCat,IF(J$3=ESALCat,Design!$AH$94:$AQ$117))))","v":100},{"$f":"SUM(IF($A62=SoilCat,IF($B62=DrainCat,IF(K$3=ESALCat,Design!$AH$94:$AQ$117))))","v":150},{"$f":"SUM(IF($A62=SoilCat,IF($B62=DrainCat,IF(L$3=ESALCat,Design!$AH$94:$AQ$117))))","v":150},{"$f":"SUM(IF($A62=SoilCat,IF($B62=DrainCat,IF(M$3=ESALCat,Design!$AH$94:$AQ$117))))","v":150},{"$f":"SUM(IF($A62=SoilCat,IF($B62=DrainCat,IF(N$3=ESALCat,Design!$AH$94:$AQ$117))))","v":150},{"$f":"SUM(IF($A62=SoilCat,IF($B62=DrainCat,IF(O$3=ESALCat,Design!$AH$94:$AQ$117))))","v":150}]
[7,"Fair",null,"Fair","Pavers and Bedding",{"$f":"SUM(IF($A63=SoilCat,IF($B63=DrainCat,IF(F$3=ESALCat,Design!$N$4:$W$27))))","v":105},{"$f":"SUM(IF($A63=SoilCat,IF($B63=DrainCat,IF(G$3=ESALCat,Design!$N$4:$W$27))))","v":105},{"$f":"SUM(IF($A63=SoilCat,IF($B63=DrainCat,IF(H$3=ESALCat,Design!$N$4:$W$27))))","v":105},{"$f":"SUM(IF($A63=SoilCat,IF($B63=DrainCat,IF(I$3=ESALCat,Design!$N$4:$W$27))))","v":105},{"$f":"SUM(IF($A63=SoilCat,IF($B63=DrainCat,IF(J$3=ESALCat,Design!$N$4:$W$27))))","v":105},{"$f":"SUM(IF($A63=SoilCat,IF($B63=DrainCat,IF(K$3=ESALCat,Design!$N$4:$W$27))))","v":105},{"$f":"SUM(IF($A63=SoilCat,IF($B63=DrainCat,IF(L$3=ESALCat,Design!$N$4:$W$27))))","v":105},{"$f":"SUM(IF($A63=SoilCat,IF($B63=DrainCat,IF(M$3=ESALCat,Design!$N$4:$W$27))))","v":105},{"$f":"SUM(IF($A63=SoilCat,IF($B63=DrainCat,IF(N$3=ESALCat,Design!$N$4:$W$27))))","v":105},{"$f":"SUM(IF($A63=SoilCat,IF($B63=DrainCat,IF(O$3=ESALCat,Design!$N$4:$W$27))))","v":105}]
[7,"Fair",null,null,"Asphalt Concrete Base",{"$f":"SUM(IF($A64=SoilCat,IF($B64=DrainCat,IF(F$3=ESALCat,Design!$BB$94:$BK$117))))","v":50},{"$f":"SUM(IF($A64=SoilCat,IF($B64=DrainCat,IF(G$3=ESALCat,Design!$BB$94:$BK$117))))","v":50},{"$f":"SUM(IF($A64=SoilCat,IF($B64=DrainCat,IF(H$3=ESALCat,Design!$BB$94:$BK$117))))","v":50},{"$f":"SUM(IF($A64=SoilCat,IF($B64=DrainCat,IF(I$3=ESALCat,Design!$BB$94:$BK$117))))","v":50},{"$f":"SUM(IF($A64=SoilCat,IF($B64=DrainCat,IF(J$3=ESALCat,Design!$BB$94:$BK$117))))","v":50},{"$f":"SUM(IF($A64=SoilCat,IF($B64=DrainCat,IF(K$3=ESALCat,Design!$BB$94:$BK$117))))","v":60},{"$f":"SUM(IF($A64=SoilCat,IF($B64=DrainCat,IF(L$3=ESALCat,Design!$BB$94:$BK$117))))","v":90},{"$f":"SUM(IF($A64=SoilCat,IF($B64=DrainCat,IF(M$3=ESALCat,Design!$BB$94:$BK$117))))","v":120},{"$f":"SUM(IF($A64=SoilCat,IF($B64=DrainCat,IF(N$3=ESALCat,Design!$BB$94:$BK$117))))","v":160},{"$f":"SUM(IF($A64=SoilCat,IF($B64=DrainCat,IF(O$3=ESALCat,Design!$BB$94:$BK$117))))","v":190}]
[7,"Fair",null,null,"Unbound Dense Graded Base",{"$f":"SUM(IF($A65=SoilCat,IF($B65=DrainCat,IF(F$3=ESALCat,Design!$AH$94:$AQ$117))))","v":100},{"$f":"SUM(IF($A65=SoilCat,IF($B65=DrainCat,IF(G$3=ESALCat,Design!$AH$94:$AQ$117))))","v":100},{"$f":"SUM(IF($A65=SoilCat,IF($B65=DrainCat,IF(H$3=ESALCat,Design!$AH$94:$AQ$117))))","v":100},{"$f":"SUM(IF($A65=SoilCat,IF($B65=DrainCat,IF(I$3=ESALCat,Design!$AH$94:$AQ$117))))","v":100},{"$f":"SUM(IF($A65=SoilCat,IF($B65=DrainCat,IF(J$3=ESALCat,Design!$AH$94:$AQ$117))))","v":100},{"$f":"SUM(IF($A65=SoilCat,IF($B65=DrainCat,IF(K$3=ESALCat,Design!$AH$94:$AQ$117))))","v":150},{"$f":"SUM(IF($A65=SoilCat,IF($B65=DrainCat,IF(L$3=ESALCat,Design!$AH$94:$AQ$117))))","v":150},{"$f":"SUM(IF($A65=SoilCat,IF($B65=DrainCat,IF(M$3=ESALCat,Design!$AH$94:$AQ$117))))","v":150},{"$f":"SUM(IF($A65=SoilCat,IF($B65=DrainCat,IF(N$3=ESALCat,Design!$AH$94:$AQ$117))))","v":150},{"$f":"SUM(IF($A65=SoilCat,IF($B65=DrainCat,IF(O$3=ESALCat,Design!$AH$94:$AQ$117))))","v":150}]
[7,"Poor",null,"Poor","Pavers and Bedding",{"$f":"SUM(IF($A66=SoilCat,IF($B66=DrainCat,IF(F$3=ESALCat,Design!$N$4:$W$27))))","v":105},{"$f":"SUM(IF($A66=SoilCat,IF($B66=DrainCat,IF(G$3=ESALCat,Design!$N$4:$W$27))))","v":105},{"$f":"SUM(IF($A66=SoilCat,IF($B66=DrainCat,IF(H$3=ESALCat,Design!$N$4:$W$27))))","v":105},{"$f":"SUM(IF($A66=SoilCat,IF($B66=DrainCat,IF(I$3=ESALCat,Design!$N$4:$W$27))))","v":105},{"$f":"SUM(IF($A66=SoilCat,IF($B66=DrainCat,IF(J$3=ESALCat,Design!$N$4:$W$27))))","v":105},{"$f":"SUM(IF($A66=SoilCat,IF($B66=DrainCat,IF(K$3=ESALCat,Design!$N$4:$W$27))))","v":105},{"$f":"SUM(IF($A66=SoilCat,IF($B66=DrainCat,IF(L$3=ESALCat,Design!$N$4:$W$27))))","v":105},{"$f":"SUM(IF($A66=SoilCat,IF($B66=DrainCat,IF(M$3=ESALCat,Design!$N$4:$W$27))))","v":105},{"$f":"SUM(IF($A66=SoilCat,IF($B66=DrainCat,IF(N$3=ESALCat,Design!$N$4:$W$27))))","v":105},{"$f":"SUM(IF($A66=SoilCat,IF($B66=DrainCat,IF(O$3=ESALCat,Design!$N$4:$W$27))))","v":105}]
[7,"Poor",null,null,"Asphalt Concrete Base",{"$f":"SUM(IF($A67=SoilCat,IF($B67=DrainCat,IF(F$3=ESALCat,Design!$BB$94:$BK$117))))","v":50},{"$f":"SUM(IF($A67=SoilCat,IF($B67=DrainCat,IF(G$3=ESALCat,Design!$BB$94:$BK$117))))","v":50},{"$f":"SUM(IF($A67=SoilCat,IF($B67=DrainCat,IF(H$3=ESALCat,Design!$BB$94:$BK$117))))","v":50},{"$f":"SUM(IF($A67=SoilCat,IF($B67=DrainCat,IF(I$3=ESALCat,Design!$BB$94:$BK$117))))","v":50},{"$f":"SUM(IF($A67=SoilCat,IF($B67=DrainCat,IF(J$3=ESALCat,Design!$BB$94:$BK$117))))","v":80},{"$f":"SUM(IF($A67=SoilCat,IF($B67=DrainCat,IF(K$3=ESALCat,Design!$BB$94:$BK$117))))","v":90},{"$f":"SUM(IF($A67=SoilCat,IF($B67=DrainCat,IF(L$3=ESALCat,Design!$BB$94:$BK$117))))","v":120},{"$f":"SUM(IF($A67=SoilCat,IF($B67=DrainCat,IF(M$3=ESALCat,Design!$BB$94:$BK$117))))","v":140},{"$f":"SUM(IF($A67=SoilCat,IF($B67=DrainCat,IF(N$3=ESALCat,Design!$BB$94:$BK$117))))","v":190},{"$f":"SUM(IF($A67=SoilCat,IF($B67=DrainCat,IF(O$3=ESALCat,Design!$BB$94:$BK$117))))","v":220}]
[7,"Poor",null,null,"Unbound Dense Graded Base",{"$f":"SUM(IF($A68=SoilCat,IF($B68=DrainCat,IF(F$3=ESALCat,Design!$AH$94:$AQ$117))))","v":100},{"$f":"SUM(IF($A68=SoilCat,IF($B68=DrainCat,IF(G$3=ESALCat,Design!$AH$94:$AQ$117))))","v":100},{"$f":"SUM(IF($A68=SoilCat,IF($B68=DrainCat,IF(H$3=ESALCat,Design!$AH$94:$AQ$117))))","v":100},{"$f":"SUM(IF($A68=SoilCat,IF($B68=DrainCat,IF(I$3=ESALCat,Design!$AH$94:$AQ$117))))","v":100},{"$f":"SUM(IF($A68=SoilCat,IF($B68=DrainCat,IF(J$3=ESALCat,Design!$AH$94:$AQ$117))))","v":100},{"$f":"SUM(IF($A68=SoilCat,IF($B68=DrainCat,IF(K$3=ESALCat,Design!$AH$94:$AQ$117))))","v":150},{"$f":"SUM(IF($A68=SoilCat,IF($B68=DrainCat,IF(L$3=ESALCat,Design!$AH$94:$AQ$117))))","v":150},{"$f":"SUM(IF($A68=SoilCat,IF($B68=DrainCat,IF(M$3=ESALCat,Design!$AH$94:$AQ$117))))","v":150},{"$f":"SUM(IF($A68=SoilCat,IF($B68=DrainCat,IF(N$3=ESALCat,Design!$AH$94:$AQ$117))))","v":150},{"$f":"SUM(IF($A68=SoilCat,IF($B68=DrainCat,IF(O$3=ESALCat,Design!$AH$94:$AQ$117))))","v":150}]
[8,"Good","Category 8","Good","Pavers and Bedding",{"$f":"SUM(IF($A69=SoilCat,IF($B69=DrainCat,IF(F$3=ESALCat,Design!$N$4:$W$27))))","v":105},{"$f":"SUM(IF($A69=SoilCat,IF($B69=DrainCat,IF(G$3=ESALCat,Design!$N$4:$W$27))))","v":105},{"$f":"SUM(IF($A69=SoilCat,IF($B69=DrainCat,IF(H$3=ESALCat,Design!$N$4:$W$27))))","v":105},{"$f":"SUM(IF($A69=SoilCat,IF($B69=DrainCat,IF(I$3=ESALCat,Design!$N$4:$W$27))))","v":105},{"$f":"SUM(IF($A69=SoilCat,IF($B69=DrainCat,IF(J$3=ESALCat,Design!$N$4:$W$27))))","v":105},{"$f":"SUM(IF($A69=SoilCat,IF($B69=DrainCat,IF(K$3=ESALCat,Design!$N$4:$W$27))))","v":105},{"$f":"SUM(IF($A69=SoilCat,IF($B69=DrainCat,IF(L$3=ESALCat,Design!$N$4:$W$27))))","v":105},{"$f":"SUM(IF($A69=SoilCat,IF($B69=DrainCat,IF(M$3=ESALCat,Design!$N$4:$W$27))))","v":105},{"$f":"SUM(IF($A69=SoilCat,IF($B69=DrainCat,IF(N$3=ESALCat,Design!$N$4:$W$27))))","v":105},{"$f":"SUM(IF($A69=SoilCat,IF($B69=DrainCat,IF(O$3=ESALCat,Design!$N$4:$W$27))))","v":105}]
[8,"Good",null,null,"Asphalt Concrete Base",{"$f":"SUM(IF($A70=SoilCat,IF($B70=DrainCat,IF(F$3=ESALCat,Design!$BB$94:$BK$117))))","v":50},{"$f":"SUM(IF($A70=SoilCat,IF($B70=DrainCat,IF(G$3=ESALCat,Design!$BB$94:$BK$117))))","v":50},{"$f":"SUM(IF($A70=SoilCat,IF($B70=DrainCat,IF(H$3=ESALCat,Design!$BB$94:$BK$117))))","v":50},{"$f":"SUM(IF($A70=SoilCat,IF($B70=DrainCat,IF(I$3=ESALCat,Design!$BB$94:$BK$117))))","v":50},{"$f":"SUM(IF($A70=SoilCat,IF($B70=DrainCat,IF(J$3=ESALCat,Design!$BB$94:$BK$117))))","v":50},{"$f":"SUM(IF($A70=SoilCat,IF($B70=DrainCat,IF(K$3=ESALCat,Design!$BB$94:$BK$117))))","v":50},{"$f":"SUM(IF($A70=SoilCat,IF($B70=DrainCat,IF(L$3=ESALCat,Design!$BB$94:$BK$117))))","v":70},{"$f":"SUM(IF($A70=SoilCat,IF($B70=DrainCat,IF(M$3=ESALCat,Design!$BB$94:$BK$117))))","v":100},{"$f":"SUM(IF($A70=SoilCat,IF($B70=DrainCat,IF(N$3=ESALCat,Design!$BB$94:$BK$117))))","v":130},{"$f":"SUM(IF($A70=SoilCat,IF($B70=DrainCat,IF(O$3=ESALCat,Design!$BB$94:$BK$117))))","v":160}]
[8,"Good",null,null,"Unbound Dense Graded Base",{"$f":"SUM(IF($A71=SoilCat,IF($B71=DrainCat,IF(F$3=ESALCat,Design!$AH$94:$AQ$117))))","v":100},{"$f":"SUM(IF($A71=SoilCat,IF($B71=DrainCat,IF(G$3=ESALCat,Design!$AH$94:$AQ$117))))","v":100},{"$f":"SUM(IF($A71=SoilCat,IF($B71=DrainCat,IF(H$3=ESALCat,Design!$AH$94:$AQ$117))))","v":100},{"$f":"SUM(IF($A71=SoilCat,IF($B71=DrainCat,IF(I$3=ESALCat,Design!$AH$94:$AQ$117))))","v":100},{"$f":"SUM(IF($A71=SoilCat,IF($B71=DrainCat,IF(J$3=ESALCat,Design!$AH$94:$AQ$117))))","v":100},{"$f":"SUM(IF($A71=SoilCat,IF($B71=DrainCat,IF(K$3=ESALCat,Design!$AH$94:$AQ$117))))","v":150},{"$f":"SUM(IF($A71=SoilCat,IF($B71=DrainCat,IF(L$3=ESALCat,Design!$AH$94:$AQ$117))))","v":150},{"$f":"SUM(IF($A71=SoilCat,IF($B71=DrainCat,IF(M$3=ESALCat,Design!$AH$94:$AQ$117))))","v":150},{"$f":"SUM(IF($A71=SoilCat,IF($B71=DrainCat,IF(N$3=ESALCat,Design!$AH$94:$AQ$117))))","v":150},{"$f":"SUM(IF($A71=SoilCat,IF($B71=DrainCat,IF(O$3=ESALCat,Design!$AH$94:$AQ$117))))","v":150}]
[8,"Fair",null,"Fair","Pavers and Bedding",{"$f":"SUM(IF($A72=SoilCat,IF($B72=DrainCat,IF(F$3=ESALCat,Design!$N$4:$W$27))))","v":105},{"$f":"SUM(IF($A72=SoilCat,IF($B72=DrainCat,IF(G$3=ESALCat,Design!$N$4:$W$27))))","v":105},{"$f":"SUM(IF($A72=SoilCat,IF($B72=DrainCat,IF(H$3=ESALCat,Design!$N$4:$W$27))))","v":105},{"$f":"SUM(IF($A72=SoilCat,IF($B72=DrainCat,IF(I$3=ESALCat,Design!$N$4:$W$27))))","v":105},{"$f":"SUM(IF($A72=SoilCat,IF($B72=DrainCat,IF(J$3=ESALCat,Design!$N$4:$W$27))))","v":105},{"$f":"SUM(IF($A72=SoilCat,IF($B72=DrainCat,IF(K$3=ESALCat,Design!$N$4:$W$27))))","v":105},{"$f":"SUM(IF($A72=SoilCat,IF($B72=DrainCat,IF(L$3=ESALCat,Design!$N$4:$W$27))))","v":105},{"$f":"SUM(IF($A72=SoilCat,IF($B72=DrainCat,IF(M$3=ESALCat,Design!$N$4:$W$27))))","v":105},{"$f":"SUM(IF($A72=SoilCat,IF($B72=DrainCat,IF(N$3=ESALCat,Design!$N$4:$W$27))))","v":105},{"$f":"SUM(IF($A72=SoilCat,IF($B72=DrainCat,IF(O$3=ESALCat,Design!$N$4:$W$27))))","v":105}]
[8,"Fair",null,null,"Asphalt Concrete Base",{"$f":"SUM(IF($A73=SoilCat,IF($B73=DrainCat,IF(F$3=ESALCat,Design!$BB$94:$BK$117))))","v":50},{"$f":"SUM(IF($A73=SoilCat,IF($B73=DrainCat,IF(G$3=ESALCat,Design!$BB$94:$BK$117))))","v":50},{"$f":"SUM(IF($A73=SoilCat,IF($B73=DrainCat,IF(H$3=ESALCat,Design!$BB$94:$BK$117))))","v":50},{"$f":"SUM(IF($A73=SoilCat,IF($B73=DrainCat,IF(I$3=ESALCat,Design!$BB$94:$BK$117))))","v":50},{"$f":"SUM(IF($A73=SoilCat,IF($B73=DrainCat,IF(J$3=ESALCat,Design!$BB$94:$BK$117))))","v":50},{"$f":"SUM(IF($A73=SoilCat,IF($B73=DrainCat,IF(K$3=ESALCat,Design!$BB$94:$BK$117))))","v":60},{"$f":"SUM(IF($A73=SoilCat,IF($B73=DrainCat,IF(L$3=ESALCat,Design!$BB$94:$BK$117))))","v":90},{"$f":"SUM(IF($A73=SoilCat,IF($B73=DrainCat,IF(M$3=ESALCat,Design!$BB$94:$BK$117))))","v":120},{"$f":"SUM(IF($A73=SoilCat,IF($B73=DrainCat,IF(N$3=ESALCat,Design!$BB$94:$BK$117))))","v":160},{"$f":"SUM(IF($A73=SoilCat,IF($B73=DrainCat,IF(O$3=ESALCat,Design!$BB$94:$BK$117))))","v":190}]
[8,"Fair",null,null,"Unbound Dense Graded Base",{"$f":"SUM(IF($A74=SoilCat,IF($B74=DrainCat,IF(F$3=ESALCat,Design!$AH$94:$AQ$117))))","v":100},{"$f":"SUM(IF($A74=SoilCat,IF($B74=DrainCat,IF(G$3=ESALCat,Design!$AH$94:$AQ$117))))","v":100},{"$f":"SUM(IF($A74=SoilCat,IF($B74=DrainCat,IF(H$3=ESALCat,Design!$AH$94:$AQ$117))))","v":100},{"$f":"SUM(IF($A74=SoilCat,IF($B74=DrainCat,IF(I$3=ESALCat,Design!$AH$94:$AQ$117))))","v":100},{"$f":"SUM(IF($A74=SoilCat,IF($B74=DrainCat,IF(J$3=ESALCat,Design!$AH$94:$AQ$117))))","v":100},{"$f":"SUM(IF($A74=SoilCat,IF($B74=DrainCat,IF(K$3=ESALCat,Design!$AH$94:$AQ$117))))","v":150},{"$f":"SUM(IF($A74=SoilCat,IF($B74=DrainCat,IF(L$3=ESALCat,Design!$AH$94:$AQ$117))))","v":150},{"$f":"SUM(IF($A74=SoilCat,IF($B74=DrainCat,IF(M$3=ESALCat,Design!$AH$94:$AQ$117))))","v":150},{"$f":"SUM(IF($A74=SoilCat,IF($B74=DrainCat,IF(N$3=ESALCat,Design!$AH$94:$AQ$117))))","v":150},{"$f":"SUM(IF($A74=SoilCat,IF($B74=DrainCat,IF(O$3=ESALCat,Design!$AH$94:$AQ$117))))","v":150}]
[8,"Poor",null,"Poor","Pavers and Bedding",{"$f":"SUM(IF($A75=SoilCat,IF($B75=DrainCat,IF(F$3=ESALCat,Design!$N$4:$W$27))))","v":105},{"$f":"SUM(IF($A75=SoilCat,IF($B75=DrainCat,IF(G$3=ESALCat,Design!$N$4:$W$27))))","v":105},{"$f":"SUM(IF($A75=SoilCat,IF($B75=DrainCat,IF(H$3=ESALCat,Design!$N$4:$W$27))))","v":105},{"$f":"SUM(IF($A75=SoilCat,IF($B75=DrainCat,IF(I$3=ESALCat,Design!$N$4:$W$27))))","v":105},{"$f":"SUM(IF($A75=SoilCat,IF($B75=DrainCat,IF(J$3=ESALCat,Design!$N$4:$W$27))))","v":105},{"$f":"SUM(IF($A75=SoilCat,IF($B75=DrainCat,IF(K$3=ESALCat,Design!$N$4:$W$27))))","v":105},{"$f":"SUM(IF($A75=SoilCat,IF($B75=DrainCat,IF(L$3=ESALCat,Design!$N$4:$W$27))))","v":105},{"$f":"SUM(IF($A75=SoilCat,IF($B75=DrainCat,IF(M$3=ESALCat,Design!$N$4:$W$27))))","v":105},{"$f":"SUM(IF($A75=SoilCat,IF($B75=DrainCat,IF(N$3=ESALCat,Design!$N$4:$W$27))))","v":105},{"$f":"SUM(IF($A75=SoilCat,IF($B75=DrainCat,IF(O$3=ESALCat,Design!$N$4:$W$27))))","v":105}]
[8,"Poor",null,null,"Asphalt Concrete Base",{"$f":"SUM(IF($A76=SoilCat,IF($B76=DrainCat,IF(F$3=ESALCat,Design!$BB$94:$BK$117))))","v":50},{"$f":"SUM(IF($A76=SoilCat,IF($B76=DrainCat,IF(G$3=ESALCat,Design!$BB$94:$BK$117))))","v":50},{"$f":"SUM(IF($A76=SoilCat,IF($B76=DrainCat,IF(H$3=ESALCat,Design!$BB$94:$BK$117))))","v":50},{"$f":"SUM(IF($A76=SoilCat,IF($B76=DrainCat,IF(I$3=ESALCat,Design!$BB$94:$BK$117))))","v":50},{"$f":"SUM(IF($A76=SoilCat,IF($B76=DrainCat,IF(J$3=ESALCat,Design!$BB$94:$BK$117))))","v":80},{"$f":"SUM(IF($A76=SoilCat,IF($B76=DrainCat,IF(K$3=ESALCat,Design!$BB$94:$BK$117))))","v":90},{"$f":"SUM(IF($A76=SoilCat,IF($B76=DrainCat,IF(L$3=ESALCat,Design!$BB$94:$BK$117))))","v":120},{"$f":"SUM(IF($A76=SoilCat,IF($B76=DrainCat,IF(M$3=ESALCat,Design!$BB$94:$BK$117))))","v":140},{"$f":"SUM(IF($A76=SoilCat,IF($B76=DrainCat,IF(N$3=ESALCat,Design!$BB$94:$BK$117))))","v":190},{"$f":"SUM(IF($A76=SoilCat,IF($B76=DrainCat,IF(O$3=ESALCat,Design!$BB$94:$BK$117))))","v":220}]
[8,"Poor",null,null,"Unbound Dense Graded Base",{"$f":"SUM(IF($A77=SoilCat,IF($B77=DrainCat,IF(F$3=ESALCat,Design!$AH$94:$AQ$117))))","v":100},{"$f":"SUM(IF($A77=SoilCat,IF($B77=DrainCat,IF(G$3=ESALCat,Design!$AH$94:$AQ$117))))","v":100},{"$f":"SUM(IF($A77=SoilCat,IF($B77=DrainCat,IF(H$3=ESALCat,Design!$AH$94:$AQ$117))))","v":100},{"$f":"SUM(IF($A77=SoilCat,IF($B77=DrainCat,IF(I$3=ESALCat,Design!$AH$94:$AQ$117))))","v":100},{"$f":"SUM(IF($A77=SoilCat,IF($B77=DrainCat,IF(J$3=ESALCat,Design!$AH$94:$AQ$117))))","v":100},{"$f":"SUM(IF($A77=SoilCat,IF($B77=DrainCat,IF(K$3=ESALCat,Design!$AH$94:$AQ$117))))","v":150},{"$f":"SUM(IF($A77=SoilCat,IF($B77=DrainCat,IF(L$3=ESALCat,Design!$AH$94:$AQ$117))))","v":150},{"$f":"SUM(IF($A77=SoilCat,IF($B77=DrainCat,IF(M$3=ESALCat,Design!$AH$94:$AQ$117))))","v":150},{"$f":"SUM(IF($A77=SoilCat,IF($B77=DrainCat,IF(N$3=ESALCat,Design!$AH$94:$AQ$117))))","v":150},{"$f":"SUM(IF($A77=SoilCat,IF($B77=DrainCat,IF(O$3=ESALCat,Design!$AH$94:$AQ$117))))","v":150}]